{"text_format":"1","workbook":"xlsx","n_sheets":7,"sheets":["Notes to use the template","InvaCost_Template","InformationCategories","TAXONOMY","Terminology","Lists_Taxonomy","PivotTableTax"],"not_rendered":{"charts":0,"images":0,"macros":1,"external_links":0,"defined_names":178,"comments":0,"pivot_tables":1},"unopened":[],"bounds":{"document_bytes":16777216,"sheet_cells":100000,"rows_first":2000,"rows_last":500,"rows_between":2000,"halvings":0,"cell_chars":16384,"cell_head_chars":4096},"cells_cut":0,"cells_raw":0,"read":"whole","date_system":"1900"}

{"sheet":"Notes to use the template","index":0,"n_rows":14,"n_cols":1,"rows_kept":14,"cut":false,"hidden":false,"merged":[]}
["Please read this before using the template!!!"]
[]
["1. CAUTION: The columns refering to the taxonomical hierachy namely: (Kingdom, Phylum, Class, Order, Family and Genus) have a fomula so be careful not to overwrite them or delete their contents."]
["2. Template has drop-down lists on columns that have predeterminated options. "]
["3. For the field columns: \"Availability\", \"Environment\", \"Time range\", \"Occurrence\", \"Type of applicable year\", Implementation\", \"Adquisition_method\", \"Method_reliability\", \"Benefit_value(s)\",\"Island\", \"Habitat\", and \"protected_areas\" there is no possibility to write something out of the list."]
["4. For the field columns: \"Repository\", \"Geographic_region\", \"Official_Country\", \"Spatial_scale\", \"Impacted_sector\"  there is the possibility to add new terms to these fields by clicking \"Yes\" in the warning message, Although we encourage to use the one predetermined as much as possible. "]
["5. If the \"Spatial_scale\" is Unit (), you can write in between the brackets the unit you need and hit yes when the warning message shows up."]
["6. For the fields columns: \"Geographic_region\", \"Official_country\" and  \"Impacted sector\" it is possible to select more than one option in the same cell and they will get separated by \"/\". Consider to add them in alphabetic order"]
["7. When filling up the taxonomy, first start with the species_name (paying attention to the spelling) or choose one from the >700 names in the list that will drop-down. "]
["8. Once you have written the species name, the taxonomy hierachy will populate automatically. "]
["9. Since in many documents species are written as generic names like Pinus sp. or Pinus spp. we have included the most common ones in the list, therefore they will get populated even though they are not scientific names per se. "]
["10. If you have to write Diverse/Unspecified in the \"species_name\" column, the taxonomical hierarchy it will also get populated with \"Diverse/Unspecified\", but you can write over if there is more precise information."]
["11. If you delete the name entered in the species column the taxonomical hierarchy columns will clear up automatically."]
["12. If the hierachy does not populate automatically but the species name has the correct spelling there might be one of two reasons. a) It is a synonym of a species in our list in which case please refer to gbif.org to check out the current taxonomy. b) It is not in our list, therefore it is a new addition. In this case please fill up the taxonomical hierarchy and alert the updates team at updates@invacost.fr"]

{"sheet":"InvaCost_Template","index":1,"n_rows":2000,"n_cols":66,"rows_kept":2000,"cut":false,"hidden":false,"merged":[]}
["Cost_ID","Repository","Reference_ID","Reference_title","Authors","Abstract","Publication_year","Language","Type_of_material","Previous_materials","Availability","Kingdom","Phylum","Class","Order","Family","Genus","Species","Subspecies","Common_name","Environment","Environment_IAS","Habitat_verbatim","Habitat","urbanArea","ProtectedArea","Island","Geographic_region","Official_country","State|Province|Administrative_area","Location","Spatial_scale","Period_of_estimation","Time_range","Probable_starting_year","Probable_ending_year","Probable_starting_year_adjusted","Probable_ending_year_adjusted","Occurrence"," Raw_cost_estimate_local_currency "," Min_Raw_cost_estimate_local_currency "," Max_Raw_cost_estimate_local_currency "," Raw_cost_estimate_2017_USD_exchange_rate "," Raw_cost_estimate_2017_USD_PPP ","Cost_estimate_per_year_local_currency"," Cost_estimate_per_year_2017_USD_exchange_rate "," Cost_estimate_per_year_2017_USD_PPP ","Currency","Applicable_year","Type_of_applicable_year","Implementation","Acquisition_method","Impacted_sector","Type_of_cost","Type_of_cost_merged","Management_type","Method_reliability","Method_reliability_refined","Method_reliability_refined_Explanation","Method_reliability_refined_Expert_Name","Overlaps","Benefit_value(s)","Details","Initial_contributors_names","Initial_contributors_emails","Double-checking"]
[null,null,null,null,null,null,null,null,null,null,null,{"$f":"IF(ISBLANK($R2)=TRUE,\"\",VLOOKUP($R2,TAXONOMY!$A$1:$G$959,7,FALSE))","v":""},{"$f":"IF(ISBLANK($R2)=TRUE,\"\",VLOOKUP($R2,TAXONOMY!$A$1:$G$959,6,FALSE))","v":""},{"$f":"IF(ISBLANK($R2)=TRUE,\"\",VLOOKUP($R2,TAXONOMY!$A$1:$G$959,5,FALSE))","v":""},{"$f":"IF(ISBLANK($R2)=TRUE,\"\",VLOOKUP($R2,TAXONOMY!$A$1:$G$959,4,FALSE))","v":""},{"$f":"IF(ISBLANK($R2)=TRUE,\"\",VLOOKUP($R2,TAXONOMY!$A$1:$G$959,3,FALSE))","v":""},{"$f":"IF(ISBLANK($R2)=TRUE,\"\",VLOOKUP($R2,TAXONOMY!$A$1:$H$959,2,FALSE))","v":""}]
[null,null,null,null,null,null,null,null,null,null,null,{"$f":"IF(ISBLANK($R3)=TRUE,\"\",VLOOKUP($R3,TAXONOMY!$A$1:$G$959,7,FALSE))","v":""},{"$f":"IF(ISBLANK($R3)=TRUE,\"\",VLOOKUP($R3,TAXONOMY!$A$1:$G$959,6,FALSE))","v":""},{"$f":"IF(ISBLANK($R3)=TRUE,\"\",VLOOKUP($R3,TAXONOMY!$A$1:$G$959,5,FALSE))","v":""},{"$f":"IF(ISBLANK($R3)=TRUE,\"\",VLOOKUP($R3,TAXONOMY!$A$1:$G$959,4,FALSE))","v":""},{"$f":"IF(ISBLANK($R3)=TRUE,\"\",VLOOKUP($R3,TAXONOMY!$A$1:$G$959,3,FALSE))","v":""},{"$f":"IF(ISBLANK($R3)=TRUE,\"\",VLOOKUP($R3,TAXONOMY!$A$1:$H$959,2,FALSE))","v":""}]
[null,null,null,null,null,null,null,null,null,null,null,{"$f":"IF(ISBLANK($R4)=TRUE,\"\",VLOOKUP($R4,TAXONOMY!$A$1:$G$959,7,FALSE))","v":""},{"$f":"IF(ISBLANK($R4)=TRUE,\"\",VLOOKUP($R4,TAXONOMY!$A$1:$G$959,6,FALSE))","v":""},{"$f":"IF(ISBLANK($R4)=TRUE,\"\",VLOOKUP($R4,TAXONOMY!$A$1:$G$959,5,FALSE))","v":""},{"$f":"IF(ISBLANK($R4)=TRUE,\"\",VLOOKUP($R4,TAXONOMY!$A$1:$G$959,4,FALSE))","v":""},{"$f":"IF(ISBLANK($R4)=TRUE,\"\",VLOOKUP($R4,TAXONOMY!$A$1:$G$959,3,FALSE))","v":""},{"$f":"IF(ISBLANK($R4)=TRUE,\"\",VLOOKUP($R4,TAXONOMY!$A$1:$H$959,2,FALSE))","v":""}]
[null,null,null,null,null,null,null,null,null,null,null,{"$f":"IF(ISBLANK($R5)=TRUE,\"\",VLOOKUP($R5,TAXONOMY!$A$1:$G$959,7,FALSE))","v":""},{"$f":"IF(ISBLANK($R5)=TRUE,\"\",VLOOKUP($R5,TAXONOMY!$A$1:$G$959,6,FALSE))","v":""},{"$f":"IF(ISBLANK($R5)=TRUE,\"\",VLOOKUP($R5,TAXONOMY!$A$1:$G$959,5,FALSE))","v":""},{"$f":"IF(ISBLANK($R5)=TRUE,\"\",VLOOKUP($R5,TAXONOMY!$A$1:$G$959,4,FALSE))","v":""},{"$f":"IF(ISBLANK($R5)=TRUE,\"\",VLOOKUP($R5,TAXONOMY!$A$1:$G$959,3,FALSE))","v":""},{"$f":"IF(ISBLANK($R5)=TRUE,\"\",VLOOKUP($R5,TAXONOMY!$A$1:$H$959,2,FALSE))","v":""}]
[null,null,null,null,null,null,null,null,null,null,null,{"$f":"IF(ISBLANK($R6)=TRUE,\"\",VLOOKUP($R6,TAXONOMY!$A$1:$G$959,7,FALSE))","v":""},{"$f":"IF(ISBLANK($R6)=TRUE,\"\",VLOOKUP($R6,TAXONOMY!$A$1:$G$959,6,FALSE))","v":""},{"$f":"IF(ISBLANK($R6)=TRUE,\"\",VLOOKUP($R6,TAXONOMY!$A$1:$G$959,5,FALSE))","v":""},{"$f":"IF(ISBLANK($R6)=TRUE,\"\",VLOOKUP($R6,TAXONOMY!$A$1:$G$959,4,FALSE))","v":""},{"$f":"IF(ISBLANK($R6)=TRUE,\"\",VLOOKUP($R6,TAXONOMY!$A$1:$G$959,3,FALSE))","v":""},{"$f":"IF(ISBLANK($R6)=TRUE,\"\",VLOOKUP($R6,TAXONOMY!$A$1:$H$959,2,FALSE))","v":""}]
[null,null,null,null,null,null,null,null,null,null,null,{"$f":"IF(ISBLANK($R7)=TRUE,\"\",VLOOKUP($R7,TAXONOMY!$A$1:$G$959,7,FALSE))","v":""},{"$f":"IF(ISBLANK($R7)=TRUE,\"\",VLOOKUP($R7,TAXONOMY!$A$1:$G$959,6,FALSE))","v":""},{"$f":"IF(ISBLANK($R7)=TRUE,\"\",VLOOKUP($R7,TAXONOMY!$A$1:$G$959,5,FALSE))","v":""},{"$f":"IF(ISBLANK($R7)=TRUE,\"\",VLOOKUP($R7,TAXONOMY!$A$1:$G$959,4,FALSE))","v":""},{"$f":"IF(ISBLANK($R7)=TRUE,\"\",VLOOKUP($R7,TAXONOMY!$A$1:$G$959,3,FALSE))","v":""},{"$f":"IF(ISBLANK($R7)=TRUE,\"\",VLOOKUP($R7,TAXONOMY!$A$1:$H$959,2,FALSE))","v":""}]
[null,null,null,null,null,null,null,null,null,null,null,{"$f":"IF(ISBLANK($R8)=TRUE,\"\",VLOOKUP($R8,TAXONOMY!$A$1:$G$959,7,FALSE))","v":""},{"$f":"IF(ISBLANK($R8)=TRUE,\"\",VLOOKUP($R8,TAXONOMY!$A$1:$G$959,6,FALSE))","v":""},{"$f":"IF(ISBLANK($R8)=TRUE,\"\",VLOOKUP($R8,TAXONOMY!$A$1:$G$959,5,FALSE))","v":""},{"$f":"IF(ISBLANK($R8)=TRUE,\"\",VLOOKUP($R8,TAXONOMY!$A$1:$G$959,4,FALSE))","v":""},{"$f":"IF(ISBLANK($R8)=TRUE,\"\",VLOOKUP($R8,TAXONOMY!$A$1:$G$959,3,FALSE))","v":""},{"$f":"IF(ISBLANK($R8)=TRUE,\"\",VLOOKUP($R8,TAXONOMY!$A$1:$H$959,2,FALSE))","v":""}]
[null,null,null,null,null,null,null,null,null,null,null,{"$f":"IF(ISBLANK($R9)=TRUE,\"\",VLOOKUP($R9,TAXONOMY!$A$1:$G$959,7,FALSE))","v":""},{"$f":"IF(ISBLANK($R9)=TRUE,\"\",VLOOKUP($R9,TAXONOMY!$A$1:$G$959,6,FALSE))","v":""},{"$f":"IF(ISBLANK($R9)=TRUE,\"\",VLOOKUP($R9,TAXONOMY!$A$1:$G$959,5,FALSE))","v":""},{"$f":"IF(ISBLANK($R9)=TRUE,\"\",VLOOKUP($R9,TAXONOMY!$A$1:$G$959,4,FALSE))","v":""},{"$f":"IF(ISBLANK($R9)=TRUE,\"\",VLOOKUP($R9,TAXONOMY!$A$1:$G$959,3,FALSE))","v":""},{"$f":"IF(ISBLANK($R9)=TRUE,\"\",VLOOKUP($R9,TAXONOMY!$A$1:$H$959,2,FALSE))","v":""}]
[null,null,null,null,null,null,null,null,null,null,null,{"$f":"IF(ISBLANK($R10)=TRUE,\"\",VLOOKUP($R10,TAXONOMY!$A$1:$G$959,7,FALSE))","v":""},{"$f":"IF(ISBLANK($R10)=TRUE,\"\",VLOOKUP($R10,TAXONOMY!$A$1:$G$959,6,FALSE))","v":""},{"$f":"IF(ISBLANK($R10)=TRUE,\"\",VLOOKUP($R10,TAXONOMY!$A$1:$G$959,5,FALSE))","v":""},{"$f":"IF(ISBLANK($R10)=TRUE,\"\",VLOOKUP($R10,TAXONOMY!$A$1:$G$959,4,FALSE))","v":""},{"$f":"IF(ISBLANK($R10)=TRUE,\"\",VLOOKUP($R10,TAXONOMY!$A$1:$G$959,3,FALSE))","v":""},{"$f":"IF(ISBLANK($R10)=TRUE,\"\",VLOOKUP($R10,TAXONOMY!$A$1:$H$959,2,FALSE))","v":""}]
[null,null,null,null,null,null,null,null,null,null,null,{"$f":"IF(ISBLANK($R11)=TRUE,\"\",VLOOKUP($R11,TAXONOMY!$A$1:$G$959,7,FALSE))","v":""},{"$f":"IF(ISBLANK($R11)=TRUE,\"\",VLOOKUP($R11,TAXONOMY!$A$1:$G$959,6,FALSE))","v":""},{"$f":"IF(ISBLANK($R11)=TRUE,\"\",VLOOKUP($R11,TAXONOMY!$A$1:$G$959,5,FALSE))","v":""},{"$f":"IF(ISBLANK($R11)=TRUE,\"\",VLOOKUP($R11,TAXONOMY!$A$1:$G$959,4,FALSE))","v":""},{"$f":"IF(ISBLANK($R11)=TRUE,\"\",VLOOKUP($R11,TAXONOMY!$A$1:$G$959,3,FALSE))","v":""},{"$f":"IF(ISBLANK($R11)=TRUE,\"\",VLOOKUP($R11,TAXONOMY!$A$1:$H$959,2,FALSE))","v":""}]
[null,null,null,null,null,null,null,null,null,null,null,{"$f":"IF(ISBLANK($R12)=TRUE,\"\",VLOOKUP($R12,TAXONOMY!$A$1:$G$959,7,FALSE))","v":""},{"$f":"IF(ISBLANK($R12)=TRUE,\"\",VLOOKUP($R12,TAXONOMY!$A$1:$G$959,6,FALSE))","v":""},{"$f":"IF(ISBLANK($R12)=TRUE,\"\",VLOOKUP($R12,TAXONOMY!$A$1:$G$959,5,FALSE))","v":""},{"$f":"IF(ISBLANK($R12)=TRUE,\"\",VLOOKUP($R12,TAXONOMY!$A$1:$G$959,4,FALSE))","v":""},{"$f":"IF(ISBLANK($R12)=TRUE,\"\",VLOOKUP($R12,TAXONOMY!$A$1:$G$959,3,FALSE))","v":""},{"$f":"IF(ISBLANK($R12)=TRUE,\"\",VLOOKUP($R12,TAXONOMY!$A$1:$H$959,2,FALSE))","v":""}]
[null,null,null,null,null,null,null,null,null,null,null,{"$f":"IF(ISBLANK($R13)=TRUE,\"\",VLOOKUP($R13,TAXONOMY!$A$1:$G$959,7,FALSE))","v":""},{"$f":"IF(ISBLANK($R13)=TRUE,\"\",VLOOKUP($R13,TAXONOMY!$A$1:$G$959,6,FALSE))","v":""},{"$f":"IF(ISBLANK($R13)=TRUE,\"\",VLOOKUP($R13,TAXONOMY!$A$1:$G$959,5,FALSE))","v":""},{"$f":"IF(ISBLANK($R13)=TRUE,\"\",VLOOKUP($R13,TAXONOMY!$A$1:$G$959,4,FALSE))","v":""},{"$f":"IF(ISBLANK($R13)=TRUE,\"\",VLOOKUP($R13,TAXONOMY!$A$1:$G$959,3,FALSE))","v":""},{"$f":"IF(ISBLANK($R13)=TRUE,\"\",VLOOKUP($R13,TAXONOMY!$A$1:$H$959,2,FALSE))","v":""}]
[null,null,null,null,null,null,null,null,null,null,null,{"$f":"IF(ISBLANK($R14)=TRUE,\"\",VLOOKUP($R14,TAXONOMY!$A$1:$G$959,7,FALSE))","v":""},{"$f":"IF(ISBLANK($R14)=TRUE,\"\",VLOOKUP($R14,TAXONOMY!$A$1:$G$959,6,FALSE))","v":""},{"$f":"IF(ISBLANK($R14)=TRUE,\"\",VLOOKUP($R14,TAXONOMY!$A$1:$G$959,5,FALSE))","v":""},{"$f":"IF(ISBLANK($R14)=TRUE,\"\",VLOOKUP($R14,TAXONOMY!$A$1:$G$959,4,FALSE))","v":""},{"$f":"IF(ISBLANK($R14)=TRUE,\"\",VLOOKUP($R14,TAXONOMY!$A$1:$G$959,3,FALSE))","v":""},{"$f":"IF(ISBLANK($R14)=TRUE,\"\",VLOOKUP($R14,TAXONOMY!$A$1:$H$959,2,FALSE))","v":""}]
[null,null,null,null,null,null,null,null,null,null,null,{"$f":"IF(ISBLANK($R15)=TRUE,\"\",VLOOKUP($R15,TAXONOMY!$A$1:$G$959,7,FALSE))","v":""},{"$f":"IF(ISBLANK($R15)=TRUE,\"\",VLOOKUP($R15,TAXONOMY!$A$1:$G$959,6,FALSE))","v":""},{"$f":"IF(ISBLANK($R15)=TRUE,\"\",VLOOKUP($R15,TAXONOMY!$A$1:$G$959,5,FALSE))","v":""},{"$f":"IF(ISBLANK($R15)=TRUE,\"\",VLOOKUP($R15,TAXONOMY!$A$1:$G$959,4,FALSE))","v":""},{"$f":"IF(ISBLANK($R15)=TRUE,\"\",VLOOKUP($R15,TAXONOMY!$A$1:$G$959,3,FALSE))","v":""},{"$f":"IF(ISBLANK($R15)=TRUE,\"\",VLOOKUP($R15,TAXONOMY!$A$1:$H$959,2,FALSE))","v":""}]
[null,null,null,null,null,null,null,null,null,null,null,{"$f":"IF(ISBLANK($R16)=TRUE,\"\",VLOOKUP($R16,TAXONOMY!$A$1:$G$959,7,FALSE))","v":""},{"$f":"IF(ISBLANK($R16)=TRUE,\"\",VLOOKUP($R16,TAXONOMY!$A$1:$G$959,6,FALSE))","v":""},{"$f":"IF(ISBLANK($R16)=TRUE,\"\",VLOOKUP($R16,TAXONOMY!$A$1:$G$959,5,FALSE))","v":""},{"$f":"IF(ISBLANK($R16)=TRUE,\"\",VLOOKUP($R16,TAXONOMY!$A$1:$G$959,4,FALSE))","v":""},{"$f":"IF(ISBLANK($R16)=TRUE,\"\",VLOOKUP($R16,TAXONOMY!$A$1:$G$959,3,FALSE))","v":""},{"$f":"IF(ISBLANK($R16)=TRUE,\"\",VLOOKUP($R16,TAXONOMY!$A$1:$H$959,2,FALSE))","v":""}]
[null,null,null,null,null,null,null,null,null,null,null,{"$f":"IF(ISBLANK($R17)=TRUE,\"\",VLOOKUP($R17,TAXONOMY!$A$1:$G$959,7,FALSE))","v":""},{"$f":"IF(ISBLANK($R17)=TRUE,\"\",VLOOKUP($R17,TAXONOMY!$A$1:$G$959,6,FALSE))","v":""},{"$f":"IF(ISBLANK($R17)=TRUE,\"\",VLOOKUP($R17,TAXONOMY!$A$1:$G$959,5,FALSE))","v":""},{"$f":"IF(ISBLANK($R17)=TRUE,\"\",VLOOKUP($R17,TAXONOMY!$A$1:$G$959,4,FALSE))","v":""},{"$f":"IF(ISBLANK($R17)=TRUE,\"\",VLOOKUP($R17,TAXONOMY!$A$1:$G$959,3,FALSE))","v":""},{"$f":"IF(ISBLANK($R17)=TRUE,\"\",VLOOKUP($R17,TAXONOMY!$A$1:$H$959,2,FALSE))","v":""}]
[null,null,null,null,null,null,null,null,null,null,null,{"$f":"IF(ISBLANK($R18)=TRUE,\"\",VLOOKUP($R18,TAXONOMY!$A$1:$G$959,7,FALSE))","v":""},{"$f":"IF(ISBLANK($R18)=TRUE,\"\",VLOOKUP($R18,TAXONOMY!$A$1:$G$959,6,FALSE))","v":""},{"$f":"IF(ISBLANK($R18)=TRUE,\"\",VLOOKUP($R18,TAXONOMY!$A$1:$G$959,5,FALSE))","v":""},{"$f":"IF(ISBLANK($R18)=TRUE,\"\",VLOOKUP($R18,TAXONOMY!$A$1:$G$959,4,FALSE))","v":""},{"$f":"IF(ISBLANK($R18)=TRUE,\"\",VLOOKUP($R18,TAXONOMY!$A$1:$G$959,3,FALSE))","v":""},{"$f":"IF(ISBLANK($R18)=TRUE,\"\",VLOOKUP($R18,TAXONOMY!$A$1:$H$959,2,FALSE))","v":""}]
[null,null,null,null,null,null,null,null,null,null,null,{"$f":"IF(ISBLANK($R19)=TRUE,\"\",VLOOKUP($R19,TAXONOMY!$A$1:$G$959,7,FALSE))","v":""},{"$f":"IF(ISBLANK($R19)=TRUE,\"\",VLOOKUP($R19,TAXONOMY!$A$1:$G$959,6,FALSE))","v":""},{"$f":"IF(ISBLANK($R19)=TRUE,\"\",VLOOKUP($R19,TAXONOMY!$A$1:$G$959,5,FALSE))","v":""},{"$f":"IF(ISBLANK($R19)=TRUE,\"\",VLOOKUP($R19,TAXONOMY!$A$1:$G$959,4,FALSE))","v":""},{"$f":"IF(ISBLANK($R19)=TRUE,\"\",VLOOKUP($R19,TAXONOMY!$A$1:$G$959,3,FALSE))","v":""},{"$f":"IF(ISBLANK($R19)=TRUE,\"\",VLOOKUP($R19,TAXONOMY!$A$1:$H$959,2,FALSE))","v":""}]
[null,null,null,null,null,null,null,null,null,null,null,{"$f":"IF(ISBLANK($R20)=TRUE,\"\",VLOOKUP($R20,TAXONOMY!$A$1:$G$959,7,FALSE))","v":""},{"$f":"IF(ISBLANK($R20)=TRUE,\"\",VLOOKUP($R20,TAXONOMY!$A$1:$G$959,6,FALSE))","v":""},{"$f":"IF(ISBLANK($R20)=TRUE,\"\",VLOOKUP($R20,TAXONOMY!$A$1:$G$959,5,FALSE))","v":""},{"$f":"IF(ISBLANK($R20)=TRUE,\"\",VLOOKUP($R20,TAXONOMY!$A$1:$G$959,4,FALSE))","v":""},{"$f":"IF(ISBLANK($R20)=TRUE,\"\",VLOOKUP($R20,TAXONOMY!$A$1:$G$959,3,FALSE))","v":""},{"$f":"IF(ISBLANK($R20)=TRUE,\"\",VLOOKUP($R20,TAXONOMY!$A$1:$H$959,2,FALSE))","v":""}]
[null,null,null,null,null,null,null,null,null,null,null,{"$f":"IF(ISBLANK($R21)=TRUE,\"\",VLOOKUP($R21,TAXONOMY!$A$1:$G$959,7,FALSE))","v":""},{"$f":"IF(ISBLANK($R21)=TRUE,\"\",VLOOKUP($R21,TAXONOMY!$A$1:$G$959,6,FALSE))","v":""},{"$f":"IF(ISBLANK($R21)=TRUE,\"\",VLOOKUP($R21,TAXONOMY!$A$1:$G$959,5,FALSE))","v":""},{"$f":"IF(ISBLANK($R21)=TRUE,\"\",VLOOKUP($R21,TAXONOMY!$A$1:$G$959,4,FALSE))","v":""},{"$f":"IF(ISBLANK($R21)=TRUE,\"\",VLOOKUP($R21,TAXONOMY!$A$1:$G$959,3,FALSE))","v":""},{"$f":"IF(ISBLANK($R21)=TRUE,\"\",VLOOKUP($R21,TAXONOMY!$A$1:$H$959,2,FALSE))","v":""}]
[null,null,null,null,null,null,null,null,null,null,null,{"$f":"IF(ISBLANK($R22)=TRUE,\"\",VLOOKUP($R22,TAXONOMY!$A$1:$G$959,7,FALSE))","v":""},{"$f":"IF(ISBLANK($R22)=TRUE,\"\",VLOOKUP($R22,TAXONOMY!$A$1:$G$959,6,FALSE))","v":""},{"$f":"IF(ISBLANK($R22)=TRUE,\"\",VLOOKUP($R22,TAXONOMY!$A$1:$G$959,5,FALSE))","v":""},{"$f":"IF(ISBLANK($R22)=TRUE,\"\",VLOOKUP($R22,TAXONOMY!$A$1:$G$959,4,FALSE))","v":""},{"$f":"IF(ISBLANK($R22)=TRUE,\"\",VLOOKUP($R22,TAXONOMY!$A$1:$G$959,3,FALSE))","v":""},{"$f":"IF(ISBLANK($R22)=TRUE,\"\",VLOOKUP($R22,TAXONOMY!$A$1:$H$959,2,FALSE))","v":""}]
[null,null,null,null,null,null,null,null,null,null,null,{"$f":"IF(ISBLANK($R23)=TRUE,\"\",VLOOKUP($R23,TAXONOMY!$A$1:$G$959,7,FALSE))","v":""},{"$f":"IF(ISBLANK($R23)=TRUE,\"\",VLOOKUP($R23,TAXONOMY!$A$1:$G$959,6,FALSE))","v":""},{"$f":"IF(ISBLANK($R23)=TRUE,\"\",VLOOKUP($R23,TAXONOMY!$A$1:$G$959,5,FALSE))","v":""},{"$f":"IF(ISBLANK($R23)=TRUE,\"\",VLOOKUP($R23,TAXONOMY!$A$1:$G$959,4,FALSE))","v":""},{"$f":"IF(ISBLANK($R23)=TRUE,\"\",VLOOKUP($R23,TAXONOMY!$A$1:$G$959,3,FALSE))","v":""},{"$f":"IF(ISBLANK($R23)=TRUE,\"\",VLOOKUP($R23,TAXONOMY!$A$1:$H$959,2,FALSE))","v":""}]
[null,null,null,null,null,null,null,null,null,null,null,{"$f":"IF(ISBLANK($R24)=TRUE,\"\",VLOOKUP($R24,TAXONOMY!$A$1:$G$959,7,FALSE))","v":""},{"$f":"IF(ISBLANK($R24)=TRUE,\"\",VLOOKUP($R24,TAXONOMY!$A$1:$G$959,6,FALSE))","v":""},{"$f":"IF(ISBLANK($R24)=TRUE,\"\",VLOOKUP($R24,TAXONOMY!$A$1:$G$959,5,FALSE))","v":""},{"$f":"IF(ISBLANK($R24)=TRUE,\"\",VLOOKUP($R24,TAXONOMY!$A$1:$G$959,4,FALSE))","v":""},{"$f":"IF(ISBLANK($R24)=TRUE,\"\",VLOOKUP($R24,TAXONOMY!$A$1:$G$959,3,FALSE))","v":""},{"$f":"IF(ISBLANK($R24)=TRUE,\"\",VLOOKUP($R24,TAXONOMY!$A$1:$H$959,2,FALSE))","v":""}]
[null,null,null,null,null,null,null,null,null,null,null,{"$f":"IF(ISBLANK($R25)=TRUE,\"\",VLOOKUP($R25,TAXONOMY!$A$1:$G$959,7,FALSE))","v":""},{"$f":"IF(ISBLANK($R25)=TRUE,\"\",VLOOKUP($R25,TAXONOMY!$A$1:$G$959,6,FALSE))","v":""},{"$f":"IF(ISBLANK($R25)=TRUE,\"\",VLOOKUP($R25,TAXONOMY!$A$1:$G$959,5,FALSE))","v":""},{"$f":"IF(ISBLANK($R25)=TRUE,\"\",VLOOKUP($R25,TAXONOMY!$A$1:$G$959,4,FALSE))","v":""},{"$f":"IF(ISBLANK($R25)=TRUE,\"\",VLOOKUP($R25,TAXONOMY!$A$1:$G$959,3,FALSE))","v":""},{"$f":"IF(ISBLANK($R25)=TRUE,\"\",VLOOKUP($R25,TAXONOMY!$A$1:$H$959,2,FALSE))","v":""}]
[null,null,null,null,null,null,null,null,null,null,null,{"$f":"IF(ISBLANK($R26)=TRUE,\"\",VLOOKUP($R26,TAXONOMY!$A$1:$G$959,7,FALSE))","v":""},{"$f":"IF(ISBLANK($R26)=TRUE,\"\",VLOOKUP($R26,TAXONOMY!$A$1:$G$959,6,FALSE))","v":""},{"$f":"IF(ISBLANK($R26)=TRUE,\"\",VLOOKUP($R26,TAXONOMY!$A$1:$G$959,5,FALSE))","v":""},{"$f":"IF(ISBLANK($R26)=TRUE,\"\",VLOOKUP($R26,TAXONOMY!$A$1:$G$959,4,FALSE))","v":""},{"$f":"IF(ISBLANK($R26)=TRUE,\"\",VLOOKUP($R26,TAXONOMY!$A$1:$G$959,3,FALSE))","v":""},{"$f":"IF(ISBLANK($R26)=TRUE,\"\",VLOOKUP($R26,TAXONOMY!$A$1:$H$959,2,FALSE))","v":""}]
[null,null,null,null,null,null,null,null,null,null,null,{"$f":"IF(ISBLANK($R27)=TRUE,\"\",VLOOKUP($R27,TAXONOMY!$A$1:$G$959,7,FALSE))","v":""},{"$f":"IF(ISBLANK($R27)=TRUE,\"\",VLOOKUP($R27,TAXONOMY!$A$1:$G$959,6,FALSE))","v":""},{"$f":"IF(ISBLANK($R27)=TRUE,\"\",VLOOKUP($R27,TAXONOMY!$A$1:$G$959,5,FALSE))","v":""},{"$f":"IF(ISBLANK($R27)=TRUE,\"\",VLOOKUP($R27,TAXONOMY!$A$1:$G$959,4,FALSE))","v":""},{"$f":"IF(ISBLANK($R27)=TRUE,\"\",VLOOKUP($R27,TAXONOMY!$A$1:$G$959,3,FALSE))","v":""},{"$f":"IF(ISBLANK($R27)=TRUE,\"\",VLOOKUP($R27,TAXONOMY!$A$1:$H$959,2,FALSE))","v":""}]
[null,null,null,null,null,null,null,null,null,null,null,{"$f":"IF(ISBLANK($R28)=TRUE,\"\",VLOOKUP($R28,TAXONOMY!$A$1:$G$959,7,FALSE))","v":""},{"$f":"IF(ISBLANK($R28)=TRUE,\"\",VLOOKUP($R28,TAXONOMY!$A$1:$G$959,6,FALSE))","v":""},{"$f":"IF(ISBLANK($R28)=TRUE,\"\",VLOOKUP($R28,TAXONOMY!$A$1:$G$959,5,FALSE))","v":""},{"$f":"IF(ISBLANK($R28)=TRUE,\"\",VLOOKUP($R28,TAXONOMY!$A$1:$G$959,4,FALSE))","v":""},{"$f":"IF(ISBLANK($R28)=TRUE,\"\",VLOOKUP($R28,TAXONOMY!$A$1:$G$959,3,FALSE))","v":""},{"$f":"IF(ISBLANK($R28)=TRUE,\"\",VLOOKUP($R28,TAXONOMY!$A$1:$H$959,2,FALSE))","v":""}]
[null,null,null,null,null,null,null,null,null,null,null,{"$f":"IF(ISBLANK($R29)=TRUE,\"\",VLOOKUP($R29,TAXONOMY!$A$1:$G$959,7,FALSE))","v":""},{"$f":"IF(ISBLANK($R29)=TRUE,\"\",VLOOKUP($R29,TAXONOMY!$A$1:$G$959,6,FALSE))","v":""},{"$f":"IF(ISBLANK($R29)=TRUE,\"\",VLOOKUP($R29,TAXONOMY!$A$1:$G$959,5,FALSE))","v":""},{"$f":"IF(ISBLANK($R29)=TRUE,\"\",VLOOKUP($R29,TAXONOMY!$A$1:$G$959,4,FALSE))","v":""},{"$f":"IF(ISBLANK($R29)=TRUE,\"\",VLOOKUP($R29,TAXONOMY!$A$1:$G$959,3,FALSE))","v":""},{"$f":"IF(ISBLANK($R29)=TRUE,\"\",VLOOKUP($R29,TAXONOMY!$A$1:$H$959,2,FALSE))","v":""}]
[null,null,null,null,null,null,null,null,null,null,null,{"$f":"IF(ISBLANK($R30)=TRUE,\"\",VLOOKUP($R30,TAXONOMY!$A$1:$G$959,7,FALSE))","v":""},{"$f":"IF(ISBLANK($R30)=TRUE,\"\",VLOOKUP($R30,TAXONOMY!$A$1:$G$959,6,FALSE))","v":""},{"$f":"IF(ISBLANK($R30)=TRUE,\"\",VLOOKUP($R30,TAXONOMY!$A$1:$G$959,5,FALSE))","v":""},{"$f":"IF(ISBLANK($R30)=TRUE,\"\",VLOOKUP($R30,TAXONOMY!$A$1:$G$959,4,FALSE))","v":""},{"$f":"IF(ISBLANK($R30)=TRUE,\"\",VLOOKUP($R30,TAXONOMY!$A$1:$G$959,3,FALSE))","v":""},{"$f":"IF(ISBLANK($R30)=TRUE,\"\",VLOOKUP($R30,TAXONOMY!$A$1:$H$959,2,FALSE))","v":""}]
[null,null,null,null,null,null,null,null,null,null,null,{"$f":"IF(ISBLANK($R31)=TRUE,\"\",VLOOKUP($R31,TAXONOMY!$A$1:$G$959,7,FALSE))","v":""},{"$f":"IF(ISBLANK($R31)=TRUE,\"\",VLOOKUP($R31,TAXONOMY!$A$1:$G$959,6,FALSE))","v":""},{"$f":"IF(ISBLANK($R31)=TRUE,\"\",VLOOKUP($R31,TAXONOMY!$A$1:$G$959,5,FALSE))","v":""},{"$f":"IF(ISBLANK($R31)=TRUE,\"\",VLOOKUP($R31,TAXONOMY!$A$1:$G$959,4,FALSE))","v":""},{"$f":"IF(ISBLANK($R31)=TRUE,\"\",VLOOKUP($R31,TAXONOMY!$A$1:$G$959,3,FALSE))","v":""},{"$f":"IF(ISBLANK($R31)=TRUE,\"\",VLOOKUP($R31,TAXONOMY!$A$1:$H$959,2,FALSE))","v":""}]
[null,null,null,null,null,null,null,null,null,null,null,{"$f":"IF(ISBLANK($R32)=TRUE,\"\",VLOOKUP($R32,TAXONOMY!$A$1:$G$959,7,FALSE))","v":""},{"$f":"IF(ISBLANK($R32)=TRUE,\"\",VLOOKUP($R32,TAXONOMY!$A$1:$G$959,6,FALSE))","v":""},{"$f":"IF(ISBLANK($R32)=TRUE,\"\",VLOOKUP($R32,TAXONOMY!$A$1:$G$959,5,FALSE))","v":""},{"$f":"IF(ISBLANK($R32)=TRUE,\"\",VLOOKUP($R32,TAXONOMY!$A$1:$G$959,4,FALSE))","v":""},{"$f":"IF(ISBLANK($R32)=TRUE,\"\",VLOOKUP($R32,TAXONOMY!$A$1:$G$959,3,FALSE))","v":""},{"$f":"IF(ISBLANK($R32)=TRUE,\"\",VLOOKUP($R32,TAXONOMY!$A$1:$H$959,2,FALSE))","v":""}]
[null,null,null,null,null,null,null,null,null,null,null,{"$f":"IF(ISBLANK($R33)=TRUE,\"\",VLOOKUP($R33,TAXONOMY!$A$1:$G$959,7,FALSE))","v":""},{"$f":"IF(ISBLANK($R33)=TRUE,\"\",VLOOKUP($R33,TAXONOMY!$A$1:$G$959,6,FALSE))","v":""},{"$f":"IF(ISBLANK($R33)=TRUE,\"\",VLOOKUP($R33,TAXONOMY!$A$1:$G$959,5,FALSE))","v":""},{"$f":"IF(ISBLANK($R33)=TRUE,\"\",VLOOKUP($R33,TAXONOMY!$A$1:$G$959,4,FALSE))","v":""},{"$f":"IF(ISBLANK($R33)=TRUE,\"\",VLOOKUP($R33,TAXONOMY!$A$1:$G$959,3,FALSE))","v":""},{"$f":"IF(ISBLANK($R33)=TRUE,\"\",VLOOKUP($R33,TAXONOMY!$A$1:$H$959,2,FALSE))","v":""}]
[null,null,null,null,null,null,null,null,null,null,null,{"$f":"IF(ISBLANK($R34)=TRUE,\"\",VLOOKUP($R34,TAXONOMY!$A$1:$G$959,7,FALSE))","v":""},{"$f":"IF(ISBLANK($R34)=TRUE,\"\",VLOOKUP($R34,TAXONOMY!$A$1:$G$959,6,FALSE))","v":""},{"$f":"IF(ISBLANK($R34)=TRUE,\"\",VLOOKUP($R34,TAXONOMY!$A$1:$G$959,5,FALSE))","v":""},{"$f":"IF(ISBLANK($R34)=TRUE,\"\",VLOOKUP($R34,TAXONOMY!$A$1:$G$959,4,FALSE))","v":""},{"$f":"IF(ISBLANK($R34)=TRUE,\"\",VLOOKUP($R34,TAXONOMY!$A$1:$G$959,3,FALSE))","v":""},{"$f":"IF(ISBLANK($R34)=TRUE,\"\",VLOOKUP($R34,TAXONOMY!$A$1:$H$959,2,FALSE))","v":""}]
[null,null,null,null,null,null,null,null,null,null,null,{"$f":"IF(ISBLANK($R35)=TRUE,\"\",VLOOKUP($R35,TAXONOMY!$A$1:$G$959,7,FALSE))","v":""},{"$f":"IF(ISBLANK($R35)=TRUE,\"\",VLOOKUP($R35,TAXONOMY!$A$1:$G$959,6,FALSE))","v":""},{"$f":"IF(ISBLANK($R35)=TRUE,\"\",VLOOKUP($R35,TAXONOMY!$A$1:$G$959,5,FALSE))","v":""},{"$f":"IF(ISBLANK($R35)=TRUE,\"\",VLOOKUP($R35,TAXONOMY!$A$1:$G$959,4,FALSE))","v":""},{"$f":"IF(ISBLANK($R35)=TRUE,\"\",VLOOKUP($R35,TAXONOMY!$A$1:$G$959,3,FALSE))","v":""},{"$f":"IF(ISBLANK($R35)=TRUE,\"\",VLOOKUP($R35,TAXONOMY!$A$1:$H$959,2,FALSE))","v":""}]
[null,null,null,null,null,null,null,null,null,null,null,{"$f":"IF(ISBLANK($R36)=TRUE,\"\",VLOOKUP($R36,TAXONOMY!$A$1:$G$959,7,FALSE))","v":""},{"$f":"IF(ISBLANK($R36)=TRUE,\"\",VLOOKUP($R36,TAXONOMY!$A$1:$G$959,6,FALSE))","v":""},{"$f":"IF(ISBLANK($R36)=TRUE,\"\",VLOOKUP($R36,TAXONOMY!$A$1:$G$959,5,FALSE))","v":""},{"$f":"IF(ISBLANK($R36)=TRUE,\"\",VLOOKUP($R36,TAXONOMY!$A$1:$G$959,4,FALSE))","v":""},{"$f":"IF(ISBLANK($R36)=TRUE,\"\",VLOOKUP($R36,TAXONOMY!$A$1:$G$959,3,FALSE))","v":""},{"$f":"IF(ISBLANK($R36)=TRUE,\"\",VLOOKUP($R36,TAXONOMY!$A$1:$H$959,2,FALSE))","v":""}]
[null,null,null,null,null,null,null,null,null,null,null,{"$f":"IF(ISBLANK($R37)=TRUE,\"\",VLOOKUP($R37,TAXONOMY!$A$1:$G$959,7,FALSE))","v":""},{"$f":"IF(ISBLANK($R37)=TRUE,\"\",VLOOKUP($R37,TAXONOMY!$A$1:$G$959,6,FALSE))","v":""},{"$f":"IF(ISBLANK($R37)=TRUE,\"\",VLOOKUP($R37,TAXONOMY!$A$1:$G$959,5,FALSE))","v":""},{"$f":"IF(ISBLANK($R37)=TRUE,\"\",VLOOKUP($R37,TAXONOMY!$A$1:$G$959,4,FALSE))","v":""},{"$f":"IF(ISBLANK($R37)=TRUE,\"\",VLOOKUP($R37,TAXONOMY!$A$1:$G$959,3,FALSE))","v":""},{"$f":"IF(ISBLANK($R37)=TRUE,\"\",VLOOKUP($R37,TAXONOMY!$A$1:$H$959,2,FALSE))","v":""}]
[null,null,null,null,null,null,null,null,null,null,null,{"$f":"IF(ISBLANK($R38)=TRUE,\"\",VLOOKUP($R38,TAXONOMY!$A$1:$G$959,7,FALSE))","v":""},{"$f":"IF(ISBLANK($R38)=TRUE,\"\",VLOOKUP($R38,TAXONOMY!$A$1:$G$959,6,FALSE))","v":""},{"$f":"IF(ISBLANK($R38)=TRUE,\"\",VLOOKUP($R38,TAXONOMY!$A$1:$G$959,5,FALSE))","v":""},{"$f":"IF(ISBLANK($R38)=TRUE,\"\",VLOOKUP($R38,TAXONOMY!$A$1:$G$959,4,FALSE))","v":""},{"$f":"IF(ISBLANK($R38)=TRUE,\"\",VLOOKUP($R38,TAXONOMY!$A$1:$G$959,3,FALSE))","v":""},{"$f":"IF(ISBLANK($R38)=TRUE,\"\",VLOOKUP($R38,TAXONOMY!$A$1:$H$959,2,FALSE))","v":""}]
[null,null,null,null,null,null,null,null,null,null,null,{"$f":"IF(ISBLANK($R39)=TRUE,\"\",VLOOKUP($R39,TAXONOMY!$A$1:$G$959,7,FALSE))","v":""},{"$f":"IF(ISBLANK($R39)=TRUE,\"\",VLOOKUP($R39,TAXONOMY!$A$1:$G$959,6,FALSE))","v":""},{"$f":"IF(ISBLANK($R39)=TRUE,\"\",VLOOKUP($R39,TAXONOMY!$A$1:$G$959,5,FALSE))","v":""},{"$f":"IF(ISBLANK($R39)=TRUE,\"\",VLOOKUP($R39,TAXONOMY!$A$1:$G$959,4,FALSE))","v":""},{"$f":"IF(ISBLANK($R39)=TRUE,\"\",VLOOKUP($R39,TAXONOMY!$A$1:$G$959,3,FALSE))","v":""},{"$f":"IF(ISBLANK($R39)=TRUE,\"\",VLOOKUP($R39,TAXONOMY!$A$1:$H$959,2,FALSE))","v":""}]
[null,null,null,null,null,null,null,null,null,null,null,{"$f":"IF(ISBLANK($R40)=TRUE,\"\",VLOOKUP($R40,TAXONOMY!$A$1:$G$959,7,FALSE))","v":""},{"$f":"IF(ISBLANK($R40)=TRUE,\"\",VLOOKUP($R40,TAXONOMY!$A$1:$G$959,6,FALSE))","v":""},{"$f":"IF(ISBLANK($R40)=TRUE,\"\",VLOOKUP($R40,TAXONOMY!$A$1:$G$959,5,FALSE))","v":""},{"$f":"IF(ISBLANK($R40)=TRUE,\"\",VLOOKUP($R40,TAXONOMY!$A$1:$G$959,4,FALSE))","v":""},{"$f":"IF(ISBLANK($R40)=TRUE,\"\",VLOOKUP($R40,TAXONOMY!$A$1:$G$959,3,FALSE))","v":""},{"$f":"IF(ISBLANK($R40)=TRUE,\"\",VLOOKUP($R40,TAXONOMY!$A$1:$H$959,2,FALSE))","v":""}]
[null,null,null,null,null,null,null,null,null,null,null,{"$f":"IF(ISBLANK($R41)=TRUE,\"\",VLOOKUP($R41,TAXONOMY!$A$1:$G$959,7,FALSE))","v":""},{"$f":"IF(ISBLANK($R41)=TRUE,\"\",VLOOKUP($R41,TAXONOMY!$A$1:$G$959,6,FALSE))","v":""},{"$f":"IF(ISBLANK($R41)=TRUE,\"\",VLOOKUP($R41,TAXONOMY!$A$1:$G$959,5,FALSE))","v":""},{"$f":"IF(ISBLANK($R41)=TRUE,\"\",VLOOKUP($R41,TAXONOMY!$A$1:$G$959,4,FALSE))","v":""},{"$f":"IF(ISBLANK($R41)=TRUE,\"\",VLOOKUP($R41,TAXONOMY!$A$1:$G$959,3,FALSE))","v":""},{"$f":"IF(ISBLANK($R41)=TRUE,\"\",VLOOKUP($R41,TAXONOMY!$A$1:$H$959,2,FALSE))","v":""}]
[null,null,null,null,null,null,null,null,null,null,null,{"$f":"IF(ISBLANK($R42)=TRUE,\"\",VLOOKUP($R42,TAXONOMY!$A$1:$G$959,7,FALSE))","v":""},{"$f":"IF(ISBLANK($R42)=TRUE,\"\",VLOOKUP($R42,TAXONOMY!$A$1:$G$959,6,FALSE))","v":""},{"$f":"IF(ISBLANK($R42)=TRUE,\"\",VLOOKUP($R42,TAXONOMY!$A$1:$G$959,5,FALSE))","v":""},{"$f":"IF(ISBLANK($R42)=TRUE,\"\",VLOOKUP($R42,TAXONOMY!$A$1:$G$959,4,FALSE))","v":""},{"$f":"IF(ISBLANK($R42)=TRUE,\"\",VLOOKUP($R42,TAXONOMY!$A$1:$G$959,3,FALSE))","v":""},{"$f":"IF(ISBLANK($R42)=TRUE,\"\",VLOOKUP($R42,TAXONOMY!$A$1:$H$959,2,FALSE))","v":""}]
[null,null,null,null,null,null,null,null,null,null,null,{"$f":"IF(ISBLANK($R43)=TRUE,\"\",VLOOKUP($R43,TAXONOMY!$A$1:$G$959,7,FALSE))","v":""},{"$f":"IF(ISBLANK($R43)=TRUE,\"\",VLOOKUP($R43,TAXONOMY!$A$1:$G$959,6,FALSE))","v":""},{"$f":"IF(ISBLANK($R43)=TRUE,\"\",VLOOKUP($R43,TAXONOMY!$A$1:$G$959,5,FALSE))","v":""},{"$f":"IF(ISBLANK($R43)=TRUE,\"\",VLOOKUP($R43,TAXONOMY!$A$1:$G$959,4,FALSE))","v":""},{"$f":"IF(ISBLANK($R43)=TRUE,\"\",VLOOKUP($R43,TAXONOMY!$A$1:$G$959,3,FALSE))","v":""},{"$f":"IF(ISBLANK($R43)=TRUE,\"\",VLOOKUP($R43,TAXONOMY!$A$1:$H$959,2,FALSE))","v":""}]
[null,null,null,null,null,null,null,null,null,null,null,{"$f":"IF(ISBLANK($R44)=TRUE,\"\",VLOOKUP($R44,TAXONOMY!$A$1:$G$959,7,FALSE))","v":""},{"$f":"IF(ISBLANK($R44)=TRUE,\"\",VLOOKUP($R44,TAXONOMY!$A$1:$G$959,6,FALSE))","v":""},{"$f":"IF(ISBLANK($R44)=TRUE,\"\",VLOOKUP($R44,TAXONOMY!$A$1:$G$959,5,FALSE))","v":""},{"$f":"IF(ISBLANK($R44)=TRUE,\"\",VLOOKUP($R44,TAXONOMY!$A$1:$G$959,4,FALSE))","v":""},{"$f":"IF(ISBLANK($R44)=TRUE,\"\",VLOOKUP($R44,TAXONOMY!$A$1:$G$959,3,FALSE))","v":""},{"$f":"IF(ISBLANK($R44)=TRUE,\"\",VLOOKUP($R44,TAXONOMY!$A$1:$H$959,2,FALSE))","v":""}]
[null,null,null,null,null,null,null,null,null,null,null,{"$f":"IF(ISBLANK($R45)=TRUE,\"\",VLOOKUP($R45,TAXONOMY!$A$1:$G$959,7,FALSE))","v":""},{"$f":"IF(ISBLANK($R45)=TRUE,\"\",VLOOKUP($R45,TAXONOMY!$A$1:$G$959,6,FALSE))","v":""},{"$f":"IF(ISBLANK($R45)=TRUE,\"\",VLOOKUP($R45,TAXONOMY!$A$1:$G$959,5,FALSE))","v":""},{"$f":"IF(ISBLANK($R45)=TRUE,\"\",VLOOKUP($R45,TAXONOMY!$A$1:$G$959,4,FALSE))","v":""},{"$f":"IF(ISBLANK($R45)=TRUE,\"\",VLOOKUP($R45,TAXONOMY!$A$1:$G$959,3,FALSE))","v":""},{"$f":"IF(ISBLANK($R45)=TRUE,\"\",VLOOKUP($R45,TAXONOMY!$A$1:$H$959,2,FALSE))","v":""}]
[null,null,null,null,null,null,null,null,null,null,null,{"$f":"IF(ISBLANK($R46)=TRUE,\"\",VLOOKUP($R46,TAXONOMY!$A$1:$G$959,7,FALSE))","v":""},{"$f":"IF(ISBLANK($R46)=TRUE,\"\",VLOOKUP($R46,TAXONOMY!$A$1:$G$959,6,FALSE))","v":""},{"$f":"IF(ISBLANK($R46)=TRUE,\"\",VLOOKUP($R46,TAXONOMY!$A$1:$G$959,5,FALSE))","v":""},{"$f":"IF(ISBLANK($R46)=TRUE,\"\",VLOOKUP($R46,TAXONOMY!$A$1:$G$959,4,FALSE))","v":""},{"$f":"IF(ISBLANK($R46)=TRUE,\"\",VLOOKUP($R46,TAXONOMY!$A$1:$G$959,3,FALSE))","v":""},{"$f":"IF(ISBLANK($R46)=TRUE,\"\",VLOOKUP($R46,TAXONOMY!$A$1:$H$959,2,FALSE))","v":""}]
[null,null,null,null,null,null,null,null,null,null,null,{"$f":"IF(ISBLANK($R47)=TRUE,\"\",VLOOKUP($R47,TAXONOMY!$A$1:$G$959,7,FALSE))","v":""},{"$f":"IF(ISBLANK($R47)=TRUE,\"\",VLOOKUP($R47,TAXONOMY!$A$1:$G$959,6,FALSE))","v":""},{"$f":"IF(ISBLANK($R47)=TRUE,\"\",VLOOKUP($R47,TAXONOMY!$A$1:$G$959,5,FALSE))","v":""},{"$f":"IF(ISBLANK($R47)=TRUE,\"\",VLOOKUP($R47,TAXONOMY!$A$1:$G$959,4,FALSE))","v":""},{"$f":"IF(ISBLANK($R47)=TRUE,\"\",VLOOKUP($R47,TAXONOMY!$A$1:$G$959,3,FALSE))","v":""},{"$f":"IF(ISBLANK($R47)=TRUE,\"\",VLOOKUP($R47,TAXONOMY!$A$1:$H$959,2,FALSE))","v":""}]
[null,null,null,null,null,null,null,null,null,null,null,{"$f":"IF(ISBLANK($R48)=TRUE,\"\",VLOOKUP($R48,TAXONOMY!$A$1:$G$959,7,FALSE))","v":""},{"$f":"IF(ISBLANK($R48)=TRUE,\"\",VLOOKUP($R48,TAXONOMY!$A$1:$G$959,6,FALSE))","v":""},{"$f":"IF(ISBLANK($R48)=TRUE,\"\",VLOOKUP($R48,TAXONOMY!$A$1:$G$959,5,FALSE))","v":""},{"$f":"IF(ISBLANK($R48)=TRUE,\"\",VLOOKUP($R48,TAXONOMY!$A$1:$G$959,4,FALSE))","v":""},{"$f":"IF(ISBLANK($R48)=TRUE,\"\",VLOOKUP($R48,TAXONOMY!$A$1:$G$959,3,FALSE))","v":""},{"$f":"IF(ISBLANK($R48)=TRUE,\"\",VLOOKUP($R48,TAXONOMY!$A$1:$H$959,2,FALSE))","v":""}]
[null,null,null,null,null,null,null,null,null,null,null,{"$f":"IF(ISBLANK($R49)=TRUE,\"\",VLOOKUP($R49,TAXONOMY!$A$1:$G$959,7,FALSE))","v":""},{"$f":"IF(ISBLANK($R49)=TRUE,\"\",VLOOKUP($R49,TAXONOMY!$A$1:$G$959,6,FALSE))","v":""},{"$f":"IF(ISBLANK($R49)=TRUE,\"\",VLOOKUP($R49,TAXONOMY!$A$1:$G$959,5,FALSE))","v":""},{"$f":"IF(ISBLANK($R49)=TRUE,\"\",VLOOKUP($R49,TAXONOMY!$A$1:$G$959,4,FALSE))","v":""},{"$f":"IF(ISBLANK($R49)=TRUE,\"\",VLOOKUP($R49,TAXONOMY!$A$1:$G$959,3,FALSE))","v":""},{"$f":"IF(ISBLANK($R49)=TRUE,\"\",VLOOKUP($R49,TAXONOMY!$A$1:$H$959,2,FALSE))","v":""}]
[null,null,null,null,null,null,null,null,null,null,null,{"$f":"IF(ISBLANK($R50)=TRUE,\"\",VLOOKUP($R50,TAXONOMY!$A$1:$G$959,7,FALSE))","v":""},{"$f":"IF(ISBLANK($R50)=TRUE,\"\",VLOOKUP($R50,TAXONOMY!$A$1:$G$959,6,FALSE))","v":""},{"$f":"IF(ISBLANK($R50)=TRUE,\"\",VLOOKUP($R50,TAXONOMY!$A$1:$G$959,5,FALSE))","v":""},{"$f":"IF(ISBLANK($R50)=TRUE,\"\",VLOOKUP($R50,TAXONOMY!$A$1:$G$959,4,FALSE))","v":""},{"$f":"IF(ISBLANK($R50)=TRUE,\"\",VLOOKUP($R50,TAXONOMY!$A$1:$G$959,3,FALSE))","v":""},{"$f":"IF(ISBLANK($R50)=TRUE,\"\",VLOOKUP($R50,TAXONOMY!$A$1:$H$959,2,FALSE))","v":""}]
[null,null,null,null,null,null,null,null,null,null,null,{"$f":"IF(ISBLANK($R51)=TRUE,\"\",VLOOKUP($R51,TAXONOMY!$A$1:$G$959,7,FALSE))","v":""},{"$f":"IF(ISBLANK($R51)=TRUE,\"\",VLOOKUP($R51,TAXONOMY!$A$1:$G$959,6,FALSE))","v":""},{"$f":"IF(ISBLANK($R51)=TRUE,\"\",VLOOKUP($R51,TAXONOMY!$A$1:$G$959,5,FALSE))","v":""},{"$f":"IF(ISBLANK($R51)=TRUE,\"\",VLOOKUP($R51,TAXONOMY!$A$1:$G$959,4,FALSE))","v":""},{"$f":"IF(ISBLANK($R51)=TRUE,\"\",VLOOKUP($R51,TAXONOMY!$A$1:$G$959,3,FALSE))","v":""},{"$f":"IF(ISBLANK($R51)=TRUE,\"\",VLOOKUP($R51,TAXONOMY!$A$1:$H$959,2,FALSE))","v":""}]
[null,null,null,null,null,null,null,null,null,null,null,{"$f":"IF(ISBLANK($R52)=TRUE,\"\",VLOOKUP($R52,TAXONOMY!$A$1:$G$959,7,FALSE))","v":""},{"$f":"IF(ISBLANK($R52)=TRUE,\"\",VLOOKUP($R52,TAXONOMY!$A$1:$G$959,6,FALSE))","v":""},{"$f":"IF(ISBLANK($R52)=TRUE,\"\",VLOOKUP($R52,TAXONOMY!$A$1:$G$959,5,FALSE))","v":""},{"$f":"IF(ISBLANK($R52)=TRUE,\"\",VLOOKUP($R52,TAXONOMY!$A$1:$G$959,4,FALSE))","v":""},{"$f":"IF(ISBLANK($R52)=TRUE,\"\",VLOOKUP($R52,TAXONOMY!$A$1:$G$959,3,FALSE))","v":""},{"$f":"IF(ISBLANK($R52)=TRUE,\"\",VLOOKUP($R52,TAXONOMY!$A$1:$H$959,2,FALSE))","v":""}]
[null,null,null,null,null,null,null,null,null,null,null,{"$f":"IF(ISBLANK($R53)=TRUE,\"\",VLOOKUP($R53,TAXONOMY!$A$1:$G$959,7,FALSE))","v":""},{"$f":"IF(ISBLANK($R53)=TRUE,\"\",VLOOKUP($R53,TAXONOMY!$A$1:$G$959,6,FALSE))","v":""},{"$f":"IF(ISBLANK($R53)=TRUE,\"\",VLOOKUP($R53,TAXONOMY!$A$1:$G$959,5,FALSE))","v":""},{"$f":"IF(ISBLANK($R53)=TRUE,\"\",VLOOKUP($R53,TAXONOMY!$A$1:$G$959,4,FALSE))","v":""},{"$f":"IF(ISBLANK($R53)=TRUE,\"\",VLOOKUP($R53,TAXONOMY!$A$1:$G$959,3,FALSE))","v":""},{"$f":"IF(ISBLANK($R53)=TRUE,\"\",VLOOKUP($R53,TAXONOMY!$A$1:$H$959,2,FALSE))","v":""}]
[null,null,null,null,null,null,null,null,null,null,null,{"$f":"IF(ISBLANK($R54)=TRUE,\"\",VLOOKUP($R54,TAXONOMY!$A$1:$G$959,7,FALSE))","v":""},{"$f":"IF(ISBLANK($R54)=TRUE,\"\",VLOOKUP($R54,TAXONOMY!$A$1:$G$959,6,FALSE))","v":""},{"$f":"IF(ISBLANK($R54)=TRUE,\"\",VLOOKUP($R54,TAXONOMY!$A$1:$G$959,5,FALSE))","v":""},{"$f":"IF(ISBLANK($R54)=TRUE,\"\",VLOOKUP($R54,TAXONOMY!$A$1:$G$959,4,FALSE))","v":""},{"$f":"IF(ISBLANK($R54)=TRUE,\"\",VLOOKUP($R54,TAXONOMY!$A$1:$G$959,3,FALSE))","v":""},{"$f":"IF(ISBLANK($R54)=TRUE,\"\",VLOOKUP($R54,TAXONOMY!$A$1:$H$959,2,FALSE))","v":""}]
[null,null,null,null,null,null,null,null,null,null,null,{"$f":"IF(ISBLANK($R55)=TRUE,\"\",VLOOKUP($R55,TAXONOMY!$A$1:$G$959,7,FALSE))","v":""},{"$f":"IF(ISBLANK($R55)=TRUE,\"\",VLOOKUP($R55,TAXONOMY!$A$1:$G$959,6,FALSE))","v":""},{"$f":"IF(ISBLANK($R55)=TRUE,\"\",VLOOKUP($R55,TAXONOMY!$A$1:$G$959,5,FALSE))","v":""},{"$f":"IF(ISBLANK($R55)=TRUE,\"\",VLOOKUP($R55,TAXONOMY!$A$1:$G$959,4,FALSE))","v":""},{"$f":"IF(ISBLANK($R55)=TRUE,\"\",VLOOKUP($R55,TAXONOMY!$A$1:$G$959,3,FALSE))","v":""},{"$f":"IF(ISBLANK($R55)=TRUE,\"\",VLOOKUP($R55,TAXONOMY!$A$1:$H$959,2,FALSE))","v":""}]
[null,null,null,null,null,null,null,null,null,null,null,{"$f":"IF(ISBLANK($R56)=TRUE,\"\",VLOOKUP($R56,TAXONOMY!$A$1:$G$959,7,FALSE))","v":""},{"$f":"IF(ISBLANK($R56)=TRUE,\"\",VLOOKUP($R56,TAXONOMY!$A$1:$G$959,6,FALSE))","v":""},{"$f":"IF(ISBLANK($R56)=TRUE,\"\",VLOOKUP($R56,TAXONOMY!$A$1:$G$959,5,FALSE))","v":""},{"$f":"IF(ISBLANK($R56)=TRUE,\"\",VLOOKUP($R56,TAXONOMY!$A$1:$G$959,4,FALSE))","v":""},{"$f":"IF(ISBLANK($R56)=TRUE,\"\",VLOOKUP($R56,TAXONOMY!$A$1:$G$959,3,FALSE))","v":""},{"$f":"IF(ISBLANK($R56)=TRUE,\"\",VLOOKUP($R56,TAXONOMY!$A$1:$H$959,2,FALSE))","v":""}]
[null,null,null,null,null,null,null,null,null,null,null,{"$f":"IF(ISBLANK($R57)=TRUE,\"\",VLOOKUP($R57,TAXONOMY!$A$1:$G$959,7,FALSE))","v":""},{"$f":"IF(ISBLANK($R57)=TRUE,\"\",VLOOKUP($R57,TAXONOMY!$A$1:$G$959,6,FALSE))","v":""},{"$f":"IF(ISBLANK($R57)=TRUE,\"\",VLOOKUP($R57,TAXONOMY!$A$1:$G$959,5,FALSE))","v":""},{"$f":"IF(ISBLANK($R57)=TRUE,\"\",VLOOKUP($R57,TAXONOMY!$A$1:$G$959,4,FALSE))","v":""},{"$f":"IF(ISBLANK($R57)=TRUE,\"\",VLOOKUP($R57,TAXONOMY!$A$1:$G$959,3,FALSE))","v":""},{"$f":"IF(ISBLANK($R57)=TRUE,\"\",VLOOKUP($R57,TAXONOMY!$A$1:$H$959,2,FALSE))","v":""}]
[null,null,null,null,null,null,null,null,null,null,null,{"$f":"IF(ISBLANK($R58)=TRUE,\"\",VLOOKUP($R58,TAXONOMY!$A$1:$G$959,7,FALSE))","v":""},{"$f":"IF(ISBLANK($R58)=TRUE,\"\",VLOOKUP($R58,TAXONOMY!$A$1:$G$959,6,FALSE))","v":""},{"$f":"IF(ISBLANK($R58)=TRUE,\"\",VLOOKUP($R58,TAXONOMY!$A$1:$G$959,5,FALSE))","v":""},{"$f":"IF(ISBLANK($R58)=TRUE,\"\",VLOOKUP($R58,TAXONOMY!$A$1:$G$959,4,FALSE))","v":""},{"$f":"IF(ISBLANK($R58)=TRUE,\"\",VLOOKUP($R58,TAXONOMY!$A$1:$G$959,3,FALSE))","v":""},{"$f":"IF(ISBLANK($R58)=TRUE,\"\",VLOOKUP($R58,TAXONOMY!$A$1:$H$959,2,FALSE))","v":""}]
[null,null,null,null,null,null,null,null,null,null,null,{"$f":"IF(ISBLANK($R59)=TRUE,\"\",VLOOKUP($R59,TAXONOMY!$A$1:$G$959,7,FALSE))","v":""},{"$f":"IF(ISBLANK($R59)=TRUE,\"\",VLOOKUP($R59,TAXONOMY!$A$1:$G$959,6,FALSE))","v":""},{"$f":"IF(ISBLANK($R59)=TRUE,\"\",VLOOKUP($R59,TAXONOMY!$A$1:$G$959,5,FALSE))","v":""},{"$f":"IF(ISBLANK($R59)=TRUE,\"\",VLOOKUP($R59,TAXONOMY!$A$1:$G$959,4,FALSE))","v":""},{"$f":"IF(ISBLANK($R59)=TRUE,\"\",VLOOKUP($R59,TAXONOMY!$A$1:$G$959,3,FALSE))","v":""},{"$f":"IF(ISBLANK($R59)=TRUE,\"\",VLOOKUP($R59,TAXONOMY!$A$1:$H$959,2,FALSE))","v":""}]
[null,null,null,null,null,null,null,null,null,null,null,{"$f":"IF(ISBLANK($R60)=TRUE,\"\",VLOOKUP($R60,TAXONOMY!$A$1:$G$959,7,FALSE))","v":""},{"$f":"IF(ISBLANK($R60)=TRUE,\"\",VLOOKUP($R60,TAXONOMY!$A$1:$G$959,6,FALSE))","v":""},{"$f":"IF(ISBLANK($R60)=TRUE,\"\",VLOOKUP($R60,TAXONOMY!$A$1:$G$959,5,FALSE))","v":""},{"$f":"IF(ISBLANK($R60)=TRUE,\"\",VLOOKUP($R60,TAXONOMY!$A$1:$G$959,4,FALSE))","v":""},{"$f":"IF(ISBLANK($R60)=TRUE,\"\",VLOOKUP($R60,TAXONOMY!$A$1:$G$959,3,FALSE))","v":""},{"$f":"IF(ISBLANK($R60)=TRUE,\"\",VLOOKUP($R60,TAXONOMY!$A$1:$H$959,2,FALSE))","v":""}]
[null,null,null,null,null,null,null,null,null,null,null,{"$f":"IF(ISBLANK($R61)=TRUE,\"\",VLOOKUP($R61,TAXONOMY!$A$1:$G$959,7,FALSE))","v":""},{"$f":"IF(ISBLANK($R61)=TRUE,\"\",VLOOKUP($R61,TAXONOMY!$A$1:$G$959,6,FALSE))","v":""},{"$f":"IF(ISBLANK($R61)=TRUE,\"\",VLOOKUP($R61,TAXONOMY!$A$1:$G$959,5,FALSE))","v":""},{"$f":"IF(ISBLANK($R61)=TRUE,\"\",VLOOKUP($R61,TAXONOMY!$A$1:$G$959,4,FALSE))","v":""},{"$f":"IF(ISBLANK($R61)=TRUE,\"\",VLOOKUP($R61,TAXONOMY!$A$1:$G$959,3,FALSE))","v":""},{"$f":"IF(ISBLANK($R61)=TRUE,\"\",VLOOKUP($R61,TAXONOMY!$A$1:$H$959,2,FALSE))","v":""}]
[null,null,null,null,null,null,null,null,null,null,null,{"$f":"IF(ISBLANK($R62)=TRUE,\"\",VLOOKUP($R62,TAXONOMY!$A$1:$G$959,7,FALSE))","v":""},{"$f":"IF(ISBLANK($R62)=TRUE,\"\",VLOOKUP($R62,TAXONOMY!$A$1:$G$959,6,FALSE))","v":""},{"$f":"IF(ISBLANK($R62)=TRUE,\"\",VLOOKUP($R62,TAXONOMY!$A$1:$G$959,5,FALSE))","v":""},{"$f":"IF(ISBLANK($R62)=TRUE,\"\",VLOOKUP($R62,TAXONOMY!$A$1:$G$959,4,FALSE))","v":""},{"$f":"IF(ISBLANK($R62)=TRUE,\"\",VLOOKUP($R62,TAXONOMY!$A$1:$G$959,3,FALSE))","v":""},{"$f":"IF(ISBLANK($R62)=TRUE,\"\",VLOOKUP($R62,TAXONOMY!$A$1:$H$959,2,FALSE))","v":""}]
[null,null,null,null,null,null,null,null,null,null,null,{"$f":"IF(ISBLANK($R63)=TRUE,\"\",VLOOKUP($R63,TAXONOMY!$A$1:$G$959,7,FALSE))","v":""},{"$f":"IF(ISBLANK($R63)=TRUE,\"\",VLOOKUP($R63,TAXONOMY!$A$1:$G$959,6,FALSE))","v":""},{"$f":"IF(ISBLANK($R63)=TRUE,\"\",VLOOKUP($R63,TAXONOMY!$A$1:$G$959,5,FALSE))","v":""},{"$f":"IF(ISBLANK($R63)=TRUE,\"\",VLOOKUP($R63,TAXONOMY!$A$1:$G$959,4,FALSE))","v":""},{"$f":"IF(ISBLANK($R63)=TRUE,\"\",VLOOKUP($R63,TAXONOMY!$A$1:$G$959,3,FALSE))","v":""},{"$f":"IF(ISBLANK($R63)=TRUE,\"\",VLOOKUP($R63,TAXONOMY!$A$1:$H$959,2,FALSE))","v":""}]
[null,null,null,null,null,null,null,null,null,null,null,{"$f":"IF(ISBLANK($R64)=TRUE,\"\",VLOOKUP($R64,TAXONOMY!$A$1:$G$959,7,FALSE))","v":""},{"$f":"IF(ISBLANK($R64)=TRUE,\"\",VLOOKUP($R64,TAXONOMY!$A$1:$G$959,6,FALSE))","v":""},{"$f":"IF(ISBLANK($R64)=TRUE,\"\",VLOOKUP($R64,TAXONOMY!$A$1:$G$959,5,FALSE))","v":""},{"$f":"IF(ISBLANK($R64)=TRUE,\"\",VLOOKUP($R64,TAXONOMY!$A$1:$G$959,4,FALSE))","v":""},{"$f":"IF(ISBLANK($R64)=TRUE,\"\",VLOOKUP($R64,TAXONOMY!$A$1:$G$959,3,FALSE))","v":""},{"$f":"IF(ISBLANK($R64)=TRUE,\"\",VLOOKUP($R64,TAXONOMY!$A$1:$H$959,2,FALSE))","v":""}]
[null,null,null,null,null,null,null,null,null,null,null,{"$f":"IF(ISBLANK($R65)=TRUE,\"\",VLOOKUP($R65,TAXONOMY!$A$1:$G$959,7,FALSE))","v":""},{"$f":"IF(ISBLANK($R65)=TRUE,\"\",VLOOKUP($R65,TAXONOMY!$A$1:$G$959,6,FALSE))","v":""},{"$f":"IF(ISBLANK($R65)=TRUE,\"\",VLOOKUP($R65,TAXONOMY!$A$1:$G$959,5,FALSE))","v":""},{"$f":"IF(ISBLANK($R65)=TRUE,\"\",VLOOKUP($R65,TAXONOMY!$A$1:$G$959,4,FALSE))","v":""},{"$f":"IF(ISBLANK($R65)=TRUE,\"\",VLOOKUP($R65,TAXONOMY!$A$1:$G$959,3,FALSE))","v":""},{"$f":"IF(ISBLANK($R65)=TRUE,\"\",VLOOKUP($R65,TAXONOMY!$A$1:$H$959,2,FALSE))","v":""}]
[null,null,null,null,null,null,null,null,null,null,null,{"$f":"IF(ISBLANK($R66)=TRUE,\"\",VLOOKUP($R66,TAXONOMY!$A$1:$G$959,7,FALSE))","v":""},{"$f":"IF(ISBLANK($R66)=TRUE,\"\",VLOOKUP($R66,TAXONOMY!$A$1:$G$959,6,FALSE))","v":""},{"$f":"IF(ISBLANK($R66)=TRUE,\"\",VLOOKUP($R66,TAXONOMY!$A$1:$G$959,5,FALSE))","v":""},{"$f":"IF(ISBLANK($R66)=TRUE,\"\",VLOOKUP($R66,TAXONOMY!$A$1:$G$959,4,FALSE))","v":""},{"$f":"IF(ISBLANK($R66)=TRUE,\"\",VLOOKUP($R66,TAXONOMY!$A$1:$G$959,3,FALSE))","v":""},{"$f":"IF(ISBLANK($R66)=TRUE,\"\",VLOOKUP($R66,TAXONOMY!$A$1:$H$959,2,FALSE))","v":""}]
[null,null,null,null,null,null,null,null,null,null,null,{"$f":"IF(ISBLANK($R67)=TRUE,\"\",VLOOKUP($R67,TAXONOMY!$A$1:$G$959,7,FALSE))","v":""},{"$f":"IF(ISBLANK($R67)=TRUE,\"\",VLOOKUP($R67,TAXONOMY!$A$1:$G$959,6,FALSE))","v":""},{"$f":"IF(ISBLANK($R67)=TRUE,\"\",VLOOKUP($R67,TAXONOMY!$A$1:$G$959,5,FALSE))","v":""},{"$f":"IF(ISBLANK($R67)=TRUE,\"\",VLOOKUP($R67,TAXONOMY!$A$1:$G$959,4,FALSE))","v":""},{"$f":"IF(ISBLANK($R67)=TRUE,\"\",VLOOKUP($R67,TAXONOMY!$A$1:$G$959,3,FALSE))","v":""},{"$f":"IF(ISBLANK($R67)=TRUE,\"\",VLOOKUP($R67,TAXONOMY!$A$1:$H$959,2,FALSE))","v":""}]
[null,null,null,null,null,null,null,null,null,null,null,{"$f":"IF(ISBLANK($R68)=TRUE,\"\",VLOOKUP($R68,TAXONOMY!$A$1:$G$959,7,FALSE))","v":""},{"$f":"IF(ISBLANK($R68)=TRUE,\"\",VLOOKUP($R68,TAXONOMY!$A$1:$G$959,6,FALSE))","v":""},{"$f":"IF(ISBLANK($R68)=TRUE,\"\",VLOOKUP($R68,TAXONOMY!$A$1:$G$959,5,FALSE))","v":""},{"$f":"IF(ISBLANK($R68)=TRUE,\"\",VLOOKUP($R68,TAXONOMY!$A$1:$G$959,4,FALSE))","v":""},{"$f":"IF(ISBLANK($R68)=TRUE,\"\",VLOOKUP($R68,TAXONOMY!$A$1:$G$959,3,FALSE))","v":""},{"$f":"IF(ISBLANK($R68)=TRUE,\"\",VLOOKUP($R68,TAXONOMY!$A$1:$H$959,2,FALSE))","v":""}]
[null,null,null,null,null,null,null,null,null,null,null,{"$f":"IF(ISBLANK($R69)=TRUE,\"\",VLOOKUP($R69,TAXONOMY!$A$1:$G$959,7,FALSE))","v":""},{"$f":"IF(ISBLANK($R69)=TRUE,\"\",VLOOKUP($R69,TAXONOMY!$A$1:$G$959,6,FALSE))","v":""},{"$f":"IF(ISBLANK($R69)=TRUE,\"\",VLOOKUP($R69,TAXONOMY!$A$1:$G$959,5,FALSE))","v":""},{"$f":"IF(ISBLANK($R69)=TRUE,\"\",VLOOKUP($R69,TAXONOMY!$A$1:$G$959,4,FALSE))","v":""},{"$f":"IF(ISBLANK($R69)=TRUE,\"\",VLOOKUP($R69,TAXONOMY!$A$1:$G$959,3,FALSE))","v":""},{"$f":"IF(ISBLANK($R69)=TRUE,\"\",VLOOKUP($R69,TAXONOMY!$A$1:$H$959,2,FALSE))","v":""}]
[null,null,null,null,null,null,null,null,null,null,null,{"$f":"IF(ISBLANK($R70)=TRUE,\"\",VLOOKUP($R70,TAXONOMY!$A$1:$G$959,7,FALSE))","v":""},{"$f":"IF(ISBLANK($R70)=TRUE,\"\",VLOOKUP($R70,TAXONOMY!$A$1:$G$959,6,FALSE))","v":""},{"$f":"IF(ISBLANK($R70)=TRUE,\"\",VLOOKUP($R70,TAXONOMY!$A$1:$G$959,5,FALSE))","v":""},{"$f":"IF(ISBLANK($R70)=TRUE,\"\",VLOOKUP($R70,TAXONOMY!$A$1:$G$959,4,FALSE))","v":""},{"$f":"IF(ISBLANK($R70)=TRUE,\"\",VLOOKUP($R70,TAXONOMY!$A$1:$G$959,3,FALSE))","v":""},{"$f":"IF(ISBLANK($R70)=TRUE,\"\",VLOOKUP($R70,TAXONOMY!$A$1:$H$959,2,FALSE))","v":""}]
[null,null,null,null,null,null,null,null,null,null,null,{"$f":"IF(ISBLANK($R71)=TRUE,\"\",VLOOKUP($R71,TAXONOMY!$A$1:$G$959,7,FALSE))","v":""},{"$f":"IF(ISBLANK($R71)=TRUE,\"\",VLOOKUP($R71,TAXONOMY!$A$1:$G$959,6,FALSE))","v":""},{"$f":"IF(ISBLANK($R71)=TRUE,\"\",VLOOKUP($R71,TAXONOMY!$A$1:$G$959,5,FALSE))","v":""},{"$f":"IF(ISBLANK($R71)=TRUE,\"\",VLOOKUP($R71,TAXONOMY!$A$1:$G$959,4,FALSE))","v":""},{"$f":"IF(ISBLANK($R71)=TRUE,\"\",VLOOKUP($R71,TAXONOMY!$A$1:$G$959,3,FALSE))","v":""},{"$f":"IF(ISBLANK($R71)=TRUE,\"\",VLOOKUP($R71,TAXONOMY!$A$1:$H$959,2,FALSE))","v":""}]
[null,null,null,null,null,null,null,null,null,null,null,{"$f":"IF(ISBLANK($R72)=TRUE,\"\",VLOOKUP($R72,TAXONOMY!$A$1:$G$959,7,FALSE))","v":""},{"$f":"IF(ISBLANK($R72)=TRUE,\"\",VLOOKUP($R72,TAXONOMY!$A$1:$G$959,6,FALSE))","v":""},{"$f":"IF(ISBLANK($R72)=TRUE,\"\",VLOOKUP($R72,TAXONOMY!$A$1:$G$959,5,FALSE))","v":""},{"$f":"IF(ISBLANK($R72)=TRUE,\"\",VLOOKUP($R72,TAXONOMY!$A$1:$G$959,4,FALSE))","v":""},{"$f":"IF(ISBLANK($R72)=TRUE,\"\",VLOOKUP($R72,TAXONOMY!$A$1:$G$959,3,FALSE))","v":""},{"$f":"IF(ISBLANK($R72)=TRUE,\"\",VLOOKUP($R72,TAXONOMY!$A$1:$H$959,2,FALSE))","v":""}]
[null,null,null,null,null,null,null,null,null,null,null,{"$f":"IF(ISBLANK($R73)=TRUE,\"\",VLOOKUP($R73,TAXONOMY!$A$1:$G$959,7,FALSE))","v":""},{"$f":"IF(ISBLANK($R73)=TRUE,\"\",VLOOKUP($R73,TAXONOMY!$A$1:$G$959,6,FALSE))","v":""},{"$f":"IF(ISBLANK($R73)=TRUE,\"\",VLOOKUP($R73,TAXONOMY!$A$1:$G$959,5,FALSE))","v":""},{"$f":"IF(ISBLANK($R73)=TRUE,\"\",VLOOKUP($R73,TAXONOMY!$A$1:$G$959,4,FALSE))","v":""},{"$f":"IF(ISBLANK($R73)=TRUE,\"\",VLOOKUP($R73,TAXONOMY!$A$1:$G$959,3,FALSE))","v":""},{"$f":"IF(ISBLANK($R73)=TRUE,\"\",VLOOKUP($R73,TAXONOMY!$A$1:$H$959,2,FALSE))","v":""}]
[null,null,null,null,null,null,null,null,null,null,null,{"$f":"IF(ISBLANK($R74)=TRUE,\"\",VLOOKUP($R74,TAXONOMY!$A$1:$G$959,7,FALSE))","v":""},{"$f":"IF(ISBLANK($R74)=TRUE,\"\",VLOOKUP($R74,TAXONOMY!$A$1:$G$959,6,FALSE))","v":""},{"$f":"IF(ISBLANK($R74)=TRUE,\"\",VLOOKUP($R74,TAXONOMY!$A$1:$G$959,5,FALSE))","v":""},{"$f":"IF(ISBLANK($R74)=TRUE,\"\",VLOOKUP($R74,TAXONOMY!$A$1:$G$959,4,FALSE))","v":""},{"$f":"IF(ISBLANK($R74)=TRUE,\"\",VLOOKUP($R74,TAXONOMY!$A$1:$G$959,3,FALSE))","v":""},{"$f":"IF(ISBLANK($R74)=TRUE,\"\",VLOOKUP($R74,TAXONOMY!$A$1:$H$959,2,FALSE))","v":""}]
[null,null,null,null,null,null,null,null,null,null,null,{"$f":"IF(ISBLANK($R75)=TRUE,\"\",VLOOKUP($R75,TAXONOMY!$A$1:$G$959,7,FALSE))","v":""},{"$f":"IF(ISBLANK($R75)=TRUE,\"\",VLOOKUP($R75,TAXONOMY!$A$1:$G$959,6,FALSE))","v":""},{"$f":"IF(ISBLANK($R75)=TRUE,\"\",VLOOKUP($R75,TAXONOMY!$A$1:$G$959,5,FALSE))","v":""},{"$f":"IF(ISBLANK($R75)=TRUE,\"\",VLOOKUP($R75,TAXONOMY!$A$1:$G$959,4,FALSE))","v":""},{"$f":"IF(ISBLANK($R75)=TRUE,\"\",VLOOKUP($R75,TAXONOMY!$A$1:$G$959,3,FALSE))","v":""},{"$f":"IF(ISBLANK($R75)=TRUE,\"\",VLOOKUP($R75,TAXONOMY!$A$1:$H$959,2,FALSE))","v":""}]
[null,null,null,null,null,null,null,null,null,null,null,{"$f":"IF(ISBLANK($R76)=TRUE,\"\",VLOOKUP($R76,TAXONOMY!$A$1:$G$959,7,FALSE))","v":""},{"$f":"IF(ISBLANK($R76)=TRUE,\"\",VLOOKUP($R76,TAXONOMY!$A$1:$G$959,6,FALSE))","v":""},{"$f":"IF(ISBLANK($R76)=TRUE,\"\",VLOOKUP($R76,TAXONOMY!$A$1:$G$959,5,FALSE))","v":""},{"$f":"IF(ISBLANK($R76)=TRUE,\"\",VLOOKUP($R76,TAXONOMY!$A$1:$G$959,4,FALSE))","v":""},{"$f":"IF(ISBLANK($R76)=TRUE,\"\",VLOOKUP($R76,TAXONOMY!$A$1:$G$959,3,FALSE))","v":""},{"$f":"IF(ISBLANK($R76)=TRUE,\"\",VLOOKUP($R76,TAXONOMY!$A$1:$H$959,2,FALSE))","v":""}]
[null,null,null,null,null,null,null,null,null,null,null,{"$f":"IF(ISBLANK($R77)=TRUE,\"\",VLOOKUP($R77,TAXONOMY!$A$1:$G$959,7,FALSE))","v":""},{"$f":"IF(ISBLANK($R77)=TRUE,\"\",VLOOKUP($R77,TAXONOMY!$A$1:$G$959,6,FALSE))","v":""},{"$f":"IF(ISBLANK($R77)=TRUE,\"\",VLOOKUP($R77,TAXONOMY!$A$1:$G$959,5,FALSE))","v":""},{"$f":"IF(ISBLANK($R77)=TRUE,\"\",VLOOKUP($R77,TAXONOMY!$A$1:$G$959,4,FALSE))","v":""},{"$f":"IF(ISBLANK($R77)=TRUE,\"\",VLOOKUP($R77,TAXONOMY!$A$1:$G$959,3,FALSE))","v":""},{"$f":"IF(ISBLANK($R77)=TRUE,\"\",VLOOKUP($R77,TAXONOMY!$A$1:$H$959,2,FALSE))","v":""}]
[null,null,null,null,null,null,null,null,null,null,null,{"$f":"IF(ISBLANK($R78)=TRUE,\"\",VLOOKUP($R78,TAXONOMY!$A$1:$G$959,7,FALSE))","v":""},{"$f":"IF(ISBLANK($R78)=TRUE,\"\",VLOOKUP($R78,TAXONOMY!$A$1:$G$959,6,FALSE))","v":""},{"$f":"IF(ISBLANK($R78)=TRUE,\"\",VLOOKUP($R78,TAXONOMY!$A$1:$G$959,5,FALSE))","v":""},{"$f":"IF(ISBLANK($R78)=TRUE,\"\",VLOOKUP($R78,TAXONOMY!$A$1:$G$959,4,FALSE))","v":""},{"$f":"IF(ISBLANK($R78)=TRUE,\"\",VLOOKUP($R78,TAXONOMY!$A$1:$G$959,3,FALSE))","v":""},{"$f":"IF(ISBLANK($R78)=TRUE,\"\",VLOOKUP($R78,TAXONOMY!$A$1:$H$959,2,FALSE))","v":""}]
[null,null,null,null,null,null,null,null,null,null,null,{"$f":"IF(ISBLANK($R79)=TRUE,\"\",VLOOKUP($R79,TAXONOMY!$A$1:$G$959,7,FALSE))","v":""},{"$f":"IF(ISBLANK($R79)=TRUE,\"\",VLOOKUP($R79,TAXONOMY!$A$1:$G$959,6,FALSE))","v":""},{"$f":"IF(ISBLANK($R79)=TRUE,\"\",VLOOKUP($R79,TAXONOMY!$A$1:$G$959,5,FALSE))","v":""},{"$f":"IF(ISBLANK($R79)=TRUE,\"\",VLOOKUP($R79,TAXONOMY!$A$1:$G$959,4,FALSE))","v":""},{"$f":"IF(ISBLANK($R79)=TRUE,\"\",VLOOKUP($R79,TAXONOMY!$A$1:$G$959,3,FALSE))","v":""},{"$f":"IF(ISBLANK($R79)=TRUE,\"\",VLOOKUP($R79,TAXONOMY!$A$1:$H$959,2,FALSE))","v":""}]
[null,null,null,null,null,null,null,null,null,null,null,{"$f":"IF(ISBLANK($R80)=TRUE,\"\",VLOOKUP($R80,TAXONOMY!$A$1:$G$959,7,FALSE))","v":""},{"$f":"IF(ISBLANK($R80)=TRUE,\"\",VLOOKUP($R80,TAXONOMY!$A$1:$G$959,6,FALSE))","v":""},{"$f":"IF(ISBLANK($R80)=TRUE,\"\",VLOOKUP($R80,TAXONOMY!$A$1:$G$959,5,FALSE))","v":""},{"$f":"IF(ISBLANK($R80)=TRUE,\"\",VLOOKUP($R80,TAXONOMY!$A$1:$G$959,4,FALSE))","v":""},{"$f":"IF(ISBLANK($R80)=TRUE,\"\",VLOOKUP($R80,TAXONOMY!$A$1:$G$959,3,FALSE))","v":""},{"$f":"IF(ISBLANK($R80)=TRUE,\"\",VLOOKUP($R80,TAXONOMY!$A$1:$H$959,2,FALSE))","v":""}]
[null,null,null,null,null,null,null,null,null,null,null,{"$f":"IF(ISBLANK($R81)=TRUE,\"\",VLOOKUP($R81,TAXONOMY!$A$1:$G$959,7,FALSE))","v":""},{"$f":"IF(ISBLANK($R81)=TRUE,\"\",VLOOKUP($R81,TAXONOMY!$A$1:$G$959,6,FALSE))","v":""},{"$f":"IF(ISBLANK($R81)=TRUE,\"\",VLOOKUP($R81,TAXONOMY!$A$1:$G$959,5,FALSE))","v":""},{"$f":"IF(ISBLANK($R81)=TRUE,\"\",VLOOKUP($R81,TAXONOMY!$A$1:$G$959,4,FALSE))","v":""},{"$f":"IF(ISBLANK($R81)=TRUE,\"\",VLOOKUP($R81,TAXONOMY!$A$1:$G$959,3,FALSE))","v":""},{"$f":"IF(ISBLANK($R81)=TRUE,\"\",VLOOKUP($R81,TAXONOMY!$A$1:$H$959,2,FALSE))","v":""}]
[null,null,null,null,null,null,null,null,null,null,null,{"$f":"IF(ISBLANK($R82)=TRUE,\"\",VLOOKUP($R82,TAXONOMY!$A$1:$G$959,7,FALSE))","v":""},{"$f":"IF(ISBLANK($R82)=TRUE,\"\",VLOOKUP($R82,TAXONOMY!$A$1:$G$959,6,FALSE))","v":""},{"$f":"IF(ISBLANK($R82)=TRUE,\"\",VLOOKUP($R82,TAXONOMY!$A$1:$G$959,5,FALSE))","v":""},{"$f":"IF(ISBLANK($R82)=TRUE,\"\",VLOOKUP($R82,TAXONOMY!$A$1:$G$959,4,FALSE))","v":""},{"$f":"IF(ISBLANK($R82)=TRUE,\"\",VLOOKUP($R82,TAXONOMY!$A$1:$G$959,3,FALSE))","v":""},{"$f":"IF(ISBLANK($R82)=TRUE,\"\",VLOOKUP($R82,TAXONOMY!$A$1:$H$959,2,FALSE))","v":""}]
[null,null,null,null,null,null,null,null,null,null,null,{"$f":"IF(ISBLANK($R83)=TRUE,\"\",VLOOKUP($R83,TAXONOMY!$A$1:$G$959,7,FALSE))","v":""},{"$f":"IF(ISBLANK($R83)=TRUE,\"\",VLOOKUP($R83,TAXONOMY!$A$1:$G$959,6,FALSE))","v":""},{"$f":"IF(ISBLANK($R83)=TRUE,\"\",VLOOKUP($R83,TAXONOMY!$A$1:$G$959,5,FALSE))","v":""},{"$f":"IF(ISBLANK($R83)=TRUE,\"\",VLOOKUP($R83,TAXONOMY!$A$1:$G$959,4,FALSE))","v":""},{"$f":"IF(ISBLANK($R83)=TRUE,\"\",VLOOKUP($R83,TAXONOMY!$A$1:$G$959,3,FALSE))","v":""},{"$f":"IF(ISBLANK($R83)=TRUE,\"\",VLOOKUP($R83,TAXONOMY!$A$1:$H$959,2,FALSE))","v":""}]
[null,null,null,null,null,null,null,null,null,null,null,{"$f":"IF(ISBLANK($R84)=TRUE,\"\",VLOOKUP($R84,TAXONOMY!$A$1:$G$959,7,FALSE))","v":""},{"$f":"IF(ISBLANK($R84)=TRUE,\"\",VLOOKUP($R84,TAXONOMY!$A$1:$G$959,6,FALSE))","v":""},{"$f":"IF(ISBLANK($R84)=TRUE,\"\",VLOOKUP($R84,TAXONOMY!$A$1:$G$959,5,FALSE))","v":""},{"$f":"IF(ISBLANK($R84)=TRUE,\"\",VLOOKUP($R84,TAXONOMY!$A$1:$G$959,4,FALSE))","v":""},{"$f":"IF(ISBLANK($R84)=TRUE,\"\",VLOOKUP($R84,TAXONOMY!$A$1:$G$959,3,FALSE))","v":""},{"$f":"IF(ISBLANK($R84)=TRUE,\"\",VLOOKUP($R84,TAXONOMY!$A$1:$H$959,2,FALSE))","v":""}]
[null,null,null,null,null,null,null,null,null,null,null,{"$f":"IF(ISBLANK($R85)=TRUE,\"\",VLOOKUP($R85,TAXONOMY!$A$1:$G$959,7,FALSE))","v":""},{"$f":"IF(ISBLANK($R85)=TRUE,\"\",VLOOKUP($R85,TAXONOMY!$A$1:$G$959,6,FALSE))","v":""},{"$f":"IF(ISBLANK($R85)=TRUE,\"\",VLOOKUP($R85,TAXONOMY!$A$1:$G$959,5,FALSE))","v":""},{"$f":"IF(ISBLANK($R85)=TRUE,\"\",VLOOKUP($R85,TAXONOMY!$A$1:$G$959,4,FALSE))","v":""},{"$f":"IF(ISBLANK($R85)=TRUE,\"\",VLOOKUP($R85,TAXONOMY!$A$1:$G$959,3,FALSE))","v":""},{"$f":"IF(ISBLANK($R85)=TRUE,\"\",VLOOKUP($R85,TAXONOMY!$A$1:$H$959,2,FALSE))","v":""}]
[null,null,null,null,null,null,null,null,null,null,null,{"$f":"IF(ISBLANK($R86)=TRUE,\"\",VLOOKUP($R86,TAXONOMY!$A$1:$G$959,7,FALSE))","v":""},{"$f":"IF(ISBLANK($R86)=TRUE,\"\",VLOOKUP($R86,TAXONOMY!$A$1:$G$959,6,FALSE))","v":""},{"$f":"IF(ISBLANK($R86)=TRUE,\"\",VLOOKUP($R86,TAXONOMY!$A$1:$G$959,5,FALSE))","v":""},{"$f":"IF(ISBLANK($R86)=TRUE,\"\",VLOOKUP($R86,TAXONOMY!$A$1:$G$959,4,FALSE))","v":""},{"$f":"IF(ISBLANK($R86)=TRUE,\"\",VLOOKUP($R86,TAXONOMY!$A$1:$G$959,3,FALSE))","v":""},{"$f":"IF(ISBLANK($R86)=TRUE,\"\",VLOOKUP($R86,TAXONOMY!$A$1:$H$959,2,FALSE))","v":""}]
[null,null,null,null,null,null,null,null,null,null,null,{"$f":"IF(ISBLANK($R87)=TRUE,\"\",VLOOKUP($R87,TAXONOMY!$A$1:$G$959,7,FALSE))","v":""},{"$f":"IF(ISBLANK($R87)=TRUE,\"\",VLOOKUP($R87,TAXONOMY!$A$1:$G$959,6,FALSE))","v":""},{"$f":"IF(ISBLANK($R87)=TRUE,\"\",VLOOKUP($R87,TAXONOMY!$A$1:$G$959,5,FALSE))","v":""},{"$f":"IF(ISBLANK($R87)=TRUE,\"\",VLOOKUP($R87,TAXONOMY!$A$1:$G$959,4,FALSE))","v":""},{"$f":"IF(ISBLANK($R87)=TRUE,\"\",VLOOKUP($R87,TAXONOMY!$A$1:$G$959,3,FALSE))","v":""},{"$f":"IF(ISBLANK($R87)=TRUE,\"\",VLOOKUP($R87,TAXONOMY!$A$1:$H$959,2,FALSE))","v":""}]
[null,null,null,null,null,null,null,null,null,null,null,{"$f":"IF(ISBLANK($R88)=TRUE,\"\",VLOOKUP($R88,TAXONOMY!$A$1:$G$959,7,FALSE))","v":""},{"$f":"IF(ISBLANK($R88)=TRUE,\"\",VLOOKUP($R88,TAXONOMY!$A$1:$G$959,6,FALSE))","v":""},{"$f":"IF(ISBLANK($R88)=TRUE,\"\",VLOOKUP($R88,TAXONOMY!$A$1:$G$959,5,FALSE))","v":""},{"$f":"IF(ISBLANK($R88)=TRUE,\"\",VLOOKUP($R88,TAXONOMY!$A$1:$G$959,4,FALSE))","v":""},{"$f":"IF(ISBLANK($R88)=TRUE,\"\",VLOOKUP($R88,TAXONOMY!$A$1:$G$959,3,FALSE))","v":""},{"$f":"IF(ISBLANK($R88)=TRUE,\"\",VLOOKUP($R88,TAXONOMY!$A$1:$H$959,2,FALSE))","v":""}]
[null,null,null,null,null,null,null,null,null,null,null,{"$f":"IF(ISBLANK($R89)=TRUE,\"\",VLOOKUP($R89,TAXONOMY!$A$1:$G$959,7,FALSE))","v":""},{"$f":"IF(ISBLANK($R89)=TRUE,\"\",VLOOKUP($R89,TAXONOMY!$A$1:$G$959,6,FALSE))","v":""},{"$f":"IF(ISBLANK($R89)=TRUE,\"\",VLOOKUP($R89,TAXONOMY!$A$1:$G$959,5,FALSE))","v":""},{"$f":"IF(ISBLANK($R89)=TRUE,\"\",VLOOKUP($R89,TAXONOMY!$A$1:$G$959,4,FALSE))","v":""},{"$f":"IF(ISBLANK($R89)=TRUE,\"\",VLOOKUP($R89,TAXONOMY!$A$1:$G$959,3,FALSE))","v":""},{"$f":"IF(ISBLANK($R89)=TRUE,\"\",VLOOKUP($R89,TAXONOMY!$A$1:$H$959,2,FALSE))","v":""}]
[null,null,null,null,null,null,null,null,null,null,null,{"$f":"IF(ISBLANK($R90)=TRUE,\"\",VLOOKUP($R90,TAXONOMY!$A$1:$G$959,7,FALSE))","v":""},{"$f":"IF(ISBLANK($R90)=TRUE,\"\",VLOOKUP($R90,TAXONOMY!$A$1:$G$959,6,FALSE))","v":""},{"$f":"IF(ISBLANK($R90)=TRUE,\"\",VLOOKUP($R90,TAXONOMY!$A$1:$G$959,5,FALSE))","v":""},{"$f":"IF(ISBLANK($R90)=TRUE,\"\",VLOOKUP($R90,TAXONOMY!$A$1:$G$959,4,FALSE))","v":""},{"$f":"IF(ISBLANK($R90)=TRUE,\"\",VLOOKUP($R90,TAXONOMY!$A$1:$G$959,3,FALSE))","v":""},{"$f":"IF(ISBLANK($R90)=TRUE,\"\",VLOOKUP($R90,TAXONOMY!$A$1:$H$959,2,FALSE))","v":""}]
[null,null,null,null,null,null,null,null,null,null,null,{"$f":"IF(ISBLANK($R91)=TRUE,\"\",VLOOKUP($R91,TAXONOMY!$A$1:$G$959,7,FALSE))","v":""},{"$f":"IF(ISBLANK($R91)=TRUE,\"\",VLOOKUP($R91,TAXONOMY!$A$1:$G$959,6,FALSE))","v":""},{"$f":"IF(ISBLANK($R91)=TRUE,\"\",VLOOKUP($R91,TAXONOMY!$A$1:$G$959,5,FALSE))","v":""},{"$f":"IF(ISBLANK($R91)=TRUE,\"\",VLOOKUP($R91,TAXONOMY!$A$1:$G$959,4,FALSE))","v":""},{"$f":"IF(ISBLANK($R91)=TRUE,\"\",VLOOKUP($R91,TAXONOMY!$A$1:$G$959,3,FALSE))","v":""},{"$f":"IF(ISBLANK($R91)=TRUE,\"\",VLOOKUP($R91,TAXONOMY!$A$1:$H$959,2,FALSE))","v":""}]
[null,null,null,null,null,null,null,null,null,null,null,{"$f":"IF(ISBLANK($R92)=TRUE,\"\",VLOOKUP($R92,TAXONOMY!$A$1:$G$959,7,FALSE))","v":""},{"$f":"IF(ISBLANK($R92)=TRUE,\"\",VLOOKUP($R92,TAXONOMY!$A$1:$G$959,6,FALSE))","v":""},{"$f":"IF(ISBLANK($R92)=TRUE,\"\",VLOOKUP($R92,TAXONOMY!$A$1:$G$959,5,FALSE))","v":""},{"$f":"IF(ISBLANK($R92)=TRUE,\"\",VLOOKUP($R92,TAXONOMY!$A$1:$G$959,4,FALSE))","v":""},{"$f":"IF(ISBLANK($R92)=TRUE,\"\",VLOOKUP($R92,TAXONOMY!$A$1:$G$959,3,FALSE))","v":""},{"$f":"IF(ISBLANK($R92)=TRUE,\"\",VLOOKUP($R92,TAXONOMY!$A$1:$H$959,2,FALSE))","v":""}]
[null,null,null,null,null,null,null,null,null,null,null,{"$f":"IF(ISBLANK($R93)=TRUE,\"\",VLOOKUP($R93,TAXONOMY!$A$1:$G$959,7,FALSE))","v":""},{"$f":"IF(ISBLANK($R93)=TRUE,\"\",VLOOKUP($R93,TAXONOMY!$A$1:$G$959,6,FALSE))","v":""},{"$f":"IF(ISBLANK($R93)=TRUE,\"\",VLOOKUP($R93,TAXONOMY!$A$1:$G$959,5,FALSE))","v":""},{"$f":"IF(ISBLANK($R93)=TRUE,\"\",VLOOKUP($R93,TAXONOMY!$A$1:$G$959,4,FALSE))","v":""},{"$f":"IF(ISBLANK($R93)=TRUE,\"\",VLOOKUP($R93,TAXONOMY!$A$1:$G$959,3,FALSE))","v":""},{"$f":"IF(ISBLANK($R93)=TRUE,\"\",VLOOKUP($R93,TAXONOMY!$A$1:$H$959,2,FALSE))","v":""}]
[null,null,null,null,null,null,null,null,null,null,null,{"$f":"IF(ISBLANK($R94)=TRUE,\"\",VLOOKUP($R94,TAXONOMY!$A$1:$G$959,7,FALSE))","v":""},{"$f":"IF(ISBLANK($R94)=TRUE,\"\",VLOOKUP($R94,TAXONOMY!$A$1:$G$959,6,FALSE))","v":""},{"$f":"IF(ISBLANK($R94)=TRUE,\"\",VLOOKUP($R94,TAXONOMY!$A$1:$G$959,5,FALSE))","v":""},{"$f":"IF(ISBLANK($R94)=TRUE,\"\",VLOOKUP($R94,TAXONOMY!$A$1:$G$959,4,FALSE))","v":""},{"$f":"IF(ISBLANK($R94)=TRUE,\"\",VLOOKUP($R94,TAXONOMY!$A$1:$G$959,3,FALSE))","v":""},{"$f":"IF(ISBLANK($R94)=TRUE,\"\",VLOOKUP($R94,TAXONOMY!$A$1:$H$959,2,FALSE))","v":""}]
[null,null,null,null,null,null,null,null,null,null,null,{"$f":"IF(ISBLANK($R95)=TRUE,\"\",VLOOKUP($R95,TAXONOMY!$A$1:$G$959,7,FALSE))","v":""},{"$f":"IF(ISBLANK($R95)=TRUE,\"\",VLOOKUP($R95,TAXONOMY!$A$1:$G$959,6,FALSE))","v":""},{"$f":"IF(ISBLANK($R95)=TRUE,\"\",VLOOKUP($R95,TAXONOMY!$A$1:$G$959,5,FALSE))","v":""},{"$f":"IF(ISBLANK($R95)=TRUE,\"\",VLOOKUP($R95,TAXONOMY!$A$1:$G$959,4,FALSE))","v":""},{"$f":"IF(ISBLANK($R95)=TRUE,\"\",VLOOKUP($R95,TAXONOMY!$A$1:$G$959,3,FALSE))","v":""},{"$f":"IF(ISBLANK($R95)=TRUE,\"\",VLOOKUP($R95,TAXONOMY!$A$1:$H$959,2,FALSE))","v":""}]
[null,null,null,null,null,null,null,null,null,null,null,{"$f":"IF(ISBLANK($R96)=TRUE,\"\",VLOOKUP($R96,TAXONOMY!$A$1:$G$959,7,FALSE))","v":""},{"$f":"IF(ISBLANK($R96)=TRUE,\"\",VLOOKUP($R96,TAXONOMY!$A$1:$G$959,6,FALSE))","v":""},{"$f":"IF(ISBLANK($R96)=TRUE,\"\",VLOOKUP($R96,TAXONOMY!$A$1:$G$959,5,FALSE))","v":""},{"$f":"IF(ISBLANK($R96)=TRUE,\"\",VLOOKUP($R96,TAXONOMY!$A$1:$G$959,4,FALSE))","v":""},{"$f":"IF(ISBLANK($R96)=TRUE,\"\",VLOOKUP($R96,TAXONOMY!$A$1:$G$959,3,FALSE))","v":""},{"$f":"IF(ISBLANK($R96)=TRUE,\"\",VLOOKUP($R96,TAXONOMY!$A$1:$H$959,2,FALSE))","v":""}]
[null,null,null,null,null,null,null,null,null,null,null,{"$f":"IF(ISBLANK($R97)=TRUE,\"\",VLOOKUP($R97,TAXONOMY!$A$1:$G$959,7,FALSE))","v":""},{"$f":"IF(ISBLANK($R97)=TRUE,\"\",VLOOKUP($R97,TAXONOMY!$A$1:$G$959,6,FALSE))","v":""},{"$f":"IF(ISBLANK($R97)=TRUE,\"\",VLOOKUP($R97,TAXONOMY!$A$1:$G$959,5,FALSE))","v":""},{"$f":"IF(ISBLANK($R97)=TRUE,\"\",VLOOKUP($R97,TAXONOMY!$A$1:$G$959,4,FALSE))","v":""},{"$f":"IF(ISBLANK($R97)=TRUE,\"\",VLOOKUP($R97,TAXONOMY!$A$1:$G$959,3,FALSE))","v":""},{"$f":"IF(ISBLANK($R97)=TRUE,\"\",VLOOKUP($R97,TAXONOMY!$A$1:$H$959,2,FALSE))","v":""}]
[null,null,null,null,null,null,null,null,null,null,null,{"$f":"IF(ISBLANK($R98)=TRUE,\"\",VLOOKUP($R98,TAXONOMY!$A$1:$G$959,7,FALSE))","v":""},{"$f":"IF(ISBLANK($R98)=TRUE,\"\",VLOOKUP($R98,TAXONOMY!$A$1:$G$959,6,FALSE))","v":""},{"$f":"IF(ISBLANK($R98)=TRUE,\"\",VLOOKUP($R98,TAXONOMY!$A$1:$G$959,5,FALSE))","v":""},{"$f":"IF(ISBLANK($R98)=TRUE,\"\",VLOOKUP($R98,TAXONOMY!$A$1:$G$959,4,FALSE))","v":""},{"$f":"IF(ISBLANK($R98)=TRUE,\"\",VLOOKUP($R98,TAXONOMY!$A$1:$G$959,3,FALSE))","v":""},{"$f":"IF(ISBLANK($R98)=TRUE,\"\",VLOOKUP($R98,TAXONOMY!$A$1:$H$959,2,FALSE))","v":""}]
[null,null,null,null,null,null,null,null,null,null,null,{"$f":"IF(ISBLANK($R99)=TRUE,\"\",VLOOKUP($R99,TAXONOMY!$A$1:$G$959,7,FALSE))","v":""},{"$f":"IF(ISBLANK($R99)=TRUE,\"\",VLOOKUP($R99,TAXONOMY!$A$1:$G$959,6,FALSE))","v":""},{"$f":"IF(ISBLANK($R99)=TRUE,\"\",VLOOKUP($R99,TAXONOMY!$A$1:$G$959,5,FALSE))","v":""},{"$f":"IF(ISBLANK($R99)=TRUE,\"\",VLOOKUP($R99,TAXONOMY!$A$1:$G$959,4,FALSE))","v":""},{"$f":"IF(ISBLANK($R99)=TRUE,\"\",VLOOKUP($R99,TAXONOMY!$A$1:$G$959,3,FALSE))","v":""},{"$f":"IF(ISBLANK($R99)=TRUE,\"\",VLOOKUP($R99,TAXONOMY!$A$1:$H$959,2,FALSE))","v":""}]
[null,null,null,null,null,null,null,null,null,null,null,{"$f":"IF(ISBLANK($R100)=TRUE,\"\",VLOOKUP($R100,TAXONOMY!$A$1:$G$959,7,FALSE))","v":""},{"$f":"IF(ISBLANK($R100)=TRUE,\"\",VLOOKUP($R100,TAXONOMY!$A$1:$G$959,6,FALSE))","v":""},{"$f":"IF(ISBLANK($R100)=TRUE,\"\",VLOOKUP($R100,TAXONOMY!$A$1:$G$959,5,FALSE))","v":""},{"$f":"IF(ISBLANK($R100)=TRUE,\"\",VLOOKUP($R100,TAXONOMY!$A$1:$G$959,4,FALSE))","v":""},{"$f":"IF(ISBLANK($R100)=TRUE,\"\",VLOOKUP($R100,TAXONOMY!$A$1:$G$959,3,FALSE))","v":""},{"$f":"IF(ISBLANK($R100)=TRUE,\"\",VLOOKUP($R100,TAXONOMY!$A$1:$H$959,2,FALSE))","v":""}]
[null,null,null,null,null,null,null,null,null,null,null,{"$f":"IF(ISBLANK($R101)=TRUE,\"\",VLOOKUP($R101,TAXONOMY!$A$1:$G$959,7,FALSE))","v":""},{"$f":"IF(ISBLANK($R101)=TRUE,\"\",VLOOKUP($R101,TAXONOMY!$A$1:$G$959,6,FALSE))","v":""},{"$f":"IF(ISBLANK($R101)=TRUE,\"\",VLOOKUP($R101,TAXONOMY!$A$1:$G$959,5,FALSE))","v":""},{"$f":"IF(ISBLANK($R101)=TRUE,\"\",VLOOKUP($R101,TAXONOMY!$A$1:$G$959,4,FALSE))","v":""},{"$f":"IF(ISBLANK($R101)=TRUE,\"\",VLOOKUP($R101,TAXONOMY!$A$1:$G$959,3,FALSE))","v":""},{"$f":"IF(ISBLANK($R101)=TRUE,\"\",VLOOKUP($R101,TAXONOMY!$A$1:$H$959,2,FALSE))","v":""}]
[null,null,null,null,null,null,null,null,null,null,null,{"$f":"IF(ISBLANK($R102)=TRUE,\"\",VLOOKUP($R102,TAXONOMY!$A$1:$G$959,7,FALSE))","v":""},{"$f":"IF(ISBLANK($R102)=TRUE,\"\",VLOOKUP($R102,TAXONOMY!$A$1:$G$959,6,FALSE))","v":""},{"$f":"IF(ISBLANK($R102)=TRUE,\"\",VLOOKUP($R102,TAXONOMY!$A$1:$G$959,5,FALSE))","v":""},{"$f":"IF(ISBLANK($R102)=TRUE,\"\",VLOOKUP($R102,TAXONOMY!$A$1:$G$959,4,FALSE))","v":""},{"$f":"IF(ISBLANK($R102)=TRUE,\"\",VLOOKUP($R102,TAXONOMY!$A$1:$G$959,3,FALSE))","v":""},{"$f":"IF(ISBLANK($R102)=TRUE,\"\",VLOOKUP($R102,TAXONOMY!$A$1:$H$959,2,FALSE))","v":""}]
[null,null,null,null,null,null,null,null,null,null,null,{"$f":"IF(ISBLANK($R103)=TRUE,\"\",VLOOKUP($R103,TAXONOMY!$A$1:$G$959,7,FALSE))","v":""},{"$f":"IF(ISBLANK($R103)=TRUE,\"\",VLOOKUP($R103,TAXONOMY!$A$1:$G$959,6,FALSE))","v":""},{"$f":"IF(ISBLANK($R103)=TRUE,\"\",VLOOKUP($R103,TAXONOMY!$A$1:$G$959,5,FALSE))","v":""},{"$f":"IF(ISBLANK($R103)=TRUE,\"\",VLOOKUP($R103,TAXONOMY!$A$1:$G$959,4,FALSE))","v":""},{"$f":"IF(ISBLANK($R103)=TRUE,\"\",VLOOKUP($R103,TAXONOMY!$A$1:$G$959,3,FALSE))","v":""},{"$f":"IF(ISBLANK($R103)=TRUE,\"\",VLOOKUP($R103,TAXONOMY!$A$1:$H$959,2,FALSE))","v":""}]
[null,null,null,null,null,null,null,null,null,null,null,{"$f":"IF(ISBLANK($R104)=TRUE,\"\",VLOOKUP($R104,TAXONOMY!$A$1:$G$959,7,FALSE))","v":""},{"$f":"IF(ISBLANK($R104)=TRUE,\"\",VLOOKUP($R104,TAXONOMY!$A$1:$G$959,6,FALSE))","v":""},{"$f":"IF(ISBLANK($R104)=TRUE,\"\",VLOOKUP($R104,TAXONOMY!$A$1:$G$959,5,FALSE))","v":""},{"$f":"IF(ISBLANK($R104)=TRUE,\"\",VLOOKUP($R104,TAXONOMY!$A$1:$G$959,4,FALSE))","v":""},{"$f":"IF(ISBLANK($R104)=TRUE,\"\",VLOOKUP($R104,TAXONOMY!$A$1:$G$959,3,FALSE))","v":""},{"$f":"IF(ISBLANK($R104)=TRUE,\"\",VLOOKUP($R104,TAXONOMY!$A$1:$H$959,2,FALSE))","v":""}]
[null,null,null,null,null,null,null,null,null,null,null,{"$f":"IF(ISBLANK($R105)=TRUE,\"\",VLOOKUP($R105,TAXONOMY!$A$1:$G$959,7,FALSE))","v":""},{"$f":"IF(ISBLANK($R105)=TRUE,\"\",VLOOKUP($R105,TAXONOMY!$A$1:$G$959,6,FALSE))","v":""},{"$f":"IF(ISBLANK($R105)=TRUE,\"\",VLOOKUP($R105,TAXONOMY!$A$1:$G$959,5,FALSE))","v":""},{"$f":"IF(ISBLANK($R105)=TRUE,\"\",VLOOKUP($R105,TAXONOMY!$A$1:$G$959,4,FALSE))","v":""},{"$f":"IF(ISBLANK($R105)=TRUE,\"\",VLOOKUP($R105,TAXONOMY!$A$1:$G$959,3,FALSE))","v":""},{"$f":"IF(ISBLANK($R105)=TRUE,\"\",VLOOKUP($R105,TAXONOMY!$A$1:$H$959,2,FALSE))","v":""}]
[null,null,null,null,null,null,null,null,null,null,null,{"$f":"IF(ISBLANK($R106)=TRUE,\"\",VLOOKUP($R106,TAXONOMY!$A$1:$G$959,7,FALSE))","v":""},{"$f":"IF(ISBLANK($R106)=TRUE,\"\",VLOOKUP($R106,TAXONOMY!$A$1:$G$959,6,FALSE))","v":""},{"$f":"IF(ISBLANK($R106)=TRUE,\"\",VLOOKUP($R106,TAXONOMY!$A$1:$G$959,5,FALSE))","v":""},{"$f":"IF(ISBLANK($R106)=TRUE,\"\",VLOOKUP($R106,TAXONOMY!$A$1:$G$959,4,FALSE))","v":""},{"$f":"IF(ISBLANK($R106)=TRUE,\"\",VLOOKUP($R106,TAXONOMY!$A$1:$G$959,3,FALSE))","v":""},{"$f":"IF(ISBLANK($R106)=TRUE,\"\",VLOOKUP($R106,TAXONOMY!$A$1:$H$959,2,FALSE))","v":""}]
[null,null,null,null,null,null,null,null,null,null,null,{"$f":"IF(ISBLANK($R107)=TRUE,\"\",VLOOKUP($R107,TAXONOMY!$A$1:$G$959,7,FALSE))","v":""},{"$f":"IF(ISBLANK($R107)=TRUE,\"\",VLOOKUP($R107,TAXONOMY!$A$1:$G$959,6,FALSE))","v":""},{"$f":"IF(ISBLANK($R107)=TRUE,\"\",VLOOKUP($R107,TAXONOMY!$A$1:$G$959,5,FALSE))","v":""},{"$f":"IF(ISBLANK($R107)=TRUE,\"\",VLOOKUP($R107,TAXONOMY!$A$1:$G$959,4,FALSE))","v":""},{"$f":"IF(ISBLANK($R107)=TRUE,\"\",VLOOKUP($R107,TAXONOMY!$A$1:$G$959,3,FALSE))","v":""},{"$f":"IF(ISBLANK($R107)=TRUE,\"\",VLOOKUP($R107,TAXONOMY!$A$1:$H$959,2,FALSE))","v":""}]
[null,null,null,null,null,null,null,null,null,null,null,{"$f":"IF(ISBLANK($R108)=TRUE,\"\",VLOOKUP($R108,TAXONOMY!$A$1:$G$959,7,FALSE))","v":""},{"$f":"IF(ISBLANK($R108)=TRUE,\"\",VLOOKUP($R108,TAXONOMY!$A$1:$G$959,6,FALSE))","v":""},{"$f":"IF(ISBLANK($R108)=TRUE,\"\",VLOOKUP($R108,TAXONOMY!$A$1:$G$959,5,FALSE))","v":""},{"$f":"IF(ISBLANK($R108)=TRUE,\"\",VLOOKUP($R108,TAXONOMY!$A$1:$G$959,4,FALSE))","v":""},{"$f":"IF(ISBLANK($R108)=TRUE,\"\",VLOOKUP($R108,TAXONOMY!$A$1:$G$959,3,FALSE))","v":""},{"$f":"IF(ISBLANK($R108)=TRUE,\"\",VLOOKUP($R108,TAXONOMY!$A$1:$H$959,2,FALSE))","v":""}]
[null,null,null,null,null,null,null,null,null,null,null,{"$f":"IF(ISBLANK($R109)=TRUE,\"\",VLOOKUP($R109,TAXONOMY!$A$1:$G$959,7,FALSE))","v":""},{"$f":"IF(ISBLANK($R109)=TRUE,\"\",VLOOKUP($R109,TAXONOMY!$A$1:$G$959,6,FALSE))","v":""},{"$f":"IF(ISBLANK($R109)=TRUE,\"\",VLOOKUP($R109,TAXONOMY!$A$1:$G$959,5,FALSE))","v":""},{"$f":"IF(ISBLANK($R109)=TRUE,\"\",VLOOKUP($R109,TAXONOMY!$A$1:$G$959,4,FALSE))","v":""},{"$f":"IF(ISBLANK($R109)=TRUE,\"\",VLOOKUP($R109,TAXONOMY!$A$1:$G$959,3,FALSE))","v":""},{"$f":"IF(ISBLANK($R109)=TRUE,\"\",VLOOKUP($R109,TAXONOMY!$A$1:$H$959,2,FALSE))","v":""}]
[null,null,null,null,null,null,null,null,null,null,null,{"$f":"IF(ISBLANK($R110)=TRUE,\"\",VLOOKUP($R110,TAXONOMY!$A$1:$G$959,7,FALSE))","v":""},{"$f":"IF(ISBLANK($R110)=TRUE,\"\",VLOOKUP($R110,TAXONOMY!$A$1:$G$959,6,FALSE))","v":""},{"$f":"IF(ISBLANK($R110)=TRUE,\"\",VLOOKUP($R110,TAXONOMY!$A$1:$G$959,5,FALSE))","v":""},{"$f":"IF(ISBLANK($R110)=TRUE,\"\",VLOOKUP($R110,TAXONOMY!$A$1:$G$959,4,FALSE))","v":""},{"$f":"IF(ISBLANK($R110)=TRUE,\"\",VLOOKUP($R110,TAXONOMY!$A$1:$G$959,3,FALSE))","v":""},{"$f":"IF(ISBLANK($R110)=TRUE,\"\",VLOOKUP($R110,TAXONOMY!$A$1:$H$959,2,FALSE))","v":""}]
[null,null,null,null,null,null,null,null,null,null,null,{"$f":"IF(ISBLANK($R111)=TRUE,\"\",VLOOKUP($R111,TAXONOMY!$A$1:$G$959,7,FALSE))","v":""},{"$f":"IF(ISBLANK($R111)=TRUE,\"\",VLOOKUP($R111,TAXONOMY!$A$1:$G$959,6,FALSE))","v":""},{"$f":"IF(ISBLANK($R111)=TRUE,\"\",VLOOKUP($R111,TAXONOMY!$A$1:$G$959,5,FALSE))","v":""},{"$f":"IF(ISBLANK($R111)=TRUE,\"\",VLOOKUP($R111,TAXONOMY!$A$1:$G$959,4,FALSE))","v":""},{"$f":"IF(ISBLANK($R111)=TRUE,\"\",VLOOKUP($R111,TAXONOMY!$A$1:$G$959,3,FALSE))","v":""},{"$f":"IF(ISBLANK($R111)=TRUE,\"\",VLOOKUP($R111,TAXONOMY!$A$1:$H$959,2,FALSE))","v":""}]
[null,null,null,null,null,null,null,null,null,null,null,{"$f":"IF(ISBLANK($R112)=TRUE,\"\",VLOOKUP($R112,TAXONOMY!$A$1:$G$959,7,FALSE))","v":""},{"$f":"IF(ISBLANK($R112)=TRUE,\"\",VLOOKUP($R112,TAXONOMY!$A$1:$G$959,6,FALSE))","v":""},{"$f":"IF(ISBLANK($R112)=TRUE,\"\",VLOOKUP($R112,TAXONOMY!$A$1:$G$959,5,FALSE))","v":""},{"$f":"IF(ISBLANK($R112)=TRUE,\"\",VLOOKUP($R112,TAXONOMY!$A$1:$G$959,4,FALSE))","v":""},{"$f":"IF(ISBLANK($R112)=TRUE,\"\",VLOOKUP($R112,TAXONOMY!$A$1:$G$959,3,FALSE))","v":""},{"$f":"IF(ISBLANK($R112)=TRUE,\"\",VLOOKUP($R112,TAXONOMY!$A$1:$H$959,2,FALSE))","v":""}]
[null,null,null,null,null,null,null,null,null,null,null,{"$f":"IF(ISBLANK($R113)=TRUE,\"\",VLOOKUP($R113,TAXONOMY!$A$1:$G$959,7,FALSE))","v":""},{"$f":"IF(ISBLANK($R113)=TRUE,\"\",VLOOKUP($R113,TAXONOMY!$A$1:$G$959,6,FALSE))","v":""},{"$f":"IF(ISBLANK($R113)=TRUE,\"\",VLOOKUP($R113,TAXONOMY!$A$1:$G$959,5,FALSE))","v":""},{"$f":"IF(ISBLANK($R113)=TRUE,\"\",VLOOKUP($R113,TAXONOMY!$A$1:$G$959,4,FALSE))","v":""},{"$f":"IF(ISBLANK($R113)=TRUE,\"\",VLOOKUP($R113,TAXONOMY!$A$1:$G$959,3,FALSE))","v":""},{"$f":"IF(ISBLANK($R113)=TRUE,\"\",VLOOKUP($R113,TAXONOMY!$A$1:$H$959,2,FALSE))","v":""}]
[null,null,null,null,null,null,null,null,null,null,null,{"$f":"IF(ISBLANK($R114)=TRUE,\"\",VLOOKUP($R114,TAXONOMY!$A$1:$G$959,7,FALSE))","v":""},{"$f":"IF(ISBLANK($R114)=TRUE,\"\",VLOOKUP($R114,TAXONOMY!$A$1:$G$959,6,FALSE))","v":""},{"$f":"IF(ISBLANK($R114)=TRUE,\"\",VLOOKUP($R114,TAXONOMY!$A$1:$G$959,5,FALSE))","v":""},{"$f":"IF(ISBLANK($R114)=TRUE,\"\",VLOOKUP($R114,TAXONOMY!$A$1:$G$959,4,FALSE))","v":""},{"$f":"IF(ISBLANK($R114)=TRUE,\"\",VLOOKUP($R114,TAXONOMY!$A$1:$G$959,3,FALSE))","v":""},{"$f":"IF(ISBLANK($R114)=TRUE,\"\",VLOOKUP($R114,TAXONOMY!$A$1:$H$959,2,FALSE))","v":""}]
[null,null,null,null,null,null,null,null,null,null,null,{"$f":"IF(ISBLANK($R115)=TRUE,\"\",VLOOKUP($R115,TAXONOMY!$A$1:$G$959,7,FALSE))","v":""},{"$f":"IF(ISBLANK($R115)=TRUE,\"\",VLOOKUP($R115,TAXONOMY!$A$1:$G$959,6,FALSE))","v":""},{"$f":"IF(ISBLANK($R115)=TRUE,\"\",VLOOKUP($R115,TAXONOMY!$A$1:$G$959,5,FALSE))","v":""},{"$f":"IF(ISBLANK($R115)=TRUE,\"\",VLOOKUP($R115,TAXONOMY!$A$1:$G$959,4,FALSE))","v":""},{"$f":"IF(ISBLANK($R115)=TRUE,\"\",VLOOKUP($R115,TAXONOMY!$A$1:$G$959,3,FALSE))","v":""},{"$f":"IF(ISBLANK($R115)=TRUE,\"\",VLOOKUP($R115,TAXONOMY!$A$1:$H$959,2,FALSE))","v":""}]
[null,null,null,null,null,null,null,null,null,null,null,{"$f":"IF(ISBLANK($R116)=TRUE,\"\",VLOOKUP($R116,TAXONOMY!$A$1:$G$959,7,FALSE))","v":""},{"$f":"IF(ISBLANK($R116)=TRUE,\"\",VLOOKUP($R116,TAXONOMY!$A$1:$G$959,6,FALSE))","v":""},{"$f":"IF(ISBLANK($R116)=TRUE,\"\",VLOOKUP($R116,TAXONOMY!$A$1:$G$959,5,FALSE))","v":""},{"$f":"IF(ISBLANK($R116)=TRUE,\"\",VLOOKUP($R116,TAXONOMY!$A$1:$G$959,4,FALSE))","v":""},{"$f":"IF(ISBLANK($R116)=TRUE,\"\",VLOOKUP($R116,TAXONOMY!$A$1:$G$959,3,FALSE))","v":""},{"$f":"IF(ISBLANK($R116)=TRUE,\"\",VLOOKUP($R116,TAXONOMY!$A$1:$H$959,2,FALSE))","v":""}]
[null,null,null,null,null,null,null,null,null,null,null,{"$f":"IF(ISBLANK($R117)=TRUE,\"\",VLOOKUP($R117,TAXONOMY!$A$1:$G$959,7,FALSE))","v":""},{"$f":"IF(ISBLANK($R117)=TRUE,\"\",VLOOKUP($R117,TAXONOMY!$A$1:$G$959,6,FALSE))","v":""},{"$f":"IF(ISBLANK($R117)=TRUE,\"\",VLOOKUP($R117,TAXONOMY!$A$1:$G$959,5,FALSE))","v":""},{"$f":"IF(ISBLANK($R117)=TRUE,\"\",VLOOKUP($R117,TAXONOMY!$A$1:$G$959,4,FALSE))","v":""},{"$f":"IF(ISBLANK($R117)=TRUE,\"\",VLOOKUP($R117,TAXONOMY!$A$1:$G$959,3,FALSE))","v":""},{"$f":"IF(ISBLANK($R117)=TRUE,\"\",VLOOKUP($R117,TAXONOMY!$A$1:$H$959,2,FALSE))","v":""}]
[null,null,null,null,null,null,null,null,null,null,null,{"$f":"IF(ISBLANK($R118)=TRUE,\"\",VLOOKUP($R118,TAXONOMY!$A$1:$G$959,7,FALSE))","v":""},{"$f":"IF(ISBLANK($R118)=TRUE,\"\",VLOOKUP($R118,TAXONOMY!$A$1:$G$959,6,FALSE))","v":""},{"$f":"IF(ISBLANK($R118)=TRUE,\"\",VLOOKUP($R118,TAXONOMY!$A$1:$G$959,5,FALSE))","v":""},{"$f":"IF(ISBLANK($R118)=TRUE,\"\",VLOOKUP($R118,TAXONOMY!$A$1:$G$959,4,FALSE))","v":""},{"$f":"IF(ISBLANK($R118)=TRUE,\"\",VLOOKUP($R118,TAXONOMY!$A$1:$G$959,3,FALSE))","v":""},{"$f":"IF(ISBLANK($R118)=TRUE,\"\",VLOOKUP($R118,TAXONOMY!$A$1:$H$959,2,FALSE))","v":""}]
[null,null,null,null,null,null,null,null,null,null,null,{"$f":"IF(ISBLANK($R119)=TRUE,\"\",VLOOKUP($R119,TAXONOMY!$A$1:$G$959,7,FALSE))","v":""},{"$f":"IF(ISBLANK($R119)=TRUE,\"\",VLOOKUP($R119,TAXONOMY!$A$1:$G$959,6,FALSE))","v":""},{"$f":"IF(ISBLANK($R119)=TRUE,\"\",VLOOKUP($R119,TAXONOMY!$A$1:$G$959,5,FALSE))","v":""},{"$f":"IF(ISBLANK($R119)=TRUE,\"\",VLOOKUP($R119,TAXONOMY!$A$1:$G$959,4,FALSE))","v":""},{"$f":"IF(ISBLANK($R119)=TRUE,\"\",VLOOKUP($R119,TAXONOMY!$A$1:$G$959,3,FALSE))","v":""},{"$f":"IF(ISBLANK($R119)=TRUE,\"\",VLOOKUP($R119,TAXONOMY!$A$1:$H$959,2,FALSE))","v":""}]
[null,null,null,null,null,null,null,null,null,null,null,{"$f":"IF(ISBLANK($R120)=TRUE,\"\",VLOOKUP($R120,TAXONOMY!$A$1:$G$959,7,FALSE))","v":""},{"$f":"IF(ISBLANK($R120)=TRUE,\"\",VLOOKUP($R120,TAXONOMY!$A$1:$G$959,6,FALSE))","v":""},{"$f":"IF(ISBLANK($R120)=TRUE,\"\",VLOOKUP($R120,TAXONOMY!$A$1:$G$959,5,FALSE))","v":""},{"$f":"IF(ISBLANK($R120)=TRUE,\"\",VLOOKUP($R120,TAXONOMY!$A$1:$G$959,4,FALSE))","v":""},{"$f":"IF(ISBLANK($R120)=TRUE,\"\",VLOOKUP($R120,TAXONOMY!$A$1:$G$959,3,FALSE))","v":""},{"$f":"IF(ISBLANK($R120)=TRUE,\"\",VLOOKUP($R120,TAXONOMY!$A$1:$H$959,2,FALSE))","v":""}]
[null,null,null,null,null,null,null,null,null,null,null,{"$f":"IF(ISBLANK($R121)=TRUE,\"\",VLOOKUP($R121,TAXONOMY!$A$1:$G$959,7,FALSE))","v":""},{"$f":"IF(ISBLANK($R121)=TRUE,\"\",VLOOKUP($R121,TAXONOMY!$A$1:$G$959,6,FALSE))","v":""},{"$f":"IF(ISBLANK($R121)=TRUE,\"\",VLOOKUP($R121,TAXONOMY!$A$1:$G$959,5,FALSE))","v":""},{"$f":"IF(ISBLANK($R121)=TRUE,\"\",VLOOKUP($R121,TAXONOMY!$A$1:$G$959,4,FALSE))","v":""},{"$f":"IF(ISBLANK($R121)=TRUE,\"\",VLOOKUP($R121,TAXONOMY!$A$1:$G$959,3,FALSE))","v":""},{"$f":"IF(ISBLANK($R121)=TRUE,\"\",VLOOKUP($R121,TAXONOMY!$A$1:$H$959,2,FALSE))","v":""}]
[null,null,null,null,null,null,null,null,null,null,null,{"$f":"IF(ISBLANK($R122)=TRUE,\"\",VLOOKUP($R122,TAXONOMY!$A$1:$G$959,7,FALSE))","v":""},{"$f":"IF(ISBLANK($R122)=TRUE,\"\",VLOOKUP($R122,TAXONOMY!$A$1:$G$959,6,FALSE))","v":""},{"$f":"IF(ISBLANK($R122)=TRUE,\"\",VLOOKUP($R122,TAXONOMY!$A$1:$G$959,5,FALSE))","v":""},{"$f":"IF(ISBLANK($R122)=TRUE,\"\",VLOOKUP($R122,TAXONOMY!$A$1:$G$959,4,FALSE))","v":""},{"$f":"IF(ISBLANK($R122)=TRUE,\"\",VLOOKUP($R122,TAXONOMY!$A$1:$G$959,3,FALSE))","v":""},{"$f":"IF(ISBLANK($R122)=TRUE,\"\",VLOOKUP($R122,TAXONOMY!$A$1:$H$959,2,FALSE))","v":""}]
[null,null,null,null,null,null,null,null,null,null,null,{"$f":"IF(ISBLANK($R123)=TRUE,\"\",VLOOKUP($R123,TAXONOMY!$A$1:$G$959,7,FALSE))","v":""},{"$f":"IF(ISBLANK($R123)=TRUE,\"\",VLOOKUP($R123,TAXONOMY!$A$1:$G$959,6,FALSE))","v":""},{"$f":"IF(ISBLANK($R123)=TRUE,\"\",VLOOKUP($R123,TAXONOMY!$A$1:$G$959,5,FALSE))","v":""},{"$f":"IF(ISBLANK($R123)=TRUE,\"\",VLOOKUP($R123,TAXONOMY!$A$1:$G$959,4,FALSE))","v":""},{"$f":"IF(ISBLANK($R123)=TRUE,\"\",VLOOKUP($R123,TAXONOMY!$A$1:$G$959,3,FALSE))","v":""},{"$f":"IF(ISBLANK($R123)=TRUE,\"\",VLOOKUP($R123,TAXONOMY!$A$1:$H$959,2,FALSE))","v":""}]
[null,null,null,null,null,null,null,null,null,null,null,{"$f":"IF(ISBLANK($R124)=TRUE,\"\",VLOOKUP($R124,TAXONOMY!$A$1:$G$959,7,FALSE))","v":""},{"$f":"IF(ISBLANK($R124)=TRUE,\"\",VLOOKUP($R124,TAXONOMY!$A$1:$G$959,6,FALSE))","v":""},{"$f":"IF(ISBLANK($R124)=TRUE,\"\",VLOOKUP($R124,TAXONOMY!$A$1:$G$959,5,FALSE))","v":""},{"$f":"IF(ISBLANK($R124)=TRUE,\"\",VLOOKUP($R124,TAXONOMY!$A$1:$G$959,4,FALSE))","v":""},{"$f":"IF(ISBLANK($R124)=TRUE,\"\",VLOOKUP($R124,TAXONOMY!$A$1:$G$959,3,FALSE))","v":""},{"$f":"IF(ISBLANK($R124)=TRUE,\"\",VLOOKUP($R124,TAXONOMY!$A$1:$H$959,2,FALSE))","v":""}]
[null,null,null,null,null,null,null,null,null,null,null,{"$f":"IF(ISBLANK($R125)=TRUE,\"\",VLOOKUP($R125,TAXONOMY!$A$1:$G$959,7,FALSE))","v":""},{"$f":"IF(ISBLANK($R125)=TRUE,\"\",VLOOKUP($R125,TAXONOMY!$A$1:$G$959,6,FALSE))","v":""},{"$f":"IF(ISBLANK($R125)=TRUE,\"\",VLOOKUP($R125,TAXONOMY!$A$1:$G$959,5,FALSE))","v":""},{"$f":"IF(ISBLANK($R125)=TRUE,\"\",VLOOKUP($R125,TAXONOMY!$A$1:$G$959,4,FALSE))","v":""},{"$f":"IF(ISBLANK($R125)=TRUE,\"\",VLOOKUP($R125,TAXONOMY!$A$1:$G$959,3,FALSE))","v":""},{"$f":"IF(ISBLANK($R125)=TRUE,\"\",VLOOKUP($R125,TAXONOMY!$A$1:$H$959,2,FALSE))","v":""}]
[null,null,null,null,null,null,null,null,null,null,null,{"$f":"IF(ISBLANK($R126)=TRUE,\"\",VLOOKUP($R126,TAXONOMY!$A$1:$G$959,7,FALSE))","v":""},{"$f":"IF(ISBLANK($R126)=TRUE,\"\",VLOOKUP($R126,TAXONOMY!$A$1:$G$959,6,FALSE))","v":""},{"$f":"IF(ISBLANK($R126)=TRUE,\"\",VLOOKUP($R126,TAXONOMY!$A$1:$G$959,5,FALSE))","v":""},{"$f":"IF(ISBLANK($R126)=TRUE,\"\",VLOOKUP($R126,TAXONOMY!$A$1:$G$959,4,FALSE))","v":""},{"$f":"IF(ISBLANK($R126)=TRUE,\"\",VLOOKUP($R126,TAXONOMY!$A$1:$G$959,3,FALSE))","v":""},{"$f":"IF(ISBLANK($R126)=TRUE,\"\",VLOOKUP($R126,TAXONOMY!$A$1:$H$959,2,FALSE))","v":""}]
[null,null,null,null,null,null,null,null,null,null,null,{"$f":"IF(ISBLANK($R127)=TRUE,\"\",VLOOKUP($R127,TAXONOMY!$A$1:$G$959,7,FALSE))","v":""},{"$f":"IF(ISBLANK($R127)=TRUE,\"\",VLOOKUP($R127,TAXONOMY!$A$1:$G$959,6,FALSE))","v":""},{"$f":"IF(ISBLANK($R127)=TRUE,\"\",VLOOKUP($R127,TAXONOMY!$A$1:$G$959,5,FALSE))","v":""},{"$f":"IF(ISBLANK($R127)=TRUE,\"\",VLOOKUP($R127,TAXONOMY!$A$1:$G$959,4,FALSE))","v":""},{"$f":"IF(ISBLANK($R127)=TRUE,\"\",VLOOKUP($R127,TAXONOMY!$A$1:$G$959,3,FALSE))","v":""},{"$f":"IF(ISBLANK($R127)=TRUE,\"\",VLOOKUP($R127,TAXONOMY!$A$1:$H$959,2,FALSE))","v":""}]
[null,null,null,null,null,null,null,null,null,null,null,{"$f":"IF(ISBLANK($R128)=TRUE,\"\",VLOOKUP($R128,TAXONOMY!$A$1:$G$959,7,FALSE))","v":""},{"$f":"IF(ISBLANK($R128)=TRUE,\"\",VLOOKUP($R128,TAXONOMY!$A$1:$G$959,6,FALSE))","v":""},{"$f":"IF(ISBLANK($R128)=TRUE,\"\",VLOOKUP($R128,TAXONOMY!$A$1:$G$959,5,FALSE))","v":""},{"$f":"IF(ISBLANK($R128)=TRUE,\"\",VLOOKUP($R128,TAXONOMY!$A$1:$G$959,4,FALSE))","v":""},{"$f":"IF(ISBLANK($R128)=TRUE,\"\",VLOOKUP($R128,TAXONOMY!$A$1:$G$959,3,FALSE))","v":""},{"$f":"IF(ISBLANK($R128)=TRUE,\"\",VLOOKUP($R128,TAXONOMY!$A$1:$H$959,2,FALSE))","v":""}]
[null,null,null,null,null,null,null,null,null,null,null,{"$f":"IF(ISBLANK($R129)=TRUE,\"\",VLOOKUP($R129,TAXONOMY!$A$1:$G$959,7,FALSE))","v":""},{"$f":"IF(ISBLANK($R129)=TRUE,\"\",VLOOKUP($R129,TAXONOMY!$A$1:$G$959,6,FALSE))","v":""},{"$f":"IF(ISBLANK($R129)=TRUE,\"\",VLOOKUP($R129,TAXONOMY!$A$1:$G$959,5,FALSE))","v":""},{"$f":"IF(ISBLANK($R129)=TRUE,\"\",VLOOKUP($R129,TAXONOMY!$A$1:$G$959,4,FALSE))","v":""},{"$f":"IF(ISBLANK($R129)=TRUE,\"\",VLOOKUP($R129,TAXONOMY!$A$1:$G$959,3,FALSE))","v":""},{"$f":"IF(ISBLANK($R129)=TRUE,\"\",VLOOKUP($R129,TAXONOMY!$A$1:$H$959,2,FALSE))","v":""}]
[null,null,null,null,null,null,null,null,null,null,null,{"$f":"IF(ISBLANK($R130)=TRUE,\"\",VLOOKUP($R130,TAXONOMY!$A$1:$G$959,7,FALSE))","v":""},{"$f":"IF(ISBLANK($R130)=TRUE,\"\",VLOOKUP($R130,TAXONOMY!$A$1:$G$959,6,FALSE))","v":""},{"$f":"IF(ISBLANK($R130)=TRUE,\"\",VLOOKUP($R130,TAXONOMY!$A$1:$G$959,5,FALSE))","v":""},{"$f":"IF(ISBLANK($R130)=TRUE,\"\",VLOOKUP($R130,TAXONOMY!$A$1:$G$959,4,FALSE))","v":""},{"$f":"IF(ISBLANK($R130)=TRUE,\"\",VLOOKUP($R130,TAXONOMY!$A$1:$G$959,3,FALSE))","v":""},{"$f":"IF(ISBLANK($R130)=TRUE,\"\",VLOOKUP($R130,TAXONOMY!$A$1:$H$959,2,FALSE))","v":""}]
[null,null,null,null,null,null,null,null,null,null,null,{"$f":"IF(ISBLANK($R131)=TRUE,\"\",VLOOKUP($R131,TAXONOMY!$A$1:$G$959,7,FALSE))","v":""},{"$f":"IF(ISBLANK($R131)=TRUE,\"\",VLOOKUP($R131,TAXONOMY!$A$1:$G$959,6,FALSE))","v":""},{"$f":"IF(ISBLANK($R131)=TRUE,\"\",VLOOKUP($R131,TAXONOMY!$A$1:$G$959,5,FALSE))","v":""},{"$f":"IF(ISBLANK($R131)=TRUE,\"\",VLOOKUP($R131,TAXONOMY!$A$1:$G$959,4,FALSE))","v":""},{"$f":"IF(ISBLANK($R131)=TRUE,\"\",VLOOKUP($R131,TAXONOMY!$A$1:$G$959,3,FALSE))","v":""},{"$f":"IF(ISBLANK($R131)=TRUE,\"\",VLOOKUP($R131,TAXONOMY!$A$1:$H$959,2,FALSE))","v":""}]
[null,null,null,null,null,null,null,null,null,null,null,{"$f":"IF(ISBLANK($R132)=TRUE,\"\",VLOOKUP($R132,TAXONOMY!$A$1:$G$959,7,FALSE))","v":""},{"$f":"IF(ISBLANK($R132)=TRUE,\"\",VLOOKUP($R132,TAXONOMY!$A$1:$G$959,6,FALSE))","v":""},{"$f":"IF(ISBLANK($R132)=TRUE,\"\",VLOOKUP($R132,TAXONOMY!$A$1:$G$959,5,FALSE))","v":""},{"$f":"IF(ISBLANK($R132)=TRUE,\"\",VLOOKUP($R132,TAXONOMY!$A$1:$G$959,4,FALSE))","v":""},{"$f":"IF(ISBLANK($R132)=TRUE,\"\",VLOOKUP($R132,TAXONOMY!$A$1:$G$959,3,FALSE))","v":""},{"$f":"IF(ISBLANK($R132)=TRUE,\"\",VLOOKUP($R132,TAXONOMY!$A$1:$H$959,2,FALSE))","v":""}]
[null,null,null,null,null,null,null,null,null,null,null,{"$f":"IF(ISBLANK($R133)=TRUE,\"\",VLOOKUP($R133,TAXONOMY!$A$1:$G$959,7,FALSE))","v":""},{"$f":"IF(ISBLANK($R133)=TRUE,\"\",VLOOKUP($R133,TAXONOMY!$A$1:$G$959,6,FALSE))","v":""},{"$f":"IF(ISBLANK($R133)=TRUE,\"\",VLOOKUP($R133,TAXONOMY!$A$1:$G$959,5,FALSE))","v":""},{"$f":"IF(ISBLANK($R133)=TRUE,\"\",VLOOKUP($R133,TAXONOMY!$A$1:$G$959,4,FALSE))","v":""},{"$f":"IF(ISBLANK($R133)=TRUE,\"\",VLOOKUP($R133,TAXONOMY!$A$1:$G$959,3,FALSE))","v":""},{"$f":"IF(ISBLANK($R133)=TRUE,\"\",VLOOKUP($R133,TAXONOMY!$A$1:$H$959,2,FALSE))","v":""}]
[null,null,null,null,null,null,null,null,null,null,null,{"$f":"IF(ISBLANK($R134)=TRUE,\"\",VLOOKUP($R134,TAXONOMY!$A$1:$G$959,7,FALSE))","v":""},{"$f":"IF(ISBLANK($R134)=TRUE,\"\",VLOOKUP($R134,TAXONOMY!$A$1:$G$959,6,FALSE))","v":""},{"$f":"IF(ISBLANK($R134)=TRUE,\"\",VLOOKUP($R134,TAXONOMY!$A$1:$G$959,5,FALSE))","v":""},{"$f":"IF(ISBLANK($R134)=TRUE,\"\",VLOOKUP($R134,TAXONOMY!$A$1:$G$959,4,FALSE))","v":""},{"$f":"IF(ISBLANK($R134)=TRUE,\"\",VLOOKUP($R134,TAXONOMY!$A$1:$G$959,3,FALSE))","v":""},{"$f":"IF(ISBLANK($R134)=TRUE,\"\",VLOOKUP($R134,TAXONOMY!$A$1:$H$959,2,FALSE))","v":""}]
[null,null,null,null,null,null,null,null,null,null,null,{"$f":"IF(ISBLANK($R135)=TRUE,\"\",VLOOKUP($R135,TAXONOMY!$A$1:$G$959,7,FALSE))","v":""},{"$f":"IF(ISBLANK($R135)=TRUE,\"\",VLOOKUP($R135,TAXONOMY!$A$1:$G$959,6,FALSE))","v":""},{"$f":"IF(ISBLANK($R135)=TRUE,\"\",VLOOKUP($R135,TAXONOMY!$A$1:$G$959,5,FALSE))","v":""},{"$f":"IF(ISBLANK($R135)=TRUE,\"\",VLOOKUP($R135,TAXONOMY!$A$1:$G$959,4,FALSE))","v":""},{"$f":"IF(ISBLANK($R135)=TRUE,\"\",VLOOKUP($R135,TAXONOMY!$A$1:$G$959,3,FALSE))","v":""},{"$f":"IF(ISBLANK($R135)=TRUE,\"\",VLOOKUP($R135,TAXONOMY!$A$1:$H$959,2,FALSE))","v":""}]
[null,null,null,null,null,null,null,null,null,null,null,{"$f":"IF(ISBLANK($R136)=TRUE,\"\",VLOOKUP($R136,TAXONOMY!$A$1:$G$959,7,FALSE))","v":""},{"$f":"IF(ISBLANK($R136)=TRUE,\"\",VLOOKUP($R136,TAXONOMY!$A$1:$G$959,6,FALSE))","v":""},{"$f":"IF(ISBLANK($R136)=TRUE,\"\",VLOOKUP($R136,TAXONOMY!$A$1:$G$959,5,FALSE))","v":""},{"$f":"IF(ISBLANK($R136)=TRUE,\"\",VLOOKUP($R136,TAXONOMY!$A$1:$G$959,4,FALSE))","v":""},{"$f":"IF(ISBLANK($R136)=TRUE,\"\",VLOOKUP($R136,TAXONOMY!$A$1:$G$959,3,FALSE))","v":""},{"$f":"IF(ISBLANK($R136)=TRUE,\"\",VLOOKUP($R136,TAXONOMY!$A$1:$H$959,2,FALSE))","v":""}]
[null,null,null,null,null,null,null,null,null,null,null,{"$f":"IF(ISBLANK($R137)=TRUE,\"\",VLOOKUP($R137,TAXONOMY!$A$1:$G$959,7,FALSE))","v":""},{"$f":"IF(ISBLANK($R137)=TRUE,\"\",VLOOKUP($R137,TAXONOMY!$A$1:$G$959,6,FALSE))","v":""},{"$f":"IF(ISBLANK($R137)=TRUE,\"\",VLOOKUP($R137,TAXONOMY!$A$1:$G$959,5,FALSE))","v":""},{"$f":"IF(ISBLANK($R137)=TRUE,\"\",VLOOKUP($R137,TAXONOMY!$A$1:$G$959,4,FALSE))","v":""},{"$f":"IF(ISBLANK($R137)=TRUE,\"\",VLOOKUP($R137,TAXONOMY!$A$1:$G$959,3,FALSE))","v":""},{"$f":"IF(ISBLANK($R137)=TRUE,\"\",VLOOKUP($R137,TAXONOMY!$A$1:$H$959,2,FALSE))","v":""}]
[null,null,null,null,null,null,null,null,null,null,null,{"$f":"IF(ISBLANK($R138)=TRUE,\"\",VLOOKUP($R138,TAXONOMY!$A$1:$G$959,7,FALSE))","v":""},{"$f":"IF(ISBLANK($R138)=TRUE,\"\",VLOOKUP($R138,TAXONOMY!$A$1:$G$959,6,FALSE))","v":""},{"$f":"IF(ISBLANK($R138)=TRUE,\"\",VLOOKUP($R138,TAXONOMY!$A$1:$G$959,5,FALSE))","v":""},{"$f":"IF(ISBLANK($R138)=TRUE,\"\",VLOOKUP($R138,TAXONOMY!$A$1:$G$959,4,FALSE))","v":""},{"$f":"IF(ISBLANK($R138)=TRUE,\"\",VLOOKUP($R138,TAXONOMY!$A$1:$G$959,3,FALSE))","v":""},{"$f":"IF(ISBLANK($R138)=TRUE,\"\",VLOOKUP($R138,TAXONOMY!$A$1:$H$959,2,FALSE))","v":""}]
[null,null,null,null,null,null,null,null,null,null,null,{"$f":"IF(ISBLANK($R139)=TRUE,\"\",VLOOKUP($R139,TAXONOMY!$A$1:$G$959,7,FALSE))","v":""},{"$f":"IF(ISBLANK($R139)=TRUE,\"\",VLOOKUP($R139,TAXONOMY!$A$1:$G$959,6,FALSE))","v":""},{"$f":"IF(ISBLANK($R139)=TRUE,\"\",VLOOKUP($R139,TAXONOMY!$A$1:$G$959,5,FALSE))","v":""},{"$f":"IF(ISBLANK($R139)=TRUE,\"\",VLOOKUP($R139,TAXONOMY!$A$1:$G$959,4,FALSE))","v":""},{"$f":"IF(ISBLANK($R139)=TRUE,\"\",VLOOKUP($R139,TAXONOMY!$A$1:$G$959,3,FALSE))","v":""},{"$f":"IF(ISBLANK($R139)=TRUE,\"\",VLOOKUP($R139,TAXONOMY!$A$1:$H$959,2,FALSE))","v":""}]
[null,null,null,null,null,null,null,null,null,null,null,{"$f":"IF(ISBLANK($R140)=TRUE,\"\",VLOOKUP($R140,TAXONOMY!$A$1:$G$959,7,FALSE))","v":""},{"$f":"IF(ISBLANK($R140)=TRUE,\"\",VLOOKUP($R140,TAXONOMY!$A$1:$G$959,6,FALSE))","v":""},{"$f":"IF(ISBLANK($R140)=TRUE,\"\",VLOOKUP($R140,TAXONOMY!$A$1:$G$959,5,FALSE))","v":""},{"$f":"IF(ISBLANK($R140)=TRUE,\"\",VLOOKUP($R140,TAXONOMY!$A$1:$G$959,4,FALSE))","v":""},{"$f":"IF(ISBLANK($R140)=TRUE,\"\",VLOOKUP($R140,TAXONOMY!$A$1:$G$959,3,FALSE))","v":""},{"$f":"IF(ISBLANK($R140)=TRUE,\"\",VLOOKUP($R140,TAXONOMY!$A$1:$H$959,2,FALSE))","v":""}]
[null,null,null,null,null,null,null,null,null,null,null,{"$f":"IF(ISBLANK($R141)=TRUE,\"\",VLOOKUP($R141,TAXONOMY!$A$1:$G$959,7,FALSE))","v":""},{"$f":"IF(ISBLANK($R141)=TRUE,\"\",VLOOKUP($R141,TAXONOMY!$A$1:$G$959,6,FALSE))","v":""},{"$f":"IF(ISBLANK($R141)=TRUE,\"\",VLOOKUP($R141,TAXONOMY!$A$1:$G$959,5,FALSE))","v":""},{"$f":"IF(ISBLANK($R141)=TRUE,\"\",VLOOKUP($R141,TAXONOMY!$A$1:$G$959,4,FALSE))","v":""},{"$f":"IF(ISBLANK($R141)=TRUE,\"\",VLOOKUP($R141,TAXONOMY!$A$1:$G$959,3,FALSE))","v":""},{"$f":"IF(ISBLANK($R141)=TRUE,\"\",VLOOKUP($R141,TAXONOMY!$A$1:$H$959,2,FALSE))","v":""}]
[null,null,null,null,null,null,null,null,null,null,null,{"$f":"IF(ISBLANK($R142)=TRUE,\"\",VLOOKUP($R142,TAXONOMY!$A$1:$G$959,7,FALSE))","v":""},{"$f":"IF(ISBLANK($R142)=TRUE,\"\",VLOOKUP($R142,TAXONOMY!$A$1:$G$959,6,FALSE))","v":""},{"$f":"IF(ISBLANK($R142)=TRUE,\"\",VLOOKUP($R142,TAXONOMY!$A$1:$G$959,5,FALSE))","v":""},{"$f":"IF(ISBLANK($R142)=TRUE,\"\",VLOOKUP($R142,TAXONOMY!$A$1:$G$959,4,FALSE))","v":""},{"$f":"IF(ISBLANK($R142)=TRUE,\"\",VLOOKUP($R142,TAXONOMY!$A$1:$G$959,3,FALSE))","v":""},{"$f":"IF(ISBLANK($R142)=TRUE,\"\",VLOOKUP($R142,TAXONOMY!$A$1:$H$959,2,FALSE))","v":""}]
[null,null,null,null,null,null,null,null,null,null,null,{"$f":"IF(ISBLANK($R143)=TRUE,\"\",VLOOKUP($R143,TAXONOMY!$A$1:$G$959,7,FALSE))","v":""},{"$f":"IF(ISBLANK($R143)=TRUE,\"\",VLOOKUP($R143,TAXONOMY!$A$1:$G$959,6,FALSE))","v":""},{"$f":"IF(ISBLANK($R143)=TRUE,\"\",VLOOKUP($R143,TAXONOMY!$A$1:$G$959,5,FALSE))","v":""},{"$f":"IF(ISBLANK($R143)=TRUE,\"\",VLOOKUP($R143,TAXONOMY!$A$1:$G$959,4,FALSE))","v":""},{"$f":"IF(ISBLANK($R143)=TRUE,\"\",VLOOKUP($R143,TAXONOMY!$A$1:$G$959,3,FALSE))","v":""},{"$f":"IF(ISBLANK($R143)=TRUE,\"\",VLOOKUP($R143,TAXONOMY!$A$1:$H$959,2,FALSE))","v":""}]
[null,null,null,null,null,null,null,null,null,null,null,{"$f":"IF(ISBLANK($R144)=TRUE,\"\",VLOOKUP($R144,TAXONOMY!$A$1:$G$959,7,FALSE))","v":""},{"$f":"IF(ISBLANK($R144)=TRUE,\"\",VLOOKUP($R144,TAXONOMY!$A$1:$G$959,6,FALSE))","v":""},{"$f":"IF(ISBLANK($R144)=TRUE,\"\",VLOOKUP($R144,TAXONOMY!$A$1:$G$959,5,FALSE))","v":""},{"$f":"IF(ISBLANK($R144)=TRUE,\"\",VLOOKUP($R144,TAXONOMY!$A$1:$G$959,4,FALSE))","v":""},{"$f":"IF(ISBLANK($R144)=TRUE,\"\",VLOOKUP($R144,TAXONOMY!$A$1:$G$959,3,FALSE))","v":""},{"$f":"IF(ISBLANK($R144)=TRUE,\"\",VLOOKUP($R144,TAXONOMY!$A$1:$H$959,2,FALSE))","v":""}]
[null,null,null,null,null,null,null,null,null,null,null,{"$f":"IF(ISBLANK($R145)=TRUE,\"\",VLOOKUP($R145,TAXONOMY!$A$1:$G$959,7,FALSE))","v":""},{"$f":"IF(ISBLANK($R145)=TRUE,\"\",VLOOKUP($R145,TAXONOMY!$A$1:$G$959,6,FALSE))","v":""},{"$f":"IF(ISBLANK($R145)=TRUE,\"\",VLOOKUP($R145,TAXONOMY!$A$1:$G$959,5,FALSE))","v":""},{"$f":"IF(ISBLANK($R145)=TRUE,\"\",VLOOKUP($R145,TAXONOMY!$A$1:$G$959,4,FALSE))","v":""},{"$f":"IF(ISBLANK($R145)=TRUE,\"\",VLOOKUP($R145,TAXONOMY!$A$1:$G$959,3,FALSE))","v":""},{"$f":"IF(ISBLANK($R145)=TRUE,\"\",VLOOKUP($R145,TAXONOMY!$A$1:$H$959,2,FALSE))","v":""}]
[null,null,null,null,null,null,null,null,null,null,null,{"$f":"IF(ISBLANK($R146)=TRUE,\"\",VLOOKUP($R146,TAXONOMY!$A$1:$G$959,7,FALSE))","v":""},{"$f":"IF(ISBLANK($R146)=TRUE,\"\",VLOOKUP($R146,TAXONOMY!$A$1:$G$959,6,FALSE))","v":""},{"$f":"IF(ISBLANK($R146)=TRUE,\"\",VLOOKUP($R146,TAXONOMY!$A$1:$G$959,5,FALSE))","v":""},{"$f":"IF(ISBLANK($R146)=TRUE,\"\",VLOOKUP($R146,TAXONOMY!$A$1:$G$959,4,FALSE))","v":""},{"$f":"IF(ISBLANK($R146)=TRUE,\"\",VLOOKUP($R146,TAXONOMY!$A$1:$G$959,3,FALSE))","v":""},{"$f":"IF(ISBLANK($R146)=TRUE,\"\",VLOOKUP($R146,TAXONOMY!$A$1:$H$959,2,FALSE))","v":""}]
[null,null,null,null,null,null,null,null,null,null,null,{"$f":"IF(ISBLANK($R147)=TRUE,\"\",VLOOKUP($R147,TAXONOMY!$A$1:$G$959,7,FALSE))","v":""},{"$f":"IF(ISBLANK($R147)=TRUE,\"\",VLOOKUP($R147,TAXONOMY!$A$1:$G$959,6,FALSE))","v":""},{"$f":"IF(ISBLANK($R147)=TRUE,\"\",VLOOKUP($R147,TAXONOMY!$A$1:$G$959,5,FALSE))","v":""},{"$f":"IF(ISBLANK($R147)=TRUE,\"\",VLOOKUP($R147,TAXONOMY!$A$1:$G$959,4,FALSE))","v":""},{"$f":"IF(ISBLANK($R147)=TRUE,\"\",VLOOKUP($R147,TAXONOMY!$A$1:$G$959,3,FALSE))","v":""},{"$f":"IF(ISBLANK($R147)=TRUE,\"\",VLOOKUP($R147,TAXONOMY!$A$1:$H$959,2,FALSE))","v":""}]
[null,null,null,null,null,null,null,null,null,null,null,{"$f":"IF(ISBLANK($R148)=TRUE,\"\",VLOOKUP($R148,TAXONOMY!$A$1:$G$959,7,FALSE))","v":""},{"$f":"IF(ISBLANK($R148)=TRUE,\"\",VLOOKUP($R148,TAXONOMY!$A$1:$G$959,6,FALSE))","v":""},{"$f":"IF(ISBLANK($R148)=TRUE,\"\",VLOOKUP($R148,TAXONOMY!$A$1:$G$959,5,FALSE))","v":""},{"$f":"IF(ISBLANK($R148)=TRUE,\"\",VLOOKUP($R148,TAXONOMY!$A$1:$G$959,4,FALSE))","v":""},{"$f":"IF(ISBLANK($R148)=TRUE,\"\",VLOOKUP($R148,TAXONOMY!$A$1:$G$959,3,FALSE))","v":""},{"$f":"IF(ISBLANK($R148)=TRUE,\"\",VLOOKUP($R148,TAXONOMY!$A$1:$H$959,2,FALSE))","v":""}]
[null,null,null,null,null,null,null,null,null,null,null,{"$f":"IF(ISBLANK($R149)=TRUE,\"\",VLOOKUP($R149,TAXONOMY!$A$1:$G$959,7,FALSE))","v":""},{"$f":"IF(ISBLANK($R149)=TRUE,\"\",VLOOKUP($R149,TAXONOMY!$A$1:$G$959,6,FALSE))","v":""},{"$f":"IF(ISBLANK($R149)=TRUE,\"\",VLOOKUP($R149,TAXONOMY!$A$1:$G$959,5,FALSE))","v":""},{"$f":"IF(ISBLANK($R149)=TRUE,\"\",VLOOKUP($R149,TAXONOMY!$A$1:$G$959,4,FALSE))","v":""},{"$f":"IF(ISBLANK($R149)=TRUE,\"\",VLOOKUP($R149,TAXONOMY!$A$1:$G$959,3,FALSE))","v":""},{"$f":"IF(ISBLANK($R149)=TRUE,\"\",VLOOKUP($R149,TAXONOMY!$A$1:$H$959,2,FALSE))","v":""}]
[null,null,null,null,null,null,null,null,null,null,null,{"$f":"IF(ISBLANK($R150)=TRUE,\"\",VLOOKUP($R150,TAXONOMY!$A$1:$G$959,7,FALSE))","v":""},{"$f":"IF(ISBLANK($R150)=TRUE,\"\",VLOOKUP($R150,TAXONOMY!$A$1:$G$959,6,FALSE))","v":""},{"$f":"IF(ISBLANK($R150)=TRUE,\"\",VLOOKUP($R150,TAXONOMY!$A$1:$G$959,5,FALSE))","v":""},{"$f":"IF(ISBLANK($R150)=TRUE,\"\",VLOOKUP($R150,TAXONOMY!$A$1:$G$959,4,FALSE))","v":""},{"$f":"IF(ISBLANK($R150)=TRUE,\"\",VLOOKUP($R150,TAXONOMY!$A$1:$G$959,3,FALSE))","v":""},{"$f":"IF(ISBLANK($R150)=TRUE,\"\",VLOOKUP($R150,TAXONOMY!$A$1:$H$959,2,FALSE))","v":""}]
[null,null,null,null,null,null,null,null,null,null,null,{"$f":"IF(ISBLANK($R151)=TRUE,\"\",VLOOKUP($R151,TAXONOMY!$A$1:$G$959,7,FALSE))","v":""},{"$f":"IF(ISBLANK($R151)=TRUE,\"\",VLOOKUP($R151,TAXONOMY!$A$1:$G$959,6,FALSE))","v":""},{"$f":"IF(ISBLANK($R151)=TRUE,\"\",VLOOKUP($R151,TAXONOMY!$A$1:$G$959,5,FALSE))","v":""},{"$f":"IF(ISBLANK($R151)=TRUE,\"\",VLOOKUP($R151,TAXONOMY!$A$1:$G$959,4,FALSE))","v":""},{"$f":"IF(ISBLANK($R151)=TRUE,\"\",VLOOKUP($R151,TAXONOMY!$A$1:$G$959,3,FALSE))","v":""},{"$f":"IF(ISBLANK($R151)=TRUE,\"\",VLOOKUP($R151,TAXONOMY!$A$1:$H$959,2,FALSE))","v":""}]
[null,null,null,null,null,null,null,null,null,null,null,{"$f":"IF(ISBLANK($R152)=TRUE,\"\",VLOOKUP($R152,TAXONOMY!$A$1:$G$959,7,FALSE))","v":""},{"$f":"IF(ISBLANK($R152)=TRUE,\"\",VLOOKUP($R152,TAXONOMY!$A$1:$G$959,6,FALSE))","v":""},{"$f":"IF(ISBLANK($R152)=TRUE,\"\",VLOOKUP($R152,TAXONOMY!$A$1:$G$959,5,FALSE))","v":""},{"$f":"IF(ISBLANK($R152)=TRUE,\"\",VLOOKUP($R152,TAXONOMY!$A$1:$G$959,4,FALSE))","v":""},{"$f":"IF(ISBLANK($R152)=TRUE,\"\",VLOOKUP($R152,TAXONOMY!$A$1:$G$959,3,FALSE))","v":""},{"$f":"IF(ISBLANK($R152)=TRUE,\"\",VLOOKUP($R152,TAXONOMY!$A$1:$H$959,2,FALSE))","v":""}]
[null,null,null,null,null,null,null,null,null,null,null,{"$f":"IF(ISBLANK($R153)=TRUE,\"\",VLOOKUP($R153,TAXONOMY!$A$1:$G$959,7,FALSE))","v":""},{"$f":"IF(ISBLANK($R153)=TRUE,\"\",VLOOKUP($R153,TAXONOMY!$A$1:$G$959,6,FALSE))","v":""},{"$f":"IF(ISBLANK($R153)=TRUE,\"\",VLOOKUP($R153,TAXONOMY!$A$1:$G$959,5,FALSE))","v":""},{"$f":"IF(ISBLANK($R153)=TRUE,\"\",VLOOKUP($R153,TAXONOMY!$A$1:$G$959,4,FALSE))","v":""},{"$f":"IF(ISBLANK($R153)=TRUE,\"\",VLOOKUP($R153,TAXONOMY!$A$1:$G$959,3,FALSE))","v":""},{"$f":"IF(ISBLANK($R153)=TRUE,\"\",VLOOKUP($R153,TAXONOMY!$A$1:$H$959,2,FALSE))","v":""}]
[null,null,null,null,null,null,null,null,null,null,null,{"$f":"IF(ISBLANK($R154)=TRUE,\"\",VLOOKUP($R154,TAXONOMY!$A$1:$G$959,7,FALSE))","v":""},{"$f":"IF(ISBLANK($R154)=TRUE,\"\",VLOOKUP($R154,TAXONOMY!$A$1:$G$959,6,FALSE))","v":""},{"$f":"IF(ISBLANK($R154)=TRUE,\"\",VLOOKUP($R154,TAXONOMY!$A$1:$G$959,5,FALSE))","v":""},{"$f":"IF(ISBLANK($R154)=TRUE,\"\",VLOOKUP($R154,TAXONOMY!$A$1:$G$959,4,FALSE))","v":""},{"$f":"IF(ISBLANK($R154)=TRUE,\"\",VLOOKUP($R154,TAXONOMY!$A$1:$G$959,3,FALSE))","v":""},{"$f":"IF(ISBLANK($R154)=TRUE,\"\",VLOOKUP($R154,TAXONOMY!$A$1:$H$959,2,FALSE))","v":""}]
[null,null,null,null,null,null,null,null,null,null,null,{"$f":"IF(ISBLANK($R155)=TRUE,\"\",VLOOKUP($R155,TAXONOMY!$A$1:$G$959,7,FALSE))","v":""},{"$f":"IF(ISBLANK($R155)=TRUE,\"\",VLOOKUP($R155,TAXONOMY!$A$1:$G$959,6,FALSE))","v":""},{"$f":"IF(ISBLANK($R155)=TRUE,\"\",VLOOKUP($R155,TAXONOMY!$A$1:$G$959,5,FALSE))","v":""},{"$f":"IF(ISBLANK($R155)=TRUE,\"\",VLOOKUP($R155,TAXONOMY!$A$1:$G$959,4,FALSE))","v":""},{"$f":"IF(ISBLANK($R155)=TRUE,\"\",VLOOKUP($R155,TAXONOMY!$A$1:$G$959,3,FALSE))","v":""},{"$f":"IF(ISBLANK($R155)=TRUE,\"\",VLOOKUP($R155,TAXONOMY!$A$1:$H$959,2,FALSE))","v":""}]
[null,null,null,null,null,null,null,null,null,null,null,{"$f":"IF(ISBLANK($R156)=TRUE,\"\",VLOOKUP($R156,TAXONOMY!$A$1:$G$959,7,FALSE))","v":""},{"$f":"IF(ISBLANK($R156)=TRUE,\"\",VLOOKUP($R156,TAXONOMY!$A$1:$G$959,6,FALSE))","v":""},{"$f":"IF(ISBLANK($R156)=TRUE,\"\",VLOOKUP($R156,TAXONOMY!$A$1:$G$959,5,FALSE))","v":""},{"$f":"IF(ISBLANK($R156)=TRUE,\"\",VLOOKUP($R156,TAXONOMY!$A$1:$G$959,4,FALSE))","v":""},{"$f":"IF(ISBLANK($R156)=TRUE,\"\",VLOOKUP($R156,TAXONOMY!$A$1:$G$959,3,FALSE))","v":""},{"$f":"IF(ISBLANK($R156)=TRUE,\"\",VLOOKUP($R156,TAXONOMY!$A$1:$H$959,2,FALSE))","v":""}]
[null,null,null,null,null,null,null,null,null,null,null,{"$f":"IF(ISBLANK($R157)=TRUE,\"\",VLOOKUP($R157,TAXONOMY!$A$1:$G$959,7,FALSE))","v":""},{"$f":"IF(ISBLANK($R157)=TRUE,\"\",VLOOKUP($R157,TAXONOMY!$A$1:$G$959,6,FALSE))","v":""},{"$f":"IF(ISBLANK($R157)=TRUE,\"\",VLOOKUP($R157,TAXONOMY!$A$1:$G$959,5,FALSE))","v":""},{"$f":"IF(ISBLANK($R157)=TRUE,\"\",VLOOKUP($R157,TAXONOMY!$A$1:$G$959,4,FALSE))","v":""},{"$f":"IF(ISBLANK($R157)=TRUE,\"\",VLOOKUP($R157,TAXONOMY!$A$1:$G$959,3,FALSE))","v":""},{"$f":"IF(ISBLANK($R157)=TRUE,\"\",VLOOKUP($R157,TAXONOMY!$A$1:$H$959,2,FALSE))","v":""}]
[null,null,null,null,null,null,null,null,null,null,null,{"$f":"IF(ISBLANK($R158)=TRUE,\"\",VLOOKUP($R158,TAXONOMY!$A$1:$G$959,7,FALSE))","v":""},{"$f":"IF(ISBLANK($R158)=TRUE,\"\",VLOOKUP($R158,TAXONOMY!$A$1:$G$959,6,FALSE))","v":""},{"$f":"IF(ISBLANK($R158)=TRUE,\"\",VLOOKUP($R158,TAXONOMY!$A$1:$G$959,5,FALSE))","v":""},{"$f":"IF(ISBLANK($R158)=TRUE,\"\",VLOOKUP($R158,TAXONOMY!$A$1:$G$959,4,FALSE))","v":""},{"$f":"IF(ISBLANK($R158)=TRUE,\"\",VLOOKUP($R158,TAXONOMY!$A$1:$G$959,3,FALSE))","v":""},{"$f":"IF(ISBLANK($R158)=TRUE,\"\",VLOOKUP($R158,TAXONOMY!$A$1:$H$959,2,FALSE))","v":""}]
[null,null,null,null,null,null,null,null,null,null,null,{"$f":"IF(ISBLANK($R159)=TRUE,\"\",VLOOKUP($R159,TAXONOMY!$A$1:$G$959,7,FALSE))","v":""},{"$f":"IF(ISBLANK($R159)=TRUE,\"\",VLOOKUP($R159,TAXONOMY!$A$1:$G$959,6,FALSE))","v":""},{"$f":"IF(ISBLANK($R159)=TRUE,\"\",VLOOKUP($R159,TAXONOMY!$A$1:$G$959,5,FALSE))","v":""},{"$f":"IF(ISBLANK($R159)=TRUE,\"\",VLOOKUP($R159,TAXONOMY!$A$1:$G$959,4,FALSE))","v":""},{"$f":"IF(ISBLANK($R159)=TRUE,\"\",VLOOKUP($R159,TAXONOMY!$A$1:$G$959,3,FALSE))","v":""},{"$f":"IF(ISBLANK($R159)=TRUE,\"\",VLOOKUP($R159,TAXONOMY!$A$1:$H$959,2,FALSE))","v":""}]
[null,null,null,null,null,null,null,null,null,null,null,{"$f":"IF(ISBLANK($R160)=TRUE,\"\",VLOOKUP($R160,TAXONOMY!$A$1:$G$959,7,FALSE))","v":""},{"$f":"IF(ISBLANK($R160)=TRUE,\"\",VLOOKUP($R160,TAXONOMY!$A$1:$G$959,6,FALSE))","v":""},{"$f":"IF(ISBLANK($R160)=TRUE,\"\",VLOOKUP($R160,TAXONOMY!$A$1:$G$959,5,FALSE))","v":""},{"$f":"IF(ISBLANK($R160)=TRUE,\"\",VLOOKUP($R160,TAXONOMY!$A$1:$G$959,4,FALSE))","v":""},{"$f":"IF(ISBLANK($R160)=TRUE,\"\",VLOOKUP($R160,TAXONOMY!$A$1:$G$959,3,FALSE))","v":""},{"$f":"IF(ISBLANK($R160)=TRUE,\"\",VLOOKUP($R160,TAXONOMY!$A$1:$H$959,2,FALSE))","v":""}]
[null,null,null,null,null,null,null,null,null,null,null,{"$f":"IF(ISBLANK($R161)=TRUE,\"\",VLOOKUP($R161,TAXONOMY!$A$1:$G$959,7,FALSE))","v":""},{"$f":"IF(ISBLANK($R161)=TRUE,\"\",VLOOKUP($R161,TAXONOMY!$A$1:$G$959,6,FALSE))","v":""},{"$f":"IF(ISBLANK($R161)=TRUE,\"\",VLOOKUP($R161,TAXONOMY!$A$1:$G$959,5,FALSE))","v":""},{"$f":"IF(ISBLANK($R161)=TRUE,\"\",VLOOKUP($R161,TAXONOMY!$A$1:$G$959,4,FALSE))","v":""},{"$f":"IF(ISBLANK($R161)=TRUE,\"\",VLOOKUP($R161,TAXONOMY!$A$1:$G$959,3,FALSE))","v":""},{"$f":"IF(ISBLANK($R161)=TRUE,\"\",VLOOKUP($R161,TAXONOMY!$A$1:$H$959,2,FALSE))","v":""}]
[null,null,null,null,null,null,null,null,null,null,null,{"$f":"IF(ISBLANK($R162)=TRUE,\"\",VLOOKUP($R162,TAXONOMY!$A$1:$G$959,7,FALSE))","v":""},{"$f":"IF(ISBLANK($R162)=TRUE,\"\",VLOOKUP($R162,TAXONOMY!$A$1:$G$959,6,FALSE))","v":""},{"$f":"IF(ISBLANK($R162)=TRUE,\"\",VLOOKUP($R162,TAXONOMY!$A$1:$G$959,5,FALSE))","v":""},{"$f":"IF(ISBLANK($R162)=TRUE,\"\",VLOOKUP($R162,TAXONOMY!$A$1:$G$959,4,FALSE))","v":""},{"$f":"IF(ISBLANK($R162)=TRUE,\"\",VLOOKUP($R162,TAXONOMY!$A$1:$G$959,3,FALSE))","v":""},{"$f":"IF(ISBLANK($R162)=TRUE,\"\",VLOOKUP($R162,TAXONOMY!$A$1:$H$959,2,FALSE))","v":""}]
[null,null,null,null,null,null,null,null,null,null,null,{"$f":"IF(ISBLANK($R163)=TRUE,\"\",VLOOKUP($R163,TAXONOMY!$A$1:$G$959,7,FALSE))","v":""},{"$f":"IF(ISBLANK($R163)=TRUE,\"\",VLOOKUP($R163,TAXONOMY!$A$1:$G$959,6,FALSE))","v":""},{"$f":"IF(ISBLANK($R163)=TRUE,\"\",VLOOKUP($R163,TAXONOMY!$A$1:$G$959,5,FALSE))","v":""},{"$f":"IF(ISBLANK($R163)=TRUE,\"\",VLOOKUP($R163,TAXONOMY!$A$1:$G$959,4,FALSE))","v":""},{"$f":"IF(ISBLANK($R163)=TRUE,\"\",VLOOKUP($R163,TAXONOMY!$A$1:$G$959,3,FALSE))","v":""},{"$f":"IF(ISBLANK($R163)=TRUE,\"\",VLOOKUP($R163,TAXONOMY!$A$1:$H$959,2,FALSE))","v":""}]
[null,null,null,null,null,null,null,null,null,null,null,{"$f":"IF(ISBLANK($R164)=TRUE,\"\",VLOOKUP($R164,TAXONOMY!$A$1:$G$959,7,FALSE))","v":""},{"$f":"IF(ISBLANK($R164)=TRUE,\"\",VLOOKUP($R164,TAXONOMY!$A$1:$G$959,6,FALSE))","v":""},{"$f":"IF(ISBLANK($R164)=TRUE,\"\",VLOOKUP($R164,TAXONOMY!$A$1:$G$959,5,FALSE))","v":""},{"$f":"IF(ISBLANK($R164)=TRUE,\"\",VLOOKUP($R164,TAXONOMY!$A$1:$G$959,4,FALSE))","v":""},{"$f":"IF(ISBLANK($R164)=TRUE,\"\",VLOOKUP($R164,TAXONOMY!$A$1:$G$959,3,FALSE))","v":""},{"$f":"IF(ISBLANK($R164)=TRUE,\"\",VLOOKUP($R164,TAXONOMY!$A$1:$H$959,2,FALSE))","v":""}]
[null,null,null,null,null,null,null,null,null,null,null,{"$f":"IF(ISBLANK($R165)=TRUE,\"\",VLOOKUP($R165,TAXONOMY!$A$1:$G$959,7,FALSE))","v":""},{"$f":"IF(ISBLANK($R165)=TRUE,\"\",VLOOKUP($R165,TAXONOMY!$A$1:$G$959,6,FALSE))","v":""},{"$f":"IF(ISBLANK($R165)=TRUE,\"\",VLOOKUP($R165,TAXONOMY!$A$1:$G$959,5,FALSE))","v":""},{"$f":"IF(ISBLANK($R165)=TRUE,\"\",VLOOKUP($R165,TAXONOMY!$A$1:$G$959,4,FALSE))","v":""},{"$f":"IF(ISBLANK($R165)=TRUE,\"\",VLOOKUP($R165,TAXONOMY!$A$1:$G$959,3,FALSE))","v":""},{"$f":"IF(ISBLANK($R165)=TRUE,\"\",VLOOKUP($R165,TAXONOMY!$A$1:$H$959,2,FALSE))","v":""}]
[null,null,null,null,null,null,null,null,null,null,null,{"$f":"IF(ISBLANK($R166)=TRUE,\"\",VLOOKUP($R166,TAXONOMY!$A$1:$G$959,7,FALSE))","v":""},{"$f":"IF(ISBLANK($R166)=TRUE,\"\",VLOOKUP($R166,TAXONOMY!$A$1:$G$959,6,FALSE))","v":""},{"$f":"IF(ISBLANK($R166)=TRUE,\"\",VLOOKUP($R166,TAXONOMY!$A$1:$G$959,5,FALSE))","v":""},{"$f":"IF(ISBLANK($R166)=TRUE,\"\",VLOOKUP($R166,TAXONOMY!$A$1:$G$959,4,FALSE))","v":""},{"$f":"IF(ISBLANK($R166)=TRUE,\"\",VLOOKUP($R166,TAXONOMY!$A$1:$G$959,3,FALSE))","v":""},{"$f":"IF(ISBLANK($R166)=TRUE,\"\",VLOOKUP($R166,TAXONOMY!$A$1:$H$959,2,FALSE))","v":""}]
[null,null,null,null,null,null,null,null,null,null,null,{"$f":"IF(ISBLANK($R167)=TRUE,\"\",VLOOKUP($R167,TAXONOMY!$A$1:$G$959,7,FALSE))","v":""},{"$f":"IF(ISBLANK($R167)=TRUE,\"\",VLOOKUP($R167,TAXONOMY!$A$1:$G$959,6,FALSE))","v":""},{"$f":"IF(ISBLANK($R167)=TRUE,\"\",VLOOKUP($R167,TAXONOMY!$A$1:$G$959,5,FALSE))","v":""},{"$f":"IF(ISBLANK($R167)=TRUE,\"\",VLOOKUP($R167,TAXONOMY!$A$1:$G$959,4,FALSE))","v":""},{"$f":"IF(ISBLANK($R167)=TRUE,\"\",VLOOKUP($R167,TAXONOMY!$A$1:$G$959,3,FALSE))","v":""},{"$f":"IF(ISBLANK($R167)=TRUE,\"\",VLOOKUP($R167,TAXONOMY!$A$1:$H$959,2,FALSE))","v":""}]
[null,null,null,null,null,null,null,null,null,null,null,{"$f":"IF(ISBLANK($R168)=TRUE,\"\",VLOOKUP($R168,TAXONOMY!$A$1:$G$959,7,FALSE))","v":""},{"$f":"IF(ISBLANK($R168)=TRUE,\"\",VLOOKUP($R168,TAXONOMY!$A$1:$G$959,6,FALSE))","v":""},{"$f":"IF(ISBLANK($R168)=TRUE,\"\",VLOOKUP($R168,TAXONOMY!$A$1:$G$959,5,FALSE))","v":""},{"$f":"IF(ISBLANK($R168)=TRUE,\"\",VLOOKUP($R168,TAXONOMY!$A$1:$G$959,4,FALSE))","v":""},{"$f":"IF(ISBLANK($R168)=TRUE,\"\",VLOOKUP($R168,TAXONOMY!$A$1:$G$959,3,FALSE))","v":""},{"$f":"IF(ISBLANK($R168)=TRUE,\"\",VLOOKUP($R168,TAXONOMY!$A$1:$H$959,2,FALSE))","v":""}]
[null,null,null,null,null,null,null,null,null,null,null,{"$f":"IF(ISBLANK($R169)=TRUE,\"\",VLOOKUP($R169,TAXONOMY!$A$1:$G$959,7,FALSE))","v":""},{"$f":"IF(ISBLANK($R169)=TRUE,\"\",VLOOKUP($R169,TAXONOMY!$A$1:$G$959,6,FALSE))","v":""},{"$f":"IF(ISBLANK($R169)=TRUE,\"\",VLOOKUP($R169,TAXONOMY!$A$1:$G$959,5,FALSE))","v":""},{"$f":"IF(ISBLANK($R169)=TRUE,\"\",VLOOKUP($R169,TAXONOMY!$A$1:$G$959,4,FALSE))","v":""},{"$f":"IF(ISBLANK($R169)=TRUE,\"\",VLOOKUP($R169,TAXONOMY!$A$1:$G$959,3,FALSE))","v":""},{"$f":"IF(ISBLANK($R169)=TRUE,\"\",VLOOKUP($R169,TAXONOMY!$A$1:$H$959,2,FALSE))","v":""}]
[null,null,null,null,null,null,null,null,null,null,null,{"$f":"IF(ISBLANK($R170)=TRUE,\"\",VLOOKUP($R170,TAXONOMY!$A$1:$G$959,7,FALSE))","v":""},{"$f":"IF(ISBLANK($R170)=TRUE,\"\",VLOOKUP($R170,TAXONOMY!$A$1:$G$959,6,FALSE))","v":""},{"$f":"IF(ISBLANK($R170)=TRUE,\"\",VLOOKUP($R170,TAXONOMY!$A$1:$G$959,5,FALSE))","v":""},{"$f":"IF(ISBLANK($R170)=TRUE,\"\",VLOOKUP($R170,TAXONOMY!$A$1:$G$959,4,FALSE))","v":""},{"$f":"IF(ISBLANK($R170)=TRUE,\"\",VLOOKUP($R170,TAXONOMY!$A$1:$G$959,3,FALSE))","v":""},{"$f":"IF(ISBLANK($R170)=TRUE,\"\",VLOOKUP($R170,TAXONOMY!$A$1:$H$959,2,FALSE))","v":""}]
[null,null,null,null,null,null,null,null,null,null,null,{"$f":"IF(ISBLANK($R171)=TRUE,\"\",VLOOKUP($R171,TAXONOMY!$A$1:$G$959,7,FALSE))","v":""},{"$f":"IF(ISBLANK($R171)=TRUE,\"\",VLOOKUP($R171,TAXONOMY!$A$1:$G$959,6,FALSE))","v":""},{"$f":"IF(ISBLANK($R171)=TRUE,\"\",VLOOKUP($R171,TAXONOMY!$A$1:$G$959,5,FALSE))","v":""},{"$f":"IF(ISBLANK($R171)=TRUE,\"\",VLOOKUP($R171,TAXONOMY!$A$1:$G$959,4,FALSE))","v":""},{"$f":"IF(ISBLANK($R171)=TRUE,\"\",VLOOKUP($R171,TAXONOMY!$A$1:$G$959,3,FALSE))","v":""},{"$f":"IF(ISBLANK($R171)=TRUE,\"\",VLOOKUP($R171,TAXONOMY!$A$1:$H$959,2,FALSE))","v":""}]
[null,null,null,null,null,null,null,null,null,null,null,{"$f":"IF(ISBLANK($R172)=TRUE,\"\",VLOOKUP($R172,TAXONOMY!$A$1:$G$959,7,FALSE))","v":""},{"$f":"IF(ISBLANK($R172)=TRUE,\"\",VLOOKUP($R172,TAXONOMY!$A$1:$G$959,6,FALSE))","v":""},{"$f":"IF(ISBLANK($R172)=TRUE,\"\",VLOOKUP($R172,TAXONOMY!$A$1:$G$959,5,FALSE))","v":""},{"$f":"IF(ISBLANK($R172)=TRUE,\"\",VLOOKUP($R172,TAXONOMY!$A$1:$G$959,4,FALSE))","v":""},{"$f":"IF(ISBLANK($R172)=TRUE,\"\",VLOOKUP($R172,TAXONOMY!$A$1:$G$959,3,FALSE))","v":""},{"$f":"IF(ISBLANK($R172)=TRUE,\"\",VLOOKUP($R172,TAXONOMY!$A$1:$H$959,2,FALSE))","v":""}]
[null,null,null,null,null,null,null,null,null,null,null,{"$f":"IF(ISBLANK($R173)=TRUE,\"\",VLOOKUP($R173,TAXONOMY!$A$1:$G$959,7,FALSE))","v":""},{"$f":"IF(ISBLANK($R173)=TRUE,\"\",VLOOKUP($R173,TAXONOMY!$A$1:$G$959,6,FALSE))","v":""},{"$f":"IF(ISBLANK($R173)=TRUE,\"\",VLOOKUP($R173,TAXONOMY!$A$1:$G$959,5,FALSE))","v":""},{"$f":"IF(ISBLANK($R173)=TRUE,\"\",VLOOKUP($R173,TAXONOMY!$A$1:$G$959,4,FALSE))","v":""},{"$f":"IF(ISBLANK($R173)=TRUE,\"\",VLOOKUP($R173,TAXONOMY!$A$1:$G$959,3,FALSE))","v":""},{"$f":"IF(ISBLANK($R173)=TRUE,\"\",VLOOKUP($R173,TAXONOMY!$A$1:$H$959,2,FALSE))","v":""}]
[null,null,null,null,null,null,null,null,null,null,null,{"$f":"IF(ISBLANK($R174)=TRUE,\"\",VLOOKUP($R174,TAXONOMY!$A$1:$G$959,7,FALSE))","v":""},{"$f":"IF(ISBLANK($R174)=TRUE,\"\",VLOOKUP($R174,TAXONOMY!$A$1:$G$959,6,FALSE))","v":""},{"$f":"IF(ISBLANK($R174)=TRUE,\"\",VLOOKUP($R174,TAXONOMY!$A$1:$G$959,5,FALSE))","v":""},{"$f":"IF(ISBLANK($R174)=TRUE,\"\",VLOOKUP($R174,TAXONOMY!$A$1:$G$959,4,FALSE))","v":""},{"$f":"IF(ISBLANK($R174)=TRUE,\"\",VLOOKUP($R174,TAXONOMY!$A$1:$G$959,3,FALSE))","v":""},{"$f":"IF(ISBLANK($R174)=TRUE,\"\",VLOOKUP($R174,TAXONOMY!$A$1:$H$959,2,FALSE))","v":""}]
[null,null,null,null,null,null,null,null,null,null,null,{"$f":"IF(ISBLANK($R175)=TRUE,\"\",VLOOKUP($R175,TAXONOMY!$A$1:$G$959,7,FALSE))","v":""},{"$f":"IF(ISBLANK($R175)=TRUE,\"\",VLOOKUP($R175,TAXONOMY!$A$1:$G$959,6,FALSE))","v":""},{"$f":"IF(ISBLANK($R175)=TRUE,\"\",VLOOKUP($R175,TAXONOMY!$A$1:$G$959,5,FALSE))","v":""},{"$f":"IF(ISBLANK($R175)=TRUE,\"\",VLOOKUP($R175,TAXONOMY!$A$1:$G$959,4,FALSE))","v":""},{"$f":"IF(ISBLANK($R175)=TRUE,\"\",VLOOKUP($R175,TAXONOMY!$A$1:$G$959,3,FALSE))","v":""},{"$f":"IF(ISBLANK($R175)=TRUE,\"\",VLOOKUP($R175,TAXONOMY!$A$1:$H$959,2,FALSE))","v":""}]
[null,null,null,null,null,null,null,null,null,null,null,{"$f":"IF(ISBLANK($R176)=TRUE,\"\",VLOOKUP($R176,TAXONOMY!$A$1:$G$959,7,FALSE))","v":""},{"$f":"IF(ISBLANK($R176)=TRUE,\"\",VLOOKUP($R176,TAXONOMY!$A$1:$G$959,6,FALSE))","v":""},{"$f":"IF(ISBLANK($R176)=TRUE,\"\",VLOOKUP($R176,TAXONOMY!$A$1:$G$959,5,FALSE))","v":""},{"$f":"IF(ISBLANK($R176)=TRUE,\"\",VLOOKUP($R176,TAXONOMY!$A$1:$G$959,4,FALSE))","v":""},{"$f":"IF(ISBLANK($R176)=TRUE,\"\",VLOOKUP($R176,TAXONOMY!$A$1:$G$959,3,FALSE))","v":""},{"$f":"IF(ISBLANK($R176)=TRUE,\"\",VLOOKUP($R176,TAXONOMY!$A$1:$H$959,2,FALSE))","v":""}]
[null,null,null,null,null,null,null,null,null,null,null,{"$f":"IF(ISBLANK($R177)=TRUE,\"\",VLOOKUP($R177,TAXONOMY!$A$1:$G$959,7,FALSE))","v":""},{"$f":"IF(ISBLANK($R177)=TRUE,\"\",VLOOKUP($R177,TAXONOMY!$A$1:$G$959,6,FALSE))","v":""},{"$f":"IF(ISBLANK($R177)=TRUE,\"\",VLOOKUP($R177,TAXONOMY!$A$1:$G$959,5,FALSE))","v":""},{"$f":"IF(ISBLANK($R177)=TRUE,\"\",VLOOKUP($R177,TAXONOMY!$A$1:$G$959,4,FALSE))","v":""},{"$f":"IF(ISBLANK($R177)=TRUE,\"\",VLOOKUP($R177,TAXONOMY!$A$1:$G$959,3,FALSE))","v":""},{"$f":"IF(ISBLANK($R177)=TRUE,\"\",VLOOKUP($R177,TAXONOMY!$A$1:$H$959,2,FALSE))","v":""}]
[null,null,null,null,null,null,null,null,null,null,null,{"$f":"IF(ISBLANK($R178)=TRUE,\"\",VLOOKUP($R178,TAXONOMY!$A$1:$G$959,7,FALSE))","v":""},{"$f":"IF(ISBLANK($R178)=TRUE,\"\",VLOOKUP($R178,TAXONOMY!$A$1:$G$959,6,FALSE))","v":""},{"$f":"IF(ISBLANK($R178)=TRUE,\"\",VLOOKUP($R178,TAXONOMY!$A$1:$G$959,5,FALSE))","v":""},{"$f":"IF(ISBLANK($R178)=TRUE,\"\",VLOOKUP($R178,TAXONOMY!$A$1:$G$959,4,FALSE))","v":""},{"$f":"IF(ISBLANK($R178)=TRUE,\"\",VLOOKUP($R178,TAXONOMY!$A$1:$G$959,3,FALSE))","v":""},{"$f":"IF(ISBLANK($R178)=TRUE,\"\",VLOOKUP($R178,TAXONOMY!$A$1:$H$959,2,FALSE))","v":""}]
[null,null,null,null,null,null,null,null,null,null,null,{"$f":"IF(ISBLANK($R179)=TRUE,\"\",VLOOKUP($R179,TAXONOMY!$A$1:$G$959,7,FALSE))","v":""},{"$f":"IF(ISBLANK($R179)=TRUE,\"\",VLOOKUP($R179,TAXONOMY!$A$1:$G$959,6,FALSE))","v":""},{"$f":"IF(ISBLANK($R179)=TRUE,\"\",VLOOKUP($R179,TAXONOMY!$A$1:$G$959,5,FALSE))","v":""},{"$f":"IF(ISBLANK($R179)=TRUE,\"\",VLOOKUP($R179,TAXONOMY!$A$1:$G$959,4,FALSE))","v":""},{"$f":"IF(ISBLANK($R179)=TRUE,\"\",VLOOKUP($R179,TAXONOMY!$A$1:$G$959,3,FALSE))","v":""},{"$f":"IF(ISBLANK($R179)=TRUE,\"\",VLOOKUP($R179,TAXONOMY!$A$1:$H$959,2,FALSE))","v":""}]
[null,null,null,null,null,null,null,null,null,null,null,{"$f":"IF(ISBLANK($R180)=TRUE,\"\",VLOOKUP($R180,TAXONOMY!$A$1:$G$959,7,FALSE))","v":""},{"$f":"IF(ISBLANK($R180)=TRUE,\"\",VLOOKUP($R180,TAXONOMY!$A$1:$G$959,6,FALSE))","v":""},{"$f":"IF(ISBLANK($R180)=TRUE,\"\",VLOOKUP($R180,TAXONOMY!$A$1:$G$959,5,FALSE))","v":""},{"$f":"IF(ISBLANK($R180)=TRUE,\"\",VLOOKUP($R180,TAXONOMY!$A$1:$G$959,4,FALSE))","v":""},{"$f":"IF(ISBLANK($R180)=TRUE,\"\",VLOOKUP($R180,TAXONOMY!$A$1:$G$959,3,FALSE))","v":""},{"$f":"IF(ISBLANK($R180)=TRUE,\"\",VLOOKUP($R180,TAXONOMY!$A$1:$H$959,2,FALSE))","v":""}]
[null,null,null,null,null,null,null,null,null,null,null,{"$f":"IF(ISBLANK($R181)=TRUE,\"\",VLOOKUP($R181,TAXONOMY!$A$1:$G$959,7,FALSE))","v":""},{"$f":"IF(ISBLANK($R181)=TRUE,\"\",VLOOKUP($R181,TAXONOMY!$A$1:$G$959,6,FALSE))","v":""},{"$f":"IF(ISBLANK($R181)=TRUE,\"\",VLOOKUP($R181,TAXONOMY!$A$1:$G$959,5,FALSE))","v":""},{"$f":"IF(ISBLANK($R181)=TRUE,\"\",VLOOKUP($R181,TAXONOMY!$A$1:$G$959,4,FALSE))","v":""},{"$f":"IF(ISBLANK($R181)=TRUE,\"\",VLOOKUP($R181,TAXONOMY!$A$1:$G$959,3,FALSE))","v":""},{"$f":"IF(ISBLANK($R181)=TRUE,\"\",VLOOKUP($R181,TAXONOMY!$A$1:$H$959,2,FALSE))","v":""}]
[null,null,null,null,null,null,null,null,null,null,null,{"$f":"IF(ISBLANK($R182)=TRUE,\"\",VLOOKUP($R182,TAXONOMY!$A$1:$G$959,7,FALSE))","v":""},{"$f":"IF(ISBLANK($R182)=TRUE,\"\",VLOOKUP($R182,TAXONOMY!$A$1:$G$959,6,FALSE))","v":""},{"$f":"IF(ISBLANK($R182)=TRUE,\"\",VLOOKUP($R182,TAXONOMY!$A$1:$G$959,5,FALSE))","v":""},{"$f":"IF(ISBLANK($R182)=TRUE,\"\",VLOOKUP($R182,TAXONOMY!$A$1:$G$959,4,FALSE))","v":""},{"$f":"IF(ISBLANK($R182)=TRUE,\"\",VLOOKUP($R182,TAXONOMY!$A$1:$G$959,3,FALSE))","v":""},{"$f":"IF(ISBLANK($R182)=TRUE,\"\",VLOOKUP($R182,TAXONOMY!$A$1:$H$959,2,FALSE))","v":""}]
[null,null,null,null,null,null,null,null,null,null,null,{"$f":"IF(ISBLANK($R183)=TRUE,\"\",VLOOKUP($R183,TAXONOMY!$A$1:$G$959,7,FALSE))","v":""},{"$f":"IF(ISBLANK($R183)=TRUE,\"\",VLOOKUP($R183,TAXONOMY!$A$1:$G$959,6,FALSE))","v":""},{"$f":"IF(ISBLANK($R183)=TRUE,\"\",VLOOKUP($R183,TAXONOMY!$A$1:$G$959,5,FALSE))","v":""},{"$f":"IF(ISBLANK($R183)=TRUE,\"\",VLOOKUP($R183,TAXONOMY!$A$1:$G$959,4,FALSE))","v":""},{"$f":"IF(ISBLANK($R183)=TRUE,\"\",VLOOKUP($R183,TAXONOMY!$A$1:$G$959,3,FALSE))","v":""},{"$f":"IF(ISBLANK($R183)=TRUE,\"\",VLOOKUP($R183,TAXONOMY!$A$1:$H$959,2,FALSE))","v":""}]
[null,null,null,null,null,null,null,null,null,null,null,{"$f":"IF(ISBLANK($R184)=TRUE,\"\",VLOOKUP($R184,TAXONOMY!$A$1:$G$959,7,FALSE))","v":""},{"$f":"IF(ISBLANK($R184)=TRUE,\"\",VLOOKUP($R184,TAXONOMY!$A$1:$G$959,6,FALSE))","v":""},{"$f":"IF(ISBLANK($R184)=TRUE,\"\",VLOOKUP($R184,TAXONOMY!$A$1:$G$959,5,FALSE))","v":""},{"$f":"IF(ISBLANK($R184)=TRUE,\"\",VLOOKUP($R184,TAXONOMY!$A$1:$G$959,4,FALSE))","v":""},{"$f":"IF(ISBLANK($R184)=TRUE,\"\",VLOOKUP($R184,TAXONOMY!$A$1:$G$959,3,FALSE))","v":""},{"$f":"IF(ISBLANK($R184)=TRUE,\"\",VLOOKUP($R184,TAXONOMY!$A$1:$H$959,2,FALSE))","v":""}]
[null,null,null,null,null,null,null,null,null,null,null,{"$f":"IF(ISBLANK($R185)=TRUE,\"\",VLOOKUP($R185,TAXONOMY!$A$1:$G$959,7,FALSE))","v":""},{"$f":"IF(ISBLANK($R185)=TRUE,\"\",VLOOKUP($R185,TAXONOMY!$A$1:$G$959,6,FALSE))","v":""},{"$f":"IF(ISBLANK($R185)=TRUE,\"\",VLOOKUP($R185,TAXONOMY!$A$1:$G$959,5,FALSE))","v":""},{"$f":"IF(ISBLANK($R185)=TRUE,\"\",VLOOKUP($R185,TAXONOMY!$A$1:$G$959,4,FALSE))","v":""},{"$f":"IF(ISBLANK($R185)=TRUE,\"\",VLOOKUP($R185,TAXONOMY!$A$1:$G$959,3,FALSE))","v":""},{"$f":"IF(ISBLANK($R185)=TRUE,\"\",VLOOKUP($R185,TAXONOMY!$A$1:$H$959,2,FALSE))","v":""}]
[null,null,null,null,null,null,null,null,null,null,null,{"$f":"IF(ISBLANK($R186)=TRUE,\"\",VLOOKUP($R186,TAXONOMY!$A$1:$G$959,7,FALSE))","v":""},{"$f":"IF(ISBLANK($R186)=TRUE,\"\",VLOOKUP($R186,TAXONOMY!$A$1:$G$959,6,FALSE))","v":""},{"$f":"IF(ISBLANK($R186)=TRUE,\"\",VLOOKUP($R186,TAXONOMY!$A$1:$G$959,5,FALSE))","v":""},{"$f":"IF(ISBLANK($R186)=TRUE,\"\",VLOOKUP($R186,TAXONOMY!$A$1:$G$959,4,FALSE))","v":""},{"$f":"IF(ISBLANK($R186)=TRUE,\"\",VLOOKUP($R186,TAXONOMY!$A$1:$G$959,3,FALSE))","v":""},{"$f":"IF(ISBLANK($R186)=TRUE,\"\",VLOOKUP($R186,TAXONOMY!$A$1:$H$959,2,FALSE))","v":""}]
[null,null,null,null,null,null,null,null,null,null,null,{"$f":"IF(ISBLANK($R187)=TRUE,\"\",VLOOKUP($R187,TAXONOMY!$A$1:$G$959,7,FALSE))","v":""},{"$f":"IF(ISBLANK($R187)=TRUE,\"\",VLOOKUP($R187,TAXONOMY!$A$1:$G$959,6,FALSE))","v":""},{"$f":"IF(ISBLANK($R187)=TRUE,\"\",VLOOKUP($R187,TAXONOMY!$A$1:$G$959,5,FALSE))","v":""},{"$f":"IF(ISBLANK($R187)=TRUE,\"\",VLOOKUP($R187,TAXONOMY!$A$1:$G$959,4,FALSE))","v":""},{"$f":"IF(ISBLANK($R187)=TRUE,\"\",VLOOKUP($R187,TAXONOMY!$A$1:$G$959,3,FALSE))","v":""},{"$f":"IF(ISBLANK($R187)=TRUE,\"\",VLOOKUP($R187,TAXONOMY!$A$1:$H$959,2,FALSE))","v":""}]
[null,null,null,null,null,null,null,null,null,null,null,{"$f":"IF(ISBLANK($R188)=TRUE,\"\",VLOOKUP($R188,TAXONOMY!$A$1:$G$959,7,FALSE))","v":""},{"$f":"IF(ISBLANK($R188)=TRUE,\"\",VLOOKUP($R188,TAXONOMY!$A$1:$G$959,6,FALSE))","v":""},{"$f":"IF(ISBLANK($R188)=TRUE,\"\",VLOOKUP($R188,TAXONOMY!$A$1:$G$959,5,FALSE))","v":""},{"$f":"IF(ISBLANK($R188)=TRUE,\"\",VLOOKUP($R188,TAXONOMY!$A$1:$G$959,4,FALSE))","v":""},{"$f":"IF(ISBLANK($R188)=TRUE,\"\",VLOOKUP($R188,TAXONOMY!$A$1:$G$959,3,FALSE))","v":""},{"$f":"IF(ISBLANK($R188)=TRUE,\"\",VLOOKUP($R188,TAXONOMY!$A$1:$H$959,2,FALSE))","v":""}]
[null,null,null,null,null,null,null,null,null,null,null,{"$f":"IF(ISBLANK($R189)=TRUE,\"\",VLOOKUP($R189,TAXONOMY!$A$1:$G$959,7,FALSE))","v":""},{"$f":"IF(ISBLANK($R189)=TRUE,\"\",VLOOKUP($R189,TAXONOMY!$A$1:$G$959,6,FALSE))","v":""},{"$f":"IF(ISBLANK($R189)=TRUE,\"\",VLOOKUP($R189,TAXONOMY!$A$1:$G$959,5,FALSE))","v":""},{"$f":"IF(ISBLANK($R189)=TRUE,\"\",VLOOKUP($R189,TAXONOMY!$A$1:$G$959,4,FALSE))","v":""},{"$f":"IF(ISBLANK($R189)=TRUE,\"\",VLOOKUP($R189,TAXONOMY!$A$1:$G$959,3,FALSE))","v":""},{"$f":"IF(ISBLANK($R189)=TRUE,\"\",VLOOKUP($R189,TAXONOMY!$A$1:$H$959,2,FALSE))","v":""}]
[null,null,null,null,null,null,null,null,null,null,null,{"$f":"IF(ISBLANK($R190)=TRUE,\"\",VLOOKUP($R190,TAXONOMY!$A$1:$G$959,7,FALSE))","v":""},{"$f":"IF(ISBLANK($R190)=TRUE,\"\",VLOOKUP($R190,TAXONOMY!$A$1:$G$959,6,FALSE))","v":""},{"$f":"IF(ISBLANK($R190)=TRUE,\"\",VLOOKUP($R190,TAXONOMY!$A$1:$G$959,5,FALSE))","v":""},{"$f":"IF(ISBLANK($R190)=TRUE,\"\",VLOOKUP($R190,TAXONOMY!$A$1:$G$959,4,FALSE))","v":""},{"$f":"IF(ISBLANK($R190)=TRUE,\"\",VLOOKUP($R190,TAXONOMY!$A$1:$G$959,3,FALSE))","v":""},{"$f":"IF(ISBLANK($R190)=TRUE,\"\",VLOOKUP($R190,TAXONOMY!$A$1:$H$959,2,FALSE))","v":""}]
[null,null,null,null,null,null,null,null,null,null,null,{"$f":"IF(ISBLANK($R191)=TRUE,\"\",VLOOKUP($R191,TAXONOMY!$A$1:$G$959,7,FALSE))","v":""},{"$f":"IF(ISBLANK($R191)=TRUE,\"\",VLOOKUP($R191,TAXONOMY!$A$1:$G$959,6,FALSE))","v":""},{"$f":"IF(ISBLANK($R191)=TRUE,\"\",VLOOKUP($R191,TAXONOMY!$A$1:$G$959,5,FALSE))","v":""},{"$f":"IF(ISBLANK($R191)=TRUE,\"\",VLOOKUP($R191,TAXONOMY!$A$1:$G$959,4,FALSE))","v":""},{"$f":"IF(ISBLANK($R191)=TRUE,\"\",VLOOKUP($R191,TAXONOMY!$A$1:$G$959,3,FALSE))","v":""},{"$f":"IF(ISBLANK($R191)=TRUE,\"\",VLOOKUP($R191,TAXONOMY!$A$1:$H$959,2,FALSE))","v":""}]
[null,null,null,null,null,null,null,null,null,null,null,{"$f":"IF(ISBLANK($R192)=TRUE,\"\",VLOOKUP($R192,TAXONOMY!$A$1:$G$959,7,FALSE))","v":""},{"$f":"IF(ISBLANK($R192)=TRUE,\"\",VLOOKUP($R192,TAXONOMY!$A$1:$G$959,6,FALSE))","v":""},{"$f":"IF(ISBLANK($R192)=TRUE,\"\",VLOOKUP($R192,TAXONOMY!$A$1:$G$959,5,FALSE))","v":""},{"$f":"IF(ISBLANK($R192)=TRUE,\"\",VLOOKUP($R192,TAXONOMY!$A$1:$G$959,4,FALSE))","v":""},{"$f":"IF(ISBLANK($R192)=TRUE,\"\",VLOOKUP($R192,TAXONOMY!$A$1:$G$959,3,FALSE))","v":""},{"$f":"IF(ISBLANK($R192)=TRUE,\"\",VLOOKUP($R192,TAXONOMY!$A$1:$H$959,2,FALSE))","v":""}]
[null,null,null,null,null,null,null,null,null,null,null,{"$f":"IF(ISBLANK($R193)=TRUE,\"\",VLOOKUP($R193,TAXONOMY!$A$1:$G$959,7,FALSE))","v":""},{"$f":"IF(ISBLANK($R193)=TRUE,\"\",VLOOKUP($R193,TAXONOMY!$A$1:$G$959,6,FALSE))","v":""},{"$f":"IF(ISBLANK($R193)=TRUE,\"\",VLOOKUP($R193,TAXONOMY!$A$1:$G$959,5,FALSE))","v":""},{"$f":"IF(ISBLANK($R193)=TRUE,\"\",VLOOKUP($R193,TAXONOMY!$A$1:$G$959,4,FALSE))","v":""},{"$f":"IF(ISBLANK($R193)=TRUE,\"\",VLOOKUP($R193,TAXONOMY!$A$1:$G$959,3,FALSE))","v":""},{"$f":"IF(ISBLANK($R193)=TRUE,\"\",VLOOKUP($R193,TAXONOMY!$A$1:$H$959,2,FALSE))","v":""}]
[null,null,null,null,null,null,null,null,null,null,null,{"$f":"IF(ISBLANK($R194)=TRUE,\"\",VLOOKUP($R194,TAXONOMY!$A$1:$G$959,7,FALSE))","v":""},{"$f":"IF(ISBLANK($R194)=TRUE,\"\",VLOOKUP($R194,TAXONOMY!$A$1:$G$959,6,FALSE))","v":""},{"$f":"IF(ISBLANK($R194)=TRUE,\"\",VLOOKUP($R194,TAXONOMY!$A$1:$G$959,5,FALSE))","v":""},{"$f":"IF(ISBLANK($R194)=TRUE,\"\",VLOOKUP($R194,TAXONOMY!$A$1:$G$959,4,FALSE))","v":""},{"$f":"IF(ISBLANK($R194)=TRUE,\"\",VLOOKUP($R194,TAXONOMY!$A$1:$G$959,3,FALSE))","v":""},{"$f":"IF(ISBLANK($R194)=TRUE,\"\",VLOOKUP($R194,TAXONOMY!$A$1:$H$959,2,FALSE))","v":""}]
[null,null,null,null,null,null,null,null,null,null,null,{"$f":"IF(ISBLANK($R195)=TRUE,\"\",VLOOKUP($R195,TAXONOMY!$A$1:$G$959,7,FALSE))","v":""},{"$f":"IF(ISBLANK($R195)=TRUE,\"\",VLOOKUP($R195,TAXONOMY!$A$1:$G$959,6,FALSE))","v":""},{"$f":"IF(ISBLANK($R195)=TRUE,\"\",VLOOKUP($R195,TAXONOMY!$A$1:$G$959,5,FALSE))","v":""},{"$f":"IF(ISBLANK($R195)=TRUE,\"\",VLOOKUP($R195,TAXONOMY!$A$1:$G$959,4,FALSE))","v":""},{"$f":"IF(ISBLANK($R195)=TRUE,\"\",VLOOKUP($R195,TAXONOMY!$A$1:$G$959,3,FALSE))","v":""},{"$f":"IF(ISBLANK($R195)=TRUE,\"\",VLOOKUP($R195,TAXONOMY!$A$1:$H$959,2,FALSE))","v":""}]
[null,null,null,null,null,null,null,null,null,null,null,{"$f":"IF(ISBLANK($R196)=TRUE,\"\",VLOOKUP($R196,TAXONOMY!$A$1:$G$959,7,FALSE))","v":""},{"$f":"IF(ISBLANK($R196)=TRUE,\"\",VLOOKUP($R196,TAXONOMY!$A$1:$G$959,6,FALSE))","v":""},{"$f":"IF(ISBLANK($R196)=TRUE,\"\",VLOOKUP($R196,TAXONOMY!$A$1:$G$959,5,FALSE))","v":""},{"$f":"IF(ISBLANK($R196)=TRUE,\"\",VLOOKUP($R196,TAXONOMY!$A$1:$G$959,4,FALSE))","v":""},{"$f":"IF(ISBLANK($R196)=TRUE,\"\",VLOOKUP($R196,TAXONOMY!$A$1:$G$959,3,FALSE))","v":""},{"$f":"IF(ISBLANK($R196)=TRUE,\"\",VLOOKUP($R196,TAXONOMY!$A$1:$H$959,2,FALSE))","v":""}]
[null,null,null,null,null,null,null,null,null,null,null,{"$f":"IF(ISBLANK($R197)=TRUE,\"\",VLOOKUP($R197,TAXONOMY!$A$1:$G$959,7,FALSE))","v":""},{"$f":"IF(ISBLANK($R197)=TRUE,\"\",VLOOKUP($R197,TAXONOMY!$A$1:$G$959,6,FALSE))","v":""},{"$f":"IF(ISBLANK($R197)=TRUE,\"\",VLOOKUP($R197,TAXONOMY!$A$1:$G$959,5,FALSE))","v":""},{"$f":"IF(ISBLANK($R197)=TRUE,\"\",VLOOKUP($R197,TAXONOMY!$A$1:$G$959,4,FALSE))","v":""},{"$f":"IF(ISBLANK($R197)=TRUE,\"\",VLOOKUP($R197,TAXONOMY!$A$1:$G$959,3,FALSE))","v":""},{"$f":"IF(ISBLANK($R197)=TRUE,\"\",VLOOKUP($R197,TAXONOMY!$A$1:$H$959,2,FALSE))","v":""}]
[null,null,null,null,null,null,null,null,null,null,null,{"$f":"IF(ISBLANK($R198)=TRUE,\"\",VLOOKUP($R198,TAXONOMY!$A$1:$G$959,7,FALSE))","v":""},{"$f":"IF(ISBLANK($R198)=TRUE,\"\",VLOOKUP($R198,TAXONOMY!$A$1:$G$959,6,FALSE))","v":""},{"$f":"IF(ISBLANK($R198)=TRUE,\"\",VLOOKUP($R198,TAXONOMY!$A$1:$G$959,5,FALSE))","v":""},{"$f":"IF(ISBLANK($R198)=TRUE,\"\",VLOOKUP($R198,TAXONOMY!$A$1:$G$959,4,FALSE))","v":""},{"$f":"IF(ISBLANK($R198)=TRUE,\"\",VLOOKUP($R198,TAXONOMY!$A$1:$G$959,3,FALSE))","v":""},{"$f":"IF(ISBLANK($R198)=TRUE,\"\",VLOOKUP($R198,TAXONOMY!$A$1:$H$959,2,FALSE))","v":""}]
[null,null,null,null,null,null,null,null,null,null,null,{"$f":"IF(ISBLANK($R199)=TRUE,\"\",VLOOKUP($R199,TAXONOMY!$A$1:$G$959,7,FALSE))","v":""},{"$f":"IF(ISBLANK($R199)=TRUE,\"\",VLOOKUP($R199,TAXONOMY!$A$1:$G$959,6,FALSE))","v":""},{"$f":"IF(ISBLANK($R199)=TRUE,\"\",VLOOKUP($R199,TAXONOMY!$A$1:$G$959,5,FALSE))","v":""},{"$f":"IF(ISBLANK($R199)=TRUE,\"\",VLOOKUP($R199,TAXONOMY!$A$1:$G$959,4,FALSE))","v":""},{"$f":"IF(ISBLANK($R199)=TRUE,\"\",VLOOKUP($R199,TAXONOMY!$A$1:$G$959,3,FALSE))","v":""},{"$f":"IF(ISBLANK($R199)=TRUE,\"\",VLOOKUP($R199,TAXONOMY!$A$1:$H$959,2,FALSE))","v":""}]
[null,null,null,null,null,null,null,null,null,null,null,{"$f":"IF(ISBLANK($R200)=TRUE,\"\",VLOOKUP($R200,TAXONOMY!$A$1:$G$959,7,FALSE))","v":""},{"$f":"IF(ISBLANK($R200)=TRUE,\"\",VLOOKUP($R200,TAXONOMY!$A$1:$G$959,6,FALSE))","v":""},{"$f":"IF(ISBLANK($R200)=TRUE,\"\",VLOOKUP($R200,TAXONOMY!$A$1:$G$959,5,FALSE))","v":""},{"$f":"IF(ISBLANK($R200)=TRUE,\"\",VLOOKUP($R200,TAXONOMY!$A$1:$G$959,4,FALSE))","v":""},{"$f":"IF(ISBLANK($R200)=TRUE,\"\",VLOOKUP($R200,TAXONOMY!$A$1:$G$959,3,FALSE))","v":""},{"$f":"IF(ISBLANK($R200)=TRUE,\"\",VLOOKUP($R200,TAXONOMY!$A$1:$H$959,2,FALSE))","v":""}]
[null,null,null,null,null,null,null,null,null,null,null,{"$f":"IF(ISBLANK($R201)=TRUE,\"\",VLOOKUP($R201,TAXONOMY!$A$1:$G$959,7,FALSE))","v":""},{"$f":"IF(ISBLANK($R201)=TRUE,\"\",VLOOKUP($R201,TAXONOMY!$A$1:$G$959,6,FALSE))","v":""},{"$f":"IF(ISBLANK($R201)=TRUE,\"\",VLOOKUP($R201,TAXONOMY!$A$1:$G$959,5,FALSE))","v":""},{"$f":"IF(ISBLANK($R201)=TRUE,\"\",VLOOKUP($R201,TAXONOMY!$A$1:$G$959,4,FALSE))","v":""},{"$f":"IF(ISBLANK($R201)=TRUE,\"\",VLOOKUP($R201,TAXONOMY!$A$1:$G$959,3,FALSE))","v":""},{"$f":"IF(ISBLANK($R201)=TRUE,\"\",VLOOKUP($R201,TAXONOMY!$A$1:$H$959,2,FALSE))","v":""}]
[null,null,null,null,null,null,null,null,null,null,null,{"$f":"IF(ISBLANK($R202)=TRUE,\"\",VLOOKUP($R202,TAXONOMY!$A$1:$G$959,7,FALSE))","v":""},{"$f":"IF(ISBLANK($R202)=TRUE,\"\",VLOOKUP($R202,TAXONOMY!$A$1:$G$959,6,FALSE))","v":""},{"$f":"IF(ISBLANK($R202)=TRUE,\"\",VLOOKUP($R202,TAXONOMY!$A$1:$G$959,5,FALSE))","v":""},{"$f":"IF(ISBLANK($R202)=TRUE,\"\",VLOOKUP($R202,TAXONOMY!$A$1:$G$959,4,FALSE))","v":""},{"$f":"IF(ISBLANK($R202)=TRUE,\"\",VLOOKUP($R202,TAXONOMY!$A$1:$G$959,3,FALSE))","v":""},{"$f":"IF(ISBLANK($R202)=TRUE,\"\",VLOOKUP($R202,TAXONOMY!$A$1:$H$959,2,FALSE))","v":""}]
[null,null,null,null,null,null,null,null,null,null,null,{"$f":"IF(ISBLANK($R203)=TRUE,\"\",VLOOKUP($R203,TAXONOMY!$A$1:$G$959,7,FALSE))","v":""},{"$f":"IF(ISBLANK($R203)=TRUE,\"\",VLOOKUP($R203,TAXONOMY!$A$1:$G$959,6,FALSE))","v":""},{"$f":"IF(ISBLANK($R203)=TRUE,\"\",VLOOKUP($R203,TAXONOMY!$A$1:$G$959,5,FALSE))","v":""},{"$f":"IF(ISBLANK($R203)=TRUE,\"\",VLOOKUP($R203,TAXONOMY!$A$1:$G$959,4,FALSE))","v":""},{"$f":"IF(ISBLANK($R203)=TRUE,\"\",VLOOKUP($R203,TAXONOMY!$A$1:$G$959,3,FALSE))","v":""},{"$f":"IF(ISBLANK($R203)=TRUE,\"\",VLOOKUP($R203,TAXONOMY!$A$1:$H$959,2,FALSE))","v":""}]
[null,null,null,null,null,null,null,null,null,null,null,{"$f":"IF(ISBLANK($R204)=TRUE,\"\",VLOOKUP($R204,TAXONOMY!$A$1:$G$959,7,FALSE))","v":""},{"$f":"IF(ISBLANK($R204)=TRUE,\"\",VLOOKUP($R204,TAXONOMY!$A$1:$G$959,6,FALSE))","v":""},{"$f":"IF(ISBLANK($R204)=TRUE,\"\",VLOOKUP($R204,TAXONOMY!$A$1:$G$959,5,FALSE))","v":""},{"$f":"IF(ISBLANK($R204)=TRUE,\"\",VLOOKUP($R204,TAXONOMY!$A$1:$G$959,4,FALSE))","v":""},{"$f":"IF(ISBLANK($R204)=TRUE,\"\",VLOOKUP($R204,TAXONOMY!$A$1:$G$959,3,FALSE))","v":""},{"$f":"IF(ISBLANK($R204)=TRUE,\"\",VLOOKUP($R204,TAXONOMY!$A$1:$H$959,2,FALSE))","v":""}]
[null,null,null,null,null,null,null,null,null,null,null,{"$f":"IF(ISBLANK($R205)=TRUE,\"\",VLOOKUP($R205,TAXONOMY!$A$1:$G$959,7,FALSE))","v":""},{"$f":"IF(ISBLANK($R205)=TRUE,\"\",VLOOKUP($R205,TAXONOMY!$A$1:$G$959,6,FALSE))","v":""},{"$f":"IF(ISBLANK($R205)=TRUE,\"\",VLOOKUP($R205,TAXONOMY!$A$1:$G$959,5,FALSE))","v":""},{"$f":"IF(ISBLANK($R205)=TRUE,\"\",VLOOKUP($R205,TAXONOMY!$A$1:$G$959,4,FALSE))","v":""},{"$f":"IF(ISBLANK($R205)=TRUE,\"\",VLOOKUP($R205,TAXONOMY!$A$1:$G$959,3,FALSE))","v":""},{"$f":"IF(ISBLANK($R205)=TRUE,\"\",VLOOKUP($R205,TAXONOMY!$A$1:$H$959,2,FALSE))","v":""}]
[null,null,null,null,null,null,null,null,null,null,null,{"$f":"IF(ISBLANK($R206)=TRUE,\"\",VLOOKUP($R206,TAXONOMY!$A$1:$G$959,7,FALSE))","v":""},{"$f":"IF(ISBLANK($R206)=TRUE,\"\",VLOOKUP($R206,TAXONOMY!$A$1:$G$959,6,FALSE))","v":""},{"$f":"IF(ISBLANK($R206)=TRUE,\"\",VLOOKUP($R206,TAXONOMY!$A$1:$G$959,5,FALSE))","v":""},{"$f":"IF(ISBLANK($R206)=TRUE,\"\",VLOOKUP($R206,TAXONOMY!$A$1:$G$959,4,FALSE))","v":""},{"$f":"IF(ISBLANK($R206)=TRUE,\"\",VLOOKUP($R206,TAXONOMY!$A$1:$G$959,3,FALSE))","v":""},{"$f":"IF(ISBLANK($R206)=TRUE,\"\",VLOOKUP($R206,TAXONOMY!$A$1:$H$959,2,FALSE))","v":""}]
[null,null,null,null,null,null,null,null,null,null,null,{"$f":"IF(ISBLANK($R207)=TRUE,\"\",VLOOKUP($R207,TAXONOMY!$A$1:$G$959,7,FALSE))","v":""},{"$f":"IF(ISBLANK($R207)=TRUE,\"\",VLOOKUP($R207,TAXONOMY!$A$1:$G$959,6,FALSE))","v":""},{"$f":"IF(ISBLANK($R207)=TRUE,\"\",VLOOKUP($R207,TAXONOMY!$A$1:$G$959,5,FALSE))","v":""},{"$f":"IF(ISBLANK($R207)=TRUE,\"\",VLOOKUP($R207,TAXONOMY!$A$1:$G$959,4,FALSE))","v":""},{"$f":"IF(ISBLANK($R207)=TRUE,\"\",VLOOKUP($R207,TAXONOMY!$A$1:$G$959,3,FALSE))","v":""},{"$f":"IF(ISBLANK($R207)=TRUE,\"\",VLOOKUP($R207,TAXONOMY!$A$1:$H$959,2,FALSE))","v":""}]
[null,null,null,null,null,null,null,null,null,null,null,{"$f":"IF(ISBLANK($R208)=TRUE,\"\",VLOOKUP($R208,TAXONOMY!$A$1:$G$959,7,FALSE))","v":""},{"$f":"IF(ISBLANK($R208)=TRUE,\"\",VLOOKUP($R208,TAXONOMY!$A$1:$G$959,6,FALSE))","v":""},{"$f":"IF(ISBLANK($R208)=TRUE,\"\",VLOOKUP($R208,TAXONOMY!$A$1:$G$959,5,FALSE))","v":""},{"$f":"IF(ISBLANK($R208)=TRUE,\"\",VLOOKUP($R208,TAXONOMY!$A$1:$G$959,4,FALSE))","v":""},{"$f":"IF(ISBLANK($R208)=TRUE,\"\",VLOOKUP($R208,TAXONOMY!$A$1:$G$959,3,FALSE))","v":""},{"$f":"IF(ISBLANK($R208)=TRUE,\"\",VLOOKUP($R208,TAXONOMY!$A$1:$H$959,2,FALSE))","v":""}]
[null,null,null,null,null,null,null,null,null,null,null,{"$f":"IF(ISBLANK($R209)=TRUE,\"\",VLOOKUP($R209,TAXONOMY!$A$1:$G$959,7,FALSE))","v":""},{"$f":"IF(ISBLANK($R209)=TRUE,\"\",VLOOKUP($R209,TAXONOMY!$A$1:$G$959,6,FALSE))","v":""},{"$f":"IF(ISBLANK($R209)=TRUE,\"\",VLOOKUP($R209,TAXONOMY!$A$1:$G$959,5,FALSE))","v":""},{"$f":"IF(ISBLANK($R209)=TRUE,\"\",VLOOKUP($R209,TAXONOMY!$A$1:$G$959,4,FALSE))","v":""},{"$f":"IF(ISBLANK($R209)=TRUE,\"\",VLOOKUP($R209,TAXONOMY!$A$1:$G$959,3,FALSE))","v":""},{"$f":"IF(ISBLANK($R209)=TRUE,\"\",VLOOKUP($R209,TAXONOMY!$A$1:$H$959,2,FALSE))","v":""}]
[null,null,null,null,null,null,null,null,null,null,null,{"$f":"IF(ISBLANK($R210)=TRUE,\"\",VLOOKUP($R210,TAXONOMY!$A$1:$G$959,7,FALSE))","v":""},{"$f":"IF(ISBLANK($R210)=TRUE,\"\",VLOOKUP($R210,TAXONOMY!$A$1:$G$959,6,FALSE))","v":""},{"$f":"IF(ISBLANK($R210)=TRUE,\"\",VLOOKUP($R210,TAXONOMY!$A$1:$G$959,5,FALSE))","v":""},{"$f":"IF(ISBLANK($R210)=TRUE,\"\",VLOOKUP($R210,TAXONOMY!$A$1:$G$959,4,FALSE))","v":""},{"$f":"IF(ISBLANK($R210)=TRUE,\"\",VLOOKUP($R210,TAXONOMY!$A$1:$G$959,3,FALSE))","v":""},{"$f":"IF(ISBLANK($R210)=TRUE,\"\",VLOOKUP($R210,TAXONOMY!$A$1:$H$959,2,FALSE))","v":""}]
[null,null,null,null,null,null,null,null,null,null,null,{"$f":"IF(ISBLANK($R211)=TRUE,\"\",VLOOKUP($R211,TAXONOMY!$A$1:$G$959,7,FALSE))","v":""},{"$f":"IF(ISBLANK($R211)=TRUE,\"\",VLOOKUP($R211,TAXONOMY!$A$1:$G$959,6,FALSE))","v":""},{"$f":"IF(ISBLANK($R211)=TRUE,\"\",VLOOKUP($R211,TAXONOMY!$A$1:$G$959,5,FALSE))","v":""},{"$f":"IF(ISBLANK($R211)=TRUE,\"\",VLOOKUP($R211,TAXONOMY!$A$1:$G$959,4,FALSE))","v":""},{"$f":"IF(ISBLANK($R211)=TRUE,\"\",VLOOKUP($R211,TAXONOMY!$A$1:$G$959,3,FALSE))","v":""},{"$f":"IF(ISBLANK($R211)=TRUE,\"\",VLOOKUP($R211,TAXONOMY!$A$1:$H$959,2,FALSE))","v":""}]
[null,null,null,null,null,null,null,null,null,null,null,{"$f":"IF(ISBLANK($R212)=TRUE,\"\",VLOOKUP($R212,TAXONOMY!$A$1:$G$959,7,FALSE))","v":""},{"$f":"IF(ISBLANK($R212)=TRUE,\"\",VLOOKUP($R212,TAXONOMY!$A$1:$G$959,6,FALSE))","v":""},{"$f":"IF(ISBLANK($R212)=TRUE,\"\",VLOOKUP($R212,TAXONOMY!$A$1:$G$959,5,FALSE))","v":""},{"$f":"IF(ISBLANK($R212)=TRUE,\"\",VLOOKUP($R212,TAXONOMY!$A$1:$G$959,4,FALSE))","v":""},{"$f":"IF(ISBLANK($R212)=TRUE,\"\",VLOOKUP($R212,TAXONOMY!$A$1:$G$959,3,FALSE))","v":""},{"$f":"IF(ISBLANK($R212)=TRUE,\"\",VLOOKUP($R212,TAXONOMY!$A$1:$H$959,2,FALSE))","v":""}]
[null,null,null,null,null,null,null,null,null,null,null,{"$f":"IF(ISBLANK($R213)=TRUE,\"\",VLOOKUP($R213,TAXONOMY!$A$1:$G$959,7,FALSE))","v":""},{"$f":"IF(ISBLANK($R213)=TRUE,\"\",VLOOKUP($R213,TAXONOMY!$A$1:$G$959,6,FALSE))","v":""},{"$f":"IF(ISBLANK($R213)=TRUE,\"\",VLOOKUP($R213,TAXONOMY!$A$1:$G$959,5,FALSE))","v":""},{"$f":"IF(ISBLANK($R213)=TRUE,\"\",VLOOKUP($R213,TAXONOMY!$A$1:$G$959,4,FALSE))","v":""},{"$f":"IF(ISBLANK($R213)=TRUE,\"\",VLOOKUP($R213,TAXONOMY!$A$1:$G$959,3,FALSE))","v":""},{"$f":"IF(ISBLANK($R213)=TRUE,\"\",VLOOKUP($R213,TAXONOMY!$A$1:$H$959,2,FALSE))","v":""}]
[null,null,null,null,null,null,null,null,null,null,null,{"$f":"IF(ISBLANK($R214)=TRUE,\"\",VLOOKUP($R214,TAXONOMY!$A$1:$G$959,7,FALSE))","v":""},{"$f":"IF(ISBLANK($R214)=TRUE,\"\",VLOOKUP($R214,TAXONOMY!$A$1:$G$959,6,FALSE))","v":""},{"$f":"IF(ISBLANK($R214)=TRUE,\"\",VLOOKUP($R214,TAXONOMY!$A$1:$G$959,5,FALSE))","v":""},{"$f":"IF(ISBLANK($R214)=TRUE,\"\",VLOOKUP($R214,TAXONOMY!$A$1:$G$959,4,FALSE))","v":""},{"$f":"IF(ISBLANK($R214)=TRUE,\"\",VLOOKUP($R214,TAXONOMY!$A$1:$G$959,3,FALSE))","v":""},{"$f":"IF(ISBLANK($R214)=TRUE,\"\",VLOOKUP($R214,TAXONOMY!$A$1:$H$959,2,FALSE))","v":""}]
[null,null,null,null,null,null,null,null,null,null,null,{"$f":"IF(ISBLANK($R215)=TRUE,\"\",VLOOKUP($R215,TAXONOMY!$A$1:$G$959,7,FALSE))","v":""},{"$f":"IF(ISBLANK($R215)=TRUE,\"\",VLOOKUP($R215,TAXONOMY!$A$1:$G$959,6,FALSE))","v":""},{"$f":"IF(ISBLANK($R215)=TRUE,\"\",VLOOKUP($R215,TAXONOMY!$A$1:$G$959,5,FALSE))","v":""},{"$f":"IF(ISBLANK($R215)=TRUE,\"\",VLOOKUP($R215,TAXONOMY!$A$1:$G$959,4,FALSE))","v":""},{"$f":"IF(ISBLANK($R215)=TRUE,\"\",VLOOKUP($R215,TAXONOMY!$A$1:$G$959,3,FALSE))","v":""},{"$f":"IF(ISBLANK($R215)=TRUE,\"\",VLOOKUP($R215,TAXONOMY!$A$1:$H$959,2,FALSE))","v":""}]
[null,null,null,null,null,null,null,null,null,null,null,{"$f":"IF(ISBLANK($R216)=TRUE,\"\",VLOOKUP($R216,TAXONOMY!$A$1:$G$959,7,FALSE))","v":""},{"$f":"IF(ISBLANK($R216)=TRUE,\"\",VLOOKUP($R216,TAXONOMY!$A$1:$G$959,6,FALSE))","v":""},{"$f":"IF(ISBLANK($R216)=TRUE,\"\",VLOOKUP($R216,TAXONOMY!$A$1:$G$959,5,FALSE))","v":""},{"$f":"IF(ISBLANK($R216)=TRUE,\"\",VLOOKUP($R216,TAXONOMY!$A$1:$G$959,4,FALSE))","v":""},{"$f":"IF(ISBLANK($R216)=TRUE,\"\",VLOOKUP($R216,TAXONOMY!$A$1:$G$959,3,FALSE))","v":""},{"$f":"IF(ISBLANK($R216)=TRUE,\"\",VLOOKUP($R216,TAXONOMY!$A$1:$H$959,2,FALSE))","v":""}]
[null,null,null,null,null,null,null,null,null,null,null,{"$f":"IF(ISBLANK($R217)=TRUE,\"\",VLOOKUP($R217,TAXONOMY!$A$1:$G$959,7,FALSE))","v":""},{"$f":"IF(ISBLANK($R217)=TRUE,\"\",VLOOKUP($R217,TAXONOMY!$A$1:$G$959,6,FALSE))","v":""},{"$f":"IF(ISBLANK($R217)=TRUE,\"\",VLOOKUP($R217,TAXONOMY!$A$1:$G$959,5,FALSE))","v":""},{"$f":"IF(ISBLANK($R217)=TRUE,\"\",VLOOKUP($R217,TAXONOMY!$A$1:$G$959,4,FALSE))","v":""},{"$f":"IF(ISBLANK($R217)=TRUE,\"\",VLOOKUP($R217,TAXONOMY!$A$1:$G$959,3,FALSE))","v":""},{"$f":"IF(ISBLANK($R217)=TRUE,\"\",VLOOKUP($R217,TAXONOMY!$A$1:$H$959,2,FALSE))","v":""}]
[null,null,null,null,null,null,null,null,null,null,null,{"$f":"IF(ISBLANK($R218)=TRUE,\"\",VLOOKUP($R218,TAXONOMY!$A$1:$G$959,7,FALSE))","v":""},{"$f":"IF(ISBLANK($R218)=TRUE,\"\",VLOOKUP($R218,TAXONOMY!$A$1:$G$959,6,FALSE))","v":""},{"$f":"IF(ISBLANK($R218)=TRUE,\"\",VLOOKUP($R218,TAXONOMY!$A$1:$G$959,5,FALSE))","v":""},{"$f":"IF(ISBLANK($R218)=TRUE,\"\",VLOOKUP($R218,TAXONOMY!$A$1:$G$959,4,FALSE))","v":""},{"$f":"IF(ISBLANK($R218)=TRUE,\"\",VLOOKUP($R218,TAXONOMY!$A$1:$G$959,3,FALSE))","v":""},{"$f":"IF(ISBLANK($R218)=TRUE,\"\",VLOOKUP($R218,TAXONOMY!$A$1:$H$959,2,FALSE))","v":""}]
[null,null,null,null,null,null,null,null,null,null,null,{"$f":"IF(ISBLANK($R219)=TRUE,\"\",VLOOKUP($R219,TAXONOMY!$A$1:$G$959,7,FALSE))","v":""},{"$f":"IF(ISBLANK($R219)=TRUE,\"\",VLOOKUP($R219,TAXONOMY!$A$1:$G$959,6,FALSE))","v":""},{"$f":"IF(ISBLANK($R219)=TRUE,\"\",VLOOKUP($R219,TAXONOMY!$A$1:$G$959,5,FALSE))","v":""},{"$f":"IF(ISBLANK($R219)=TRUE,\"\",VLOOKUP($R219,TAXONOMY!$A$1:$G$959,4,FALSE))","v":""},{"$f":"IF(ISBLANK($R219)=TRUE,\"\",VLOOKUP($R219,TAXONOMY!$A$1:$G$959,3,FALSE))","v":""},{"$f":"IF(ISBLANK($R219)=TRUE,\"\",VLOOKUP($R219,TAXONOMY!$A$1:$H$959,2,FALSE))","v":""}]
[null,null,null,null,null,null,null,null,null,null,null,{"$f":"IF(ISBLANK($R220)=TRUE,\"\",VLOOKUP($R220,TAXONOMY!$A$1:$G$959,7,FALSE))","v":""},{"$f":"IF(ISBLANK($R220)=TRUE,\"\",VLOOKUP($R220,TAXONOMY!$A$1:$G$959,6,FALSE))","v":""},{"$f":"IF(ISBLANK($R220)=TRUE,\"\",VLOOKUP($R220,TAXONOMY!$A$1:$G$959,5,FALSE))","v":""},{"$f":"IF(ISBLANK($R220)=TRUE,\"\",VLOOKUP($R220,TAXONOMY!$A$1:$G$959,4,FALSE))","v":""},{"$f":"IF(ISBLANK($R220)=TRUE,\"\",VLOOKUP($R220,TAXONOMY!$A$1:$G$959,3,FALSE))","v":""},{"$f":"IF(ISBLANK($R220)=TRUE,\"\",VLOOKUP($R220,TAXONOMY!$A$1:$H$959,2,FALSE))","v":""}]
[null,null,null,null,null,null,null,null,null,null,null,{"$f":"IF(ISBLANK($R221)=TRUE,\"\",VLOOKUP($R221,TAXONOMY!$A$1:$G$959,7,FALSE))","v":""},{"$f":"IF(ISBLANK($R221)=TRUE,\"\",VLOOKUP($R221,TAXONOMY!$A$1:$G$959,6,FALSE))","v":""},{"$f":"IF(ISBLANK($R221)=TRUE,\"\",VLOOKUP($R221,TAXONOMY!$A$1:$G$959,5,FALSE))","v":""},{"$f":"IF(ISBLANK($R221)=TRUE,\"\",VLOOKUP($R221,TAXONOMY!$A$1:$G$959,4,FALSE))","v":""},{"$f":"IF(ISBLANK($R221)=TRUE,\"\",VLOOKUP($R221,TAXONOMY!$A$1:$G$959,3,FALSE))","v":""},{"$f":"IF(ISBLANK($R221)=TRUE,\"\",VLOOKUP($R221,TAXONOMY!$A$1:$H$959,2,FALSE))","v":""}]
[null,null,null,null,null,null,null,null,null,null,null,{"$f":"IF(ISBLANK($R222)=TRUE,\"\",VLOOKUP($R222,TAXONOMY!$A$1:$G$959,7,FALSE))","v":""},{"$f":"IF(ISBLANK($R222)=TRUE,\"\",VLOOKUP($R222,TAXONOMY!$A$1:$G$959,6,FALSE))","v":""},{"$f":"IF(ISBLANK($R222)=TRUE,\"\",VLOOKUP($R222,TAXONOMY!$A$1:$G$959,5,FALSE))","v":""},{"$f":"IF(ISBLANK($R222)=TRUE,\"\",VLOOKUP($R222,TAXONOMY!$A$1:$G$959,4,FALSE))","v":""},{"$f":"IF(ISBLANK($R222)=TRUE,\"\",VLOOKUP($R222,TAXONOMY!$A$1:$G$959,3,FALSE))","v":""},{"$f":"IF(ISBLANK($R222)=TRUE,\"\",VLOOKUP($R222,TAXONOMY!$A$1:$H$959,2,FALSE))","v":""}]
[null,null,null,null,null,null,null,null,null,null,null,{"$f":"IF(ISBLANK($R223)=TRUE,\"\",VLOOKUP($R223,TAXONOMY!$A$1:$G$959,7,FALSE))","v":""},{"$f":"IF(ISBLANK($R223)=TRUE,\"\",VLOOKUP($R223,TAXONOMY!$A$1:$G$959,6,FALSE))","v":""},{"$f":"IF(ISBLANK($R223)=TRUE,\"\",VLOOKUP($R223,TAXONOMY!$A$1:$G$959,5,FALSE))","v":""},{"$f":"IF(ISBLANK($R223)=TRUE,\"\",VLOOKUP($R223,TAXONOMY!$A$1:$G$959,4,FALSE))","v":""},{"$f":"IF(ISBLANK($R223)=TRUE,\"\",VLOOKUP($R223,TAXONOMY!$A$1:$G$959,3,FALSE))","v":""},{"$f":"IF(ISBLANK($R223)=TRUE,\"\",VLOOKUP($R223,TAXONOMY!$A$1:$H$959,2,FALSE))","v":""}]
[null,null,null,null,null,null,null,null,null,null,null,{"$f":"IF(ISBLANK($R224)=TRUE,\"\",VLOOKUP($R224,TAXONOMY!$A$1:$G$959,7,FALSE))","v":""},{"$f":"IF(ISBLANK($R224)=TRUE,\"\",VLOOKUP($R224,TAXONOMY!$A$1:$G$959,6,FALSE))","v":""},{"$f":"IF(ISBLANK($R224)=TRUE,\"\",VLOOKUP($R224,TAXONOMY!$A$1:$G$959,5,FALSE))","v":""},{"$f":"IF(ISBLANK($R224)=TRUE,\"\",VLOOKUP($R224,TAXONOMY!$A$1:$G$959,4,FALSE))","v":""},{"$f":"IF(ISBLANK($R224)=TRUE,\"\",VLOOKUP($R224,TAXONOMY!$A$1:$G$959,3,FALSE))","v":""},{"$f":"IF(ISBLANK($R224)=TRUE,\"\",VLOOKUP($R224,TAXONOMY!$A$1:$H$959,2,FALSE))","v":""}]
[null,null,null,null,null,null,null,null,null,null,null,{"$f":"IF(ISBLANK($R225)=TRUE,\"\",VLOOKUP($R225,TAXONOMY!$A$1:$G$959,7,FALSE))","v":""},{"$f":"IF(ISBLANK($R225)=TRUE,\"\",VLOOKUP($R225,TAXONOMY!$A$1:$G$959,6,FALSE))","v":""},{"$f":"IF(ISBLANK($R225)=TRUE,\"\",VLOOKUP($R225,TAXONOMY!$A$1:$G$959,5,FALSE))","v":""},{"$f":"IF(ISBLANK($R225)=TRUE,\"\",VLOOKUP($R225,TAXONOMY!$A$1:$G$959,4,FALSE))","v":""},{"$f":"IF(ISBLANK($R225)=TRUE,\"\",VLOOKUP($R225,TAXONOMY!$A$1:$G$959,3,FALSE))","v":""},{"$f":"IF(ISBLANK($R225)=TRUE,\"\",VLOOKUP($R225,TAXONOMY!$A$1:$H$959,2,FALSE))","v":""}]
[null,null,null,null,null,null,null,null,null,null,null,{"$f":"IF(ISBLANK($R226)=TRUE,\"\",VLOOKUP($R226,TAXONOMY!$A$1:$G$959,7,FALSE))","v":""},{"$f":"IF(ISBLANK($R226)=TRUE,\"\",VLOOKUP($R226,TAXONOMY!$A$1:$G$959,6,FALSE))","v":""},{"$f":"IF(ISBLANK($R226)=TRUE,\"\",VLOOKUP($R226,TAXONOMY!$A$1:$G$959,5,FALSE))","v":""},{"$f":"IF(ISBLANK($R226)=TRUE,\"\",VLOOKUP($R226,TAXONOMY!$A$1:$G$959,4,FALSE))","v":""},{"$f":"IF(ISBLANK($R226)=TRUE,\"\",VLOOKUP($R226,TAXONOMY!$A$1:$G$959,3,FALSE))","v":""},{"$f":"IF(ISBLANK($R226)=TRUE,\"\",VLOOKUP($R226,TAXONOMY!$A$1:$H$959,2,FALSE))","v":""}]
[null,null,null,null,null,null,null,null,null,null,null,{"$f":"IF(ISBLANK($R227)=TRUE,\"\",VLOOKUP($R227,TAXONOMY!$A$1:$G$959,7,FALSE))","v":""},{"$f":"IF(ISBLANK($R227)=TRUE,\"\",VLOOKUP($R227,TAXONOMY!$A$1:$G$959,6,FALSE))","v":""},{"$f":"IF(ISBLANK($R227)=TRUE,\"\",VLOOKUP($R227,TAXONOMY!$A$1:$G$959,5,FALSE))","v":""},{"$f":"IF(ISBLANK($R227)=TRUE,\"\",VLOOKUP($R227,TAXONOMY!$A$1:$G$959,4,FALSE))","v":""},{"$f":"IF(ISBLANK($R227)=TRUE,\"\",VLOOKUP($R227,TAXONOMY!$A$1:$G$959,3,FALSE))","v":""},{"$f":"IF(ISBLANK($R227)=TRUE,\"\",VLOOKUP($R227,TAXONOMY!$A$1:$H$959,2,FALSE))","v":""}]
[null,null,null,null,null,null,null,null,null,null,null,{"$f":"IF(ISBLANK($R228)=TRUE,\"\",VLOOKUP($R228,TAXONOMY!$A$1:$G$959,7,FALSE))","v":""},{"$f":"IF(ISBLANK($R228)=TRUE,\"\",VLOOKUP($R228,TAXONOMY!$A$1:$G$959,6,FALSE))","v":""},{"$f":"IF(ISBLANK($R228)=TRUE,\"\",VLOOKUP($R228,TAXONOMY!$A$1:$G$959,5,FALSE))","v":""},{"$f":"IF(ISBLANK($R228)=TRUE,\"\",VLOOKUP($R228,TAXONOMY!$A$1:$G$959,4,FALSE))","v":""},{"$f":"IF(ISBLANK($R228)=TRUE,\"\",VLOOKUP($R228,TAXONOMY!$A$1:$G$959,3,FALSE))","v":""},{"$f":"IF(ISBLANK($R228)=TRUE,\"\",VLOOKUP($R228,TAXONOMY!$A$1:$H$959,2,FALSE))","v":""}]
[null,null,null,null,null,null,null,null,null,null,null,{"$f":"IF(ISBLANK($R229)=TRUE,\"\",VLOOKUP($R229,TAXONOMY!$A$1:$G$959,7,FALSE))","v":""},{"$f":"IF(ISBLANK($R229)=TRUE,\"\",VLOOKUP($R229,TAXONOMY!$A$1:$G$959,6,FALSE))","v":""},{"$f":"IF(ISBLANK($R229)=TRUE,\"\",VLOOKUP($R229,TAXONOMY!$A$1:$G$959,5,FALSE))","v":""},{"$f":"IF(ISBLANK($R229)=TRUE,\"\",VLOOKUP($R229,TAXONOMY!$A$1:$G$959,4,FALSE))","v":""},{"$f":"IF(ISBLANK($R229)=TRUE,\"\",VLOOKUP($R229,TAXONOMY!$A$1:$G$959,3,FALSE))","v":""},{"$f":"IF(ISBLANK($R229)=TRUE,\"\",VLOOKUP($R229,TAXONOMY!$A$1:$H$959,2,FALSE))","v":""}]
[null,null,null,null,null,null,null,null,null,null,null,{"$f":"IF(ISBLANK($R230)=TRUE,\"\",VLOOKUP($R230,TAXONOMY!$A$1:$G$959,7,FALSE))","v":""},{"$f":"IF(ISBLANK($R230)=TRUE,\"\",VLOOKUP($R230,TAXONOMY!$A$1:$G$959,6,FALSE))","v":""},{"$f":"IF(ISBLANK($R230)=TRUE,\"\",VLOOKUP($R230,TAXONOMY!$A$1:$G$959,5,FALSE))","v":""},{"$f":"IF(ISBLANK($R230)=TRUE,\"\",VLOOKUP($R230,TAXONOMY!$A$1:$G$959,4,FALSE))","v":""},{"$f":"IF(ISBLANK($R230)=TRUE,\"\",VLOOKUP($R230,TAXONOMY!$A$1:$G$959,3,FALSE))","v":""},{"$f":"IF(ISBLANK($R230)=TRUE,\"\",VLOOKUP($R230,TAXONOMY!$A$1:$H$959,2,FALSE))","v":""}]
[null,null,null,null,null,null,null,null,null,null,null,{"$f":"IF(ISBLANK($R231)=TRUE,\"\",VLOOKUP($R231,TAXONOMY!$A$1:$G$959,7,FALSE))","v":""},{"$f":"IF(ISBLANK($R231)=TRUE,\"\",VLOOKUP($R231,TAXONOMY!$A$1:$G$959,6,FALSE))","v":""},{"$f":"IF(ISBLANK($R231)=TRUE,\"\",VLOOKUP($R231,TAXONOMY!$A$1:$G$959,5,FALSE))","v":""},{"$f":"IF(ISBLANK($R231)=TRUE,\"\",VLOOKUP($R231,TAXONOMY!$A$1:$G$959,4,FALSE))","v":""},{"$f":"IF(ISBLANK($R231)=TRUE,\"\",VLOOKUP($R231,TAXONOMY!$A$1:$G$959,3,FALSE))","v":""},{"$f":"IF(ISBLANK($R231)=TRUE,\"\",VLOOKUP($R231,TAXONOMY!$A$1:$H$959,2,FALSE))","v":""}]
[null,null,null,null,null,null,null,null,null,null,null,{"$f":"IF(ISBLANK($R232)=TRUE,\"\",VLOOKUP($R232,TAXONOMY!$A$1:$G$959,7,FALSE))","v":""},{"$f":"IF(ISBLANK($R232)=TRUE,\"\",VLOOKUP($R232,TAXONOMY!$A$1:$G$959,6,FALSE))","v":""},{"$f":"IF(ISBLANK($R232)=TRUE,\"\",VLOOKUP($R232,TAXONOMY!$A$1:$G$959,5,FALSE))","v":""},{"$f":"IF(ISBLANK($R232)=TRUE,\"\",VLOOKUP($R232,TAXONOMY!$A$1:$G$959,4,FALSE))","v":""},{"$f":"IF(ISBLANK($R232)=TRUE,\"\",VLOOKUP($R232,TAXONOMY!$A$1:$G$959,3,FALSE))","v":""},{"$f":"IF(ISBLANK($R232)=TRUE,\"\",VLOOKUP($R232,TAXONOMY!$A$1:$H$959,2,FALSE))","v":""}]
[null,null,null,null,null,null,null,null,null,null,null,{"$f":"IF(ISBLANK($R233)=TRUE,\"\",VLOOKUP($R233,TAXONOMY!$A$1:$G$959,7,FALSE))","v":""},{"$f":"IF(ISBLANK($R233)=TRUE,\"\",VLOOKUP($R233,TAXONOMY!$A$1:$G$959,6,FALSE))","v":""},{"$f":"IF(ISBLANK($R233)=TRUE,\"\",VLOOKUP($R233,TAXONOMY!$A$1:$G$959,5,FALSE))","v":""},{"$f":"IF(ISBLANK($R233)=TRUE,\"\",VLOOKUP($R233,TAXONOMY!$A$1:$G$959,4,FALSE))","v":""},{"$f":"IF(ISBLANK($R233)=TRUE,\"\",VLOOKUP($R233,TAXONOMY!$A$1:$G$959,3,FALSE))","v":""},{"$f":"IF(ISBLANK($R233)=TRUE,\"\",VLOOKUP($R233,TAXONOMY!$A$1:$H$959,2,FALSE))","v":""}]
[null,null,null,null,null,null,null,null,null,null,null,{"$f":"IF(ISBLANK($R234)=TRUE,\"\",VLOOKUP($R234,TAXONOMY!$A$1:$G$959,7,FALSE))","v":""},{"$f":"IF(ISBLANK($R234)=TRUE,\"\",VLOOKUP($R234,TAXONOMY!$A$1:$G$959,6,FALSE))","v":""},{"$f":"IF(ISBLANK($R234)=TRUE,\"\",VLOOKUP($R234,TAXONOMY!$A$1:$G$959,5,FALSE))","v":""},{"$f":"IF(ISBLANK($R234)=TRUE,\"\",VLOOKUP($R234,TAXONOMY!$A$1:$G$959,4,FALSE))","v":""},{"$f":"IF(ISBLANK($R234)=TRUE,\"\",VLOOKUP($R234,TAXONOMY!$A$1:$G$959,3,FALSE))","v":""},{"$f":"IF(ISBLANK($R234)=TRUE,\"\",VLOOKUP($R234,TAXONOMY!$A$1:$H$959,2,FALSE))","v":""}]
[null,null,null,null,null,null,null,null,null,null,null,{"$f":"IF(ISBLANK($R235)=TRUE,\"\",VLOOKUP($R235,TAXONOMY!$A$1:$G$959,7,FALSE))","v":""},{"$f":"IF(ISBLANK($R235)=TRUE,\"\",VLOOKUP($R235,TAXONOMY!$A$1:$G$959,6,FALSE))","v":""},{"$f":"IF(ISBLANK($R235)=TRUE,\"\",VLOOKUP($R235,TAXONOMY!$A$1:$G$959,5,FALSE))","v":""},{"$f":"IF(ISBLANK($R235)=TRUE,\"\",VLOOKUP($R235,TAXONOMY!$A$1:$G$959,4,FALSE))","v":""},{"$f":"IF(ISBLANK($R235)=TRUE,\"\",VLOOKUP($R235,TAXONOMY!$A$1:$G$959,3,FALSE))","v":""},{"$f":"IF(ISBLANK($R235)=TRUE,\"\",VLOOKUP($R235,TAXONOMY!$A$1:$H$959,2,FALSE))","v":""}]
[null,null,null,null,null,null,null,null,null,null,null,{"$f":"IF(ISBLANK($R236)=TRUE,\"\",VLOOKUP($R236,TAXONOMY!$A$1:$G$959,7,FALSE))","v":""},{"$f":"IF(ISBLANK($R236)=TRUE,\"\",VLOOKUP($R236,TAXONOMY!$A$1:$G$959,6,FALSE))","v":""},{"$f":"IF(ISBLANK($R236)=TRUE,\"\",VLOOKUP($R236,TAXONOMY!$A$1:$G$959,5,FALSE))","v":""},{"$f":"IF(ISBLANK($R236)=TRUE,\"\",VLOOKUP($R236,TAXONOMY!$A$1:$G$959,4,FALSE))","v":""},{"$f":"IF(ISBLANK($R236)=TRUE,\"\",VLOOKUP($R236,TAXONOMY!$A$1:$G$959,3,FALSE))","v":""},{"$f":"IF(ISBLANK($R236)=TRUE,\"\",VLOOKUP($R236,TAXONOMY!$A$1:$H$959,2,FALSE))","v":""}]
[null,null,null,null,null,null,null,null,null,null,null,{"$f":"IF(ISBLANK($R237)=TRUE,\"\",VLOOKUP($R237,TAXONOMY!$A$1:$G$959,7,FALSE))","v":""},{"$f":"IF(ISBLANK($R237)=TRUE,\"\",VLOOKUP($R237,TAXONOMY!$A$1:$G$959,6,FALSE))","v":""},{"$f":"IF(ISBLANK($R237)=TRUE,\"\",VLOOKUP($R237,TAXONOMY!$A$1:$G$959,5,FALSE))","v":""},{"$f":"IF(ISBLANK($R237)=TRUE,\"\",VLOOKUP($R237,TAXONOMY!$A$1:$G$959,4,FALSE))","v":""},{"$f":"IF(ISBLANK($R237)=TRUE,\"\",VLOOKUP($R237,TAXONOMY!$A$1:$G$959,3,FALSE))","v":""},{"$f":"IF(ISBLANK($R237)=TRUE,\"\",VLOOKUP($R237,TAXONOMY!$A$1:$H$959,2,FALSE))","v":""}]
[null,null,null,null,null,null,null,null,null,null,null,{"$f":"IF(ISBLANK($R238)=TRUE,\"\",VLOOKUP($R238,TAXONOMY!$A$1:$G$959,7,FALSE))","v":""},{"$f":"IF(ISBLANK($R238)=TRUE,\"\",VLOOKUP($R238,TAXONOMY!$A$1:$G$959,6,FALSE))","v":""},{"$f":"IF(ISBLANK($R238)=TRUE,\"\",VLOOKUP($R238,TAXONOMY!$A$1:$G$959,5,FALSE))","v":""},{"$f":"IF(ISBLANK($R238)=TRUE,\"\",VLOOKUP($R238,TAXONOMY!$A$1:$G$959,4,FALSE))","v":""},{"$f":"IF(ISBLANK($R238)=TRUE,\"\",VLOOKUP($R238,TAXONOMY!$A$1:$G$959,3,FALSE))","v":""},{"$f":"IF(ISBLANK($R238)=TRUE,\"\",VLOOKUP($R238,TAXONOMY!$A$1:$H$959,2,FALSE))","v":""}]
[null,null,null,null,null,null,null,null,null,null,null,{"$f":"IF(ISBLANK($R239)=TRUE,\"\",VLOOKUP($R239,TAXONOMY!$A$1:$G$959,7,FALSE))","v":""},{"$f":"IF(ISBLANK($R239)=TRUE,\"\",VLOOKUP($R239,TAXONOMY!$A$1:$G$959,6,FALSE))","v":""},{"$f":"IF(ISBLANK($R239)=TRUE,\"\",VLOOKUP($R239,TAXONOMY!$A$1:$G$959,5,FALSE))","v":""},{"$f":"IF(ISBLANK($R239)=TRUE,\"\",VLOOKUP($R239,TAXONOMY!$A$1:$G$959,4,FALSE))","v":""},{"$f":"IF(ISBLANK($R239)=TRUE,\"\",VLOOKUP($R239,TAXONOMY!$A$1:$G$959,3,FALSE))","v":""},{"$f":"IF(ISBLANK($R239)=TRUE,\"\",VLOOKUP($R239,TAXONOMY!$A$1:$H$959,2,FALSE))","v":""}]
[null,null,null,null,null,null,null,null,null,null,null,{"$f":"IF(ISBLANK($R240)=TRUE,\"\",VLOOKUP($R240,TAXONOMY!$A$1:$G$959,7,FALSE))","v":""},{"$f":"IF(ISBLANK($R240)=TRUE,\"\",VLOOKUP($R240,TAXONOMY!$A$1:$G$959,6,FALSE))","v":""},{"$f":"IF(ISBLANK($R240)=TRUE,\"\",VLOOKUP($R240,TAXONOMY!$A$1:$G$959,5,FALSE))","v":""},{"$f":"IF(ISBLANK($R240)=TRUE,\"\",VLOOKUP($R240,TAXONOMY!$A$1:$G$959,4,FALSE))","v":""},{"$f":"IF(ISBLANK($R240)=TRUE,\"\",VLOOKUP($R240,TAXONOMY!$A$1:$G$959,3,FALSE))","v":""},{"$f":"IF(ISBLANK($R240)=TRUE,\"\",VLOOKUP($R240,TAXONOMY!$A$1:$H$959,2,FALSE))","v":""}]
[null,null,null,null,null,null,null,null,null,null,null,{"$f":"IF(ISBLANK($R241)=TRUE,\"\",VLOOKUP($R241,TAXONOMY!$A$1:$G$959,7,FALSE))","v":""},{"$f":"IF(ISBLANK($R241)=TRUE,\"\",VLOOKUP($R241,TAXONOMY!$A$1:$G$959,6,FALSE))","v":""},{"$f":"IF(ISBLANK($R241)=TRUE,\"\",VLOOKUP($R241,TAXONOMY!$A$1:$G$959,5,FALSE))","v":""},{"$f":"IF(ISBLANK($R241)=TRUE,\"\",VLOOKUP($R241,TAXONOMY!$A$1:$G$959,4,FALSE))","v":""},{"$f":"IF(ISBLANK($R241)=TRUE,\"\",VLOOKUP($R241,TAXONOMY!$A$1:$G$959,3,FALSE))","v":""},{"$f":"IF(ISBLANK($R241)=TRUE,\"\",VLOOKUP($R241,TAXONOMY!$A$1:$H$959,2,FALSE))","v":""}]
[null,null,null,null,null,null,null,null,null,null,null,{"$f":"IF(ISBLANK($R242)=TRUE,\"\",VLOOKUP($R242,TAXONOMY!$A$1:$G$959,7,FALSE))","v":""},{"$f":"IF(ISBLANK($R242)=TRUE,\"\",VLOOKUP($R242,TAXONOMY!$A$1:$G$959,6,FALSE))","v":""},{"$f":"IF(ISBLANK($R242)=TRUE,\"\",VLOOKUP($R242,TAXONOMY!$A$1:$G$959,5,FALSE))","v":""},{"$f":"IF(ISBLANK($R242)=TRUE,\"\",VLOOKUP($R242,TAXONOMY!$A$1:$G$959,4,FALSE))","v":""},{"$f":"IF(ISBLANK($R242)=TRUE,\"\",VLOOKUP($R242,TAXONOMY!$A$1:$G$959,3,FALSE))","v":""},{"$f":"IF(ISBLANK($R242)=TRUE,\"\",VLOOKUP($R242,TAXONOMY!$A$1:$H$959,2,FALSE))","v":""}]
[null,null,null,null,null,null,null,null,null,null,null,{"$f":"IF(ISBLANK($R243)=TRUE,\"\",VLOOKUP($R243,TAXONOMY!$A$1:$G$959,7,FALSE))","v":""},{"$f":"IF(ISBLANK($R243)=TRUE,\"\",VLOOKUP($R243,TAXONOMY!$A$1:$G$959,6,FALSE))","v":""},{"$f":"IF(ISBLANK($R243)=TRUE,\"\",VLOOKUP($R243,TAXONOMY!$A$1:$G$959,5,FALSE))","v":""},{"$f":"IF(ISBLANK($R243)=TRUE,\"\",VLOOKUP($R243,TAXONOMY!$A$1:$G$959,4,FALSE))","v":""},{"$f":"IF(ISBLANK($R243)=TRUE,\"\",VLOOKUP($R243,TAXONOMY!$A$1:$G$959,3,FALSE))","v":""},{"$f":"IF(ISBLANK($R243)=TRUE,\"\",VLOOKUP($R243,TAXONOMY!$A$1:$H$959,2,FALSE))","v":""}]
[null,null,null,null,null,null,null,null,null,null,null,{"$f":"IF(ISBLANK($R244)=TRUE,\"\",VLOOKUP($R244,TAXONOMY!$A$1:$G$959,7,FALSE))","v":""},{"$f":"IF(ISBLANK($R244)=TRUE,\"\",VLOOKUP($R244,TAXONOMY!$A$1:$G$959,6,FALSE))","v":""},{"$f":"IF(ISBLANK($R244)=TRUE,\"\",VLOOKUP($R244,TAXONOMY!$A$1:$G$959,5,FALSE))","v":""},{"$f":"IF(ISBLANK($R244)=TRUE,\"\",VLOOKUP($R244,TAXONOMY!$A$1:$G$959,4,FALSE))","v":""},{"$f":"IF(ISBLANK($R244)=TRUE,\"\",VLOOKUP($R244,TAXONOMY!$A$1:$G$959,3,FALSE))","v":""},{"$f":"IF(ISBLANK($R244)=TRUE,\"\",VLOOKUP($R244,TAXONOMY!$A$1:$H$959,2,FALSE))","v":""}]
[null,null,null,null,null,null,null,null,null,null,null,{"$f":"IF(ISBLANK($R245)=TRUE,\"\",VLOOKUP($R245,TAXONOMY!$A$1:$G$959,7,FALSE))","v":""},{"$f":"IF(ISBLANK($R245)=TRUE,\"\",VLOOKUP($R245,TAXONOMY!$A$1:$G$959,6,FALSE))","v":""},{"$f":"IF(ISBLANK($R245)=TRUE,\"\",VLOOKUP($R245,TAXONOMY!$A$1:$G$959,5,FALSE))","v":""},{"$f":"IF(ISBLANK($R245)=TRUE,\"\",VLOOKUP($R245,TAXONOMY!$A$1:$G$959,4,FALSE))","v":""},{"$f":"IF(ISBLANK($R245)=TRUE,\"\",VLOOKUP($R245,TAXONOMY!$A$1:$G$959,3,FALSE))","v":""},{"$f":"IF(ISBLANK($R245)=TRUE,\"\",VLOOKUP($R245,TAXONOMY!$A$1:$H$959,2,FALSE))","v":""}]
[null,null,null,null,null,null,null,null,null,null,null,{"$f":"IF(ISBLANK($R246)=TRUE,\"\",VLOOKUP($R246,TAXONOMY!$A$1:$G$959,7,FALSE))","v":""},{"$f":"IF(ISBLANK($R246)=TRUE,\"\",VLOOKUP($R246,TAXONOMY!$A$1:$G$959,6,FALSE))","v":""},{"$f":"IF(ISBLANK($R246)=TRUE,\"\",VLOOKUP($R246,TAXONOMY!$A$1:$G$959,5,FALSE))","v":""},{"$f":"IF(ISBLANK($R246)=TRUE,\"\",VLOOKUP($R246,TAXONOMY!$A$1:$G$959,4,FALSE))","v":""},{"$f":"IF(ISBLANK($R246)=TRUE,\"\",VLOOKUP($R246,TAXONOMY!$A$1:$G$959,3,FALSE))","v":""},{"$f":"IF(ISBLANK($R246)=TRUE,\"\",VLOOKUP($R246,TAXONOMY!$A$1:$H$959,2,FALSE))","v":""}]
[null,null,null,null,null,null,null,null,null,null,null,{"$f":"IF(ISBLANK($R247)=TRUE,\"\",VLOOKUP($R247,TAXONOMY!$A$1:$G$959,7,FALSE))","v":""},{"$f":"IF(ISBLANK($R247)=TRUE,\"\",VLOOKUP($R247,TAXONOMY!$A$1:$G$959,6,FALSE))","v":""},{"$f":"IF(ISBLANK($R247)=TRUE,\"\",VLOOKUP($R247,TAXONOMY!$A$1:$G$959,5,FALSE))","v":""},{"$f":"IF(ISBLANK($R247)=TRUE,\"\",VLOOKUP($R247,TAXONOMY!$A$1:$G$959,4,FALSE))","v":""},{"$f":"IF(ISBLANK($R247)=TRUE,\"\",VLOOKUP($R247,TAXONOMY!$A$1:$G$959,3,FALSE))","v":""},{"$f":"IF(ISBLANK($R247)=TRUE,\"\",VLOOKUP($R247,TAXONOMY!$A$1:$H$959,2,FALSE))","v":""}]
[null,null,null,null,null,null,null,null,null,null,null,{"$f":"IF(ISBLANK($R248)=TRUE,\"\",VLOOKUP($R248,TAXONOMY!$A$1:$G$959,7,FALSE))","v":""},{"$f":"IF(ISBLANK($R248)=TRUE,\"\",VLOOKUP($R248,TAXONOMY!$A$1:$G$959,6,FALSE))","v":""},{"$f":"IF(ISBLANK($R248)=TRUE,\"\",VLOOKUP($R248,TAXONOMY!$A$1:$G$959,5,FALSE))","v":""},{"$f":"IF(ISBLANK($R248)=TRUE,\"\",VLOOKUP($R248,TAXONOMY!$A$1:$G$959,4,FALSE))","v":""},{"$f":"IF(ISBLANK($R248)=TRUE,\"\",VLOOKUP($R248,TAXONOMY!$A$1:$G$959,3,FALSE))","v":""},{"$f":"IF(ISBLANK($R248)=TRUE,\"\",VLOOKUP($R248,TAXONOMY!$A$1:$H$959,2,FALSE))","v":""}]
[null,null,null,null,null,null,null,null,null,null,null,{"$f":"IF(ISBLANK($R249)=TRUE,\"\",VLOOKUP($R249,TAXONOMY!$A$1:$G$959,7,FALSE))","v":""},{"$f":"IF(ISBLANK($R249)=TRUE,\"\",VLOOKUP($R249,TAXONOMY!$A$1:$G$959,6,FALSE))","v":""},{"$f":"IF(ISBLANK($R249)=TRUE,\"\",VLOOKUP($R249,TAXONOMY!$A$1:$G$959,5,FALSE))","v":""},{"$f":"IF(ISBLANK($R249)=TRUE,\"\",VLOOKUP($R249,TAXONOMY!$A$1:$G$959,4,FALSE))","v":""},{"$f":"IF(ISBLANK($R249)=TRUE,\"\",VLOOKUP($R249,TAXONOMY!$A$1:$G$959,3,FALSE))","v":""},{"$f":"IF(ISBLANK($R249)=TRUE,\"\",VLOOKUP($R249,TAXONOMY!$A$1:$H$959,2,FALSE))","v":""}]
[null,null,null,null,null,null,null,null,null,null,null,{"$f":"IF(ISBLANK($R250)=TRUE,\"\",VLOOKUP($R250,TAXONOMY!$A$1:$G$959,7,FALSE))","v":""},{"$f":"IF(ISBLANK($R250)=TRUE,\"\",VLOOKUP($R250,TAXONOMY!$A$1:$G$959,6,FALSE))","v":""},{"$f":"IF(ISBLANK($R250)=TRUE,\"\",VLOOKUP($R250,TAXONOMY!$A$1:$G$959,5,FALSE))","v":""},{"$f":"IF(ISBLANK($R250)=TRUE,\"\",VLOOKUP($R250,TAXONOMY!$A$1:$G$959,4,FALSE))","v":""},{"$f":"IF(ISBLANK($R250)=TRUE,\"\",VLOOKUP($R250,TAXONOMY!$A$1:$G$959,3,FALSE))","v":""},{"$f":"IF(ISBLANK($R250)=TRUE,\"\",VLOOKUP($R250,TAXONOMY!$A$1:$H$959,2,FALSE))","v":""}]
[null,null,null,null,null,null,null,null,null,null,null,{"$f":"IF(ISBLANK($R251)=TRUE,\"\",VLOOKUP($R251,TAXONOMY!$A$1:$G$959,7,FALSE))","v":""},{"$f":"IF(ISBLANK($R251)=TRUE,\"\",VLOOKUP($R251,TAXONOMY!$A$1:$G$959,6,FALSE))","v":""},{"$f":"IF(ISBLANK($R251)=TRUE,\"\",VLOOKUP($R251,TAXONOMY!$A$1:$G$959,5,FALSE))","v":""},{"$f":"IF(ISBLANK($R251)=TRUE,\"\",VLOOKUP($R251,TAXONOMY!$A$1:$G$959,4,FALSE))","v":""},{"$f":"IF(ISBLANK($R251)=TRUE,\"\",VLOOKUP($R251,TAXONOMY!$A$1:$G$959,3,FALSE))","v":""},{"$f":"IF(ISBLANK($R251)=TRUE,\"\",VLOOKUP($R251,TAXONOMY!$A$1:$H$959,2,FALSE))","v":""}]
[null,null,null,null,null,null,null,null,null,null,null,{"$f":"IF(ISBLANK($R252)=TRUE,\"\",VLOOKUP($R252,TAXONOMY!$A$1:$G$959,7,FALSE))","v":""},{"$f":"IF(ISBLANK($R252)=TRUE,\"\",VLOOKUP($R252,TAXONOMY!$A$1:$G$959,6,FALSE))","v":""},{"$f":"IF(ISBLANK($R252)=TRUE,\"\",VLOOKUP($R252,TAXONOMY!$A$1:$G$959,5,FALSE))","v":""},{"$f":"IF(ISBLANK($R252)=TRUE,\"\",VLOOKUP($R252,TAXONOMY!$A$1:$G$959,4,FALSE))","v":""},{"$f":"IF(ISBLANK($R252)=TRUE,\"\",VLOOKUP($R252,TAXONOMY!$A$1:$G$959,3,FALSE))","v":""},{"$f":"IF(ISBLANK($R252)=TRUE,\"\",VLOOKUP($R252,TAXONOMY!$A$1:$H$959,2,FALSE))","v":""}]
[null,null,null,null,null,null,null,null,null,null,null,{"$f":"IF(ISBLANK($R253)=TRUE,\"\",VLOOKUP($R253,TAXONOMY!$A$1:$G$959,7,FALSE))","v":""},{"$f":"IF(ISBLANK($R253)=TRUE,\"\",VLOOKUP($R253,TAXONOMY!$A$1:$G$959,6,FALSE))","v":""},{"$f":"IF(ISBLANK($R253)=TRUE,\"\",VLOOKUP($R253,TAXONOMY!$A$1:$G$959,5,FALSE))","v":""},{"$f":"IF(ISBLANK($R253)=TRUE,\"\",VLOOKUP($R253,TAXONOMY!$A$1:$G$959,4,FALSE))","v":""},{"$f":"IF(ISBLANK($R253)=TRUE,\"\",VLOOKUP($R253,TAXONOMY!$A$1:$G$959,3,FALSE))","v":""},{"$f":"IF(ISBLANK($R253)=TRUE,\"\",VLOOKUP($R253,TAXONOMY!$A$1:$H$959,2,FALSE))","v":""}]
[null,null,null,null,null,null,null,null,null,null,null,{"$f":"IF(ISBLANK($R254)=TRUE,\"\",VLOOKUP($R254,TAXONOMY!$A$1:$G$959,7,FALSE))","v":""},{"$f":"IF(ISBLANK($R254)=TRUE,\"\",VLOOKUP($R254,TAXONOMY!$A$1:$G$959,6,FALSE))","v":""},{"$f":"IF(ISBLANK($R254)=TRUE,\"\",VLOOKUP($R254,TAXONOMY!$A$1:$G$959,5,FALSE))","v":""},{"$f":"IF(ISBLANK($R254)=TRUE,\"\",VLOOKUP($R254,TAXONOMY!$A$1:$G$959,4,FALSE))","v":""},{"$f":"IF(ISBLANK($R254)=TRUE,\"\",VLOOKUP($R254,TAXONOMY!$A$1:$G$959,3,FALSE))","v":""},{"$f":"IF(ISBLANK($R254)=TRUE,\"\",VLOOKUP($R254,TAXONOMY!$A$1:$H$959,2,FALSE))","v":""}]
[null,null,null,null,null,null,null,null,null,null,null,{"$f":"IF(ISBLANK($R255)=TRUE,\"\",VLOOKUP($R255,TAXONOMY!$A$1:$G$959,7,FALSE))","v":""},{"$f":"IF(ISBLANK($R255)=TRUE,\"\",VLOOKUP($R255,TAXONOMY!$A$1:$G$959,6,FALSE))","v":""},{"$f":"IF(ISBLANK($R255)=TRUE,\"\",VLOOKUP($R255,TAXONOMY!$A$1:$G$959,5,FALSE))","v":""},{"$f":"IF(ISBLANK($R255)=TRUE,\"\",VLOOKUP($R255,TAXONOMY!$A$1:$G$959,4,FALSE))","v":""},{"$f":"IF(ISBLANK($R255)=TRUE,\"\",VLOOKUP($R255,TAXONOMY!$A$1:$G$959,3,FALSE))","v":""},{"$f":"IF(ISBLANK($R255)=TRUE,\"\",VLOOKUP($R255,TAXONOMY!$A$1:$H$959,2,FALSE))","v":""}]
[null,null,null,null,null,null,null,null,null,null,null,{"$f":"IF(ISBLANK($R256)=TRUE,\"\",VLOOKUP($R256,TAXONOMY!$A$1:$G$959,7,FALSE))","v":""},{"$f":"IF(ISBLANK($R256)=TRUE,\"\",VLOOKUP($R256,TAXONOMY!$A$1:$G$959,6,FALSE))","v":""},{"$f":"IF(ISBLANK($R256)=TRUE,\"\",VLOOKUP($R256,TAXONOMY!$A$1:$G$959,5,FALSE))","v":""},{"$f":"IF(ISBLANK($R256)=TRUE,\"\",VLOOKUP($R256,TAXONOMY!$A$1:$G$959,4,FALSE))","v":""},{"$f":"IF(ISBLANK($R256)=TRUE,\"\",VLOOKUP($R256,TAXONOMY!$A$1:$G$959,3,FALSE))","v":""},{"$f":"IF(ISBLANK($R256)=TRUE,\"\",VLOOKUP($R256,TAXONOMY!$A$1:$H$959,2,FALSE))","v":""}]
[null,null,null,null,null,null,null,null,null,null,null,{"$f":"IF(ISBLANK($R257)=TRUE,\"\",VLOOKUP($R257,TAXONOMY!$A$1:$G$959,7,FALSE))","v":""},{"$f":"IF(ISBLANK($R257)=TRUE,\"\",VLOOKUP($R257,TAXONOMY!$A$1:$G$959,6,FALSE))","v":""},{"$f":"IF(ISBLANK($R257)=TRUE,\"\",VLOOKUP($R257,TAXONOMY!$A$1:$G$959,5,FALSE))","v":""},{"$f":"IF(ISBLANK($R257)=TRUE,\"\",VLOOKUP($R257,TAXONOMY!$A$1:$G$959,4,FALSE))","v":""},{"$f":"IF(ISBLANK($R257)=TRUE,\"\",VLOOKUP($R257,TAXONOMY!$A$1:$G$959,3,FALSE))","v":""},{"$f":"IF(ISBLANK($R257)=TRUE,\"\",VLOOKUP($R257,TAXONOMY!$A$1:$H$959,2,FALSE))","v":""}]
[null,null,null,null,null,null,null,null,null,null,null,{"$f":"IF(ISBLANK($R258)=TRUE,\"\",VLOOKUP($R258,TAXONOMY!$A$1:$G$959,7,FALSE))","v":""},{"$f":"IF(ISBLANK($R258)=TRUE,\"\",VLOOKUP($R258,TAXONOMY!$A$1:$G$959,6,FALSE))","v":""},{"$f":"IF(ISBLANK($R258)=TRUE,\"\",VLOOKUP($R258,TAXONOMY!$A$1:$G$959,5,FALSE))","v":""},{"$f":"IF(ISBLANK($R258)=TRUE,\"\",VLOOKUP($R258,TAXONOMY!$A$1:$G$959,4,FALSE))","v":""},{"$f":"IF(ISBLANK($R258)=TRUE,\"\",VLOOKUP($R258,TAXONOMY!$A$1:$G$959,3,FALSE))","v":""},{"$f":"IF(ISBLANK($R258)=TRUE,\"\",VLOOKUP($R258,TAXONOMY!$A$1:$H$959,2,FALSE))","v":""}]
[null,null,null,null,null,null,null,null,null,null,null,{"$f":"IF(ISBLANK($R259)=TRUE,\"\",VLOOKUP($R259,TAXONOMY!$A$1:$G$959,7,FALSE))","v":""},{"$f":"IF(ISBLANK($R259)=TRUE,\"\",VLOOKUP($R259,TAXONOMY!$A$1:$G$959,6,FALSE))","v":""},{"$f":"IF(ISBLANK($R259)=TRUE,\"\",VLOOKUP($R259,TAXONOMY!$A$1:$G$959,5,FALSE))","v":""},{"$f":"IF(ISBLANK($R259)=TRUE,\"\",VLOOKUP($R259,TAXONOMY!$A$1:$G$959,4,FALSE))","v":""},{"$f":"IF(ISBLANK($R259)=TRUE,\"\",VLOOKUP($R259,TAXONOMY!$A$1:$G$959,3,FALSE))","v":""},{"$f":"IF(ISBLANK($R259)=TRUE,\"\",VLOOKUP($R259,TAXONOMY!$A$1:$H$959,2,FALSE))","v":""}]
[null,null,null,null,null,null,null,null,null,null,null,{"$f":"IF(ISBLANK($R260)=TRUE,\"\",VLOOKUP($R260,TAXONOMY!$A$1:$G$959,7,FALSE))","v":""},{"$f":"IF(ISBLANK($R260)=TRUE,\"\",VLOOKUP($R260,TAXONOMY!$A$1:$G$959,6,FALSE))","v":""},{"$f":"IF(ISBLANK($R260)=TRUE,\"\",VLOOKUP($R260,TAXONOMY!$A$1:$G$959,5,FALSE))","v":""},{"$f":"IF(ISBLANK($R260)=TRUE,\"\",VLOOKUP($R260,TAXONOMY!$A$1:$G$959,4,FALSE))","v":""},{"$f":"IF(ISBLANK($R260)=TRUE,\"\",VLOOKUP($R260,TAXONOMY!$A$1:$G$959,3,FALSE))","v":""},{"$f":"IF(ISBLANK($R260)=TRUE,\"\",VLOOKUP($R260,TAXONOMY!$A$1:$H$959,2,FALSE))","v":""}]
[null,null,null,null,null,null,null,null,null,null,null,{"$f":"IF(ISBLANK($R261)=TRUE,\"\",VLOOKUP($R261,TAXONOMY!$A$1:$G$959,7,FALSE))","v":""},{"$f":"IF(ISBLANK($R261)=TRUE,\"\",VLOOKUP($R261,TAXONOMY!$A$1:$G$959,6,FALSE))","v":""},{"$f":"IF(ISBLANK($R261)=TRUE,\"\",VLOOKUP($R261,TAXONOMY!$A$1:$G$959,5,FALSE))","v":""},{"$f":"IF(ISBLANK($R261)=TRUE,\"\",VLOOKUP($R261,TAXONOMY!$A$1:$G$959,4,FALSE))","v":""},{"$f":"IF(ISBLANK($R261)=TRUE,\"\",VLOOKUP($R261,TAXONOMY!$A$1:$G$959,3,FALSE))","v":""},{"$f":"IF(ISBLANK($R261)=TRUE,\"\",VLOOKUP($R261,TAXONOMY!$A$1:$H$959,2,FALSE))","v":""}]
[null,null,null,null,null,null,null,null,null,null,null,{"$f":"IF(ISBLANK($R262)=TRUE,\"\",VLOOKUP($R262,TAXONOMY!$A$1:$G$959,7,FALSE))","v":""},{"$f":"IF(ISBLANK($R262)=TRUE,\"\",VLOOKUP($R262,TAXONOMY!$A$1:$G$959,6,FALSE))","v":""},{"$f":"IF(ISBLANK($R262)=TRUE,\"\",VLOOKUP($R262,TAXONOMY!$A$1:$G$959,5,FALSE))","v":""},{"$f":"IF(ISBLANK($R262)=TRUE,\"\",VLOOKUP($R262,TAXONOMY!$A$1:$G$959,4,FALSE))","v":""},{"$f":"IF(ISBLANK($R262)=TRUE,\"\",VLOOKUP($R262,TAXONOMY!$A$1:$G$959,3,FALSE))","v":""},{"$f":"IF(ISBLANK($R262)=TRUE,\"\",VLOOKUP($R262,TAXONOMY!$A$1:$H$959,2,FALSE))","v":""}]
[null,null,null,null,null,null,null,null,null,null,null,{"$f":"IF(ISBLANK($R263)=TRUE,\"\",VLOOKUP($R263,TAXONOMY!$A$1:$G$959,7,FALSE))","v":""},{"$f":"IF(ISBLANK($R263)=TRUE,\"\",VLOOKUP($R263,TAXONOMY!$A$1:$G$959,6,FALSE))","v":""},{"$f":"IF(ISBLANK($R263)=TRUE,\"\",VLOOKUP($R263,TAXONOMY!$A$1:$G$959,5,FALSE))","v":""},{"$f":"IF(ISBLANK($R263)=TRUE,\"\",VLOOKUP($R263,TAXONOMY!$A$1:$G$959,4,FALSE))","v":""},{"$f":"IF(ISBLANK($R263)=TRUE,\"\",VLOOKUP($R263,TAXONOMY!$A$1:$G$959,3,FALSE))","v":""},{"$f":"IF(ISBLANK($R263)=TRUE,\"\",VLOOKUP($R263,TAXONOMY!$A$1:$H$959,2,FALSE))","v":""}]
[null,null,null,null,null,null,null,null,null,null,null,{"$f":"IF(ISBLANK($R264)=TRUE,\"\",VLOOKUP($R264,TAXONOMY!$A$1:$G$959,7,FALSE))","v":""},{"$f":"IF(ISBLANK($R264)=TRUE,\"\",VLOOKUP($R264,TAXONOMY!$A$1:$G$959,6,FALSE))","v":""},{"$f":"IF(ISBLANK($R264)=TRUE,\"\",VLOOKUP($R264,TAXONOMY!$A$1:$G$959,5,FALSE))","v":""},{"$f":"IF(ISBLANK($R264)=TRUE,\"\",VLOOKUP($R264,TAXONOMY!$A$1:$G$959,4,FALSE))","v":""},{"$f":"IF(ISBLANK($R264)=TRUE,\"\",VLOOKUP($R264,TAXONOMY!$A$1:$G$959,3,FALSE))","v":""},{"$f":"IF(ISBLANK($R264)=TRUE,\"\",VLOOKUP($R264,TAXONOMY!$A$1:$H$959,2,FALSE))","v":""}]
[null,null,null,null,null,null,null,null,null,null,null,{"$f":"IF(ISBLANK($R265)=TRUE,\"\",VLOOKUP($R265,TAXONOMY!$A$1:$G$959,7,FALSE))","v":""},{"$f":"IF(ISBLANK($R265)=TRUE,\"\",VLOOKUP($R265,TAXONOMY!$A$1:$G$959,6,FALSE))","v":""},{"$f":"IF(ISBLANK($R265)=TRUE,\"\",VLOOKUP($R265,TAXONOMY!$A$1:$G$959,5,FALSE))","v":""},{"$f":"IF(ISBLANK($R265)=TRUE,\"\",VLOOKUP($R265,TAXONOMY!$A$1:$G$959,4,FALSE))","v":""},{"$f":"IF(ISBLANK($R265)=TRUE,\"\",VLOOKUP($R265,TAXONOMY!$A$1:$G$959,3,FALSE))","v":""},{"$f":"IF(ISBLANK($R265)=TRUE,\"\",VLOOKUP($R265,TAXONOMY!$A$1:$H$959,2,FALSE))","v":""}]
[null,null,null,null,null,null,null,null,null,null,null,{"$f":"IF(ISBLANK($R266)=TRUE,\"\",VLOOKUP($R266,TAXONOMY!$A$1:$G$959,7,FALSE))","v":""},{"$f":"IF(ISBLANK($R266)=TRUE,\"\",VLOOKUP($R266,TAXONOMY!$A$1:$G$959,6,FALSE))","v":""},{"$f":"IF(ISBLANK($R266)=TRUE,\"\",VLOOKUP($R266,TAXONOMY!$A$1:$G$959,5,FALSE))","v":""},{"$f":"IF(ISBLANK($R266)=TRUE,\"\",VLOOKUP($R266,TAXONOMY!$A$1:$G$959,4,FALSE))","v":""},{"$f":"IF(ISBLANK($R266)=TRUE,\"\",VLOOKUP($R266,TAXONOMY!$A$1:$G$959,3,FALSE))","v":""},{"$f":"IF(ISBLANK($R266)=TRUE,\"\",VLOOKUP($R266,TAXONOMY!$A$1:$H$959,2,FALSE))","v":""}]
[null,null,null,null,null,null,null,null,null,null,null,{"$f":"IF(ISBLANK($R267)=TRUE,\"\",VLOOKUP($R267,TAXONOMY!$A$1:$G$959,7,FALSE))","v":""},{"$f":"IF(ISBLANK($R267)=TRUE,\"\",VLOOKUP($R267,TAXONOMY!$A$1:$G$959,6,FALSE))","v":""},{"$f":"IF(ISBLANK($R267)=TRUE,\"\",VLOOKUP($R267,TAXONOMY!$A$1:$G$959,5,FALSE))","v":""},{"$f":"IF(ISBLANK($R267)=TRUE,\"\",VLOOKUP($R267,TAXONOMY!$A$1:$G$959,4,FALSE))","v":""},{"$f":"IF(ISBLANK($R267)=TRUE,\"\",VLOOKUP($R267,TAXONOMY!$A$1:$G$959,3,FALSE))","v":""},{"$f":"IF(ISBLANK($R267)=TRUE,\"\",VLOOKUP($R267,TAXONOMY!$A$1:$H$959,2,FALSE))","v":""}]
[null,null,null,null,null,null,null,null,null,null,null,{"$f":"IF(ISBLANK($R268)=TRUE,\"\",VLOOKUP($R268,TAXONOMY!$A$1:$G$959,7,FALSE))","v":""},{"$f":"IF(ISBLANK($R268)=TRUE,\"\",VLOOKUP($R268,TAXONOMY!$A$1:$G$959,6,FALSE))","v":""},{"$f":"IF(ISBLANK($R268)=TRUE,\"\",VLOOKUP($R268,TAXONOMY!$A$1:$G$959,5,FALSE))","v":""},{"$f":"IF(ISBLANK($R268)=TRUE,\"\",VLOOKUP($R268,TAXONOMY!$A$1:$G$959,4,FALSE))","v":""},{"$f":"IF(ISBLANK($R268)=TRUE,\"\",VLOOKUP($R268,TAXONOMY!$A$1:$G$959,3,FALSE))","v":""},{"$f":"IF(ISBLANK($R268)=TRUE,\"\",VLOOKUP($R268,TAXONOMY!$A$1:$H$959,2,FALSE))","v":""}]
[null,null,null,null,null,null,null,null,null,null,null,{"$f":"IF(ISBLANK($R269)=TRUE,\"\",VLOOKUP($R269,TAXONOMY!$A$1:$G$959,7,FALSE))","v":""},{"$f":"IF(ISBLANK($R269)=TRUE,\"\",VLOOKUP($R269,TAXONOMY!$A$1:$G$959,6,FALSE))","v":""},{"$f":"IF(ISBLANK($R269)=TRUE,\"\",VLOOKUP($R269,TAXONOMY!$A$1:$G$959,5,FALSE))","v":""},{"$f":"IF(ISBLANK($R269)=TRUE,\"\",VLOOKUP($R269,TAXONOMY!$A$1:$G$959,4,FALSE))","v":""},{"$f":"IF(ISBLANK($R269)=TRUE,\"\",VLOOKUP($R269,TAXONOMY!$A$1:$G$959,3,FALSE))","v":""},{"$f":"IF(ISBLANK($R269)=TRUE,\"\",VLOOKUP($R269,TAXONOMY!$A$1:$H$959,2,FALSE))","v":""}]
[null,null,null,null,null,null,null,null,null,null,null,{"$f":"IF(ISBLANK($R270)=TRUE,\"\",VLOOKUP($R270,TAXONOMY!$A$1:$G$959,7,FALSE))","v":""},{"$f":"IF(ISBLANK($R270)=TRUE,\"\",VLOOKUP($R270,TAXONOMY!$A$1:$G$959,6,FALSE))","v":""},{"$f":"IF(ISBLANK($R270)=TRUE,\"\",VLOOKUP($R270,TAXONOMY!$A$1:$G$959,5,FALSE))","v":""},{"$f":"IF(ISBLANK($R270)=TRUE,\"\",VLOOKUP($R270,TAXONOMY!$A$1:$G$959,4,FALSE))","v":""},{"$f":"IF(ISBLANK($R270)=TRUE,\"\",VLOOKUP($R270,TAXONOMY!$A$1:$G$959,3,FALSE))","v":""},{"$f":"IF(ISBLANK($R270)=TRUE,\"\",VLOOKUP($R270,TAXONOMY!$A$1:$H$959,2,FALSE))","v":""}]
[null,null,null,null,null,null,null,null,null,null,null,{"$f":"IF(ISBLANK($R271)=TRUE,\"\",VLOOKUP($R271,TAXONOMY!$A$1:$G$959,7,FALSE))","v":""},{"$f":"IF(ISBLANK($R271)=TRUE,\"\",VLOOKUP($R271,TAXONOMY!$A$1:$G$959,6,FALSE))","v":""},{"$f":"IF(ISBLANK($R271)=TRUE,\"\",VLOOKUP($R271,TAXONOMY!$A$1:$G$959,5,FALSE))","v":""},{"$f":"IF(ISBLANK($R271)=TRUE,\"\",VLOOKUP($R271,TAXONOMY!$A$1:$G$959,4,FALSE))","v":""},{"$f":"IF(ISBLANK($R271)=TRUE,\"\",VLOOKUP($R271,TAXONOMY!$A$1:$G$959,3,FALSE))","v":""},{"$f":"IF(ISBLANK($R271)=TRUE,\"\",VLOOKUP($R271,TAXONOMY!$A$1:$H$959,2,FALSE))","v":""}]
[null,null,null,null,null,null,null,null,null,null,null,{"$f":"IF(ISBLANK($R272)=TRUE,\"\",VLOOKUP($R272,TAXONOMY!$A$1:$G$959,7,FALSE))","v":""},{"$f":"IF(ISBLANK($R272)=TRUE,\"\",VLOOKUP($R272,TAXONOMY!$A$1:$G$959,6,FALSE))","v":""},{"$f":"IF(ISBLANK($R272)=TRUE,\"\",VLOOKUP($R272,TAXONOMY!$A$1:$G$959,5,FALSE))","v":""},{"$f":"IF(ISBLANK($R272)=TRUE,\"\",VLOOKUP($R272,TAXONOMY!$A$1:$G$959,4,FALSE))","v":""},{"$f":"IF(ISBLANK($R272)=TRUE,\"\",VLOOKUP($R272,TAXONOMY!$A$1:$G$959,3,FALSE))","v":""},{"$f":"IF(ISBLANK($R272)=TRUE,\"\",VLOOKUP($R272,TAXONOMY!$A$1:$H$959,2,FALSE))","v":""}]
[null,null,null,null,null,null,null,null,null,null,null,{"$f":"IF(ISBLANK($R273)=TRUE,\"\",VLOOKUP($R273,TAXONOMY!$A$1:$G$959,7,FALSE))","v":""},{"$f":"IF(ISBLANK($R273)=TRUE,\"\",VLOOKUP($R273,TAXONOMY!$A$1:$G$959,6,FALSE))","v":""},{"$f":"IF(ISBLANK($R273)=TRUE,\"\",VLOOKUP($R273,TAXONOMY!$A$1:$G$959,5,FALSE))","v":""},{"$f":"IF(ISBLANK($R273)=TRUE,\"\",VLOOKUP($R273,TAXONOMY!$A$1:$G$959,4,FALSE))","v":""},{"$f":"IF(ISBLANK($R273)=TRUE,\"\",VLOOKUP($R273,TAXONOMY!$A$1:$G$959,3,FALSE))","v":""},{"$f":"IF(ISBLANK($R273)=TRUE,\"\",VLOOKUP($R273,TAXONOMY!$A$1:$H$959,2,FALSE))","v":""}]
[null,null,null,null,null,null,null,null,null,null,null,{"$f":"IF(ISBLANK($R274)=TRUE,\"\",VLOOKUP($R274,TAXONOMY!$A$1:$G$959,7,FALSE))","v":""},{"$f":"IF(ISBLANK($R274)=TRUE,\"\",VLOOKUP($R274,TAXONOMY!$A$1:$G$959,6,FALSE))","v":""},{"$f":"IF(ISBLANK($R274)=TRUE,\"\",VLOOKUP($R274,TAXONOMY!$A$1:$G$959,5,FALSE))","v":""},{"$f":"IF(ISBLANK($R274)=TRUE,\"\",VLOOKUP($R274,TAXONOMY!$A$1:$G$959,4,FALSE))","v":""},{"$f":"IF(ISBLANK($R274)=TRUE,\"\",VLOOKUP($R274,TAXONOMY!$A$1:$G$959,3,FALSE))","v":""},{"$f":"IF(ISBLANK($R274)=TRUE,\"\",VLOOKUP($R274,TAXONOMY!$A$1:$H$959,2,FALSE))","v":""}]
[null,null,null,null,null,null,null,null,null,null,null,{"$f":"IF(ISBLANK($R275)=TRUE,\"\",VLOOKUP($R275,TAXONOMY!$A$1:$G$959,7,FALSE))","v":""},{"$f":"IF(ISBLANK($R275)=TRUE,\"\",VLOOKUP($R275,TAXONOMY!$A$1:$G$959,6,FALSE))","v":""},{"$f":"IF(ISBLANK($R275)=TRUE,\"\",VLOOKUP($R275,TAXONOMY!$A$1:$G$959,5,FALSE))","v":""},{"$f":"IF(ISBLANK($R275)=TRUE,\"\",VLOOKUP($R275,TAXONOMY!$A$1:$G$959,4,FALSE))","v":""},{"$f":"IF(ISBLANK($R275)=TRUE,\"\",VLOOKUP($R275,TAXONOMY!$A$1:$G$959,3,FALSE))","v":""},{"$f":"IF(ISBLANK($R275)=TRUE,\"\",VLOOKUP($R275,TAXONOMY!$A$1:$H$959,2,FALSE))","v":""}]
[null,null,null,null,null,null,null,null,null,null,null,{"$f":"IF(ISBLANK($R276)=TRUE,\"\",VLOOKUP($R276,TAXONOMY!$A$1:$G$959,7,FALSE))","v":""},{"$f":"IF(ISBLANK($R276)=TRUE,\"\",VLOOKUP($R276,TAXONOMY!$A$1:$G$959,6,FALSE))","v":""},{"$f":"IF(ISBLANK($R276)=TRUE,\"\",VLOOKUP($R276,TAXONOMY!$A$1:$G$959,5,FALSE))","v":""},{"$f":"IF(ISBLANK($R276)=TRUE,\"\",VLOOKUP($R276,TAXONOMY!$A$1:$G$959,4,FALSE))","v":""},{"$f":"IF(ISBLANK($R276)=TRUE,\"\",VLOOKUP($R276,TAXONOMY!$A$1:$G$959,3,FALSE))","v":""},{"$f":"IF(ISBLANK($R276)=TRUE,\"\",VLOOKUP($R276,TAXONOMY!$A$1:$H$959,2,FALSE))","v":""}]
[null,null,null,null,null,null,null,null,null,null,null,{"$f":"IF(ISBLANK($R277)=TRUE,\"\",VLOOKUP($R277,TAXONOMY!$A$1:$G$959,7,FALSE))","v":""},{"$f":"IF(ISBLANK($R277)=TRUE,\"\",VLOOKUP($R277,TAXONOMY!$A$1:$G$959,6,FALSE))","v":""},{"$f":"IF(ISBLANK($R277)=TRUE,\"\",VLOOKUP($R277,TAXONOMY!$A$1:$G$959,5,FALSE))","v":""},{"$f":"IF(ISBLANK($R277)=TRUE,\"\",VLOOKUP($R277,TAXONOMY!$A$1:$G$959,4,FALSE))","v":""},{"$f":"IF(ISBLANK($R277)=TRUE,\"\",VLOOKUP($R277,TAXONOMY!$A$1:$G$959,3,FALSE))","v":""},{"$f":"IF(ISBLANK($R277)=TRUE,\"\",VLOOKUP($R277,TAXONOMY!$A$1:$H$959,2,FALSE))","v":""}]
[null,null,null,null,null,null,null,null,null,null,null,{"$f":"IF(ISBLANK($R278)=TRUE,\"\",VLOOKUP($R278,TAXONOMY!$A$1:$G$959,7,FALSE))","v":""},{"$f":"IF(ISBLANK($R278)=TRUE,\"\",VLOOKUP($R278,TAXONOMY!$A$1:$G$959,6,FALSE))","v":""},{"$f":"IF(ISBLANK($R278)=TRUE,\"\",VLOOKUP($R278,TAXONOMY!$A$1:$G$959,5,FALSE))","v":""},{"$f":"IF(ISBLANK($R278)=TRUE,\"\",VLOOKUP($R278,TAXONOMY!$A$1:$G$959,4,FALSE))","v":""},{"$f":"IF(ISBLANK($R278)=TRUE,\"\",VLOOKUP($R278,TAXONOMY!$A$1:$G$959,3,FALSE))","v":""},{"$f":"IF(ISBLANK($R278)=TRUE,\"\",VLOOKUP($R278,TAXONOMY!$A$1:$H$959,2,FALSE))","v":""}]
[null,null,null,null,null,null,null,null,null,null,null,{"$f":"IF(ISBLANK($R279)=TRUE,\"\",VLOOKUP($R279,TAXONOMY!$A$1:$G$959,7,FALSE))","v":""},{"$f":"IF(ISBLANK($R279)=TRUE,\"\",VLOOKUP($R279,TAXONOMY!$A$1:$G$959,6,FALSE))","v":""},{"$f":"IF(ISBLANK($R279)=TRUE,\"\",VLOOKUP($R279,TAXONOMY!$A$1:$G$959,5,FALSE))","v":""},{"$f":"IF(ISBLANK($R279)=TRUE,\"\",VLOOKUP($R279,TAXONOMY!$A$1:$G$959,4,FALSE))","v":""},{"$f":"IF(ISBLANK($R279)=TRUE,\"\",VLOOKUP($R279,TAXONOMY!$A$1:$G$959,3,FALSE))","v":""},{"$f":"IF(ISBLANK($R279)=TRUE,\"\",VLOOKUP($R279,TAXONOMY!$A$1:$H$959,2,FALSE))","v":""}]
[null,null,null,null,null,null,null,null,null,null,null,{"$f":"IF(ISBLANK($R280)=TRUE,\"\",VLOOKUP($R280,TAXONOMY!$A$1:$G$959,7,FALSE))","v":""},{"$f":"IF(ISBLANK($R280)=TRUE,\"\",VLOOKUP($R280,TAXONOMY!$A$1:$G$959,6,FALSE))","v":""},{"$f":"IF(ISBLANK($R280)=TRUE,\"\",VLOOKUP($R280,TAXONOMY!$A$1:$G$959,5,FALSE))","v":""},{"$f":"IF(ISBLANK($R280)=TRUE,\"\",VLOOKUP($R280,TAXONOMY!$A$1:$G$959,4,FALSE))","v":""},{"$f":"IF(ISBLANK($R280)=TRUE,\"\",VLOOKUP($R280,TAXONOMY!$A$1:$G$959,3,FALSE))","v":""},{"$f":"IF(ISBLANK($R280)=TRUE,\"\",VLOOKUP($R280,TAXONOMY!$A$1:$H$959,2,FALSE))","v":""}]
[null,null,null,null,null,null,null,null,null,null,null,{"$f":"IF(ISBLANK($R281)=TRUE,\"\",VLOOKUP($R281,TAXONOMY!$A$1:$G$959,7,FALSE))","v":""},{"$f":"IF(ISBLANK($R281)=TRUE,\"\",VLOOKUP($R281,TAXONOMY!$A$1:$G$959,6,FALSE))","v":""},{"$f":"IF(ISBLANK($R281)=TRUE,\"\",VLOOKUP($R281,TAXONOMY!$A$1:$G$959,5,FALSE))","v":""},{"$f":"IF(ISBLANK($R281)=TRUE,\"\",VLOOKUP($R281,TAXONOMY!$A$1:$G$959,4,FALSE))","v":""},{"$f":"IF(ISBLANK($R281)=TRUE,\"\",VLOOKUP($R281,TAXONOMY!$A$1:$G$959,3,FALSE))","v":""},{"$f":"IF(ISBLANK($R281)=TRUE,\"\",VLOOKUP($R281,TAXONOMY!$A$1:$H$959,2,FALSE))","v":""}]
[null,null,null,null,null,null,null,null,null,null,null,{"$f":"IF(ISBLANK($R282)=TRUE,\"\",VLOOKUP($R282,TAXONOMY!$A$1:$G$959,7,FALSE))","v":""},{"$f":"IF(ISBLANK($R282)=TRUE,\"\",VLOOKUP($R282,TAXONOMY!$A$1:$G$959,6,FALSE))","v":""},{"$f":"IF(ISBLANK($R282)=TRUE,\"\",VLOOKUP($R282,TAXONOMY!$A$1:$G$959,5,FALSE))","v":""},{"$f":"IF(ISBLANK($R282)=TRUE,\"\",VLOOKUP($R282,TAXONOMY!$A$1:$G$959,4,FALSE))","v":""},{"$f":"IF(ISBLANK($R282)=TRUE,\"\",VLOOKUP($R282,TAXONOMY!$A$1:$G$959,3,FALSE))","v":""},{"$f":"IF(ISBLANK($R282)=TRUE,\"\",VLOOKUP($R282,TAXONOMY!$A$1:$H$959,2,FALSE))","v":""}]
[null,null,null,null,null,null,null,null,null,null,null,{"$f":"IF(ISBLANK($R283)=TRUE,\"\",VLOOKUP($R283,TAXONOMY!$A$1:$G$959,7,FALSE))","v":""},{"$f":"IF(ISBLANK($R283)=TRUE,\"\",VLOOKUP($R283,TAXONOMY!$A$1:$G$959,6,FALSE))","v":""},{"$f":"IF(ISBLANK($R283)=TRUE,\"\",VLOOKUP($R283,TAXONOMY!$A$1:$G$959,5,FALSE))","v":""},{"$f":"IF(ISBLANK($R283)=TRUE,\"\",VLOOKUP($R283,TAXONOMY!$A$1:$G$959,4,FALSE))","v":""},{"$f":"IF(ISBLANK($R283)=TRUE,\"\",VLOOKUP($R283,TAXONOMY!$A$1:$G$959,3,FALSE))","v":""},{"$f":"IF(ISBLANK($R283)=TRUE,\"\",VLOOKUP($R283,TAXONOMY!$A$1:$H$959,2,FALSE))","v":""}]
[null,null,null,null,null,null,null,null,null,null,null,{"$f":"IF(ISBLANK($R284)=TRUE,\"\",VLOOKUP($R284,TAXONOMY!$A$1:$G$959,7,FALSE))","v":""},{"$f":"IF(ISBLANK($R284)=TRUE,\"\",VLOOKUP($R284,TAXONOMY!$A$1:$G$959,6,FALSE))","v":""},{"$f":"IF(ISBLANK($R284)=TRUE,\"\",VLOOKUP($R284,TAXONOMY!$A$1:$G$959,5,FALSE))","v":""},{"$f":"IF(ISBLANK($R284)=TRUE,\"\",VLOOKUP($R284,TAXONOMY!$A$1:$G$959,4,FALSE))","v":""},{"$f":"IF(ISBLANK($R284)=TRUE,\"\",VLOOKUP($R284,TAXONOMY!$A$1:$G$959,3,FALSE))","v":""},{"$f":"IF(ISBLANK($R284)=TRUE,\"\",VLOOKUP($R284,TAXONOMY!$A$1:$H$959,2,FALSE))","v":""}]
[null,null,null,null,null,null,null,null,null,null,null,{"$f":"IF(ISBLANK($R285)=TRUE,\"\",VLOOKUP($R285,TAXONOMY!$A$1:$G$959,7,FALSE))","v":""},{"$f":"IF(ISBLANK($R285)=TRUE,\"\",VLOOKUP($R285,TAXONOMY!$A$1:$G$959,6,FALSE))","v":""},{"$f":"IF(ISBLANK($R285)=TRUE,\"\",VLOOKUP($R285,TAXONOMY!$A$1:$G$959,5,FALSE))","v":""},{"$f":"IF(ISBLANK($R285)=TRUE,\"\",VLOOKUP($R285,TAXONOMY!$A$1:$G$959,4,FALSE))","v":""},{"$f":"IF(ISBLANK($R285)=TRUE,\"\",VLOOKUP($R285,TAXONOMY!$A$1:$G$959,3,FALSE))","v":""},{"$f":"IF(ISBLANK($R285)=TRUE,\"\",VLOOKUP($R285,TAXONOMY!$A$1:$H$959,2,FALSE))","v":""}]
[null,null,null,null,null,null,null,null,null,null,null,{"$f":"IF(ISBLANK($R286)=TRUE,\"\",VLOOKUP($R286,TAXONOMY!$A$1:$G$959,7,FALSE))","v":""},{"$f":"IF(ISBLANK($R286)=TRUE,\"\",VLOOKUP($R286,TAXONOMY!$A$1:$G$959,6,FALSE))","v":""},{"$f":"IF(ISBLANK($R286)=TRUE,\"\",VLOOKUP($R286,TAXONOMY!$A$1:$G$959,5,FALSE))","v":""},{"$f":"IF(ISBLANK($R286)=TRUE,\"\",VLOOKUP($R286,TAXONOMY!$A$1:$G$959,4,FALSE))","v":""},{"$f":"IF(ISBLANK($R286)=TRUE,\"\",VLOOKUP($R286,TAXONOMY!$A$1:$G$959,3,FALSE))","v":""},{"$f":"IF(ISBLANK($R286)=TRUE,\"\",VLOOKUP($R286,TAXONOMY!$A$1:$H$959,2,FALSE))","v":""}]
[null,null,null,null,null,null,null,null,null,null,null,{"$f":"IF(ISBLANK($R287)=TRUE,\"\",VLOOKUP($R287,TAXONOMY!$A$1:$G$959,7,FALSE))","v":""},{"$f":"IF(ISBLANK($R287)=TRUE,\"\",VLOOKUP($R287,TAXONOMY!$A$1:$G$959,6,FALSE))","v":""},{"$f":"IF(ISBLANK($R287)=TRUE,\"\",VLOOKUP($R287,TAXONOMY!$A$1:$G$959,5,FALSE))","v":""},{"$f":"IF(ISBLANK($R287)=TRUE,\"\",VLOOKUP($R287,TAXONOMY!$A$1:$G$959,4,FALSE))","v":""},{"$f":"IF(ISBLANK($R287)=TRUE,\"\",VLOOKUP($R287,TAXONOMY!$A$1:$G$959,3,FALSE))","v":""},{"$f":"IF(ISBLANK($R287)=TRUE,\"\",VLOOKUP($R287,TAXONOMY!$A$1:$H$959,2,FALSE))","v":""}]
[null,null,null,null,null,null,null,null,null,null,null,{"$f":"IF(ISBLANK($R288)=TRUE,\"\",VLOOKUP($R288,TAXONOMY!$A$1:$G$959,7,FALSE))","v":""},{"$f":"IF(ISBLANK($R288)=TRUE,\"\",VLOOKUP($R288,TAXONOMY!$A$1:$G$959,6,FALSE))","v":""},{"$f":"IF(ISBLANK($R288)=TRUE,\"\",VLOOKUP($R288,TAXONOMY!$A$1:$G$959,5,FALSE))","v":""},{"$f":"IF(ISBLANK($R288)=TRUE,\"\",VLOOKUP($R288,TAXONOMY!$A$1:$G$959,4,FALSE))","v":""},{"$f":"IF(ISBLANK($R288)=TRUE,\"\",VLOOKUP($R288,TAXONOMY!$A$1:$G$959,3,FALSE))","v":""},{"$f":"IF(ISBLANK($R288)=TRUE,\"\",VLOOKUP($R288,TAXONOMY!$A$1:$H$959,2,FALSE))","v":""}]
[null,null,null,null,null,null,null,null,null,null,null,{"$f":"IF(ISBLANK($R289)=TRUE,\"\",VLOOKUP($R289,TAXONOMY!$A$1:$G$959,7,FALSE))","v":""},{"$f":"IF(ISBLANK($R289)=TRUE,\"\",VLOOKUP($R289,TAXONOMY!$A$1:$G$959,6,FALSE))","v":""},{"$f":"IF(ISBLANK($R289)=TRUE,\"\",VLOOKUP($R289,TAXONOMY!$A$1:$G$959,5,FALSE))","v":""},{"$f":"IF(ISBLANK($R289)=TRUE,\"\",VLOOKUP($R289,TAXONOMY!$A$1:$G$959,4,FALSE))","v":""},{"$f":"IF(ISBLANK($R289)=TRUE,\"\",VLOOKUP($R289,TAXONOMY!$A$1:$G$959,3,FALSE))","v":""},{"$f":"IF(ISBLANK($R289)=TRUE,\"\",VLOOKUP($R289,TAXONOMY!$A$1:$H$959,2,FALSE))","v":""}]
[null,null,null,null,null,null,null,null,null,null,null,{"$f":"IF(ISBLANK($R290)=TRUE,\"\",VLOOKUP($R290,TAXONOMY!$A$1:$G$959,7,FALSE))","v":""},{"$f":"IF(ISBLANK($R290)=TRUE,\"\",VLOOKUP($R290,TAXONOMY!$A$1:$G$959,6,FALSE))","v":""},{"$f":"IF(ISBLANK($R290)=TRUE,\"\",VLOOKUP($R290,TAXONOMY!$A$1:$G$959,5,FALSE))","v":""},{"$f":"IF(ISBLANK($R290)=TRUE,\"\",VLOOKUP($R290,TAXONOMY!$A$1:$G$959,4,FALSE))","v":""},{"$f":"IF(ISBLANK($R290)=TRUE,\"\",VLOOKUP($R290,TAXONOMY!$A$1:$G$959,3,FALSE))","v":""},{"$f":"IF(ISBLANK($R290)=TRUE,\"\",VLOOKUP($R290,TAXONOMY!$A$1:$H$959,2,FALSE))","v":""}]
[null,null,null,null,null,null,null,null,null,null,null,{"$f":"IF(ISBLANK($R291)=TRUE,\"\",VLOOKUP($R291,TAXONOMY!$A$1:$G$959,7,FALSE))","v":""},{"$f":"IF(ISBLANK($R291)=TRUE,\"\",VLOOKUP($R291,TAXONOMY!$A$1:$G$959,6,FALSE))","v":""},{"$f":"IF(ISBLANK($R291)=TRUE,\"\",VLOOKUP($R291,TAXONOMY!$A$1:$G$959,5,FALSE))","v":""},{"$f":"IF(ISBLANK($R291)=TRUE,\"\",VLOOKUP($R291,TAXONOMY!$A$1:$G$959,4,FALSE))","v":""},{"$f":"IF(ISBLANK($R291)=TRUE,\"\",VLOOKUP($R291,TAXONOMY!$A$1:$G$959,3,FALSE))","v":""},{"$f":"IF(ISBLANK($R291)=TRUE,\"\",VLOOKUP($R291,TAXONOMY!$A$1:$H$959,2,FALSE))","v":""}]
[null,null,null,null,null,null,null,null,null,null,null,{"$f":"IF(ISBLANK($R292)=TRUE,\"\",VLOOKUP($R292,TAXONOMY!$A$1:$G$959,7,FALSE))","v":""},{"$f":"IF(ISBLANK($R292)=TRUE,\"\",VLOOKUP($R292,TAXONOMY!$A$1:$G$959,6,FALSE))","v":""},{"$f":"IF(ISBLANK($R292)=TRUE,\"\",VLOOKUP($R292,TAXONOMY!$A$1:$G$959,5,FALSE))","v":""},{"$f":"IF(ISBLANK($R292)=TRUE,\"\",VLOOKUP($R292,TAXONOMY!$A$1:$G$959,4,FALSE))","v":""},{"$f":"IF(ISBLANK($R292)=TRUE,\"\",VLOOKUP($R292,TAXONOMY!$A$1:$G$959,3,FALSE))","v":""},{"$f":"IF(ISBLANK($R292)=TRUE,\"\",VLOOKUP($R292,TAXONOMY!$A$1:$H$959,2,FALSE))","v":""}]
[null,null,null,null,null,null,null,null,null,null,null,{"$f":"IF(ISBLANK($R293)=TRUE,\"\",VLOOKUP($R293,TAXONOMY!$A$1:$G$959,7,FALSE))","v":""},{"$f":"IF(ISBLANK($R293)=TRUE,\"\",VLOOKUP($R293,TAXONOMY!$A$1:$G$959,6,FALSE))","v":""},{"$f":"IF(ISBLANK($R293)=TRUE,\"\",VLOOKUP($R293,TAXONOMY!$A$1:$G$959,5,FALSE))","v":""},{"$f":"IF(ISBLANK($R293)=TRUE,\"\",VLOOKUP($R293,TAXONOMY!$A$1:$G$959,4,FALSE))","v":""},{"$f":"IF(ISBLANK($R293)=TRUE,\"\",VLOOKUP($R293,TAXONOMY!$A$1:$G$959,3,FALSE))","v":""},{"$f":"IF(ISBLANK($R293)=TRUE,\"\",VLOOKUP($R293,TAXONOMY!$A$1:$H$959,2,FALSE))","v":""}]
[null,null,null,null,null,null,null,null,null,null,null,{"$f":"IF(ISBLANK($R294)=TRUE,\"\",VLOOKUP($R294,TAXONOMY!$A$1:$G$959,7,FALSE))","v":""},{"$f":"IF(ISBLANK($R294)=TRUE,\"\",VLOOKUP($R294,TAXONOMY!$A$1:$G$959,6,FALSE))","v":""},{"$f":"IF(ISBLANK($R294)=TRUE,\"\",VLOOKUP($R294,TAXONOMY!$A$1:$G$959,5,FALSE))","v":""},{"$f":"IF(ISBLANK($R294)=TRUE,\"\",VLOOKUP($R294,TAXONOMY!$A$1:$G$959,4,FALSE))","v":""},{"$f":"IF(ISBLANK($R294)=TRUE,\"\",VLOOKUP($R294,TAXONOMY!$A$1:$G$959,3,FALSE))","v":""},{"$f":"IF(ISBLANK($R294)=TRUE,\"\",VLOOKUP($R294,TAXONOMY!$A$1:$H$959,2,FALSE))","v":""}]
[null,null,null,null,null,null,null,null,null,null,null,{"$f":"IF(ISBLANK($R295)=TRUE,\"\",VLOOKUP($R295,TAXONOMY!$A$1:$G$959,7,FALSE))","v":""},{"$f":"IF(ISBLANK($R295)=TRUE,\"\",VLOOKUP($R295,TAXONOMY!$A$1:$G$959,6,FALSE))","v":""},{"$f":"IF(ISBLANK($R295)=TRUE,\"\",VLOOKUP($R295,TAXONOMY!$A$1:$G$959,5,FALSE))","v":""},{"$f":"IF(ISBLANK($R295)=TRUE,\"\",VLOOKUP($R295,TAXONOMY!$A$1:$G$959,4,FALSE))","v":""},{"$f":"IF(ISBLANK($R295)=TRUE,\"\",VLOOKUP($R295,TAXONOMY!$A$1:$G$959,3,FALSE))","v":""},{"$f":"IF(ISBLANK($R295)=TRUE,\"\",VLOOKUP($R295,TAXONOMY!$A$1:$H$959,2,FALSE))","v":""}]
[null,null,null,null,null,null,null,null,null,null,null,{"$f":"IF(ISBLANK($R296)=TRUE,\"\",VLOOKUP($R296,TAXONOMY!$A$1:$G$959,7,FALSE))","v":""},{"$f":"IF(ISBLANK($R296)=TRUE,\"\",VLOOKUP($R296,TAXONOMY!$A$1:$G$959,6,FALSE))","v":""},{"$f":"IF(ISBLANK($R296)=TRUE,\"\",VLOOKUP($R296,TAXONOMY!$A$1:$G$959,5,FALSE))","v":""},{"$f":"IF(ISBLANK($R296)=TRUE,\"\",VLOOKUP($R296,TAXONOMY!$A$1:$G$959,4,FALSE))","v":""},{"$f":"IF(ISBLANK($R296)=TRUE,\"\",VLOOKUP($R296,TAXONOMY!$A$1:$G$959,3,FALSE))","v":""},{"$f":"IF(ISBLANK($R296)=TRUE,\"\",VLOOKUP($R296,TAXONOMY!$A$1:$H$959,2,FALSE))","v":""}]
[null,null,null,null,null,null,null,null,null,null,null,{"$f":"IF(ISBLANK($R297)=TRUE,\"\",VLOOKUP($R297,TAXONOMY!$A$1:$G$959,7,FALSE))","v":""},{"$f":"IF(ISBLANK($R297)=TRUE,\"\",VLOOKUP($R297,TAXONOMY!$A$1:$G$959,6,FALSE))","v":""},{"$f":"IF(ISBLANK($R297)=TRUE,\"\",VLOOKUP($R297,TAXONOMY!$A$1:$G$959,5,FALSE))","v":""},{"$f":"IF(ISBLANK($R297)=TRUE,\"\",VLOOKUP($R297,TAXONOMY!$A$1:$G$959,4,FALSE))","v":""},{"$f":"IF(ISBLANK($R297)=TRUE,\"\",VLOOKUP($R297,TAXONOMY!$A$1:$G$959,3,FALSE))","v":""},{"$f":"IF(ISBLANK($R297)=TRUE,\"\",VLOOKUP($R297,TAXONOMY!$A$1:$H$959,2,FALSE))","v":""}]
[null,null,null,null,null,null,null,null,null,null,null,{"$f":"IF(ISBLANK($R298)=TRUE,\"\",VLOOKUP($R298,TAXONOMY!$A$1:$G$959,7,FALSE))","v":""},{"$f":"IF(ISBLANK($R298)=TRUE,\"\",VLOOKUP($R298,TAXONOMY!$A$1:$G$959,6,FALSE))","v":""},{"$f":"IF(ISBLANK($R298)=TRUE,\"\",VLOOKUP($R298,TAXONOMY!$A$1:$G$959,5,FALSE))","v":""},{"$f":"IF(ISBLANK($R298)=TRUE,\"\",VLOOKUP($R298,TAXONOMY!$A$1:$G$959,4,FALSE))","v":""},{"$f":"IF(ISBLANK($R298)=TRUE,\"\",VLOOKUP($R298,TAXONOMY!$A$1:$G$959,3,FALSE))","v":""},{"$f":"IF(ISBLANK($R298)=TRUE,\"\",VLOOKUP($R298,TAXONOMY!$A$1:$H$959,2,FALSE))","v":""}]
[null,null,null,null,null,null,null,null,null,null,null,{"$f":"IF(ISBLANK($R299)=TRUE,\"\",VLOOKUP($R299,TAXONOMY!$A$1:$G$959,7,FALSE))","v":""},{"$f":"IF(ISBLANK($R299)=TRUE,\"\",VLOOKUP($R299,TAXONOMY!$A$1:$G$959,6,FALSE))","v":""},{"$f":"IF(ISBLANK($R299)=TRUE,\"\",VLOOKUP($R299,TAXONOMY!$A$1:$G$959,5,FALSE))","v":""},{"$f":"IF(ISBLANK($R299)=TRUE,\"\",VLOOKUP($R299,TAXONOMY!$A$1:$G$959,4,FALSE))","v":""},{"$f":"IF(ISBLANK($R299)=TRUE,\"\",VLOOKUP($R299,TAXONOMY!$A$1:$G$959,3,FALSE))","v":""},{"$f":"IF(ISBLANK($R299)=TRUE,\"\",VLOOKUP($R299,TAXONOMY!$A$1:$H$959,2,FALSE))","v":""}]
[null,null,null,null,null,null,null,null,null,null,null,{"$f":"IF(ISBLANK($R300)=TRUE,\"\",VLOOKUP($R300,TAXONOMY!$A$1:$G$959,7,FALSE))","v":""},{"$f":"IF(ISBLANK($R300)=TRUE,\"\",VLOOKUP($R300,TAXONOMY!$A$1:$G$959,6,FALSE))","v":""},{"$f":"IF(ISBLANK($R300)=TRUE,\"\",VLOOKUP($R300,TAXONOMY!$A$1:$G$959,5,FALSE))","v":""},{"$f":"IF(ISBLANK($R300)=TRUE,\"\",VLOOKUP($R300,TAXONOMY!$A$1:$G$959,4,FALSE))","v":""},{"$f":"IF(ISBLANK($R300)=TRUE,\"\",VLOOKUP($R300,TAXONOMY!$A$1:$G$959,3,FALSE))","v":""},{"$f":"IF(ISBLANK($R300)=TRUE,\"\",VLOOKUP($R300,TAXONOMY!$A$1:$H$959,2,FALSE))","v":""}]
[null,null,null,null,null,null,null,null,null,null,null,{"$f":"IF(ISBLANK($R301)=TRUE,\"\",VLOOKUP($R301,TAXONOMY!$A$1:$G$959,7,FALSE))","v":""},{"$f":"IF(ISBLANK($R301)=TRUE,\"\",VLOOKUP($R301,TAXONOMY!$A$1:$G$959,6,FALSE))","v":""},{"$f":"IF(ISBLANK($R301)=TRUE,\"\",VLOOKUP($R301,TAXONOMY!$A$1:$G$959,5,FALSE))","v":""},{"$f":"IF(ISBLANK($R301)=TRUE,\"\",VLOOKUP($R301,TAXONOMY!$A$1:$G$959,4,FALSE))","v":""},{"$f":"IF(ISBLANK($R301)=TRUE,\"\",VLOOKUP($R301,TAXONOMY!$A$1:$G$959,3,FALSE))","v":""},{"$f":"IF(ISBLANK($R301)=TRUE,\"\",VLOOKUP($R301,TAXONOMY!$A$1:$H$959,2,FALSE))","v":""}]
[null,null,null,null,null,null,null,null,null,null,null,{"$f":"IF(ISBLANK($R302)=TRUE,\"\",VLOOKUP($R302,TAXONOMY!$A$1:$G$959,7,FALSE))","v":""},{"$f":"IF(ISBLANK($R302)=TRUE,\"\",VLOOKUP($R302,TAXONOMY!$A$1:$G$959,6,FALSE))","v":""},{"$f":"IF(ISBLANK($R302)=TRUE,\"\",VLOOKUP($R302,TAXONOMY!$A$1:$G$959,5,FALSE))","v":""},{"$f":"IF(ISBLANK($R302)=TRUE,\"\",VLOOKUP($R302,TAXONOMY!$A$1:$G$959,4,FALSE))","v":""},{"$f":"IF(ISBLANK($R302)=TRUE,\"\",VLOOKUP($R302,TAXONOMY!$A$1:$G$959,3,FALSE))","v":""},{"$f":"IF(ISBLANK($R302)=TRUE,\"\",VLOOKUP($R302,TAXONOMY!$A$1:$H$959,2,FALSE))","v":""}]
[null,null,null,null,null,null,null,null,null,null,null,{"$f":"IF(ISBLANK($R303)=TRUE,\"\",VLOOKUP($R303,TAXONOMY!$A$1:$G$959,7,FALSE))","v":""},{"$f":"IF(ISBLANK($R303)=TRUE,\"\",VLOOKUP($R303,TAXONOMY!$A$1:$G$959,6,FALSE))","v":""},{"$f":"IF(ISBLANK($R303)=TRUE,\"\",VLOOKUP($R303,TAXONOMY!$A$1:$G$959,5,FALSE))","v":""},{"$f":"IF(ISBLANK($R303)=TRUE,\"\",VLOOKUP($R303,TAXONOMY!$A$1:$G$959,4,FALSE))","v":""},{"$f":"IF(ISBLANK($R303)=TRUE,\"\",VLOOKUP($R303,TAXONOMY!$A$1:$G$959,3,FALSE))","v":""},{"$f":"IF(ISBLANK($R303)=TRUE,\"\",VLOOKUP($R303,TAXONOMY!$A$1:$H$959,2,FALSE))","v":""}]
[null,null,null,null,null,null,null,null,null,null,null,{"$f":"IF(ISBLANK($R304)=TRUE,\"\",VLOOKUP($R304,TAXONOMY!$A$1:$G$959,7,FALSE))","v":""},{"$f":"IF(ISBLANK($R304)=TRUE,\"\",VLOOKUP($R304,TAXONOMY!$A$1:$G$959,6,FALSE))","v":""},{"$f":"IF(ISBLANK($R304)=TRUE,\"\",VLOOKUP($R304,TAXONOMY!$A$1:$G$959,5,FALSE))","v":""},{"$f":"IF(ISBLANK($R304)=TRUE,\"\",VLOOKUP($R304,TAXONOMY!$A$1:$G$959,4,FALSE))","v":""},{"$f":"IF(ISBLANK($R304)=TRUE,\"\",VLOOKUP($R304,TAXONOMY!$A$1:$G$959,3,FALSE))","v":""},{"$f":"IF(ISBLANK($R304)=TRUE,\"\",VLOOKUP($R304,TAXONOMY!$A$1:$H$959,2,FALSE))","v":""}]
[null,null,null,null,null,null,null,null,null,null,null,{"$f":"IF(ISBLANK($R305)=TRUE,\"\",VLOOKUP($R305,TAXONOMY!$A$1:$G$959,7,FALSE))","v":""},{"$f":"IF(ISBLANK($R305)=TRUE,\"\",VLOOKUP($R305,TAXONOMY!$A$1:$G$959,6,FALSE))","v":""},{"$f":"IF(ISBLANK($R305)=TRUE,\"\",VLOOKUP($R305,TAXONOMY!$A$1:$G$959,5,FALSE))","v":""},{"$f":"IF(ISBLANK($R305)=TRUE,\"\",VLOOKUP($R305,TAXONOMY!$A$1:$G$959,4,FALSE))","v":""},{"$f":"IF(ISBLANK($R305)=TRUE,\"\",VLOOKUP($R305,TAXONOMY!$A$1:$G$959,3,FALSE))","v":""},{"$f":"IF(ISBLANK($R305)=TRUE,\"\",VLOOKUP($R305,TAXONOMY!$A$1:$H$959,2,FALSE))","v":""}]
[null,null,null,null,null,null,null,null,null,null,null,{"$f":"IF(ISBLANK($R306)=TRUE,\"\",VLOOKUP($R306,TAXONOMY!$A$1:$G$959,7,FALSE))","v":""},{"$f":"IF(ISBLANK($R306)=TRUE,\"\",VLOOKUP($R306,TAXONOMY!$A$1:$G$959,6,FALSE))","v":""},{"$f":"IF(ISBLANK($R306)=TRUE,\"\",VLOOKUP($R306,TAXONOMY!$A$1:$G$959,5,FALSE))","v":""},{"$f":"IF(ISBLANK($R306)=TRUE,\"\",VLOOKUP($R306,TAXONOMY!$A$1:$G$959,4,FALSE))","v":""},{"$f":"IF(ISBLANK($R306)=TRUE,\"\",VLOOKUP($R306,TAXONOMY!$A$1:$G$959,3,FALSE))","v":""},{"$f":"IF(ISBLANK($R306)=TRUE,\"\",VLOOKUP($R306,TAXONOMY!$A$1:$H$959,2,FALSE))","v":""}]
[null,null,null,null,null,null,null,null,null,null,null,{"$f":"IF(ISBLANK($R307)=TRUE,\"\",VLOOKUP($R307,TAXONOMY!$A$1:$G$959,7,FALSE))","v":""},{"$f":"IF(ISBLANK($R307)=TRUE,\"\",VLOOKUP($R307,TAXONOMY!$A$1:$G$959,6,FALSE))","v":""},{"$f":"IF(ISBLANK($R307)=TRUE,\"\",VLOOKUP($R307,TAXONOMY!$A$1:$G$959,5,FALSE))","v":""},{"$f":"IF(ISBLANK($R307)=TRUE,\"\",VLOOKUP($R307,TAXONOMY!$A$1:$G$959,4,FALSE))","v":""},{"$f":"IF(ISBLANK($R307)=TRUE,\"\",VLOOKUP($R307,TAXONOMY!$A$1:$G$959,3,FALSE))","v":""},{"$f":"IF(ISBLANK($R307)=TRUE,\"\",VLOOKUP($R307,TAXONOMY!$A$1:$H$959,2,FALSE))","v":""}]
[null,null,null,null,null,null,null,null,null,null,null,{"$f":"IF(ISBLANK($R308)=TRUE,\"\",VLOOKUP($R308,TAXONOMY!$A$1:$G$959,7,FALSE))","v":""},{"$f":"IF(ISBLANK($R308)=TRUE,\"\",VLOOKUP($R308,TAXONOMY!$A$1:$G$959,6,FALSE))","v":""},{"$f":"IF(ISBLANK($R308)=TRUE,\"\",VLOOKUP($R308,TAXONOMY!$A$1:$G$959,5,FALSE))","v":""},{"$f":"IF(ISBLANK($R308)=TRUE,\"\",VLOOKUP($R308,TAXONOMY!$A$1:$G$959,4,FALSE))","v":""},{"$f":"IF(ISBLANK($R308)=TRUE,\"\",VLOOKUP($R308,TAXONOMY!$A$1:$G$959,3,FALSE))","v":""},{"$f":"IF(ISBLANK($R308)=TRUE,\"\",VLOOKUP($R308,TAXONOMY!$A$1:$H$959,2,FALSE))","v":""}]
[null,null,null,null,null,null,null,null,null,null,null,{"$f":"IF(ISBLANK($R309)=TRUE,\"\",VLOOKUP($R309,TAXONOMY!$A$1:$G$959,7,FALSE))","v":""},{"$f":"IF(ISBLANK($R309)=TRUE,\"\",VLOOKUP($R309,TAXONOMY!$A$1:$G$959,6,FALSE))","v":""},{"$f":"IF(ISBLANK($R309)=TRUE,\"\",VLOOKUP($R309,TAXONOMY!$A$1:$G$959,5,FALSE))","v":""},{"$f":"IF(ISBLANK($R309)=TRUE,\"\",VLOOKUP($R309,TAXONOMY!$A$1:$G$959,4,FALSE))","v":""},{"$f":"IF(ISBLANK($R309)=TRUE,\"\",VLOOKUP($R309,TAXONOMY!$A$1:$G$959,3,FALSE))","v":""},{"$f":"IF(ISBLANK($R309)=TRUE,\"\",VLOOKUP($R309,TAXONOMY!$A$1:$H$959,2,FALSE))","v":""}]
[null,null,null,null,null,null,null,null,null,null,null,{"$f":"IF(ISBLANK($R310)=TRUE,\"\",VLOOKUP($R310,TAXONOMY!$A$1:$G$959,7,FALSE))","v":""},{"$f":"IF(ISBLANK($R310)=TRUE,\"\",VLOOKUP($R310,TAXONOMY!$A$1:$G$959,6,FALSE))","v":""},{"$f":"IF(ISBLANK($R310)=TRUE,\"\",VLOOKUP($R310,TAXONOMY!$A$1:$G$959,5,FALSE))","v":""},{"$f":"IF(ISBLANK($R310)=TRUE,\"\",VLOOKUP($R310,TAXONOMY!$A$1:$G$959,4,FALSE))","v":""},{"$f":"IF(ISBLANK($R310)=TRUE,\"\",VLOOKUP($R310,TAXONOMY!$A$1:$G$959,3,FALSE))","v":""},{"$f":"IF(ISBLANK($R310)=TRUE,\"\",VLOOKUP($R310,TAXONOMY!$A$1:$H$959,2,FALSE))","v":""}]
[null,null,null,null,null,null,null,null,null,null,null,{"$f":"IF(ISBLANK($R311)=TRUE,\"\",VLOOKUP($R311,TAXONOMY!$A$1:$G$959,7,FALSE))","v":""},{"$f":"IF(ISBLANK($R311)=TRUE,\"\",VLOOKUP($R311,TAXONOMY!$A$1:$G$959,6,FALSE))","v":""},{"$f":"IF(ISBLANK($R311)=TRUE,\"\",VLOOKUP($R311,TAXONOMY!$A$1:$G$959,5,FALSE))","v":""},{"$f":"IF(ISBLANK($R311)=TRUE,\"\",VLOOKUP($R311,TAXONOMY!$A$1:$G$959,4,FALSE))","v":""},{"$f":"IF(ISBLANK($R311)=TRUE,\"\",VLOOKUP($R311,TAXONOMY!$A$1:$G$959,3,FALSE))","v":""},{"$f":"IF(ISBLANK($R311)=TRUE,\"\",VLOOKUP($R311,TAXONOMY!$A$1:$H$959,2,FALSE))","v":""}]
[null,null,null,null,null,null,null,null,null,null,null,{"$f":"IF(ISBLANK($R312)=TRUE,\"\",VLOOKUP($R312,TAXONOMY!$A$1:$G$959,7,FALSE))","v":""},{"$f":"IF(ISBLANK($R312)=TRUE,\"\",VLOOKUP($R312,TAXONOMY!$A$1:$G$959,6,FALSE))","v":""},{"$f":"IF(ISBLANK($R312)=TRUE,\"\",VLOOKUP($R312,TAXONOMY!$A$1:$G$959,5,FALSE))","v":""},{"$f":"IF(ISBLANK($R312)=TRUE,\"\",VLOOKUP($R312,TAXONOMY!$A$1:$G$959,4,FALSE))","v":""},{"$f":"IF(ISBLANK($R312)=TRUE,\"\",VLOOKUP($R312,TAXONOMY!$A$1:$G$959,3,FALSE))","v":""},{"$f":"IF(ISBLANK($R312)=TRUE,\"\",VLOOKUP($R312,TAXONOMY!$A$1:$H$959,2,FALSE))","v":""}]
[null,null,null,null,null,null,null,null,null,null,null,{"$f":"IF(ISBLANK($R313)=TRUE,\"\",VLOOKUP($R313,TAXONOMY!$A$1:$G$959,7,FALSE))","v":""},{"$f":"IF(ISBLANK($R313)=TRUE,\"\",VLOOKUP($R313,TAXONOMY!$A$1:$G$959,6,FALSE))","v":""},{"$f":"IF(ISBLANK($R313)=TRUE,\"\",VLOOKUP($R313,TAXONOMY!$A$1:$G$959,5,FALSE))","v":""},{"$f":"IF(ISBLANK($R313)=TRUE,\"\",VLOOKUP($R313,TAXONOMY!$A$1:$G$959,4,FALSE))","v":""},{"$f":"IF(ISBLANK($R313)=TRUE,\"\",VLOOKUP($R313,TAXONOMY!$A$1:$G$959,3,FALSE))","v":""},{"$f":"IF(ISBLANK($R313)=TRUE,\"\",VLOOKUP($R313,TAXONOMY!$A$1:$H$959,2,FALSE))","v":""}]
[null,null,null,null,null,null,null,null,null,null,null,{"$f":"IF(ISBLANK($R314)=TRUE,\"\",VLOOKUP($R314,TAXONOMY!$A$1:$G$959,7,FALSE))","v":""},{"$f":"IF(ISBLANK($R314)=TRUE,\"\",VLOOKUP($R314,TAXONOMY!$A$1:$G$959,6,FALSE))","v":""},{"$f":"IF(ISBLANK($R314)=TRUE,\"\",VLOOKUP($R314,TAXONOMY!$A$1:$G$959,5,FALSE))","v":""},{"$f":"IF(ISBLANK($R314)=TRUE,\"\",VLOOKUP($R314,TAXONOMY!$A$1:$G$959,4,FALSE))","v":""},{"$f":"IF(ISBLANK($R314)=TRUE,\"\",VLOOKUP($R314,TAXONOMY!$A$1:$G$959,3,FALSE))","v":""},{"$f":"IF(ISBLANK($R314)=TRUE,\"\",VLOOKUP($R314,TAXONOMY!$A$1:$H$959,2,FALSE))","v":""}]
[null,null,null,null,null,null,null,null,null,null,null,{"$f":"IF(ISBLANK($R315)=TRUE,\"\",VLOOKUP($R315,TAXONOMY!$A$1:$G$959,7,FALSE))","v":""},{"$f":"IF(ISBLANK($R315)=TRUE,\"\",VLOOKUP($R315,TAXONOMY!$A$1:$G$959,6,FALSE))","v":""},{"$f":"IF(ISBLANK($R315)=TRUE,\"\",VLOOKUP($R315,TAXONOMY!$A$1:$G$959,5,FALSE))","v":""},{"$f":"IF(ISBLANK($R315)=TRUE,\"\",VLOOKUP($R315,TAXONOMY!$A$1:$G$959,4,FALSE))","v":""},{"$f":"IF(ISBLANK($R315)=TRUE,\"\",VLOOKUP($R315,TAXONOMY!$A$1:$G$959,3,FALSE))","v":""},{"$f":"IF(ISBLANK($R315)=TRUE,\"\",VLOOKUP($R315,TAXONOMY!$A$1:$H$959,2,FALSE))","v":""}]
[null,null,null,null,null,null,null,null,null,null,null,{"$f":"IF(ISBLANK($R316)=TRUE,\"\",VLOOKUP($R316,TAXONOMY!$A$1:$G$959,7,FALSE))","v":""},{"$f":"IF(ISBLANK($R316)=TRUE,\"\",VLOOKUP($R316,TAXONOMY!$A$1:$G$959,6,FALSE))","v":""},{"$f":"IF(ISBLANK($R316)=TRUE,\"\",VLOOKUP($R316,TAXONOMY!$A$1:$G$959,5,FALSE))","v":""},{"$f":"IF(ISBLANK($R316)=TRUE,\"\",VLOOKUP($R316,TAXONOMY!$A$1:$G$959,4,FALSE))","v":""},{"$f":"IF(ISBLANK($R316)=TRUE,\"\",VLOOKUP($R316,TAXONOMY!$A$1:$G$959,3,FALSE))","v":""},{"$f":"IF(ISBLANK($R316)=TRUE,\"\",VLOOKUP($R316,TAXONOMY!$A$1:$H$959,2,FALSE))","v":""}]
[null,null,null,null,null,null,null,null,null,null,null,{"$f":"IF(ISBLANK($R317)=TRUE,\"\",VLOOKUP($R317,TAXONOMY!$A$1:$G$959,7,FALSE))","v":""},{"$f":"IF(ISBLANK($R317)=TRUE,\"\",VLOOKUP($R317,TAXONOMY!$A$1:$G$959,6,FALSE))","v":""},{"$f":"IF(ISBLANK($R317)=TRUE,\"\",VLOOKUP($R317,TAXONOMY!$A$1:$G$959,5,FALSE))","v":""},{"$f":"IF(ISBLANK($R317)=TRUE,\"\",VLOOKUP($R317,TAXONOMY!$A$1:$G$959,4,FALSE))","v":""},{"$f":"IF(ISBLANK($R317)=TRUE,\"\",VLOOKUP($R317,TAXONOMY!$A$1:$G$959,3,FALSE))","v":""},{"$f":"IF(ISBLANK($R317)=TRUE,\"\",VLOOKUP($R317,TAXONOMY!$A$1:$H$959,2,FALSE))","v":""}]
[null,null,null,null,null,null,null,null,null,null,null,{"$f":"IF(ISBLANK($R318)=TRUE,\"\",VLOOKUP($R318,TAXONOMY!$A$1:$G$959,7,FALSE))","v":""},{"$f":"IF(ISBLANK($R318)=TRUE,\"\",VLOOKUP($R318,TAXONOMY!$A$1:$G$959,6,FALSE))","v":""},{"$f":"IF(ISBLANK($R318)=TRUE,\"\",VLOOKUP($R318,TAXONOMY!$A$1:$G$959,5,FALSE))","v":""},{"$f":"IF(ISBLANK($R318)=TRUE,\"\",VLOOKUP($R318,TAXONOMY!$A$1:$G$959,4,FALSE))","v":""},{"$f":"IF(ISBLANK($R318)=TRUE,\"\",VLOOKUP($R318,TAXONOMY!$A$1:$G$959,3,FALSE))","v":""},{"$f":"IF(ISBLANK($R318)=TRUE,\"\",VLOOKUP($R318,TAXONOMY!$A$1:$H$959,2,FALSE))","v":""}]
[null,null,null,null,null,null,null,null,null,null,null,{"$f":"IF(ISBLANK($R319)=TRUE,\"\",VLOOKUP($R319,TAXONOMY!$A$1:$G$959,7,FALSE))","v":""},{"$f":"IF(ISBLANK($R319)=TRUE,\"\",VLOOKUP($R319,TAXONOMY!$A$1:$G$959,6,FALSE))","v":""},{"$f":"IF(ISBLANK($R319)=TRUE,\"\",VLOOKUP($R319,TAXONOMY!$A$1:$G$959,5,FALSE))","v":""},{"$f":"IF(ISBLANK($R319)=TRUE,\"\",VLOOKUP($R319,TAXONOMY!$A$1:$G$959,4,FALSE))","v":""},{"$f":"IF(ISBLANK($R319)=TRUE,\"\",VLOOKUP($R319,TAXONOMY!$A$1:$G$959,3,FALSE))","v":""},{"$f":"IF(ISBLANK($R319)=TRUE,\"\",VLOOKUP($R319,TAXONOMY!$A$1:$H$959,2,FALSE))","v":""}]
[null,null,null,null,null,null,null,null,null,null,null,{"$f":"IF(ISBLANK($R320)=TRUE,\"\",VLOOKUP($R320,TAXONOMY!$A$1:$G$959,7,FALSE))","v":""},{"$f":"IF(ISBLANK($R320)=TRUE,\"\",VLOOKUP($R320,TAXONOMY!$A$1:$G$959,6,FALSE))","v":""},{"$f":"IF(ISBLANK($R320)=TRUE,\"\",VLOOKUP($R320,TAXONOMY!$A$1:$G$959,5,FALSE))","v":""},{"$f":"IF(ISBLANK($R320)=TRUE,\"\",VLOOKUP($R320,TAXONOMY!$A$1:$G$959,4,FALSE))","v":""},{"$f":"IF(ISBLANK($R320)=TRUE,\"\",VLOOKUP($R320,TAXONOMY!$A$1:$G$959,3,FALSE))","v":""},{"$f":"IF(ISBLANK($R320)=TRUE,\"\",VLOOKUP($R320,TAXONOMY!$A$1:$H$959,2,FALSE))","v":""}]
[null,null,null,null,null,null,null,null,null,null,null,{"$f":"IF(ISBLANK($R321)=TRUE,\"\",VLOOKUP($R321,TAXONOMY!$A$1:$G$959,7,FALSE))","v":""},{"$f":"IF(ISBLANK($R321)=TRUE,\"\",VLOOKUP($R321,TAXONOMY!$A$1:$G$959,6,FALSE))","v":""},{"$f":"IF(ISBLANK($R321)=TRUE,\"\",VLOOKUP($R321,TAXONOMY!$A$1:$G$959,5,FALSE))","v":""},{"$f":"IF(ISBLANK($R321)=TRUE,\"\",VLOOKUP($R321,TAXONOMY!$A$1:$G$959,4,FALSE))","v":""},{"$f":"IF(ISBLANK($R321)=TRUE,\"\",VLOOKUP($R321,TAXONOMY!$A$1:$G$959,3,FALSE))","v":""},{"$f":"IF(ISBLANK($R321)=TRUE,\"\",VLOOKUP($R321,TAXONOMY!$A$1:$H$959,2,FALSE))","v":""}]
[null,null,null,null,null,null,null,null,null,null,null,{"$f":"IF(ISBLANK($R322)=TRUE,\"\",VLOOKUP($R322,TAXONOMY!$A$1:$G$959,7,FALSE))","v":""},{"$f":"IF(ISBLANK($R322)=TRUE,\"\",VLOOKUP($R322,TAXONOMY!$A$1:$G$959,6,FALSE))","v":""},{"$f":"IF(ISBLANK($R322)=TRUE,\"\",VLOOKUP($R322,TAXONOMY!$A$1:$G$959,5,FALSE))","v":""},{"$f":"IF(ISBLANK($R322)=TRUE,\"\",VLOOKUP($R322,TAXONOMY!$A$1:$G$959,4,FALSE))","v":""},{"$f":"IF(ISBLANK($R322)=TRUE,\"\",VLOOKUP($R322,TAXONOMY!$A$1:$G$959,3,FALSE))","v":""},{"$f":"IF(ISBLANK($R322)=TRUE,\"\",VLOOKUP($R322,TAXONOMY!$A$1:$H$959,2,FALSE))","v":""}]
[null,null,null,null,null,null,null,null,null,null,null,{"$f":"IF(ISBLANK($R323)=TRUE,\"\",VLOOKUP($R323,TAXONOMY!$A$1:$G$959,7,FALSE))","v":""},{"$f":"IF(ISBLANK($R323)=TRUE,\"\",VLOOKUP($R323,TAXONOMY!$A$1:$G$959,6,FALSE))","v":""},{"$f":"IF(ISBLANK($R323)=TRUE,\"\",VLOOKUP($R323,TAXONOMY!$A$1:$G$959,5,FALSE))","v":""},{"$f":"IF(ISBLANK($R323)=TRUE,\"\",VLOOKUP($R323,TAXONOMY!$A$1:$G$959,4,FALSE))","v":""},{"$f":"IF(ISBLANK($R323)=TRUE,\"\",VLOOKUP($R323,TAXONOMY!$A$1:$G$959,3,FALSE))","v":""},{"$f":"IF(ISBLANK($R323)=TRUE,\"\",VLOOKUP($R323,TAXONOMY!$A$1:$H$959,2,FALSE))","v":""}]
[null,null,null,null,null,null,null,null,null,null,null,{"$f":"IF(ISBLANK($R324)=TRUE,\"\",VLOOKUP($R324,TAXONOMY!$A$1:$G$959,7,FALSE))","v":""},{"$f":"IF(ISBLANK($R324)=TRUE,\"\",VLOOKUP($R324,TAXONOMY!$A$1:$G$959,6,FALSE))","v":""},{"$f":"IF(ISBLANK($R324)=TRUE,\"\",VLOOKUP($R324,TAXONOMY!$A$1:$G$959,5,FALSE))","v":""},{"$f":"IF(ISBLANK($R324)=TRUE,\"\",VLOOKUP($R324,TAXONOMY!$A$1:$G$959,4,FALSE))","v":""},{"$f":"IF(ISBLANK($R324)=TRUE,\"\",VLOOKUP($R324,TAXONOMY!$A$1:$G$959,3,FALSE))","v":""},{"$f":"IF(ISBLANK($R324)=TRUE,\"\",VLOOKUP($R324,TAXONOMY!$A$1:$H$959,2,FALSE))","v":""}]
[null,null,null,null,null,null,null,null,null,null,null,{"$f":"IF(ISBLANK($R325)=TRUE,\"\",VLOOKUP($R325,TAXONOMY!$A$1:$G$959,7,FALSE))","v":""},{"$f":"IF(ISBLANK($R325)=TRUE,\"\",VLOOKUP($R325,TAXONOMY!$A$1:$G$959,6,FALSE))","v":""},{"$f":"IF(ISBLANK($R325)=TRUE,\"\",VLOOKUP($R325,TAXONOMY!$A$1:$G$959,5,FALSE))","v":""},{"$f":"IF(ISBLANK($R325)=TRUE,\"\",VLOOKUP($R325,TAXONOMY!$A$1:$G$959,4,FALSE))","v":""},{"$f":"IF(ISBLANK($R325)=TRUE,\"\",VLOOKUP($R325,TAXONOMY!$A$1:$G$959,3,FALSE))","v":""},{"$f":"IF(ISBLANK($R325)=TRUE,\"\",VLOOKUP($R325,TAXONOMY!$A$1:$H$959,2,FALSE))","v":""}]
[null,null,null,null,null,null,null,null,null,null,null,{"$f":"IF(ISBLANK($R326)=TRUE,\"\",VLOOKUP($R326,TAXONOMY!$A$1:$G$959,7,FALSE))","v":""},{"$f":"IF(ISBLANK($R326)=TRUE,\"\",VLOOKUP($R326,TAXONOMY!$A$1:$G$959,6,FALSE))","v":""},{"$f":"IF(ISBLANK($R326)=TRUE,\"\",VLOOKUP($R326,TAXONOMY!$A$1:$G$959,5,FALSE))","v":""},{"$f":"IF(ISBLANK($R326)=TRUE,\"\",VLOOKUP($R326,TAXONOMY!$A$1:$G$959,4,FALSE))","v":""},{"$f":"IF(ISBLANK($R326)=TRUE,\"\",VLOOKUP($R326,TAXONOMY!$A$1:$G$959,3,FALSE))","v":""},{"$f":"IF(ISBLANK($R326)=TRUE,\"\",VLOOKUP($R326,TAXONOMY!$A$1:$H$959,2,FALSE))","v":""}]
[null,null,null,null,null,null,null,null,null,null,null,{"$f":"IF(ISBLANK($R327)=TRUE,\"\",VLOOKUP($R327,TAXONOMY!$A$1:$G$959,7,FALSE))","v":""},{"$f":"IF(ISBLANK($R327)=TRUE,\"\",VLOOKUP($R327,TAXONOMY!$A$1:$G$959,6,FALSE))","v":""},{"$f":"IF(ISBLANK($R327)=TRUE,\"\",VLOOKUP($R327,TAXONOMY!$A$1:$G$959,5,FALSE))","v":""},{"$f":"IF(ISBLANK($R327)=TRUE,\"\",VLOOKUP($R327,TAXONOMY!$A$1:$G$959,4,FALSE))","v":""},{"$f":"IF(ISBLANK($R327)=TRUE,\"\",VLOOKUP($R327,TAXONOMY!$A$1:$G$959,3,FALSE))","v":""},{"$f":"IF(ISBLANK($R327)=TRUE,\"\",VLOOKUP($R327,TAXONOMY!$A$1:$H$959,2,FALSE))","v":""}]
[null,null,null,null,null,null,null,null,null,null,null,{"$f":"IF(ISBLANK($R328)=TRUE,\"\",VLOOKUP($R328,TAXONOMY!$A$1:$G$959,7,FALSE))","v":""},{"$f":"IF(ISBLANK($R328)=TRUE,\"\",VLOOKUP($R328,TAXONOMY!$A$1:$G$959,6,FALSE))","v":""},{"$f":"IF(ISBLANK($R328)=TRUE,\"\",VLOOKUP($R328,TAXONOMY!$A$1:$G$959,5,FALSE))","v":""},{"$f":"IF(ISBLANK($R328)=TRUE,\"\",VLOOKUP($R328,TAXONOMY!$A$1:$G$959,4,FALSE))","v":""},{"$f":"IF(ISBLANK($R328)=TRUE,\"\",VLOOKUP($R328,TAXONOMY!$A$1:$G$959,3,FALSE))","v":""},{"$f":"IF(ISBLANK($R328)=TRUE,\"\",VLOOKUP($R328,TAXONOMY!$A$1:$H$959,2,FALSE))","v":""}]
[null,null,null,null,null,null,null,null,null,null,null,{"$f":"IF(ISBLANK($R329)=TRUE,\"\",VLOOKUP($R329,TAXONOMY!$A$1:$G$959,7,FALSE))","v":""},{"$f":"IF(ISBLANK($R329)=TRUE,\"\",VLOOKUP($R329,TAXONOMY!$A$1:$G$959,6,FALSE))","v":""},{"$f":"IF(ISBLANK($R329)=TRUE,\"\",VLOOKUP($R329,TAXONOMY!$A$1:$G$959,5,FALSE))","v":""},{"$f":"IF(ISBLANK($R329)=TRUE,\"\",VLOOKUP($R329,TAXONOMY!$A$1:$G$959,4,FALSE))","v":""},{"$f":"IF(ISBLANK($R329)=TRUE,\"\",VLOOKUP($R329,TAXONOMY!$A$1:$G$959,3,FALSE))","v":""},{"$f":"IF(ISBLANK($R329)=TRUE,\"\",VLOOKUP($R329,TAXONOMY!$A$1:$H$959,2,FALSE))","v":""}]
[null,null,null,null,null,null,null,null,null,null,null,{"$f":"IF(ISBLANK($R330)=TRUE,\"\",VLOOKUP($R330,TAXONOMY!$A$1:$G$959,7,FALSE))","v":""},{"$f":"IF(ISBLANK($R330)=TRUE,\"\",VLOOKUP($R330,TAXONOMY!$A$1:$G$959,6,FALSE))","v":""},{"$f":"IF(ISBLANK($R330)=TRUE,\"\",VLOOKUP($R330,TAXONOMY!$A$1:$G$959,5,FALSE))","v":""},{"$f":"IF(ISBLANK($R330)=TRUE,\"\",VLOOKUP($R330,TAXONOMY!$A$1:$G$959,4,FALSE))","v":""},{"$f":"IF(ISBLANK($R330)=TRUE,\"\",VLOOKUP($R330,TAXONOMY!$A$1:$G$959,3,FALSE))","v":""},{"$f":"IF(ISBLANK($R330)=TRUE,\"\",VLOOKUP($R330,TAXONOMY!$A$1:$H$959,2,FALSE))","v":""}]
[null,null,null,null,null,null,null,null,null,null,null,{"$f":"IF(ISBLANK($R331)=TRUE,\"\",VLOOKUP($R331,TAXONOMY!$A$1:$G$959,7,FALSE))","v":""},{"$f":"IF(ISBLANK($R331)=TRUE,\"\",VLOOKUP($R331,TAXONOMY!$A$1:$G$959,6,FALSE))","v":""},{"$f":"IF(ISBLANK($R331)=TRUE,\"\",VLOOKUP($R331,TAXONOMY!$A$1:$G$959,5,FALSE))","v":""},{"$f":"IF(ISBLANK($R331)=TRUE,\"\",VLOOKUP($R331,TAXONOMY!$A$1:$G$959,4,FALSE))","v":""},{"$f":"IF(ISBLANK($R331)=TRUE,\"\",VLOOKUP($R331,TAXONOMY!$A$1:$G$959,3,FALSE))","v":""},{"$f":"IF(ISBLANK($R331)=TRUE,\"\",VLOOKUP($R331,TAXONOMY!$A$1:$H$959,2,FALSE))","v":""}]
[null,null,null,null,null,null,null,null,null,null,null,{"$f":"IF(ISBLANK($R332)=TRUE,\"\",VLOOKUP($R332,TAXONOMY!$A$1:$G$959,7,FALSE))","v":""},{"$f":"IF(ISBLANK($R332)=TRUE,\"\",VLOOKUP($R332,TAXONOMY!$A$1:$G$959,6,FALSE))","v":""},{"$f":"IF(ISBLANK($R332)=TRUE,\"\",VLOOKUP($R332,TAXONOMY!$A$1:$G$959,5,FALSE))","v":""},{"$f":"IF(ISBLANK($R332)=TRUE,\"\",VLOOKUP($R332,TAXONOMY!$A$1:$G$959,4,FALSE))","v":""},{"$f":"IF(ISBLANK($R332)=TRUE,\"\",VLOOKUP($R332,TAXONOMY!$A$1:$G$959,3,FALSE))","v":""},{"$f":"IF(ISBLANK($R332)=TRUE,\"\",VLOOKUP($R332,TAXONOMY!$A$1:$H$959,2,FALSE))","v":""}]
[null,null,null,null,null,null,null,null,null,null,null,{"$f":"IF(ISBLANK($R333)=TRUE,\"\",VLOOKUP($R333,TAXONOMY!$A$1:$G$959,7,FALSE))","v":""},{"$f":"IF(ISBLANK($R333)=TRUE,\"\",VLOOKUP($R333,TAXONOMY!$A$1:$G$959,6,FALSE))","v":""},{"$f":"IF(ISBLANK($R333)=TRUE,\"\",VLOOKUP($R333,TAXONOMY!$A$1:$G$959,5,FALSE))","v":""},{"$f":"IF(ISBLANK($R333)=TRUE,\"\",VLOOKUP($R333,TAXONOMY!$A$1:$G$959,4,FALSE))","v":""},{"$f":"IF(ISBLANK($R333)=TRUE,\"\",VLOOKUP($R333,TAXONOMY!$A$1:$G$959,3,FALSE))","v":""},{"$f":"IF(ISBLANK($R333)=TRUE,\"\",VLOOKUP($R333,TAXONOMY!$A$1:$H$959,2,FALSE))","v":""}]
[null,null,null,null,null,null,null,null,null,null,null,{"$f":"IF(ISBLANK($R334)=TRUE,\"\",VLOOKUP($R334,TAXONOMY!$A$1:$G$959,7,FALSE))","v":""},{"$f":"IF(ISBLANK($R334)=TRUE,\"\",VLOOKUP($R334,TAXONOMY!$A$1:$G$959,6,FALSE))","v":""},{"$f":"IF(ISBLANK($R334)=TRUE,\"\",VLOOKUP($R334,TAXONOMY!$A$1:$G$959,5,FALSE))","v":""},{"$f":"IF(ISBLANK($R334)=TRUE,\"\",VLOOKUP($R334,TAXONOMY!$A$1:$G$959,4,FALSE))","v":""},{"$f":"IF(ISBLANK($R334)=TRUE,\"\",VLOOKUP($R334,TAXONOMY!$A$1:$G$959,3,FALSE))","v":""},{"$f":"IF(ISBLANK($R334)=TRUE,\"\",VLOOKUP($R334,TAXONOMY!$A$1:$H$959,2,FALSE))","v":""}]
[null,null,null,null,null,null,null,null,null,null,null,{"$f":"IF(ISBLANK($R335)=TRUE,\"\",VLOOKUP($R335,TAXONOMY!$A$1:$G$959,7,FALSE))","v":""},{"$f":"IF(ISBLANK($R335)=TRUE,\"\",VLOOKUP($R335,TAXONOMY!$A$1:$G$959,6,FALSE))","v":""},{"$f":"IF(ISBLANK($R335)=TRUE,\"\",VLOOKUP($R335,TAXONOMY!$A$1:$G$959,5,FALSE))","v":""},{"$f":"IF(ISBLANK($R335)=TRUE,\"\",VLOOKUP($R335,TAXONOMY!$A$1:$G$959,4,FALSE))","v":""},{"$f":"IF(ISBLANK($R335)=TRUE,\"\",VLOOKUP($R335,TAXONOMY!$A$1:$G$959,3,FALSE))","v":""},{"$f":"IF(ISBLANK($R335)=TRUE,\"\",VLOOKUP($R335,TAXONOMY!$A$1:$H$959,2,FALSE))","v":""}]
[null,null,null,null,null,null,null,null,null,null,null,{"$f":"IF(ISBLANK($R336)=TRUE,\"\",VLOOKUP($R336,TAXONOMY!$A$1:$G$959,7,FALSE))","v":""},{"$f":"IF(ISBLANK($R336)=TRUE,\"\",VLOOKUP($R336,TAXONOMY!$A$1:$G$959,6,FALSE))","v":""},{"$f":"IF(ISBLANK($R336)=TRUE,\"\",VLOOKUP($R336,TAXONOMY!$A$1:$G$959,5,FALSE))","v":""},{"$f":"IF(ISBLANK($R336)=TRUE,\"\",VLOOKUP($R336,TAXONOMY!$A$1:$G$959,4,FALSE))","v":""},{"$f":"IF(ISBLANK($R336)=TRUE,\"\",VLOOKUP($R336,TAXONOMY!$A$1:$G$959,3,FALSE))","v":""},{"$f":"IF(ISBLANK($R336)=TRUE,\"\",VLOOKUP($R336,TAXONOMY!$A$1:$H$959,2,FALSE))","v":""}]
[null,null,null,null,null,null,null,null,null,null,null,{"$f":"IF(ISBLANK($R337)=TRUE,\"\",VLOOKUP($R337,TAXONOMY!$A$1:$G$959,7,FALSE))","v":""},{"$f":"IF(ISBLANK($R337)=TRUE,\"\",VLOOKUP($R337,TAXONOMY!$A$1:$G$959,6,FALSE))","v":""},{"$f":"IF(ISBLANK($R337)=TRUE,\"\",VLOOKUP($R337,TAXONOMY!$A$1:$G$959,5,FALSE))","v":""},{"$f":"IF(ISBLANK($R337)=TRUE,\"\",VLOOKUP($R337,TAXONOMY!$A$1:$G$959,4,FALSE))","v":""},{"$f":"IF(ISBLANK($R337)=TRUE,\"\",VLOOKUP($R337,TAXONOMY!$A$1:$G$959,3,FALSE))","v":""},{"$f":"IF(ISBLANK($R337)=TRUE,\"\",VLOOKUP($R337,TAXONOMY!$A$1:$H$959,2,FALSE))","v":""}]
[null,null,null,null,null,null,null,null,null,null,null,{"$f":"IF(ISBLANK($R338)=TRUE,\"\",VLOOKUP($R338,TAXONOMY!$A$1:$G$959,7,FALSE))","v":""},{"$f":"IF(ISBLANK($R338)=TRUE,\"\",VLOOKUP($R338,TAXONOMY!$A$1:$G$959,6,FALSE))","v":""},{"$f":"IF(ISBLANK($R338)=TRUE,\"\",VLOOKUP($R338,TAXONOMY!$A$1:$G$959,5,FALSE))","v":""},{"$f":"IF(ISBLANK($R338)=TRUE,\"\",VLOOKUP($R338,TAXONOMY!$A$1:$G$959,4,FALSE))","v":""},{"$f":"IF(ISBLANK($R338)=TRUE,\"\",VLOOKUP($R338,TAXONOMY!$A$1:$G$959,3,FALSE))","v":""},{"$f":"IF(ISBLANK($R338)=TRUE,\"\",VLOOKUP($R338,TAXONOMY!$A$1:$H$959,2,FALSE))","v":""}]
[null,null,null,null,null,null,null,null,null,null,null,{"$f":"IF(ISBLANK($R339)=TRUE,\"\",VLOOKUP($R339,TAXONOMY!$A$1:$G$959,7,FALSE))","v":""},{"$f":"IF(ISBLANK($R339)=TRUE,\"\",VLOOKUP($R339,TAXONOMY!$A$1:$G$959,6,FALSE))","v":""},{"$f":"IF(ISBLANK($R339)=TRUE,\"\",VLOOKUP($R339,TAXONOMY!$A$1:$G$959,5,FALSE))","v":""},{"$f":"IF(ISBLANK($R339)=TRUE,\"\",VLOOKUP($R339,TAXONOMY!$A$1:$G$959,4,FALSE))","v":""},{"$f":"IF(ISBLANK($R339)=TRUE,\"\",VLOOKUP($R339,TAXONOMY!$A$1:$G$959,3,FALSE))","v":""},{"$f":"IF(ISBLANK($R339)=TRUE,\"\",VLOOKUP($R339,TAXONOMY!$A$1:$H$959,2,FALSE))","v":""}]
[null,null,null,null,null,null,null,null,null,null,null,{"$f":"IF(ISBLANK($R340)=TRUE,\"\",VLOOKUP($R340,TAXONOMY!$A$1:$G$959,7,FALSE))","v":""},{"$f":"IF(ISBLANK($R340)=TRUE,\"\",VLOOKUP($R340,TAXONOMY!$A$1:$G$959,6,FALSE))","v":""},{"$f":"IF(ISBLANK($R340)=TRUE,\"\",VLOOKUP($R340,TAXONOMY!$A$1:$G$959,5,FALSE))","v":""},{"$f":"IF(ISBLANK($R340)=TRUE,\"\",VLOOKUP($R340,TAXONOMY!$A$1:$G$959,4,FALSE))","v":""},{"$f":"IF(ISBLANK($R340)=TRUE,\"\",VLOOKUP($R340,TAXONOMY!$A$1:$G$959,3,FALSE))","v":""},{"$f":"IF(ISBLANK($R340)=TRUE,\"\",VLOOKUP($R340,TAXONOMY!$A$1:$H$959,2,FALSE))","v":""}]
[null,null,null,null,null,null,null,null,null,null,null,{"$f":"IF(ISBLANK($R341)=TRUE,\"\",VLOOKUP($R341,TAXONOMY!$A$1:$G$959,7,FALSE))","v":""},{"$f":"IF(ISBLANK($R341)=TRUE,\"\",VLOOKUP($R341,TAXONOMY!$A$1:$G$959,6,FALSE))","v":""},{"$f":"IF(ISBLANK($R341)=TRUE,\"\",VLOOKUP($R341,TAXONOMY!$A$1:$G$959,5,FALSE))","v":""},{"$f":"IF(ISBLANK($R341)=TRUE,\"\",VLOOKUP($R341,TAXONOMY!$A$1:$G$959,4,FALSE))","v":""},{"$f":"IF(ISBLANK($R341)=TRUE,\"\",VLOOKUP($R341,TAXONOMY!$A$1:$G$959,3,FALSE))","v":""},{"$f":"IF(ISBLANK($R341)=TRUE,\"\",VLOOKUP($R341,TAXONOMY!$A$1:$H$959,2,FALSE))","v":""}]
[null,null,null,null,null,null,null,null,null,null,null,{"$f":"IF(ISBLANK($R342)=TRUE,\"\",VLOOKUP($R342,TAXONOMY!$A$1:$G$959,7,FALSE))","v":""},{"$f":"IF(ISBLANK($R342)=TRUE,\"\",VLOOKUP($R342,TAXONOMY!$A$1:$G$959,6,FALSE))","v":""},{"$f":"IF(ISBLANK($R342)=TRUE,\"\",VLOOKUP($R342,TAXONOMY!$A$1:$G$959,5,FALSE))","v":""},{"$f":"IF(ISBLANK($R342)=TRUE,\"\",VLOOKUP($R342,TAXONOMY!$A$1:$G$959,4,FALSE))","v":""},{"$f":"IF(ISBLANK($R342)=TRUE,\"\",VLOOKUP($R342,TAXONOMY!$A$1:$G$959,3,FALSE))","v":""},{"$f":"IF(ISBLANK($R342)=TRUE,\"\",VLOOKUP($R342,TAXONOMY!$A$1:$H$959,2,FALSE))","v":""}]
[null,null,null,null,null,null,null,null,null,null,null,{"$f":"IF(ISBLANK($R343)=TRUE,\"\",VLOOKUP($R343,TAXONOMY!$A$1:$G$959,7,FALSE))","v":""},{"$f":"IF(ISBLANK($R343)=TRUE,\"\",VLOOKUP($R343,TAXONOMY!$A$1:$G$959,6,FALSE))","v":""},{"$f":"IF(ISBLANK($R343)=TRUE,\"\",VLOOKUP($R343,TAXONOMY!$A$1:$G$959,5,FALSE))","v":""},{"$f":"IF(ISBLANK($R343)=TRUE,\"\",VLOOKUP($R343,TAXONOMY!$A$1:$G$959,4,FALSE))","v":""},{"$f":"IF(ISBLANK($R343)=TRUE,\"\",VLOOKUP($R343,TAXONOMY!$A$1:$G$959,3,FALSE))","v":""},{"$f":"IF(ISBLANK($R343)=TRUE,\"\",VLOOKUP($R343,TAXONOMY!$A$1:$H$959,2,FALSE))","v":""}]
[null,null,null,null,null,null,null,null,null,null,null,{"$f":"IF(ISBLANK($R344)=TRUE,\"\",VLOOKUP($R344,TAXONOMY!$A$1:$G$959,7,FALSE))","v":""},{"$f":"IF(ISBLANK($R344)=TRUE,\"\",VLOOKUP($R344,TAXONOMY!$A$1:$G$959,6,FALSE))","v":""},{"$f":"IF(ISBLANK($R344)=TRUE,\"\",VLOOKUP($R344,TAXONOMY!$A$1:$G$959,5,FALSE))","v":""},{"$f":"IF(ISBLANK($R344)=TRUE,\"\",VLOOKUP($R344,TAXONOMY!$A$1:$G$959,4,FALSE))","v":""},{"$f":"IF(ISBLANK($R344)=TRUE,\"\",VLOOKUP($R344,TAXONOMY!$A$1:$G$959,3,FALSE))","v":""},{"$f":"IF(ISBLANK($R344)=TRUE,\"\",VLOOKUP($R344,TAXONOMY!$A$1:$H$959,2,FALSE))","v":""}]
[null,null,null,null,null,null,null,null,null,null,null,{"$f":"IF(ISBLANK($R345)=TRUE,\"\",VLOOKUP($R345,TAXONOMY!$A$1:$G$959,7,FALSE))","v":""},{"$f":"IF(ISBLANK($R345)=TRUE,\"\",VLOOKUP($R345,TAXONOMY!$A$1:$G$959,6,FALSE))","v":""},{"$f":"IF(ISBLANK($R345)=TRUE,\"\",VLOOKUP($R345,TAXONOMY!$A$1:$G$959,5,FALSE))","v":""},{"$f":"IF(ISBLANK($R345)=TRUE,\"\",VLOOKUP($R345,TAXONOMY!$A$1:$G$959,4,FALSE))","v":""},{"$f":"IF(ISBLANK($R345)=TRUE,\"\",VLOOKUP($R345,TAXONOMY!$A$1:$G$959,3,FALSE))","v":""},{"$f":"IF(ISBLANK($R345)=TRUE,\"\",VLOOKUP($R345,TAXONOMY!$A$1:$H$959,2,FALSE))","v":""}]
[null,null,null,null,null,null,null,null,null,null,null,{"$f":"IF(ISBLANK($R346)=TRUE,\"\",VLOOKUP($R346,TAXONOMY!$A$1:$G$959,7,FALSE))","v":""},{"$f":"IF(ISBLANK($R346)=TRUE,\"\",VLOOKUP($R346,TAXONOMY!$A$1:$G$959,6,FALSE))","v":""},{"$f":"IF(ISBLANK($R346)=TRUE,\"\",VLOOKUP($R346,TAXONOMY!$A$1:$G$959,5,FALSE))","v":""},{"$f":"IF(ISBLANK($R346)=TRUE,\"\",VLOOKUP($R346,TAXONOMY!$A$1:$G$959,4,FALSE))","v":""},{"$f":"IF(ISBLANK($R346)=TRUE,\"\",VLOOKUP($R346,TAXONOMY!$A$1:$G$959,3,FALSE))","v":""},{"$f":"IF(ISBLANK($R346)=TRUE,\"\",VLOOKUP($R346,TAXONOMY!$A$1:$H$959,2,FALSE))","v":""}]
[null,null,null,null,null,null,null,null,null,null,null,{"$f":"IF(ISBLANK($R347)=TRUE,\"\",VLOOKUP($R347,TAXONOMY!$A$1:$G$959,7,FALSE))","v":""},{"$f":"IF(ISBLANK($R347)=TRUE,\"\",VLOOKUP($R347,TAXONOMY!$A$1:$G$959,6,FALSE))","v":""},{"$f":"IF(ISBLANK($R347)=TRUE,\"\",VLOOKUP($R347,TAXONOMY!$A$1:$G$959,5,FALSE))","v":""},{"$f":"IF(ISBLANK($R347)=TRUE,\"\",VLOOKUP($R347,TAXONOMY!$A$1:$G$959,4,FALSE))","v":""},{"$f":"IF(ISBLANK($R347)=TRUE,\"\",VLOOKUP($R347,TAXONOMY!$A$1:$G$959,3,FALSE))","v":""},{"$f":"IF(ISBLANK($R347)=TRUE,\"\",VLOOKUP($R347,TAXONOMY!$A$1:$H$959,2,FALSE))","v":""}]
[null,null,null,null,null,null,null,null,null,null,null,{"$f":"IF(ISBLANK($R348)=TRUE,\"\",VLOOKUP($R348,TAXONOMY!$A$1:$G$959,7,FALSE))","v":""},{"$f":"IF(ISBLANK($R348)=TRUE,\"\",VLOOKUP($R348,TAXONOMY!$A$1:$G$959,6,FALSE))","v":""},{"$f":"IF(ISBLANK($R348)=TRUE,\"\",VLOOKUP($R348,TAXONOMY!$A$1:$G$959,5,FALSE))","v":""},{"$f":"IF(ISBLANK($R348)=TRUE,\"\",VLOOKUP($R348,TAXONOMY!$A$1:$G$959,4,FALSE))","v":""},{"$f":"IF(ISBLANK($R348)=TRUE,\"\",VLOOKUP($R348,TAXONOMY!$A$1:$G$959,3,FALSE))","v":""},{"$f":"IF(ISBLANK($R348)=TRUE,\"\",VLOOKUP($R348,TAXONOMY!$A$1:$H$959,2,FALSE))","v":""}]
[null,null,null,null,null,null,null,null,null,null,null,{"$f":"IF(ISBLANK($R349)=TRUE,\"\",VLOOKUP($R349,TAXONOMY!$A$1:$G$959,7,FALSE))","v":""},{"$f":"IF(ISBLANK($R349)=TRUE,\"\",VLOOKUP($R349,TAXONOMY!$A$1:$G$959,6,FALSE))","v":""},{"$f":"IF(ISBLANK($R349)=TRUE,\"\",VLOOKUP($R349,TAXONOMY!$A$1:$G$959,5,FALSE))","v":""},{"$f":"IF(ISBLANK($R349)=TRUE,\"\",VLOOKUP($R349,TAXONOMY!$A$1:$G$959,4,FALSE))","v":""},{"$f":"IF(ISBLANK($R349)=TRUE,\"\",VLOOKUP($R349,TAXONOMY!$A$1:$G$959,3,FALSE))","v":""},{"$f":"IF(ISBLANK($R349)=TRUE,\"\",VLOOKUP($R349,TAXONOMY!$A$1:$H$959,2,FALSE))","v":""}]
[null,null,null,null,null,null,null,null,null,null,null,{"$f":"IF(ISBLANK($R350)=TRUE,\"\",VLOOKUP($R350,TAXONOMY!$A$1:$G$959,7,FALSE))","v":""},{"$f":"IF(ISBLANK($R350)=TRUE,\"\",VLOOKUP($R350,TAXONOMY!$A$1:$G$959,6,FALSE))","v":""},{"$f":"IF(ISBLANK($R350)=TRUE,\"\",VLOOKUP($R350,TAXONOMY!$A$1:$G$959,5,FALSE))","v":""},{"$f":"IF(ISBLANK($R350)=TRUE,\"\",VLOOKUP($R350,TAXONOMY!$A$1:$G$959,4,FALSE))","v":""},{"$f":"IF(ISBLANK($R350)=TRUE,\"\",VLOOKUP($R350,TAXONOMY!$A$1:$G$959,3,FALSE))","v":""},{"$f":"IF(ISBLANK($R350)=TRUE,\"\",VLOOKUP($R350,TAXONOMY!$A$1:$H$959,2,FALSE))","v":""}]
[null,null,null,null,null,null,null,null,null,null,null,{"$f":"IF(ISBLANK($R351)=TRUE,\"\",VLOOKUP($R351,TAXONOMY!$A$1:$G$959,7,FALSE))","v":""},{"$f":"IF(ISBLANK($R351)=TRUE,\"\",VLOOKUP($R351,TAXONOMY!$A$1:$G$959,6,FALSE))","v":""},{"$f":"IF(ISBLANK($R351)=TRUE,\"\",VLOOKUP($R351,TAXONOMY!$A$1:$G$959,5,FALSE))","v":""},{"$f":"IF(ISBLANK($R351)=TRUE,\"\",VLOOKUP($R351,TAXONOMY!$A$1:$G$959,4,FALSE))","v":""},{"$f":"IF(ISBLANK($R351)=TRUE,\"\",VLOOKUP($R351,TAXONOMY!$A$1:$G$959,3,FALSE))","v":""},{"$f":"IF(ISBLANK($R351)=TRUE,\"\",VLOOKUP($R351,TAXONOMY!$A$1:$H$959,2,FALSE))","v":""}]
[null,null,null,null,null,null,null,null,null,null,null,{"$f":"IF(ISBLANK($R352)=TRUE,\"\",VLOOKUP($R352,TAXONOMY!$A$1:$G$959,7,FALSE))","v":""},{"$f":"IF(ISBLANK($R352)=TRUE,\"\",VLOOKUP($R352,TAXONOMY!$A$1:$G$959,6,FALSE))","v":""},{"$f":"IF(ISBLANK($R352)=TRUE,\"\",VLOOKUP($R352,TAXONOMY!$A$1:$G$959,5,FALSE))","v":""},{"$f":"IF(ISBLANK($R352)=TRUE,\"\",VLOOKUP($R352,TAXONOMY!$A$1:$G$959,4,FALSE))","v":""},{"$f":"IF(ISBLANK($R352)=TRUE,\"\",VLOOKUP($R352,TAXONOMY!$A$1:$G$959,3,FALSE))","v":""},{"$f":"IF(ISBLANK($R352)=TRUE,\"\",VLOOKUP($R352,TAXONOMY!$A$1:$H$959,2,FALSE))","v":""}]
[null,null,null,null,null,null,null,null,null,null,null,{"$f":"IF(ISBLANK($R353)=TRUE,\"\",VLOOKUP($R353,TAXONOMY!$A$1:$G$959,7,FALSE))","v":""},{"$f":"IF(ISBLANK($R353)=TRUE,\"\",VLOOKUP($R353,TAXONOMY!$A$1:$G$959,6,FALSE))","v":""},{"$f":"IF(ISBLANK($R353)=TRUE,\"\",VLOOKUP($R353,TAXONOMY!$A$1:$G$959,5,FALSE))","v":""},{"$f":"IF(ISBLANK($R353)=TRUE,\"\",VLOOKUP($R353,TAXONOMY!$A$1:$G$959,4,FALSE))","v":""},{"$f":"IF(ISBLANK($R353)=TRUE,\"\",VLOOKUP($R353,TAXONOMY!$A$1:$G$959,3,FALSE))","v":""},{"$f":"IF(ISBLANK($R353)=TRUE,\"\",VLOOKUP($R353,TAXONOMY!$A$1:$H$959,2,FALSE))","v":""}]
[null,null,null,null,null,null,null,null,null,null,null,{"$f":"IF(ISBLANK($R354)=TRUE,\"\",VLOOKUP($R354,TAXONOMY!$A$1:$G$959,7,FALSE))","v":""},{"$f":"IF(ISBLANK($R354)=TRUE,\"\",VLOOKUP($R354,TAXONOMY!$A$1:$G$959,6,FALSE))","v":""},{"$f":"IF(ISBLANK($R354)=TRUE,\"\",VLOOKUP($R354,TAXONOMY!$A$1:$G$959,5,FALSE))","v":""},{"$f":"IF(ISBLANK($R354)=TRUE,\"\",VLOOKUP($R354,TAXONOMY!$A$1:$G$959,4,FALSE))","v":""},{"$f":"IF(ISBLANK($R354)=TRUE,\"\",VLOOKUP($R354,TAXONOMY!$A$1:$G$959,3,FALSE))","v":""},{"$f":"IF(ISBLANK($R354)=TRUE,\"\",VLOOKUP($R354,TAXONOMY!$A$1:$H$959,2,FALSE))","v":""}]
[null,null,null,null,null,null,null,null,null,null,null,{"$f":"IF(ISBLANK($R355)=TRUE,\"\",VLOOKUP($R355,TAXONOMY!$A$1:$G$959,7,FALSE))","v":""},{"$f":"IF(ISBLANK($R355)=TRUE,\"\",VLOOKUP($R355,TAXONOMY!$A$1:$G$959,6,FALSE))","v":""},{"$f":"IF(ISBLANK($R355)=TRUE,\"\",VLOOKUP($R355,TAXONOMY!$A$1:$G$959,5,FALSE))","v":""},{"$f":"IF(ISBLANK($R355)=TRUE,\"\",VLOOKUP($R355,TAXONOMY!$A$1:$G$959,4,FALSE))","v":""},{"$f":"IF(ISBLANK($R355)=TRUE,\"\",VLOOKUP($R355,TAXONOMY!$A$1:$G$959,3,FALSE))","v":""},{"$f":"IF(ISBLANK($R355)=TRUE,\"\",VLOOKUP($R355,TAXONOMY!$A$1:$H$959,2,FALSE))","v":""}]
[null,null,null,null,null,null,null,null,null,null,null,{"$f":"IF(ISBLANK($R356)=TRUE,\"\",VLOOKUP($R356,TAXONOMY!$A$1:$G$959,7,FALSE))","v":""},{"$f":"IF(ISBLANK($R356)=TRUE,\"\",VLOOKUP($R356,TAXONOMY!$A$1:$G$959,6,FALSE))","v":""},{"$f":"IF(ISBLANK($R356)=TRUE,\"\",VLOOKUP($R356,TAXONOMY!$A$1:$G$959,5,FALSE))","v":""},{"$f":"IF(ISBLANK($R356)=TRUE,\"\",VLOOKUP($R356,TAXONOMY!$A$1:$G$959,4,FALSE))","v":""},{"$f":"IF(ISBLANK($R356)=TRUE,\"\",VLOOKUP($R356,TAXONOMY!$A$1:$G$959,3,FALSE))","v":""},{"$f":"IF(ISBLANK($R356)=TRUE,\"\",VLOOKUP($R356,TAXONOMY!$A$1:$H$959,2,FALSE))","v":""}]
[null,null,null,null,null,null,null,null,null,null,null,{"$f":"IF(ISBLANK($R357)=TRUE,\"\",VLOOKUP($R357,TAXONOMY!$A$1:$G$959,7,FALSE))","v":""},{"$f":"IF(ISBLANK($R357)=TRUE,\"\",VLOOKUP($R357,TAXONOMY!$A$1:$G$959,6,FALSE))","v":""},{"$f":"IF(ISBLANK($R357)=TRUE,\"\",VLOOKUP($R357,TAXONOMY!$A$1:$G$959,5,FALSE))","v":""},{"$f":"IF(ISBLANK($R357)=TRUE,\"\",VLOOKUP($R357,TAXONOMY!$A$1:$G$959,4,FALSE))","v":""},{"$f":"IF(ISBLANK($R357)=TRUE,\"\",VLOOKUP($R357,TAXONOMY!$A$1:$G$959,3,FALSE))","v":""},{"$f":"IF(ISBLANK($R357)=TRUE,\"\",VLOOKUP($R357,TAXONOMY!$A$1:$H$959,2,FALSE))","v":""}]
[null,null,null,null,null,null,null,null,null,null,null,{"$f":"IF(ISBLANK($R358)=TRUE,\"\",VLOOKUP($R358,TAXONOMY!$A$1:$G$959,7,FALSE))","v":""},{"$f":"IF(ISBLANK($R358)=TRUE,\"\",VLOOKUP($R358,TAXONOMY!$A$1:$G$959,6,FALSE))","v":""},{"$f":"IF(ISBLANK($R358)=TRUE,\"\",VLOOKUP($R358,TAXONOMY!$A$1:$G$959,5,FALSE))","v":""},{"$f":"IF(ISBLANK($R358)=TRUE,\"\",VLOOKUP($R358,TAXONOMY!$A$1:$G$959,4,FALSE))","v":""},{"$f":"IF(ISBLANK($R358)=TRUE,\"\",VLOOKUP($R358,TAXONOMY!$A$1:$G$959,3,FALSE))","v":""},{"$f":"IF(ISBLANK($R358)=TRUE,\"\",VLOOKUP($R358,TAXONOMY!$A$1:$H$959,2,FALSE))","v":""}]
[null,null,null,null,null,null,null,null,null,null,null,{"$f":"IF(ISBLANK($R359)=TRUE,\"\",VLOOKUP($R359,TAXONOMY!$A$1:$G$959,7,FALSE))","v":""},{"$f":"IF(ISBLANK($R359)=TRUE,\"\",VLOOKUP($R359,TAXONOMY!$A$1:$G$959,6,FALSE))","v":""},{"$f":"IF(ISBLANK($R359)=TRUE,\"\",VLOOKUP($R359,TAXONOMY!$A$1:$G$959,5,FALSE))","v":""},{"$f":"IF(ISBLANK($R359)=TRUE,\"\",VLOOKUP($R359,TAXONOMY!$A$1:$G$959,4,FALSE))","v":""},{"$f":"IF(ISBLANK($R359)=TRUE,\"\",VLOOKUP($R359,TAXONOMY!$A$1:$G$959,3,FALSE))","v":""},{"$f":"IF(ISBLANK($R359)=TRUE,\"\",VLOOKUP($R359,TAXONOMY!$A$1:$H$959,2,FALSE))","v":""}]
[null,null,null,null,null,null,null,null,null,null,null,{"$f":"IF(ISBLANK($R360)=TRUE,\"\",VLOOKUP($R360,TAXONOMY!$A$1:$G$959,7,FALSE))","v":""},{"$f":"IF(ISBLANK($R360)=TRUE,\"\",VLOOKUP($R360,TAXONOMY!$A$1:$G$959,6,FALSE))","v":""},{"$f":"IF(ISBLANK($R360)=TRUE,\"\",VLOOKUP($R360,TAXONOMY!$A$1:$G$959,5,FALSE))","v":""},{"$f":"IF(ISBLANK($R360)=TRUE,\"\",VLOOKUP($R360,TAXONOMY!$A$1:$G$959,4,FALSE))","v":""},{"$f":"IF(ISBLANK($R360)=TRUE,\"\",VLOOKUP($R360,TAXONOMY!$A$1:$G$959,3,FALSE))","v":""},{"$f":"IF(ISBLANK($R360)=TRUE,\"\",VLOOKUP($R360,TAXONOMY!$A$1:$H$959,2,FALSE))","v":""}]
[null,null,null,null,null,null,null,null,null,null,null,{"$f":"IF(ISBLANK($R361)=TRUE,\"\",VLOOKUP($R361,TAXONOMY!$A$1:$G$959,7,FALSE))","v":""},{"$f":"IF(ISBLANK($R361)=TRUE,\"\",VLOOKUP($R361,TAXONOMY!$A$1:$G$959,6,FALSE))","v":""},{"$f":"IF(ISBLANK($R361)=TRUE,\"\",VLOOKUP($R361,TAXONOMY!$A$1:$G$959,5,FALSE))","v":""},{"$f":"IF(ISBLANK($R361)=TRUE,\"\",VLOOKUP($R361,TAXONOMY!$A$1:$G$959,4,FALSE))","v":""},{"$f":"IF(ISBLANK($R361)=TRUE,\"\",VLOOKUP($R361,TAXONOMY!$A$1:$G$959,3,FALSE))","v":""},{"$f":"IF(ISBLANK($R361)=TRUE,\"\",VLOOKUP($R361,TAXONOMY!$A$1:$H$959,2,FALSE))","v":""}]
[null,null,null,null,null,null,null,null,null,null,null,{"$f":"IF(ISBLANK($R362)=TRUE,\"\",VLOOKUP($R362,TAXONOMY!$A$1:$G$959,7,FALSE))","v":""},{"$f":"IF(ISBLANK($R362)=TRUE,\"\",VLOOKUP($R362,TAXONOMY!$A$1:$G$959,6,FALSE))","v":""},{"$f":"IF(ISBLANK($R362)=TRUE,\"\",VLOOKUP($R362,TAXONOMY!$A$1:$G$959,5,FALSE))","v":""},{"$f":"IF(ISBLANK($R362)=TRUE,\"\",VLOOKUP($R362,TAXONOMY!$A$1:$G$959,4,FALSE))","v":""},{"$f":"IF(ISBLANK($R362)=TRUE,\"\",VLOOKUP($R362,TAXONOMY!$A$1:$G$959,3,FALSE))","v":""},{"$f":"IF(ISBLANK($R362)=TRUE,\"\",VLOOKUP($R362,TAXONOMY!$A$1:$H$959,2,FALSE))","v":""}]
[null,null,null,null,null,null,null,null,null,null,null,{"$f":"IF(ISBLANK($R363)=TRUE,\"\",VLOOKUP($R363,TAXONOMY!$A$1:$G$959,7,FALSE))","v":""},{"$f":"IF(ISBLANK($R363)=TRUE,\"\",VLOOKUP($R363,TAXONOMY!$A$1:$G$959,6,FALSE))","v":""},{"$f":"IF(ISBLANK($R363)=TRUE,\"\",VLOOKUP($R363,TAXONOMY!$A$1:$G$959,5,FALSE))","v":""},{"$f":"IF(ISBLANK($R363)=TRUE,\"\",VLOOKUP($R363,TAXONOMY!$A$1:$G$959,4,FALSE))","v":""},{"$f":"IF(ISBLANK($R363)=TRUE,\"\",VLOOKUP($R363,TAXONOMY!$A$1:$G$959,3,FALSE))","v":""},{"$f":"IF(ISBLANK($R363)=TRUE,\"\",VLOOKUP($R363,TAXONOMY!$A$1:$H$959,2,FALSE))","v":""}]
[null,null,null,null,null,null,null,null,null,null,null,{"$f":"IF(ISBLANK($R364)=TRUE,\"\",VLOOKUP($R364,TAXONOMY!$A$1:$G$959,7,FALSE))","v":""},{"$f":"IF(ISBLANK($R364)=TRUE,\"\",VLOOKUP($R364,TAXONOMY!$A$1:$G$959,6,FALSE))","v":""},{"$f":"IF(ISBLANK($R364)=TRUE,\"\",VLOOKUP($R364,TAXONOMY!$A$1:$G$959,5,FALSE))","v":""},{"$f":"IF(ISBLANK($R364)=TRUE,\"\",VLOOKUP($R364,TAXONOMY!$A$1:$G$959,4,FALSE))","v":""},{"$f":"IF(ISBLANK($R364)=TRUE,\"\",VLOOKUP($R364,TAXONOMY!$A$1:$G$959,3,FALSE))","v":""},{"$f":"IF(ISBLANK($R364)=TRUE,\"\",VLOOKUP($R364,TAXONOMY!$A$1:$H$959,2,FALSE))","v":""}]
[null,null,null,null,null,null,null,null,null,null,null,{"$f":"IF(ISBLANK($R365)=TRUE,\"\",VLOOKUP($R365,TAXONOMY!$A$1:$G$959,7,FALSE))","v":""},{"$f":"IF(ISBLANK($R365)=TRUE,\"\",VLOOKUP($R365,TAXONOMY!$A$1:$G$959,6,FALSE))","v":""},{"$f":"IF(ISBLANK($R365)=TRUE,\"\",VLOOKUP($R365,TAXONOMY!$A$1:$G$959,5,FALSE))","v":""},{"$f":"IF(ISBLANK($R365)=TRUE,\"\",VLOOKUP($R365,TAXONOMY!$A$1:$G$959,4,FALSE))","v":""},{"$f":"IF(ISBLANK($R365)=TRUE,\"\",VLOOKUP($R365,TAXONOMY!$A$1:$G$959,3,FALSE))","v":""},{"$f":"IF(ISBLANK($R365)=TRUE,\"\",VLOOKUP($R365,TAXONOMY!$A$1:$H$959,2,FALSE))","v":""}]
[null,null,null,null,null,null,null,null,null,null,null,{"$f":"IF(ISBLANK($R366)=TRUE,\"\",VLOOKUP($R366,TAXONOMY!$A$1:$G$959,7,FALSE))","v":""},{"$f":"IF(ISBLANK($R366)=TRUE,\"\",VLOOKUP($R366,TAXONOMY!$A$1:$G$959,6,FALSE))","v":""},{"$f":"IF(ISBLANK($R366)=TRUE,\"\",VLOOKUP($R366,TAXONOMY!$A$1:$G$959,5,FALSE))","v":""},{"$f":"IF(ISBLANK($R366)=TRUE,\"\",VLOOKUP($R366,TAXONOMY!$A$1:$G$959,4,FALSE))","v":""},{"$f":"IF(ISBLANK($R366)=TRUE,\"\",VLOOKUP($R366,TAXONOMY!$A$1:$G$959,3,FALSE))","v":""},{"$f":"IF(ISBLANK($R366)=TRUE,\"\",VLOOKUP($R366,TAXONOMY!$A$1:$H$959,2,FALSE))","v":""}]
[null,null,null,null,null,null,null,null,null,null,null,{"$f":"IF(ISBLANK($R367)=TRUE,\"\",VLOOKUP($R367,TAXONOMY!$A$1:$G$959,7,FALSE))","v":""},{"$f":"IF(ISBLANK($R367)=TRUE,\"\",VLOOKUP($R367,TAXONOMY!$A$1:$G$959,6,FALSE))","v":""},{"$f":"IF(ISBLANK($R367)=TRUE,\"\",VLOOKUP($R367,TAXONOMY!$A$1:$G$959,5,FALSE))","v":""},{"$f":"IF(ISBLANK($R367)=TRUE,\"\",VLOOKUP($R367,TAXONOMY!$A$1:$G$959,4,FALSE))","v":""},{"$f":"IF(ISBLANK($R367)=TRUE,\"\",VLOOKUP($R367,TAXONOMY!$A$1:$G$959,3,FALSE))","v":""},{"$f":"IF(ISBLANK($R367)=TRUE,\"\",VLOOKUP($R367,TAXONOMY!$A$1:$H$959,2,FALSE))","v":""}]
[null,null,null,null,null,null,null,null,null,null,null,{"$f":"IF(ISBLANK($R368)=TRUE,\"\",VLOOKUP($R368,TAXONOMY!$A$1:$G$959,7,FALSE))","v":""},{"$f":"IF(ISBLANK($R368)=TRUE,\"\",VLOOKUP($R368,TAXONOMY!$A$1:$G$959,6,FALSE))","v":""},{"$f":"IF(ISBLANK($R368)=TRUE,\"\",VLOOKUP($R368,TAXONOMY!$A$1:$G$959,5,FALSE))","v":""},{"$f":"IF(ISBLANK($R368)=TRUE,\"\",VLOOKUP($R368,TAXONOMY!$A$1:$G$959,4,FALSE))","v":""},{"$f":"IF(ISBLANK($R368)=TRUE,\"\",VLOOKUP($R368,TAXONOMY!$A$1:$G$959,3,FALSE))","v":""},{"$f":"IF(ISBLANK($R368)=TRUE,\"\",VLOOKUP($R368,TAXONOMY!$A$1:$H$959,2,FALSE))","v":""}]
[null,null,null,null,null,null,null,null,null,null,null,{"$f":"IF(ISBLANK($R369)=TRUE,\"\",VLOOKUP($R369,TAXONOMY!$A$1:$G$959,7,FALSE))","v":""},{"$f":"IF(ISBLANK($R369)=TRUE,\"\",VLOOKUP($R369,TAXONOMY!$A$1:$G$959,6,FALSE))","v":""},{"$f":"IF(ISBLANK($R369)=TRUE,\"\",VLOOKUP($R369,TAXONOMY!$A$1:$G$959,5,FALSE))","v":""},{"$f":"IF(ISBLANK($R369)=TRUE,\"\",VLOOKUP($R369,TAXONOMY!$A$1:$G$959,4,FALSE))","v":""},{"$f":"IF(ISBLANK($R369)=TRUE,\"\",VLOOKUP($R369,TAXONOMY!$A$1:$G$959,3,FALSE))","v":""},{"$f":"IF(ISBLANK($R369)=TRUE,\"\",VLOOKUP($R369,TAXONOMY!$A$1:$H$959,2,FALSE))","v":""}]
[null,null,null,null,null,null,null,null,null,null,null,{"$f":"IF(ISBLANK($R370)=TRUE,\"\",VLOOKUP($R370,TAXONOMY!$A$1:$G$959,7,FALSE))","v":""},{"$f":"IF(ISBLANK($R370)=TRUE,\"\",VLOOKUP($R370,TAXONOMY!$A$1:$G$959,6,FALSE))","v":""},{"$f":"IF(ISBLANK($R370)=TRUE,\"\",VLOOKUP($R370,TAXONOMY!$A$1:$G$959,5,FALSE))","v":""},{"$f":"IF(ISBLANK($R370)=TRUE,\"\",VLOOKUP($R370,TAXONOMY!$A$1:$G$959,4,FALSE))","v":""},{"$f":"IF(ISBLANK($R370)=TRUE,\"\",VLOOKUP($R370,TAXONOMY!$A$1:$G$959,3,FALSE))","v":""},{"$f":"IF(ISBLANK($R370)=TRUE,\"\",VLOOKUP($R370,TAXONOMY!$A$1:$H$959,2,FALSE))","v":""}]
[null,null,null,null,null,null,null,null,null,null,null,{"$f":"IF(ISBLANK($R371)=TRUE,\"\",VLOOKUP($R371,TAXONOMY!$A$1:$G$959,7,FALSE))","v":""},{"$f":"IF(ISBLANK($R371)=TRUE,\"\",VLOOKUP($R371,TAXONOMY!$A$1:$G$959,6,FALSE))","v":""},{"$f":"IF(ISBLANK($R371)=TRUE,\"\",VLOOKUP($R371,TAXONOMY!$A$1:$G$959,5,FALSE))","v":""},{"$f":"IF(ISBLANK($R371)=TRUE,\"\",VLOOKUP($R371,TAXONOMY!$A$1:$G$959,4,FALSE))","v":""},{"$f":"IF(ISBLANK($R371)=TRUE,\"\",VLOOKUP($R371,TAXONOMY!$A$1:$G$959,3,FALSE))","v":""},{"$f":"IF(ISBLANK($R371)=TRUE,\"\",VLOOKUP($R371,TAXONOMY!$A$1:$H$959,2,FALSE))","v":""}]
[null,null,null,null,null,null,null,null,null,null,null,{"$f":"IF(ISBLANK($R372)=TRUE,\"\",VLOOKUP($R372,TAXONOMY!$A$1:$G$959,7,FALSE))","v":""},{"$f":"IF(ISBLANK($R372)=TRUE,\"\",VLOOKUP($R372,TAXONOMY!$A$1:$G$959,6,FALSE))","v":""},{"$f":"IF(ISBLANK($R372)=TRUE,\"\",VLOOKUP($R372,TAXONOMY!$A$1:$G$959,5,FALSE))","v":""},{"$f":"IF(ISBLANK($R372)=TRUE,\"\",VLOOKUP($R372,TAXONOMY!$A$1:$G$959,4,FALSE))","v":""},{"$f":"IF(ISBLANK($R372)=TRUE,\"\",VLOOKUP($R372,TAXONOMY!$A$1:$G$959,3,FALSE))","v":""},{"$f":"IF(ISBLANK($R372)=TRUE,\"\",VLOOKUP($R372,TAXONOMY!$A$1:$H$959,2,FALSE))","v":""}]
[null,null,null,null,null,null,null,null,null,null,null,{"$f":"IF(ISBLANK($R373)=TRUE,\"\",VLOOKUP($R373,TAXONOMY!$A$1:$G$959,7,FALSE))","v":""},{"$f":"IF(ISBLANK($R373)=TRUE,\"\",VLOOKUP($R373,TAXONOMY!$A$1:$G$959,6,FALSE))","v":""},{"$f":"IF(ISBLANK($R373)=TRUE,\"\",VLOOKUP($R373,TAXONOMY!$A$1:$G$959,5,FALSE))","v":""},{"$f":"IF(ISBLANK($R373)=TRUE,\"\",VLOOKUP($R373,TAXONOMY!$A$1:$G$959,4,FALSE))","v":""},{"$f":"IF(ISBLANK($R373)=TRUE,\"\",VLOOKUP($R373,TAXONOMY!$A$1:$G$959,3,FALSE))","v":""},{"$f":"IF(ISBLANK($R373)=TRUE,\"\",VLOOKUP($R373,TAXONOMY!$A$1:$H$959,2,FALSE))","v":""}]
[null,null,null,null,null,null,null,null,null,null,null,{"$f":"IF(ISBLANK($R374)=TRUE,\"\",VLOOKUP($R374,TAXONOMY!$A$1:$G$959,7,FALSE))","v":""},{"$f":"IF(ISBLANK($R374)=TRUE,\"\",VLOOKUP($R374,TAXONOMY!$A$1:$G$959,6,FALSE))","v":""},{"$f":"IF(ISBLANK($R374)=TRUE,\"\",VLOOKUP($R374,TAXONOMY!$A$1:$G$959,5,FALSE))","v":""},{"$f":"IF(ISBLANK($R374)=TRUE,\"\",VLOOKUP($R374,TAXONOMY!$A$1:$G$959,4,FALSE))","v":""},{"$f":"IF(ISBLANK($R374)=TRUE,\"\",VLOOKUP($R374,TAXONOMY!$A$1:$G$959,3,FALSE))","v":""},{"$f":"IF(ISBLANK($R374)=TRUE,\"\",VLOOKUP($R374,TAXONOMY!$A$1:$H$959,2,FALSE))","v":""}]
[null,null,null,null,null,null,null,null,null,null,null,{"$f":"IF(ISBLANK($R375)=TRUE,\"\",VLOOKUP($R375,TAXONOMY!$A$1:$G$959,7,FALSE))","v":""},{"$f":"IF(ISBLANK($R375)=TRUE,\"\",VLOOKUP($R375,TAXONOMY!$A$1:$G$959,6,FALSE))","v":""},{"$f":"IF(ISBLANK($R375)=TRUE,\"\",VLOOKUP($R375,TAXONOMY!$A$1:$G$959,5,FALSE))","v":""},{"$f":"IF(ISBLANK($R375)=TRUE,\"\",VLOOKUP($R375,TAXONOMY!$A$1:$G$959,4,FALSE))","v":""},{"$f":"IF(ISBLANK($R375)=TRUE,\"\",VLOOKUP($R375,TAXONOMY!$A$1:$G$959,3,FALSE))","v":""},{"$f":"IF(ISBLANK($R375)=TRUE,\"\",VLOOKUP($R375,TAXONOMY!$A$1:$H$959,2,FALSE))","v":""}]
[null,null,null,null,null,null,null,null,null,null,null,{"$f":"IF(ISBLANK($R376)=TRUE,\"\",VLOOKUP($R376,TAXONOMY!$A$1:$G$959,7,FALSE))","v":""},{"$f":"IF(ISBLANK($R376)=TRUE,\"\",VLOOKUP($R376,TAXONOMY!$A$1:$G$959,6,FALSE))","v":""},{"$f":"IF(ISBLANK($R376)=TRUE,\"\",VLOOKUP($R376,TAXONOMY!$A$1:$G$959,5,FALSE))","v":""},{"$f":"IF(ISBLANK($R376)=TRUE,\"\",VLOOKUP($R376,TAXONOMY!$A$1:$G$959,4,FALSE))","v":""},{"$f":"IF(ISBLANK($R376)=TRUE,\"\",VLOOKUP($R376,TAXONOMY!$A$1:$G$959,3,FALSE))","v":""},{"$f":"IF(ISBLANK($R376)=TRUE,\"\",VLOOKUP($R376,TAXONOMY!$A$1:$H$959,2,FALSE))","v":""}]
[null,null,null,null,null,null,null,null,null,null,null,{"$f":"IF(ISBLANK($R377)=TRUE,\"\",VLOOKUP($R377,TAXONOMY!$A$1:$G$959,7,FALSE))","v":""},{"$f":"IF(ISBLANK($R377)=TRUE,\"\",VLOOKUP($R377,TAXONOMY!$A$1:$G$959,6,FALSE))","v":""},{"$f":"IF(ISBLANK($R377)=TRUE,\"\",VLOOKUP($R377,TAXONOMY!$A$1:$G$959,5,FALSE))","v":""},{"$f":"IF(ISBLANK($R377)=TRUE,\"\",VLOOKUP($R377,TAXONOMY!$A$1:$G$959,4,FALSE))","v":""},{"$f":"IF(ISBLANK($R377)=TRUE,\"\",VLOOKUP($R377,TAXONOMY!$A$1:$G$959,3,FALSE))","v":""},{"$f":"IF(ISBLANK($R377)=TRUE,\"\",VLOOKUP($R377,TAXONOMY!$A$1:$H$959,2,FALSE))","v":""}]
[null,null,null,null,null,null,null,null,null,null,null,{"$f":"IF(ISBLANK($R378)=TRUE,\"\",VLOOKUP($R378,TAXONOMY!$A$1:$G$959,7,FALSE))","v":""},{"$f":"IF(ISBLANK($R378)=TRUE,\"\",VLOOKUP($R378,TAXONOMY!$A$1:$G$959,6,FALSE))","v":""},{"$f":"IF(ISBLANK($R378)=TRUE,\"\",VLOOKUP($R378,TAXONOMY!$A$1:$G$959,5,FALSE))","v":""},{"$f":"IF(ISBLANK($R378)=TRUE,\"\",VLOOKUP($R378,TAXONOMY!$A$1:$G$959,4,FALSE))","v":""},{"$f":"IF(ISBLANK($R378)=TRUE,\"\",VLOOKUP($R378,TAXONOMY!$A$1:$G$959,3,FALSE))","v":""},{"$f":"IF(ISBLANK($R378)=TRUE,\"\",VLOOKUP($R378,TAXONOMY!$A$1:$H$959,2,FALSE))","v":""}]
[null,null,null,null,null,null,null,null,null,null,null,{"$f":"IF(ISBLANK($R379)=TRUE,\"\",VLOOKUP($R379,TAXONOMY!$A$1:$G$959,7,FALSE))","v":""},{"$f":"IF(ISBLANK($R379)=TRUE,\"\",VLOOKUP($R379,TAXONOMY!$A$1:$G$959,6,FALSE))","v":""},{"$f":"IF(ISBLANK($R379)=TRUE,\"\",VLOOKUP($R379,TAXONOMY!$A$1:$G$959,5,FALSE))","v":""},{"$f":"IF(ISBLANK($R379)=TRUE,\"\",VLOOKUP($R379,TAXONOMY!$A$1:$G$959,4,FALSE))","v":""},{"$f":"IF(ISBLANK($R379)=TRUE,\"\",VLOOKUP($R379,TAXONOMY!$A$1:$G$959,3,FALSE))","v":""},{"$f":"IF(ISBLANK($R379)=TRUE,\"\",VLOOKUP($R379,TAXONOMY!$A$1:$H$959,2,FALSE))","v":""}]
[null,null,null,null,null,null,null,null,null,null,null,{"$f":"IF(ISBLANK($R380)=TRUE,\"\",VLOOKUP($R380,TAXONOMY!$A$1:$G$959,7,FALSE))","v":""},{"$f":"IF(ISBLANK($R380)=TRUE,\"\",VLOOKUP($R380,TAXONOMY!$A$1:$G$959,6,FALSE))","v":""},{"$f":"IF(ISBLANK($R380)=TRUE,\"\",VLOOKUP($R380,TAXONOMY!$A$1:$G$959,5,FALSE))","v":""},{"$f":"IF(ISBLANK($R380)=TRUE,\"\",VLOOKUP($R380,TAXONOMY!$A$1:$G$959,4,FALSE))","v":""},{"$f":"IF(ISBLANK($R380)=TRUE,\"\",VLOOKUP($R380,TAXONOMY!$A$1:$G$959,3,FALSE))","v":""},{"$f":"IF(ISBLANK($R380)=TRUE,\"\",VLOOKUP($R380,TAXONOMY!$A$1:$H$959,2,FALSE))","v":""}]
[null,null,null,null,null,null,null,null,null,null,null,{"$f":"IF(ISBLANK($R381)=TRUE,\"\",VLOOKUP($R381,TAXONOMY!$A$1:$G$959,7,FALSE))","v":""},{"$f":"IF(ISBLANK($R381)=TRUE,\"\",VLOOKUP($R381,TAXONOMY!$A$1:$G$959,6,FALSE))","v":""},{"$f":"IF(ISBLANK($R381)=TRUE,\"\",VLOOKUP($R381,TAXONOMY!$A$1:$G$959,5,FALSE))","v":""},{"$f":"IF(ISBLANK($R381)=TRUE,\"\",VLOOKUP($R381,TAXONOMY!$A$1:$G$959,4,FALSE))","v":""},{"$f":"IF(ISBLANK($R381)=TRUE,\"\",VLOOKUP($R381,TAXONOMY!$A$1:$G$959,3,FALSE))","v":""},{"$f":"IF(ISBLANK($R381)=TRUE,\"\",VLOOKUP($R381,TAXONOMY!$A$1:$H$959,2,FALSE))","v":""}]
[null,null,null,null,null,null,null,null,null,null,null,{"$f":"IF(ISBLANK($R382)=TRUE,\"\",VLOOKUP($R382,TAXONOMY!$A$1:$G$959,7,FALSE))","v":""},{"$f":"IF(ISBLANK($R382)=TRUE,\"\",VLOOKUP($R382,TAXONOMY!$A$1:$G$959,6,FALSE))","v":""},{"$f":"IF(ISBLANK($R382)=TRUE,\"\",VLOOKUP($R382,TAXONOMY!$A$1:$G$959,5,FALSE))","v":""},{"$f":"IF(ISBLANK($R382)=TRUE,\"\",VLOOKUP($R382,TAXONOMY!$A$1:$G$959,4,FALSE))","v":""},{"$f":"IF(ISBLANK($R382)=TRUE,\"\",VLOOKUP($R382,TAXONOMY!$A$1:$G$959,3,FALSE))","v":""},{"$f":"IF(ISBLANK($R382)=TRUE,\"\",VLOOKUP($R382,TAXONOMY!$A$1:$H$959,2,FALSE))","v":""}]
[null,null,null,null,null,null,null,null,null,null,null,{"$f":"IF(ISBLANK($R383)=TRUE,\"\",VLOOKUP($R383,TAXONOMY!$A$1:$G$959,7,FALSE))","v":""},{"$f":"IF(ISBLANK($R383)=TRUE,\"\",VLOOKUP($R383,TAXONOMY!$A$1:$G$959,6,FALSE))","v":""},{"$f":"IF(ISBLANK($R383)=TRUE,\"\",VLOOKUP($R383,TAXONOMY!$A$1:$G$959,5,FALSE))","v":""},{"$f":"IF(ISBLANK($R383)=TRUE,\"\",VLOOKUP($R383,TAXONOMY!$A$1:$G$959,4,FALSE))","v":""},{"$f":"IF(ISBLANK($R383)=TRUE,\"\",VLOOKUP($R383,TAXONOMY!$A$1:$G$959,3,FALSE))","v":""},{"$f":"IF(ISBLANK($R383)=TRUE,\"\",VLOOKUP($R383,TAXONOMY!$A$1:$H$959,2,FALSE))","v":""}]
[null,null,null,null,null,null,null,null,null,null,null,{"$f":"IF(ISBLANK($R384)=TRUE,\"\",VLOOKUP($R384,TAXONOMY!$A$1:$G$959,7,FALSE))","v":""},{"$f":"IF(ISBLANK($R384)=TRUE,\"\",VLOOKUP($R384,TAXONOMY!$A$1:$G$959,6,FALSE))","v":""},{"$f":"IF(ISBLANK($R384)=TRUE,\"\",VLOOKUP($R384,TAXONOMY!$A$1:$G$959,5,FALSE))","v":""},{"$f":"IF(ISBLANK($R384)=TRUE,\"\",VLOOKUP($R384,TAXONOMY!$A$1:$G$959,4,FALSE))","v":""},{"$f":"IF(ISBLANK($R384)=TRUE,\"\",VLOOKUP($R384,TAXONOMY!$A$1:$G$959,3,FALSE))","v":""},{"$f":"IF(ISBLANK($R384)=TRUE,\"\",VLOOKUP($R384,TAXONOMY!$A$1:$H$959,2,FALSE))","v":""}]
[null,null,null,null,null,null,null,null,null,null,null,{"$f":"IF(ISBLANK($R385)=TRUE,\"\",VLOOKUP($R385,TAXONOMY!$A$1:$G$959,7,FALSE))","v":""},{"$f":"IF(ISBLANK($R385)=TRUE,\"\",VLOOKUP($R385,TAXONOMY!$A$1:$G$959,6,FALSE))","v":""},{"$f":"IF(ISBLANK($R385)=TRUE,\"\",VLOOKUP($R385,TAXONOMY!$A$1:$G$959,5,FALSE))","v":""},{"$f":"IF(ISBLANK($R385)=TRUE,\"\",VLOOKUP($R385,TAXONOMY!$A$1:$G$959,4,FALSE))","v":""},{"$f":"IF(ISBLANK($R385)=TRUE,\"\",VLOOKUP($R385,TAXONOMY!$A$1:$G$959,3,FALSE))","v":""},{"$f":"IF(ISBLANK($R385)=TRUE,\"\",VLOOKUP($R385,TAXONOMY!$A$1:$H$959,2,FALSE))","v":""}]
[null,null,null,null,null,null,null,null,null,null,null,{"$f":"IF(ISBLANK($R386)=TRUE,\"\",VLOOKUP($R386,TAXONOMY!$A$1:$G$959,7,FALSE))","v":""},{"$f":"IF(ISBLANK($R386)=TRUE,\"\",VLOOKUP($R386,TAXONOMY!$A$1:$G$959,6,FALSE))","v":""},{"$f":"IF(ISBLANK($R386)=TRUE,\"\",VLOOKUP($R386,TAXONOMY!$A$1:$G$959,5,FALSE))","v":""},{"$f":"IF(ISBLANK($R386)=TRUE,\"\",VLOOKUP($R386,TAXONOMY!$A$1:$G$959,4,FALSE))","v":""},{"$f":"IF(ISBLANK($R386)=TRUE,\"\",VLOOKUP($R386,TAXONOMY!$A$1:$G$959,3,FALSE))","v":""},{"$f":"IF(ISBLANK($R386)=TRUE,\"\",VLOOKUP($R386,TAXONOMY!$A$1:$H$959,2,FALSE))","v":""}]
[null,null,null,null,null,null,null,null,null,null,null,{"$f":"IF(ISBLANK($R387)=TRUE,\"\",VLOOKUP($R387,TAXONOMY!$A$1:$G$959,7,FALSE))","v":""},{"$f":"IF(ISBLANK($R387)=TRUE,\"\",VLOOKUP($R387,TAXONOMY!$A$1:$G$959,6,FALSE))","v":""},{"$f":"IF(ISBLANK($R387)=TRUE,\"\",VLOOKUP($R387,TAXONOMY!$A$1:$G$959,5,FALSE))","v":""},{"$f":"IF(ISBLANK($R387)=TRUE,\"\",VLOOKUP($R387,TAXONOMY!$A$1:$G$959,4,FALSE))","v":""},{"$f":"IF(ISBLANK($R387)=TRUE,\"\",VLOOKUP($R387,TAXONOMY!$A$1:$G$959,3,FALSE))","v":""},{"$f":"IF(ISBLANK($R387)=TRUE,\"\",VLOOKUP($R387,TAXONOMY!$A$1:$H$959,2,FALSE))","v":""}]
[null,null,null,null,null,null,null,null,null,null,null,{"$f":"IF(ISBLANK($R388)=TRUE,\"\",VLOOKUP($R388,TAXONOMY!$A$1:$G$959,7,FALSE))","v":""},{"$f":"IF(ISBLANK($R388)=TRUE,\"\",VLOOKUP($R388,TAXONOMY!$A$1:$G$959,6,FALSE))","v":""},{"$f":"IF(ISBLANK($R388)=TRUE,\"\",VLOOKUP($R388,TAXONOMY!$A$1:$G$959,5,FALSE))","v":""},{"$f":"IF(ISBLANK($R388)=TRUE,\"\",VLOOKUP($R388,TAXONOMY!$A$1:$G$959,4,FALSE))","v":""},{"$f":"IF(ISBLANK($R388)=TRUE,\"\",VLOOKUP($R388,TAXONOMY!$A$1:$G$959,3,FALSE))","v":""},{"$f":"IF(ISBLANK($R388)=TRUE,\"\",VLOOKUP($R388,TAXONOMY!$A$1:$H$959,2,FALSE))","v":""}]
[null,null,null,null,null,null,null,null,null,null,null,{"$f":"IF(ISBLANK($R389)=TRUE,\"\",VLOOKUP($R389,TAXONOMY!$A$1:$G$959,7,FALSE))","v":""},{"$f":"IF(ISBLANK($R389)=TRUE,\"\",VLOOKUP($R389,TAXONOMY!$A$1:$G$959,6,FALSE))","v":""},{"$f":"IF(ISBLANK($R389)=TRUE,\"\",VLOOKUP($R389,TAXONOMY!$A$1:$G$959,5,FALSE))","v":""},{"$f":"IF(ISBLANK($R389)=TRUE,\"\",VLOOKUP($R389,TAXONOMY!$A$1:$G$959,4,FALSE))","v":""},{"$f":"IF(ISBLANK($R389)=TRUE,\"\",VLOOKUP($R389,TAXONOMY!$A$1:$G$959,3,FALSE))","v":""},{"$f":"IF(ISBLANK($R389)=TRUE,\"\",VLOOKUP($R389,TAXONOMY!$A$1:$H$959,2,FALSE))","v":""}]
[null,null,null,null,null,null,null,null,null,null,null,{"$f":"IF(ISBLANK($R390)=TRUE,\"\",VLOOKUP($R390,TAXONOMY!$A$1:$G$959,7,FALSE))","v":""},{"$f":"IF(ISBLANK($R390)=TRUE,\"\",VLOOKUP($R390,TAXONOMY!$A$1:$G$959,6,FALSE))","v":""},{"$f":"IF(ISBLANK($R390)=TRUE,\"\",VLOOKUP($R390,TAXONOMY!$A$1:$G$959,5,FALSE))","v":""},{"$f":"IF(ISBLANK($R390)=TRUE,\"\",VLOOKUP($R390,TAXONOMY!$A$1:$G$959,4,FALSE))","v":""},{"$f":"IF(ISBLANK($R390)=TRUE,\"\",VLOOKUP($R390,TAXONOMY!$A$1:$G$959,3,FALSE))","v":""},{"$f":"IF(ISBLANK($R390)=TRUE,\"\",VLOOKUP($R390,TAXONOMY!$A$1:$H$959,2,FALSE))","v":""}]
[null,null,null,null,null,null,null,null,null,null,null,{"$f":"IF(ISBLANK($R391)=TRUE,\"\",VLOOKUP($R391,TAXONOMY!$A$1:$G$959,7,FALSE))","v":""},{"$f":"IF(ISBLANK($R391)=TRUE,\"\",VLOOKUP($R391,TAXONOMY!$A$1:$G$959,6,FALSE))","v":""},{"$f":"IF(ISBLANK($R391)=TRUE,\"\",VLOOKUP($R391,TAXONOMY!$A$1:$G$959,5,FALSE))","v":""},{"$f":"IF(ISBLANK($R391)=TRUE,\"\",VLOOKUP($R391,TAXONOMY!$A$1:$G$959,4,FALSE))","v":""},{"$f":"IF(ISBLANK($R391)=TRUE,\"\",VLOOKUP($R391,TAXONOMY!$A$1:$G$959,3,FALSE))","v":""},{"$f":"IF(ISBLANK($R391)=TRUE,\"\",VLOOKUP($R391,TAXONOMY!$A$1:$H$959,2,FALSE))","v":""}]
[null,null,null,null,null,null,null,null,null,null,null,{"$f":"IF(ISBLANK($R392)=TRUE,\"\",VLOOKUP($R392,TAXONOMY!$A$1:$G$959,7,FALSE))","v":""},{"$f":"IF(ISBLANK($R392)=TRUE,\"\",VLOOKUP($R392,TAXONOMY!$A$1:$G$959,6,FALSE))","v":""},{"$f":"IF(ISBLANK($R392)=TRUE,\"\",VLOOKUP($R392,TAXONOMY!$A$1:$G$959,5,FALSE))","v":""},{"$f":"IF(ISBLANK($R392)=TRUE,\"\",VLOOKUP($R392,TAXONOMY!$A$1:$G$959,4,FALSE))","v":""},{"$f":"IF(ISBLANK($R392)=TRUE,\"\",VLOOKUP($R392,TAXONOMY!$A$1:$G$959,3,FALSE))","v":""},{"$f":"IF(ISBLANK($R392)=TRUE,\"\",VLOOKUP($R392,TAXONOMY!$A$1:$H$959,2,FALSE))","v":""}]
[null,null,null,null,null,null,null,null,null,null,null,{"$f":"IF(ISBLANK($R393)=TRUE,\"\",VLOOKUP($R393,TAXONOMY!$A$1:$G$959,7,FALSE))","v":""},{"$f":"IF(ISBLANK($R393)=TRUE,\"\",VLOOKUP($R393,TAXONOMY!$A$1:$G$959,6,FALSE))","v":""},{"$f":"IF(ISBLANK($R393)=TRUE,\"\",VLOOKUP($R393,TAXONOMY!$A$1:$G$959,5,FALSE))","v":""},{"$f":"IF(ISBLANK($R393)=TRUE,\"\",VLOOKUP($R393,TAXONOMY!$A$1:$G$959,4,FALSE))","v":""},{"$f":"IF(ISBLANK($R393)=TRUE,\"\",VLOOKUP($R393,TAXONOMY!$A$1:$G$959,3,FALSE))","v":""},{"$f":"IF(ISBLANK($R393)=TRUE,\"\",VLOOKUP($R393,TAXONOMY!$A$1:$H$959,2,FALSE))","v":""}]
[null,null,null,null,null,null,null,null,null,null,null,{"$f":"IF(ISBLANK($R394)=TRUE,\"\",VLOOKUP($R394,TAXONOMY!$A$1:$G$959,7,FALSE))","v":""},{"$f":"IF(ISBLANK($R394)=TRUE,\"\",VLOOKUP($R394,TAXONOMY!$A$1:$G$959,6,FALSE))","v":""},{"$f":"IF(ISBLANK($R394)=TRUE,\"\",VLOOKUP($R394,TAXONOMY!$A$1:$G$959,5,FALSE))","v":""},{"$f":"IF(ISBLANK($R394)=TRUE,\"\",VLOOKUP($R394,TAXONOMY!$A$1:$G$959,4,FALSE))","v":""},{"$f":"IF(ISBLANK($R394)=TRUE,\"\",VLOOKUP($R394,TAXONOMY!$A$1:$G$959,3,FALSE))","v":""},{"$f":"IF(ISBLANK($R394)=TRUE,\"\",VLOOKUP($R394,TAXONOMY!$A$1:$H$959,2,FALSE))","v":""}]
[null,null,null,null,null,null,null,null,null,null,null,{"$f":"IF(ISBLANK($R395)=TRUE,\"\",VLOOKUP($R395,TAXONOMY!$A$1:$G$959,7,FALSE))","v":""},{"$f":"IF(ISBLANK($R395)=TRUE,\"\",VLOOKUP($R395,TAXONOMY!$A$1:$G$959,6,FALSE))","v":""},{"$f":"IF(ISBLANK($R395)=TRUE,\"\",VLOOKUP($R395,TAXONOMY!$A$1:$G$959,5,FALSE))","v":""},{"$f":"IF(ISBLANK($R395)=TRUE,\"\",VLOOKUP($R395,TAXONOMY!$A$1:$G$959,4,FALSE))","v":""},{"$f":"IF(ISBLANK($R395)=TRUE,\"\",VLOOKUP($R395,TAXONOMY!$A$1:$G$959,3,FALSE))","v":""},{"$f":"IF(ISBLANK($R395)=TRUE,\"\",VLOOKUP($R395,TAXONOMY!$A$1:$H$959,2,FALSE))","v":""}]
[null,null,null,null,null,null,null,null,null,null,null,{"$f":"IF(ISBLANK($R396)=TRUE,\"\",VLOOKUP($R396,TAXONOMY!$A$1:$G$959,7,FALSE))","v":""},{"$f":"IF(ISBLANK($R396)=TRUE,\"\",VLOOKUP($R396,TAXONOMY!$A$1:$G$959,6,FALSE))","v":""},{"$f":"IF(ISBLANK($R396)=TRUE,\"\",VLOOKUP($R396,TAXONOMY!$A$1:$G$959,5,FALSE))","v":""},{"$f":"IF(ISBLANK($R396)=TRUE,\"\",VLOOKUP($R396,TAXONOMY!$A$1:$G$959,4,FALSE))","v":""},{"$f":"IF(ISBLANK($R396)=TRUE,\"\",VLOOKUP($R396,TAXONOMY!$A$1:$G$959,3,FALSE))","v":""},{"$f":"IF(ISBLANK($R396)=TRUE,\"\",VLOOKUP($R396,TAXONOMY!$A$1:$H$959,2,FALSE))","v":""}]
[null,null,null,null,null,null,null,null,null,null,null,{"$f":"IF(ISBLANK($R397)=TRUE,\"\",VLOOKUP($R397,TAXONOMY!$A$1:$G$959,7,FALSE))","v":""},{"$f":"IF(ISBLANK($R397)=TRUE,\"\",VLOOKUP($R397,TAXONOMY!$A$1:$G$959,6,FALSE))","v":""},{"$f":"IF(ISBLANK($R397)=TRUE,\"\",VLOOKUP($R397,TAXONOMY!$A$1:$G$959,5,FALSE))","v":""},{"$f":"IF(ISBLANK($R397)=TRUE,\"\",VLOOKUP($R397,TAXONOMY!$A$1:$G$959,4,FALSE))","v":""},{"$f":"IF(ISBLANK($R397)=TRUE,\"\",VLOOKUP($R397,TAXONOMY!$A$1:$G$959,3,FALSE))","v":""},{"$f":"IF(ISBLANK($R397)=TRUE,\"\",VLOOKUP($R397,TAXONOMY!$A$1:$H$959,2,FALSE))","v":""}]
[null,null,null,null,null,null,null,null,null,null,null,{"$f":"IF(ISBLANK($R398)=TRUE,\"\",VLOOKUP($R398,TAXONOMY!$A$1:$G$959,7,FALSE))","v":""},{"$f":"IF(ISBLANK($R398)=TRUE,\"\",VLOOKUP($R398,TAXONOMY!$A$1:$G$959,6,FALSE))","v":""},{"$f":"IF(ISBLANK($R398)=TRUE,\"\",VLOOKUP($R398,TAXONOMY!$A$1:$G$959,5,FALSE))","v":""},{"$f":"IF(ISBLANK($R398)=TRUE,\"\",VLOOKUP($R398,TAXONOMY!$A$1:$G$959,4,FALSE))","v":""},{"$f":"IF(ISBLANK($R398)=TRUE,\"\",VLOOKUP($R398,TAXONOMY!$A$1:$G$959,3,FALSE))","v":""},{"$f":"IF(ISBLANK($R398)=TRUE,\"\",VLOOKUP($R398,TAXONOMY!$A$1:$H$959,2,FALSE))","v":""}]
[null,null,null,null,null,null,null,null,null,null,null,{"$f":"IF(ISBLANK($R399)=TRUE,\"\",VLOOKUP($R399,TAXONOMY!$A$1:$G$959,7,FALSE))","v":""},{"$f":"IF(ISBLANK($R399)=TRUE,\"\",VLOOKUP($R399,TAXONOMY!$A$1:$G$959,6,FALSE))","v":""},{"$f":"IF(ISBLANK($R399)=TRUE,\"\",VLOOKUP($R399,TAXONOMY!$A$1:$G$959,5,FALSE))","v":""},{"$f":"IF(ISBLANK($R399)=TRUE,\"\",VLOOKUP($R399,TAXONOMY!$A$1:$G$959,4,FALSE))","v":""},{"$f":"IF(ISBLANK($R399)=TRUE,\"\",VLOOKUP($R399,TAXONOMY!$A$1:$G$959,3,FALSE))","v":""},{"$f":"IF(ISBLANK($R399)=TRUE,\"\",VLOOKUP($R399,TAXONOMY!$A$1:$H$959,2,FALSE))","v":""}]
[null,null,null,null,null,null,null,null,null,null,null,{"$f":"IF(ISBLANK($R400)=TRUE,\"\",VLOOKUP($R400,TAXONOMY!$A$1:$G$959,7,FALSE))","v":""},{"$f":"IF(ISBLANK($R400)=TRUE,\"\",VLOOKUP($R400,TAXONOMY!$A$1:$G$959,6,FALSE))","v":""},{"$f":"IF(ISBLANK($R400)=TRUE,\"\",VLOOKUP($R400,TAXONOMY!$A$1:$G$959,5,FALSE))","v":""},{"$f":"IF(ISBLANK($R400)=TRUE,\"\",VLOOKUP($R400,TAXONOMY!$A$1:$G$959,4,FALSE))","v":""},{"$f":"IF(ISBLANK($R400)=TRUE,\"\",VLOOKUP($R400,TAXONOMY!$A$1:$G$959,3,FALSE))","v":""},{"$f":"IF(ISBLANK($R400)=TRUE,\"\",VLOOKUP($R400,TAXONOMY!$A$1:$H$959,2,FALSE))","v":""}]
[null,null,null,null,null,null,null,null,null,null,null,{"$f":"IF(ISBLANK($R401)=TRUE,\"\",VLOOKUP($R401,TAXONOMY!$A$1:$G$959,7,FALSE))","v":""},{"$f":"IF(ISBLANK($R401)=TRUE,\"\",VLOOKUP($R401,TAXONOMY!$A$1:$G$959,6,FALSE))","v":""},{"$f":"IF(ISBLANK($R401)=TRUE,\"\",VLOOKUP($R401,TAXONOMY!$A$1:$G$959,5,FALSE))","v":""},{"$f":"IF(ISBLANK($R401)=TRUE,\"\",VLOOKUP($R401,TAXONOMY!$A$1:$G$959,4,FALSE))","v":""},{"$f":"IF(ISBLANK($R401)=TRUE,\"\",VLOOKUP($R401,TAXONOMY!$A$1:$G$959,3,FALSE))","v":""},{"$f":"IF(ISBLANK($R401)=TRUE,\"\",VLOOKUP($R401,TAXONOMY!$A$1:$H$959,2,FALSE))","v":""}]
[null,null,null,null,null,null,null,null,null,null,null,{"$f":"IF(ISBLANK($R402)=TRUE,\"\",VLOOKUP($R402,TAXONOMY!$A$1:$G$959,7,FALSE))","v":""},{"$f":"IF(ISBLANK($R402)=TRUE,\"\",VLOOKUP($R402,TAXONOMY!$A$1:$G$959,6,FALSE))","v":""},{"$f":"IF(ISBLANK($R402)=TRUE,\"\",VLOOKUP($R402,TAXONOMY!$A$1:$G$959,5,FALSE))","v":""},{"$f":"IF(ISBLANK($R402)=TRUE,\"\",VLOOKUP($R402,TAXONOMY!$A$1:$G$959,4,FALSE))","v":""},{"$f":"IF(ISBLANK($R402)=TRUE,\"\",VLOOKUP($R402,TAXONOMY!$A$1:$G$959,3,FALSE))","v":""},{"$f":"IF(ISBLANK($R402)=TRUE,\"\",VLOOKUP($R402,TAXONOMY!$A$1:$H$959,2,FALSE))","v":""}]
[null,null,null,null,null,null,null,null,null,null,null,{"$f":"IF(ISBLANK($R403)=TRUE,\"\",VLOOKUP($R403,TAXONOMY!$A$1:$G$959,7,FALSE))","v":""},{"$f":"IF(ISBLANK($R403)=TRUE,\"\",VLOOKUP($R403,TAXONOMY!$A$1:$G$959,6,FALSE))","v":""},{"$f":"IF(ISBLANK($R403)=TRUE,\"\",VLOOKUP($R403,TAXONOMY!$A$1:$G$959,5,FALSE))","v":""},{"$f":"IF(ISBLANK($R403)=TRUE,\"\",VLOOKUP($R403,TAXONOMY!$A$1:$G$959,4,FALSE))","v":""},{"$f":"IF(ISBLANK($R403)=TRUE,\"\",VLOOKUP($R403,TAXONOMY!$A$1:$G$959,3,FALSE))","v":""},{"$f":"IF(ISBLANK($R403)=TRUE,\"\",VLOOKUP($R403,TAXONOMY!$A$1:$H$959,2,FALSE))","v":""}]
[null,null,null,null,null,null,null,null,null,null,null,{"$f":"IF(ISBLANK($R404)=TRUE,\"\",VLOOKUP($R404,TAXONOMY!$A$1:$G$959,7,FALSE))","v":""},{"$f":"IF(ISBLANK($R404)=TRUE,\"\",VLOOKUP($R404,TAXONOMY!$A$1:$G$959,6,FALSE))","v":""},{"$f":"IF(ISBLANK($R404)=TRUE,\"\",VLOOKUP($R404,TAXONOMY!$A$1:$G$959,5,FALSE))","v":""},{"$f":"IF(ISBLANK($R404)=TRUE,\"\",VLOOKUP($R404,TAXONOMY!$A$1:$G$959,4,FALSE))","v":""},{"$f":"IF(ISBLANK($R404)=TRUE,\"\",VLOOKUP($R404,TAXONOMY!$A$1:$G$959,3,FALSE))","v":""},{"$f":"IF(ISBLANK($R404)=TRUE,\"\",VLOOKUP($R404,TAXONOMY!$A$1:$H$959,2,FALSE))","v":""}]
[null,null,null,null,null,null,null,null,null,null,null,{"$f":"IF(ISBLANK($R405)=TRUE,\"\",VLOOKUP($R405,TAXONOMY!$A$1:$G$959,7,FALSE))","v":""},{"$f":"IF(ISBLANK($R405)=TRUE,\"\",VLOOKUP($R405,TAXONOMY!$A$1:$G$959,6,FALSE))","v":""},{"$f":"IF(ISBLANK($R405)=TRUE,\"\",VLOOKUP($R405,TAXONOMY!$A$1:$G$959,5,FALSE))","v":""},{"$f":"IF(ISBLANK($R405)=TRUE,\"\",VLOOKUP($R405,TAXONOMY!$A$1:$G$959,4,FALSE))","v":""},{"$f":"IF(ISBLANK($R405)=TRUE,\"\",VLOOKUP($R405,TAXONOMY!$A$1:$G$959,3,FALSE))","v":""},{"$f":"IF(ISBLANK($R405)=TRUE,\"\",VLOOKUP($R405,TAXONOMY!$A$1:$H$959,2,FALSE))","v":""}]
[null,null,null,null,null,null,null,null,null,null,null,{"$f":"IF(ISBLANK($R406)=TRUE,\"\",VLOOKUP($R406,TAXONOMY!$A$1:$G$959,7,FALSE))","v":""},{"$f":"IF(ISBLANK($R406)=TRUE,\"\",VLOOKUP($R406,TAXONOMY!$A$1:$G$959,6,FALSE))","v":""},{"$f":"IF(ISBLANK($R406)=TRUE,\"\",VLOOKUP($R406,TAXONOMY!$A$1:$G$959,5,FALSE))","v":""},{"$f":"IF(ISBLANK($R406)=TRUE,\"\",VLOOKUP($R406,TAXONOMY!$A$1:$G$959,4,FALSE))","v":""},{"$f":"IF(ISBLANK($R406)=TRUE,\"\",VLOOKUP($R406,TAXONOMY!$A$1:$G$959,3,FALSE))","v":""},{"$f":"IF(ISBLANK($R406)=TRUE,\"\",VLOOKUP($R406,TAXONOMY!$A$1:$H$959,2,FALSE))","v":""}]
[null,null,null,null,null,null,null,null,null,null,null,{"$f":"IF(ISBLANK($R407)=TRUE,\"\",VLOOKUP($R407,TAXONOMY!$A$1:$G$959,7,FALSE))","v":""},{"$f":"IF(ISBLANK($R407)=TRUE,\"\",VLOOKUP($R407,TAXONOMY!$A$1:$G$959,6,FALSE))","v":""},{"$f":"IF(ISBLANK($R407)=TRUE,\"\",VLOOKUP($R407,TAXONOMY!$A$1:$G$959,5,FALSE))","v":""},{"$f":"IF(ISBLANK($R407)=TRUE,\"\",VLOOKUP($R407,TAXONOMY!$A$1:$G$959,4,FALSE))","v":""},{"$f":"IF(ISBLANK($R407)=TRUE,\"\",VLOOKUP($R407,TAXONOMY!$A$1:$G$959,3,FALSE))","v":""},{"$f":"IF(ISBLANK($R407)=TRUE,\"\",VLOOKUP($R407,TAXONOMY!$A$1:$H$959,2,FALSE))","v":""}]
[null,null,null,null,null,null,null,null,null,null,null,{"$f":"IF(ISBLANK($R408)=TRUE,\"\",VLOOKUP($R408,TAXONOMY!$A$1:$G$959,7,FALSE))","v":""},{"$f":"IF(ISBLANK($R408)=TRUE,\"\",VLOOKUP($R408,TAXONOMY!$A$1:$G$959,6,FALSE))","v":""},{"$f":"IF(ISBLANK($R408)=TRUE,\"\",VLOOKUP($R408,TAXONOMY!$A$1:$G$959,5,FALSE))","v":""},{"$f":"IF(ISBLANK($R408)=TRUE,\"\",VLOOKUP($R408,TAXONOMY!$A$1:$G$959,4,FALSE))","v":""},{"$f":"IF(ISBLANK($R408)=TRUE,\"\",VLOOKUP($R408,TAXONOMY!$A$1:$G$959,3,FALSE))","v":""},{"$f":"IF(ISBLANK($R408)=TRUE,\"\",VLOOKUP($R408,TAXONOMY!$A$1:$H$959,2,FALSE))","v":""}]
[null,null,null,null,null,null,null,null,null,null,null,{"$f":"IF(ISBLANK($R409)=TRUE,\"\",VLOOKUP($R409,TAXONOMY!$A$1:$G$959,7,FALSE))","v":""},{"$f":"IF(ISBLANK($R409)=TRUE,\"\",VLOOKUP($R409,TAXONOMY!$A$1:$G$959,6,FALSE))","v":""},{"$f":"IF(ISBLANK($R409)=TRUE,\"\",VLOOKUP($R409,TAXONOMY!$A$1:$G$959,5,FALSE))","v":""},{"$f":"IF(ISBLANK($R409)=TRUE,\"\",VLOOKUP($R409,TAXONOMY!$A$1:$G$959,4,FALSE))","v":""},{"$f":"IF(ISBLANK($R409)=TRUE,\"\",VLOOKUP($R409,TAXONOMY!$A$1:$G$959,3,FALSE))","v":""},{"$f":"IF(ISBLANK($R409)=TRUE,\"\",VLOOKUP($R409,TAXONOMY!$A$1:$H$959,2,FALSE))","v":""}]
[null,null,null,null,null,null,null,null,null,null,null,{"$f":"IF(ISBLANK($R410)=TRUE,\"\",VLOOKUP($R410,TAXONOMY!$A$1:$G$959,7,FALSE))","v":""},{"$f":"IF(ISBLANK($R410)=TRUE,\"\",VLOOKUP($R410,TAXONOMY!$A$1:$G$959,6,FALSE))","v":""},{"$f":"IF(ISBLANK($R410)=TRUE,\"\",VLOOKUP($R410,TAXONOMY!$A$1:$G$959,5,FALSE))","v":""},{"$f":"IF(ISBLANK($R410)=TRUE,\"\",VLOOKUP($R410,TAXONOMY!$A$1:$G$959,4,FALSE))","v":""},{"$f":"IF(ISBLANK($R410)=TRUE,\"\",VLOOKUP($R410,TAXONOMY!$A$1:$G$959,3,FALSE))","v":""},{"$f":"IF(ISBLANK($R410)=TRUE,\"\",VLOOKUP($R410,TAXONOMY!$A$1:$H$959,2,FALSE))","v":""}]
[null,null,null,null,null,null,null,null,null,null,null,{"$f":"IF(ISBLANK($R411)=TRUE,\"\",VLOOKUP($R411,TAXONOMY!$A$1:$G$959,7,FALSE))","v":""},{"$f":"IF(ISBLANK($R411)=TRUE,\"\",VLOOKUP($R411,TAXONOMY!$A$1:$G$959,6,FALSE))","v":""},{"$f":"IF(ISBLANK($R411)=TRUE,\"\",VLOOKUP($R411,TAXONOMY!$A$1:$G$959,5,FALSE))","v":""},{"$f":"IF(ISBLANK($R411)=TRUE,\"\",VLOOKUP($R411,TAXONOMY!$A$1:$G$959,4,FALSE))","v":""},{"$f":"IF(ISBLANK($R411)=TRUE,\"\",VLOOKUP($R411,TAXONOMY!$A$1:$G$959,3,FALSE))","v":""},{"$f":"IF(ISBLANK($R411)=TRUE,\"\",VLOOKUP($R411,TAXONOMY!$A$1:$H$959,2,FALSE))","v":""}]
[null,null,null,null,null,null,null,null,null,null,null,{"$f":"IF(ISBLANK($R412)=TRUE,\"\",VLOOKUP($R412,TAXONOMY!$A$1:$G$959,7,FALSE))","v":""},{"$f":"IF(ISBLANK($R412)=TRUE,\"\",VLOOKUP($R412,TAXONOMY!$A$1:$G$959,6,FALSE))","v":""},{"$f":"IF(ISBLANK($R412)=TRUE,\"\",VLOOKUP($R412,TAXONOMY!$A$1:$G$959,5,FALSE))","v":""},{"$f":"IF(ISBLANK($R412)=TRUE,\"\",VLOOKUP($R412,TAXONOMY!$A$1:$G$959,4,FALSE))","v":""},{"$f":"IF(ISBLANK($R412)=TRUE,\"\",VLOOKUP($R412,TAXONOMY!$A$1:$G$959,3,FALSE))","v":""},{"$f":"IF(ISBLANK($R412)=TRUE,\"\",VLOOKUP($R412,TAXONOMY!$A$1:$H$959,2,FALSE))","v":""}]
[null,null,null,null,null,null,null,null,null,null,null,{"$f":"IF(ISBLANK($R413)=TRUE,\"\",VLOOKUP($R413,TAXONOMY!$A$1:$G$959,7,FALSE))","v":""},{"$f":"IF(ISBLANK($R413)=TRUE,\"\",VLOOKUP($R413,TAXONOMY!$A$1:$G$959,6,FALSE))","v":""},{"$f":"IF(ISBLANK($R413)=TRUE,\"\",VLOOKUP($R413,TAXONOMY!$A$1:$G$959,5,FALSE))","v":""},{"$f":"IF(ISBLANK($R413)=TRUE,\"\",VLOOKUP($R413,TAXONOMY!$A$1:$G$959,4,FALSE))","v":""},{"$f":"IF(ISBLANK($R413)=TRUE,\"\",VLOOKUP($R413,TAXONOMY!$A$1:$G$959,3,FALSE))","v":""},{"$f":"IF(ISBLANK($R413)=TRUE,\"\",VLOOKUP($R413,TAXONOMY!$A$1:$H$959,2,FALSE))","v":""}]
[null,null,null,null,null,null,null,null,null,null,null,{"$f":"IF(ISBLANK($R414)=TRUE,\"\",VLOOKUP($R414,TAXONOMY!$A$1:$G$959,7,FALSE))","v":""},{"$f":"IF(ISBLANK($R414)=TRUE,\"\",VLOOKUP($R414,TAXONOMY!$A$1:$G$959,6,FALSE))","v":""},{"$f":"IF(ISBLANK($R414)=TRUE,\"\",VLOOKUP($R414,TAXONOMY!$A$1:$G$959,5,FALSE))","v":""},{"$f":"IF(ISBLANK($R414)=TRUE,\"\",VLOOKUP($R414,TAXONOMY!$A$1:$G$959,4,FALSE))","v":""},{"$f":"IF(ISBLANK($R414)=TRUE,\"\",VLOOKUP($R414,TAXONOMY!$A$1:$G$959,3,FALSE))","v":""},{"$f":"IF(ISBLANK($R414)=TRUE,\"\",VLOOKUP($R414,TAXONOMY!$A$1:$H$959,2,FALSE))","v":""}]
[null,null,null,null,null,null,null,null,null,null,null,{"$f":"IF(ISBLANK($R415)=TRUE,\"\",VLOOKUP($R415,TAXONOMY!$A$1:$G$959,7,FALSE))","v":""},{"$f":"IF(ISBLANK($R415)=TRUE,\"\",VLOOKUP($R415,TAXONOMY!$A$1:$G$959,6,FALSE))","v":""},{"$f":"IF(ISBLANK($R415)=TRUE,\"\",VLOOKUP($R415,TAXONOMY!$A$1:$G$959,5,FALSE))","v":""},{"$f":"IF(ISBLANK($R415)=TRUE,\"\",VLOOKUP($R415,TAXONOMY!$A$1:$G$959,4,FALSE))","v":""},{"$f":"IF(ISBLANK($R415)=TRUE,\"\",VLOOKUP($R415,TAXONOMY!$A$1:$G$959,3,FALSE))","v":""},{"$f":"IF(ISBLANK($R415)=TRUE,\"\",VLOOKUP($R415,TAXONOMY!$A$1:$H$959,2,FALSE))","v":""}]
[null,null,null,null,null,null,null,null,null,null,null,{"$f":"IF(ISBLANK($R416)=TRUE,\"\",VLOOKUP($R416,TAXONOMY!$A$1:$G$959,7,FALSE))","v":""},{"$f":"IF(ISBLANK($R416)=TRUE,\"\",VLOOKUP($R416,TAXONOMY!$A$1:$G$959,6,FALSE))","v":""},{"$f":"IF(ISBLANK($R416)=TRUE,\"\",VLOOKUP($R416,TAXONOMY!$A$1:$G$959,5,FALSE))","v":""},{"$f":"IF(ISBLANK($R416)=TRUE,\"\",VLOOKUP($R416,TAXONOMY!$A$1:$G$959,4,FALSE))","v":""},{"$f":"IF(ISBLANK($R416)=TRUE,\"\",VLOOKUP($R416,TAXONOMY!$A$1:$G$959,3,FALSE))","v":""},{"$f":"IF(ISBLANK($R416)=TRUE,\"\",VLOOKUP($R416,TAXONOMY!$A$1:$H$959,2,FALSE))","v":""}]
[null,null,null,null,null,null,null,null,null,null,null,{"$f":"IF(ISBLANK($R417)=TRUE,\"\",VLOOKUP($R417,TAXONOMY!$A$1:$G$959,7,FALSE))","v":""},{"$f":"IF(ISBLANK($R417)=TRUE,\"\",VLOOKUP($R417,TAXONOMY!$A$1:$G$959,6,FALSE))","v":""},{"$f":"IF(ISBLANK($R417)=TRUE,\"\",VLOOKUP($R417,TAXONOMY!$A$1:$G$959,5,FALSE))","v":""},{"$f":"IF(ISBLANK($R417)=TRUE,\"\",VLOOKUP($R417,TAXONOMY!$A$1:$G$959,4,FALSE))","v":""},{"$f":"IF(ISBLANK($R417)=TRUE,\"\",VLOOKUP($R417,TAXONOMY!$A$1:$G$959,3,FALSE))","v":""},{"$f":"IF(ISBLANK($R417)=TRUE,\"\",VLOOKUP($R417,TAXONOMY!$A$1:$H$959,2,FALSE))","v":""}]
[null,null,null,null,null,null,null,null,null,null,null,{"$f":"IF(ISBLANK($R418)=TRUE,\"\",VLOOKUP($R418,TAXONOMY!$A$1:$G$959,7,FALSE))","v":""},{"$f":"IF(ISBLANK($R418)=TRUE,\"\",VLOOKUP($R418,TAXONOMY!$A$1:$G$959,6,FALSE))","v":""},{"$f":"IF(ISBLANK($R418)=TRUE,\"\",VLOOKUP($R418,TAXONOMY!$A$1:$G$959,5,FALSE))","v":""},{"$f":"IF(ISBLANK($R418)=TRUE,\"\",VLOOKUP($R418,TAXONOMY!$A$1:$G$959,4,FALSE))","v":""},{"$f":"IF(ISBLANK($R418)=TRUE,\"\",VLOOKUP($R418,TAXONOMY!$A$1:$G$959,3,FALSE))","v":""},{"$f":"IF(ISBLANK($R418)=TRUE,\"\",VLOOKUP($R418,TAXONOMY!$A$1:$H$959,2,FALSE))","v":""}]
[null,null,null,null,null,null,null,null,null,null,null,{"$f":"IF(ISBLANK($R419)=TRUE,\"\",VLOOKUP($R419,TAXONOMY!$A$1:$G$959,7,FALSE))","v":""},{"$f":"IF(ISBLANK($R419)=TRUE,\"\",VLOOKUP($R419,TAXONOMY!$A$1:$G$959,6,FALSE))","v":""},{"$f":"IF(ISBLANK($R419)=TRUE,\"\",VLOOKUP($R419,TAXONOMY!$A$1:$G$959,5,FALSE))","v":""},{"$f":"IF(ISBLANK($R419)=TRUE,\"\",VLOOKUP($R419,TAXONOMY!$A$1:$G$959,4,FALSE))","v":""},{"$f":"IF(ISBLANK($R419)=TRUE,\"\",VLOOKUP($R419,TAXONOMY!$A$1:$G$959,3,FALSE))","v":""},{"$f":"IF(ISBLANK($R419)=TRUE,\"\",VLOOKUP($R419,TAXONOMY!$A$1:$H$959,2,FALSE))","v":""}]
[null,null,null,null,null,null,null,null,null,null,null,{"$f":"IF(ISBLANK($R420)=TRUE,\"\",VLOOKUP($R420,TAXONOMY!$A$1:$G$959,7,FALSE))","v":""},{"$f":"IF(ISBLANK($R420)=TRUE,\"\",VLOOKUP($R420,TAXONOMY!$A$1:$G$959,6,FALSE))","v":""},{"$f":"IF(ISBLANK($R420)=TRUE,\"\",VLOOKUP($R420,TAXONOMY!$A$1:$G$959,5,FALSE))","v":""},{"$f":"IF(ISBLANK($R420)=TRUE,\"\",VLOOKUP($R420,TAXONOMY!$A$1:$G$959,4,FALSE))","v":""},{"$f":"IF(ISBLANK($R420)=TRUE,\"\",VLOOKUP($R420,TAXONOMY!$A$1:$G$959,3,FALSE))","v":""},{"$f":"IF(ISBLANK($R420)=TRUE,\"\",VLOOKUP($R420,TAXONOMY!$A$1:$H$959,2,FALSE))","v":""}]
[null,null,null,null,null,null,null,null,null,null,null,{"$f":"IF(ISBLANK($R421)=TRUE,\"\",VLOOKUP($R421,TAXONOMY!$A$1:$G$959,7,FALSE))","v":""},{"$f":"IF(ISBLANK($R421)=TRUE,\"\",VLOOKUP($R421,TAXONOMY!$A$1:$G$959,6,FALSE))","v":""},{"$f":"IF(ISBLANK($R421)=TRUE,\"\",VLOOKUP($R421,TAXONOMY!$A$1:$G$959,5,FALSE))","v":""},{"$f":"IF(ISBLANK($R421)=TRUE,\"\",VLOOKUP($R421,TAXONOMY!$A$1:$G$959,4,FALSE))","v":""},{"$f":"IF(ISBLANK($R421)=TRUE,\"\",VLOOKUP($R421,TAXONOMY!$A$1:$G$959,3,FALSE))","v":""},{"$f":"IF(ISBLANK($R421)=TRUE,\"\",VLOOKUP($R421,TAXONOMY!$A$1:$H$959,2,FALSE))","v":""}]
[null,null,null,null,null,null,null,null,null,null,null,{"$f":"IF(ISBLANK($R422)=TRUE,\"\",VLOOKUP($R422,TAXONOMY!$A$1:$G$959,7,FALSE))","v":""},{"$f":"IF(ISBLANK($R422)=TRUE,\"\",VLOOKUP($R422,TAXONOMY!$A$1:$G$959,6,FALSE))","v":""},{"$f":"IF(ISBLANK($R422)=TRUE,\"\",VLOOKUP($R422,TAXONOMY!$A$1:$G$959,5,FALSE))","v":""},{"$f":"IF(ISBLANK($R422)=TRUE,\"\",VLOOKUP($R422,TAXONOMY!$A$1:$G$959,4,FALSE))","v":""},{"$f":"IF(ISBLANK($R422)=TRUE,\"\",VLOOKUP($R422,TAXONOMY!$A$1:$G$959,3,FALSE))","v":""},{"$f":"IF(ISBLANK($R422)=TRUE,\"\",VLOOKUP($R422,TAXONOMY!$A$1:$H$959,2,FALSE))","v":""}]
[null,null,null,null,null,null,null,null,null,null,null,{"$f":"IF(ISBLANK($R423)=TRUE,\"\",VLOOKUP($R423,TAXONOMY!$A$1:$G$959,7,FALSE))","v":""},{"$f":"IF(ISBLANK($R423)=TRUE,\"\",VLOOKUP($R423,TAXONOMY!$A$1:$G$959,6,FALSE))","v":""},{"$f":"IF(ISBLANK($R423)=TRUE,\"\",VLOOKUP($R423,TAXONOMY!$A$1:$G$959,5,FALSE))","v":""},{"$f":"IF(ISBLANK($R423)=TRUE,\"\",VLOOKUP($R423,TAXONOMY!$A$1:$G$959,4,FALSE))","v":""},{"$f":"IF(ISBLANK($R423)=TRUE,\"\",VLOOKUP($R423,TAXONOMY!$A$1:$G$959,3,FALSE))","v":""},{"$f":"IF(ISBLANK($R423)=TRUE,\"\",VLOOKUP($R423,TAXONOMY!$A$1:$H$959,2,FALSE))","v":""}]
[null,null,null,null,null,null,null,null,null,null,null,{"$f":"IF(ISBLANK($R424)=TRUE,\"\",VLOOKUP($R424,TAXONOMY!$A$1:$G$959,7,FALSE))","v":""},{"$f":"IF(ISBLANK($R424)=TRUE,\"\",VLOOKUP($R424,TAXONOMY!$A$1:$G$959,6,FALSE))","v":""},{"$f":"IF(ISBLANK($R424)=TRUE,\"\",VLOOKUP($R424,TAXONOMY!$A$1:$G$959,5,FALSE))","v":""},{"$f":"IF(ISBLANK($R424)=TRUE,\"\",VLOOKUP($R424,TAXONOMY!$A$1:$G$959,4,FALSE))","v":""},{"$f":"IF(ISBLANK($R424)=TRUE,\"\",VLOOKUP($R424,TAXONOMY!$A$1:$G$959,3,FALSE))","v":""},{"$f":"IF(ISBLANK($R424)=TRUE,\"\",VLOOKUP($R424,TAXONOMY!$A$1:$H$959,2,FALSE))","v":""}]
[null,null,null,null,null,null,null,null,null,null,null,{"$f":"IF(ISBLANK($R425)=TRUE,\"\",VLOOKUP($R425,TAXONOMY!$A$1:$G$959,7,FALSE))","v":""},{"$f":"IF(ISBLANK($R425)=TRUE,\"\",VLOOKUP($R425,TAXONOMY!$A$1:$G$959,6,FALSE))","v":""},{"$f":"IF(ISBLANK($R425)=TRUE,\"\",VLOOKUP($R425,TAXONOMY!$A$1:$G$959,5,FALSE))","v":""},{"$f":"IF(ISBLANK($R425)=TRUE,\"\",VLOOKUP($R425,TAXONOMY!$A$1:$G$959,4,FALSE))","v":""},{"$f":"IF(ISBLANK($R425)=TRUE,\"\",VLOOKUP($R425,TAXONOMY!$A$1:$G$959,3,FALSE))","v":""},{"$f":"IF(ISBLANK($R425)=TRUE,\"\",VLOOKUP($R425,TAXONOMY!$A$1:$H$959,2,FALSE))","v":""}]
[null,null,null,null,null,null,null,null,null,null,null,{"$f":"IF(ISBLANK($R426)=TRUE,\"\",VLOOKUP($R426,TAXONOMY!$A$1:$G$959,7,FALSE))","v":""},{"$f":"IF(ISBLANK($R426)=TRUE,\"\",VLOOKUP($R426,TAXONOMY!$A$1:$G$959,6,FALSE))","v":""},{"$f":"IF(ISBLANK($R426)=TRUE,\"\",VLOOKUP($R426,TAXONOMY!$A$1:$G$959,5,FALSE))","v":""},{"$f":"IF(ISBLANK($R426)=TRUE,\"\",VLOOKUP($R426,TAXONOMY!$A$1:$G$959,4,FALSE))","v":""},{"$f":"IF(ISBLANK($R426)=TRUE,\"\",VLOOKUP($R426,TAXONOMY!$A$1:$G$959,3,FALSE))","v":""},{"$f":"IF(ISBLANK($R426)=TRUE,\"\",VLOOKUP($R426,TAXONOMY!$A$1:$H$959,2,FALSE))","v":""}]
[null,null,null,null,null,null,null,null,null,null,null,{"$f":"IF(ISBLANK($R427)=TRUE,\"\",VLOOKUP($R427,TAXONOMY!$A$1:$G$959,7,FALSE))","v":""},{"$f":"IF(ISBLANK($R427)=TRUE,\"\",VLOOKUP($R427,TAXONOMY!$A$1:$G$959,6,FALSE))","v":""},{"$f":"IF(ISBLANK($R427)=TRUE,\"\",VLOOKUP($R427,TAXONOMY!$A$1:$G$959,5,FALSE))","v":""},{"$f":"IF(ISBLANK($R427)=TRUE,\"\",VLOOKUP($R427,TAXONOMY!$A$1:$G$959,4,FALSE))","v":""},{"$f":"IF(ISBLANK($R427)=TRUE,\"\",VLOOKUP($R427,TAXONOMY!$A$1:$G$959,3,FALSE))","v":""},{"$f":"IF(ISBLANK($R427)=TRUE,\"\",VLOOKUP($R427,TAXONOMY!$A$1:$H$959,2,FALSE))","v":""}]
[null,null,null,null,null,null,null,null,null,null,null,{"$f":"IF(ISBLANK($R428)=TRUE,\"\",VLOOKUP($R428,TAXONOMY!$A$1:$G$959,7,FALSE))","v":""},{"$f":"IF(ISBLANK($R428)=TRUE,\"\",VLOOKUP($R428,TAXONOMY!$A$1:$G$959,6,FALSE))","v":""},{"$f":"IF(ISBLANK($R428)=TRUE,\"\",VLOOKUP($R428,TAXONOMY!$A$1:$G$959,5,FALSE))","v":""},{"$f":"IF(ISBLANK($R428)=TRUE,\"\",VLOOKUP($R428,TAXONOMY!$A$1:$G$959,4,FALSE))","v":""},{"$f":"IF(ISBLANK($R428)=TRUE,\"\",VLOOKUP($R428,TAXONOMY!$A$1:$G$959,3,FALSE))","v":""},{"$f":"IF(ISBLANK($R428)=TRUE,\"\",VLOOKUP($R428,TAXONOMY!$A$1:$H$959,2,FALSE))","v":""}]
[null,null,null,null,null,null,null,null,null,null,null,{"$f":"IF(ISBLANK($R429)=TRUE,\"\",VLOOKUP($R429,TAXONOMY!$A$1:$G$959,7,FALSE))","v":""},{"$f":"IF(ISBLANK($R429)=TRUE,\"\",VLOOKUP($R429,TAXONOMY!$A$1:$G$959,6,FALSE))","v":""},{"$f":"IF(ISBLANK($R429)=TRUE,\"\",VLOOKUP($R429,TAXONOMY!$A$1:$G$959,5,FALSE))","v":""},{"$f":"IF(ISBLANK($R429)=TRUE,\"\",VLOOKUP($R429,TAXONOMY!$A$1:$G$959,4,FALSE))","v":""},{"$f":"IF(ISBLANK($R429)=TRUE,\"\",VLOOKUP($R429,TAXONOMY!$A$1:$G$959,3,FALSE))","v":""},{"$f":"IF(ISBLANK($R429)=TRUE,\"\",VLOOKUP($R429,TAXONOMY!$A$1:$H$959,2,FALSE))","v":""}]
[null,null,null,null,null,null,null,null,null,null,null,{"$f":"IF(ISBLANK($R430)=TRUE,\"\",VLOOKUP($R430,TAXONOMY!$A$1:$G$959,7,FALSE))","v":""},{"$f":"IF(ISBLANK($R430)=TRUE,\"\",VLOOKUP($R430,TAXONOMY!$A$1:$G$959,6,FALSE))","v":""},{"$f":"IF(ISBLANK($R430)=TRUE,\"\",VLOOKUP($R430,TAXONOMY!$A$1:$G$959,5,FALSE))","v":""},{"$f":"IF(ISBLANK($R430)=TRUE,\"\",VLOOKUP($R430,TAXONOMY!$A$1:$G$959,4,FALSE))","v":""},{"$f":"IF(ISBLANK($R430)=TRUE,\"\",VLOOKUP($R430,TAXONOMY!$A$1:$G$959,3,FALSE))","v":""},{"$f":"IF(ISBLANK($R430)=TRUE,\"\",VLOOKUP($R430,TAXONOMY!$A$1:$H$959,2,FALSE))","v":""}]
[null,null,null,null,null,null,null,null,null,null,null,{"$f":"IF(ISBLANK($R431)=TRUE,\"\",VLOOKUP($R431,TAXONOMY!$A$1:$G$959,7,FALSE))","v":""},{"$f":"IF(ISBLANK($R431)=TRUE,\"\",VLOOKUP($R431,TAXONOMY!$A$1:$G$959,6,FALSE))","v":""},{"$f":"IF(ISBLANK($R431)=TRUE,\"\",VLOOKUP($R431,TAXONOMY!$A$1:$G$959,5,FALSE))","v":""},{"$f":"IF(ISBLANK($R431)=TRUE,\"\",VLOOKUP($R431,TAXONOMY!$A$1:$G$959,4,FALSE))","v":""},{"$f":"IF(ISBLANK($R431)=TRUE,\"\",VLOOKUP($R431,TAXONOMY!$A$1:$G$959,3,FALSE))","v":""},{"$f":"IF(ISBLANK($R431)=TRUE,\"\",VLOOKUP($R431,TAXONOMY!$A$1:$H$959,2,FALSE))","v":""}]
[null,null,null,null,null,null,null,null,null,null,null,{"$f":"IF(ISBLANK($R432)=TRUE,\"\",VLOOKUP($R432,TAXONOMY!$A$1:$G$959,7,FALSE))","v":""},{"$f":"IF(ISBLANK($R432)=TRUE,\"\",VLOOKUP($R432,TAXONOMY!$A$1:$G$959,6,FALSE))","v":""},{"$f":"IF(ISBLANK($R432)=TRUE,\"\",VLOOKUP($R432,TAXONOMY!$A$1:$G$959,5,FALSE))","v":""},{"$f":"IF(ISBLANK($R432)=TRUE,\"\",VLOOKUP($R432,TAXONOMY!$A$1:$G$959,4,FALSE))","v":""},{"$f":"IF(ISBLANK($R432)=TRUE,\"\",VLOOKUP($R432,TAXONOMY!$A$1:$G$959,3,FALSE))","v":""},{"$f":"IF(ISBLANK($R432)=TRUE,\"\",VLOOKUP($R432,TAXONOMY!$A$1:$H$959,2,FALSE))","v":""}]
[null,null,null,null,null,null,null,null,null,null,null,{"$f":"IF(ISBLANK($R433)=TRUE,\"\",VLOOKUP($R433,TAXONOMY!$A$1:$G$959,7,FALSE))","v":""},{"$f":"IF(ISBLANK($R433)=TRUE,\"\",VLOOKUP($R433,TAXONOMY!$A$1:$G$959,6,FALSE))","v":""},{"$f":"IF(ISBLANK($R433)=TRUE,\"\",VLOOKUP($R433,TAXONOMY!$A$1:$G$959,5,FALSE))","v":""},{"$f":"IF(ISBLANK($R433)=TRUE,\"\",VLOOKUP($R433,TAXONOMY!$A$1:$G$959,4,FALSE))","v":""},{"$f":"IF(ISBLANK($R433)=TRUE,\"\",VLOOKUP($R433,TAXONOMY!$A$1:$G$959,3,FALSE))","v":""},{"$f":"IF(ISBLANK($R433)=TRUE,\"\",VLOOKUP($R433,TAXONOMY!$A$1:$H$959,2,FALSE))","v":""}]
[null,null,null,null,null,null,null,null,null,null,null,{"$f":"IF(ISBLANK($R434)=TRUE,\"\",VLOOKUP($R434,TAXONOMY!$A$1:$G$959,7,FALSE))","v":""},{"$f":"IF(ISBLANK($R434)=TRUE,\"\",VLOOKUP($R434,TAXONOMY!$A$1:$G$959,6,FALSE))","v":""},{"$f":"IF(ISBLANK($R434)=TRUE,\"\",VLOOKUP($R434,TAXONOMY!$A$1:$G$959,5,FALSE))","v":""},{"$f":"IF(ISBLANK($R434)=TRUE,\"\",VLOOKUP($R434,TAXONOMY!$A$1:$G$959,4,FALSE))","v":""},{"$f":"IF(ISBLANK($R434)=TRUE,\"\",VLOOKUP($R434,TAXONOMY!$A$1:$G$959,3,FALSE))","v":""},{"$f":"IF(ISBLANK($R434)=TRUE,\"\",VLOOKUP($R434,TAXONOMY!$A$1:$H$959,2,FALSE))","v":""}]
[null,null,null,null,null,null,null,null,null,null,null,{"$f":"IF(ISBLANK($R435)=TRUE,\"\",VLOOKUP($R435,TAXONOMY!$A$1:$G$959,7,FALSE))","v":""},{"$f":"IF(ISBLANK($R435)=TRUE,\"\",VLOOKUP($R435,TAXONOMY!$A$1:$G$959,6,FALSE))","v":""},{"$f":"IF(ISBLANK($R435)=TRUE,\"\",VLOOKUP($R435,TAXONOMY!$A$1:$G$959,5,FALSE))","v":""},{"$f":"IF(ISBLANK($R435)=TRUE,\"\",VLOOKUP($R435,TAXONOMY!$A$1:$G$959,4,FALSE))","v":""},{"$f":"IF(ISBLANK($R435)=TRUE,\"\",VLOOKUP($R435,TAXONOMY!$A$1:$G$959,3,FALSE))","v":""},{"$f":"IF(ISBLANK($R435)=TRUE,\"\",VLOOKUP($R435,TAXONOMY!$A$1:$H$959,2,FALSE))","v":""}]
[null,null,null,null,null,null,null,null,null,null,null,{"$f":"IF(ISBLANK($R436)=TRUE,\"\",VLOOKUP($R436,TAXONOMY!$A$1:$G$959,7,FALSE))","v":""},{"$f":"IF(ISBLANK($R436)=TRUE,\"\",VLOOKUP($R436,TAXONOMY!$A$1:$G$959,6,FALSE))","v":""},{"$f":"IF(ISBLANK($R436)=TRUE,\"\",VLOOKUP($R436,TAXONOMY!$A$1:$G$959,5,FALSE))","v":""},{"$f":"IF(ISBLANK($R436)=TRUE,\"\",VLOOKUP($R436,TAXONOMY!$A$1:$G$959,4,FALSE))","v":""},{"$f":"IF(ISBLANK($R436)=TRUE,\"\",VLOOKUP($R436,TAXONOMY!$A$1:$G$959,3,FALSE))","v":""},{"$f":"IF(ISBLANK($R436)=TRUE,\"\",VLOOKUP($R436,TAXONOMY!$A$1:$H$959,2,FALSE))","v":""}]
[null,null,null,null,null,null,null,null,null,null,null,{"$f":"IF(ISBLANK($R437)=TRUE,\"\",VLOOKUP($R437,TAXONOMY!$A$1:$G$959,7,FALSE))","v":""},{"$f":"IF(ISBLANK($R437)=TRUE,\"\",VLOOKUP($R437,TAXONOMY!$A$1:$G$959,6,FALSE))","v":""},{"$f":"IF(ISBLANK($R437)=TRUE,\"\",VLOOKUP($R437,TAXONOMY!$A$1:$G$959,5,FALSE))","v":""},{"$f":"IF(ISBLANK($R437)=TRUE,\"\",VLOOKUP($R437,TAXONOMY!$A$1:$G$959,4,FALSE))","v":""},{"$f":"IF(ISBLANK($R437)=TRUE,\"\",VLOOKUP($R437,TAXONOMY!$A$1:$G$959,3,FALSE))","v":""},{"$f":"IF(ISBLANK($R437)=TRUE,\"\",VLOOKUP($R437,TAXONOMY!$A$1:$H$959,2,FALSE))","v":""}]
[null,null,null,null,null,null,null,null,null,null,null,{"$f":"IF(ISBLANK($R438)=TRUE,\"\",VLOOKUP($R438,TAXONOMY!$A$1:$G$959,7,FALSE))","v":""},{"$f":"IF(ISBLANK($R438)=TRUE,\"\",VLOOKUP($R438,TAXONOMY!$A$1:$G$959,6,FALSE))","v":""},{"$f":"IF(ISBLANK($R438)=TRUE,\"\",VLOOKUP($R438,TAXONOMY!$A$1:$G$959,5,FALSE))","v":""},{"$f":"IF(ISBLANK($R438)=TRUE,\"\",VLOOKUP($R438,TAXONOMY!$A$1:$G$959,4,FALSE))","v":""},{"$f":"IF(ISBLANK($R438)=TRUE,\"\",VLOOKUP($R438,TAXONOMY!$A$1:$G$959,3,FALSE))","v":""},{"$f":"IF(ISBLANK($R438)=TRUE,\"\",VLOOKUP($R438,TAXONOMY!$A$1:$H$959,2,FALSE))","v":""}]
[null,null,null,null,null,null,null,null,null,null,null,{"$f":"IF(ISBLANK($R439)=TRUE,\"\",VLOOKUP($R439,TAXONOMY!$A$1:$G$959,7,FALSE))","v":""},{"$f":"IF(ISBLANK($R439)=TRUE,\"\",VLOOKUP($R439,TAXONOMY!$A$1:$G$959,6,FALSE))","v":""},{"$f":"IF(ISBLANK($R439)=TRUE,\"\",VLOOKUP($R439,TAXONOMY!$A$1:$G$959,5,FALSE))","v":""},{"$f":"IF(ISBLANK($R439)=TRUE,\"\",VLOOKUP($R439,TAXONOMY!$A$1:$G$959,4,FALSE))","v":""},{"$f":"IF(ISBLANK($R439)=TRUE,\"\",VLOOKUP($R439,TAXONOMY!$A$1:$G$959,3,FALSE))","v":""},{"$f":"IF(ISBLANK($R439)=TRUE,\"\",VLOOKUP($R439,TAXONOMY!$A$1:$H$959,2,FALSE))","v":""}]
[null,null,null,null,null,null,null,null,null,null,null,{"$f":"IF(ISBLANK($R440)=TRUE,\"\",VLOOKUP($R440,TAXONOMY!$A$1:$G$959,7,FALSE))","v":""},{"$f":"IF(ISBLANK($R440)=TRUE,\"\",VLOOKUP($R440,TAXONOMY!$A$1:$G$959,6,FALSE))","v":""},{"$f":"IF(ISBLANK($R440)=TRUE,\"\",VLOOKUP($R440,TAXONOMY!$A$1:$G$959,5,FALSE))","v":""},{"$f":"IF(ISBLANK($R440)=TRUE,\"\",VLOOKUP($R440,TAXONOMY!$A$1:$G$959,4,FALSE))","v":""},{"$f":"IF(ISBLANK($R440)=TRUE,\"\",VLOOKUP($R440,TAXONOMY!$A$1:$G$959,3,FALSE))","v":""},{"$f":"IF(ISBLANK($R440)=TRUE,\"\",VLOOKUP($R440,TAXONOMY!$A$1:$H$959,2,FALSE))","v":""}]
[null,null,null,null,null,null,null,null,null,null,null,{"$f":"IF(ISBLANK($R441)=TRUE,\"\",VLOOKUP($R441,TAXONOMY!$A$1:$G$959,7,FALSE))","v":""},{"$f":"IF(ISBLANK($R441)=TRUE,\"\",VLOOKUP($R441,TAXONOMY!$A$1:$G$959,6,FALSE))","v":""},{"$f":"IF(ISBLANK($R441)=TRUE,\"\",VLOOKUP($R441,TAXONOMY!$A$1:$G$959,5,FALSE))","v":""},{"$f":"IF(ISBLANK($R441)=TRUE,\"\",VLOOKUP($R441,TAXONOMY!$A$1:$G$959,4,FALSE))","v":""},{"$f":"IF(ISBLANK($R441)=TRUE,\"\",VLOOKUP($R441,TAXONOMY!$A$1:$G$959,3,FALSE))","v":""},{"$f":"IF(ISBLANK($R441)=TRUE,\"\",VLOOKUP($R441,TAXONOMY!$A$1:$H$959,2,FALSE))","v":""}]
[null,null,null,null,null,null,null,null,null,null,null,{"$f":"IF(ISBLANK($R442)=TRUE,\"\",VLOOKUP($R442,TAXONOMY!$A$1:$G$959,7,FALSE))","v":""},{"$f":"IF(ISBLANK($R442)=TRUE,\"\",VLOOKUP($R442,TAXONOMY!$A$1:$G$959,6,FALSE))","v":""},{"$f":"IF(ISBLANK($R442)=TRUE,\"\",VLOOKUP($R442,TAXONOMY!$A$1:$G$959,5,FALSE))","v":""},{"$f":"IF(ISBLANK($R442)=TRUE,\"\",VLOOKUP($R442,TAXONOMY!$A$1:$G$959,4,FALSE))","v":""},{"$f":"IF(ISBLANK($R442)=TRUE,\"\",VLOOKUP($R442,TAXONOMY!$A$1:$G$959,3,FALSE))","v":""},{"$f":"IF(ISBLANK($R442)=TRUE,\"\",VLOOKUP($R442,TAXONOMY!$A$1:$H$959,2,FALSE))","v":""}]
[null,null,null,null,null,null,null,null,null,null,null,{"$f":"IF(ISBLANK($R443)=TRUE,\"\",VLOOKUP($R443,TAXONOMY!$A$1:$G$959,7,FALSE))","v":""},{"$f":"IF(ISBLANK($R443)=TRUE,\"\",VLOOKUP($R443,TAXONOMY!$A$1:$G$959,6,FALSE))","v":""},{"$f":"IF(ISBLANK($R443)=TRUE,\"\",VLOOKUP($R443,TAXONOMY!$A$1:$G$959,5,FALSE))","v":""},{"$f":"IF(ISBLANK($R443)=TRUE,\"\",VLOOKUP($R443,TAXONOMY!$A$1:$G$959,4,FALSE))","v":""},{"$f":"IF(ISBLANK($R443)=TRUE,\"\",VLOOKUP($R443,TAXONOMY!$A$1:$G$959,3,FALSE))","v":""},{"$f":"IF(ISBLANK($R443)=TRUE,\"\",VLOOKUP($R443,TAXONOMY!$A$1:$H$959,2,FALSE))","v":""}]
[null,null,null,null,null,null,null,null,null,null,null,{"$f":"IF(ISBLANK($R444)=TRUE,\"\",VLOOKUP($R444,TAXONOMY!$A$1:$G$959,7,FALSE))","v":""},{"$f":"IF(ISBLANK($R444)=TRUE,\"\",VLOOKUP($R444,TAXONOMY!$A$1:$G$959,6,FALSE))","v":""},{"$f":"IF(ISBLANK($R444)=TRUE,\"\",VLOOKUP($R444,TAXONOMY!$A$1:$G$959,5,FALSE))","v":""},{"$f":"IF(ISBLANK($R444)=TRUE,\"\",VLOOKUP($R444,TAXONOMY!$A$1:$G$959,4,FALSE))","v":""},{"$f":"IF(ISBLANK($R444)=TRUE,\"\",VLOOKUP($R444,TAXONOMY!$A$1:$G$959,3,FALSE))","v":""},{"$f":"IF(ISBLANK($R444)=TRUE,\"\",VLOOKUP($R444,TAXONOMY!$A$1:$H$959,2,FALSE))","v":""}]
[null,null,null,null,null,null,null,null,null,null,null,{"$f":"IF(ISBLANK($R445)=TRUE,\"\",VLOOKUP($R445,TAXONOMY!$A$1:$G$959,7,FALSE))","v":""},{"$f":"IF(ISBLANK($R445)=TRUE,\"\",VLOOKUP($R445,TAXONOMY!$A$1:$G$959,6,FALSE))","v":""},{"$f":"IF(ISBLANK($R445)=TRUE,\"\",VLOOKUP($R445,TAXONOMY!$A$1:$G$959,5,FALSE))","v":""},{"$f":"IF(ISBLANK($R445)=TRUE,\"\",VLOOKUP($R445,TAXONOMY!$A$1:$G$959,4,FALSE))","v":""},{"$f":"IF(ISBLANK($R445)=TRUE,\"\",VLOOKUP($R445,TAXONOMY!$A$1:$G$959,3,FALSE))","v":""},{"$f":"IF(ISBLANK($R445)=TRUE,\"\",VLOOKUP($R445,TAXONOMY!$A$1:$H$959,2,FALSE))","v":""}]
[null,null,null,null,null,null,null,null,null,null,null,{"$f":"IF(ISBLANK($R446)=TRUE,\"\",VLOOKUP($R446,TAXONOMY!$A$1:$G$959,7,FALSE))","v":""},{"$f":"IF(ISBLANK($R446)=TRUE,\"\",VLOOKUP($R446,TAXONOMY!$A$1:$G$959,6,FALSE))","v":""},{"$f":"IF(ISBLANK($R446)=TRUE,\"\",VLOOKUP($R446,TAXONOMY!$A$1:$G$959,5,FALSE))","v":""},{"$f":"IF(ISBLANK($R446)=TRUE,\"\",VLOOKUP($R446,TAXONOMY!$A$1:$G$959,4,FALSE))","v":""},{"$f":"IF(ISBLANK($R446)=TRUE,\"\",VLOOKUP($R446,TAXONOMY!$A$1:$G$959,3,FALSE))","v":""},{"$f":"IF(ISBLANK($R446)=TRUE,\"\",VLOOKUP($R446,TAXONOMY!$A$1:$H$959,2,FALSE))","v":""}]
[null,null,null,null,null,null,null,null,null,null,null,{"$f":"IF(ISBLANK($R447)=TRUE,\"\",VLOOKUP($R447,TAXONOMY!$A$1:$G$959,7,FALSE))","v":""},{"$f":"IF(ISBLANK($R447)=TRUE,\"\",VLOOKUP($R447,TAXONOMY!$A$1:$G$959,6,FALSE))","v":""},{"$f":"IF(ISBLANK($R447)=TRUE,\"\",VLOOKUP($R447,TAXONOMY!$A$1:$G$959,5,FALSE))","v":""},{"$f":"IF(ISBLANK($R447)=TRUE,\"\",VLOOKUP($R447,TAXONOMY!$A$1:$G$959,4,FALSE))","v":""},{"$f":"IF(ISBLANK($R447)=TRUE,\"\",VLOOKUP($R447,TAXONOMY!$A$1:$G$959,3,FALSE))","v":""},{"$f":"IF(ISBLANK($R447)=TRUE,\"\",VLOOKUP($R447,TAXONOMY!$A$1:$H$959,2,FALSE))","v":""}]
[null,null,null,null,null,null,null,null,null,null,null,{"$f":"IF(ISBLANK($R448)=TRUE,\"\",VLOOKUP($R448,TAXONOMY!$A$1:$G$959,7,FALSE))","v":""},{"$f":"IF(ISBLANK($R448)=TRUE,\"\",VLOOKUP($R448,TAXONOMY!$A$1:$G$959,6,FALSE))","v":""},{"$f":"IF(ISBLANK($R448)=TRUE,\"\",VLOOKUP($R448,TAXONOMY!$A$1:$G$959,5,FALSE))","v":""},{"$f":"IF(ISBLANK($R448)=TRUE,\"\",VLOOKUP($R448,TAXONOMY!$A$1:$G$959,4,FALSE))","v":""},{"$f":"IF(ISBLANK($R448)=TRUE,\"\",VLOOKUP($R448,TAXONOMY!$A$1:$G$959,3,FALSE))","v":""},{"$f":"IF(ISBLANK($R448)=TRUE,\"\",VLOOKUP($R448,TAXONOMY!$A$1:$H$959,2,FALSE))","v":""}]
[null,null,null,null,null,null,null,null,null,null,null,{"$f":"IF(ISBLANK($R449)=TRUE,\"\",VLOOKUP($R449,TAXONOMY!$A$1:$G$959,7,FALSE))","v":""},{"$f":"IF(ISBLANK($R449)=TRUE,\"\",VLOOKUP($R449,TAXONOMY!$A$1:$G$959,6,FALSE))","v":""},{"$f":"IF(ISBLANK($R449)=TRUE,\"\",VLOOKUP($R449,TAXONOMY!$A$1:$G$959,5,FALSE))","v":""},{"$f":"IF(ISBLANK($R449)=TRUE,\"\",VLOOKUP($R449,TAXONOMY!$A$1:$G$959,4,FALSE))","v":""},{"$f":"IF(ISBLANK($R449)=TRUE,\"\",VLOOKUP($R449,TAXONOMY!$A$1:$G$959,3,FALSE))","v":""},{"$f":"IF(ISBLANK($R449)=TRUE,\"\",VLOOKUP($R449,TAXONOMY!$A$1:$H$959,2,FALSE))","v":""}]
[null,null,null,null,null,null,null,null,null,null,null,{"$f":"IF(ISBLANK($R450)=TRUE,\"\",VLOOKUP($R450,TAXONOMY!$A$1:$G$959,7,FALSE))","v":""},{"$f":"IF(ISBLANK($R450)=TRUE,\"\",VLOOKUP($R450,TAXONOMY!$A$1:$G$959,6,FALSE))","v":""},{"$f":"IF(ISBLANK($R450)=TRUE,\"\",VLOOKUP($R450,TAXONOMY!$A$1:$G$959,5,FALSE))","v":""},{"$f":"IF(ISBLANK($R450)=TRUE,\"\",VLOOKUP($R450,TAXONOMY!$A$1:$G$959,4,FALSE))","v":""},{"$f":"IF(ISBLANK($R450)=TRUE,\"\",VLOOKUP($R450,TAXONOMY!$A$1:$G$959,3,FALSE))","v":""},{"$f":"IF(ISBLANK($R450)=TRUE,\"\",VLOOKUP($R450,TAXONOMY!$A$1:$H$959,2,FALSE))","v":""}]
[null,null,null,null,null,null,null,null,null,null,null,{"$f":"IF(ISBLANK($R451)=TRUE,\"\",VLOOKUP($R451,TAXONOMY!$A$1:$G$959,7,FALSE))","v":""},{"$f":"IF(ISBLANK($R451)=TRUE,\"\",VLOOKUP($R451,TAXONOMY!$A$1:$G$959,6,FALSE))","v":""},{"$f":"IF(ISBLANK($R451)=TRUE,\"\",VLOOKUP($R451,TAXONOMY!$A$1:$G$959,5,FALSE))","v":""},{"$f":"IF(ISBLANK($R451)=TRUE,\"\",VLOOKUP($R451,TAXONOMY!$A$1:$G$959,4,FALSE))","v":""},{"$f":"IF(ISBLANK($R451)=TRUE,\"\",VLOOKUP($R451,TAXONOMY!$A$1:$G$959,3,FALSE))","v":""},{"$f":"IF(ISBLANK($R451)=TRUE,\"\",VLOOKUP($R451,TAXONOMY!$A$1:$H$959,2,FALSE))","v":""}]
[null,null,null,null,null,null,null,null,null,null,null,{"$f":"IF(ISBLANK($R452)=TRUE,\"\",VLOOKUP($R452,TAXONOMY!$A$1:$G$959,7,FALSE))","v":""},{"$f":"IF(ISBLANK($R452)=TRUE,\"\",VLOOKUP($R452,TAXONOMY!$A$1:$G$959,6,FALSE))","v":""},{"$f":"IF(ISBLANK($R452)=TRUE,\"\",VLOOKUP($R452,TAXONOMY!$A$1:$G$959,5,FALSE))","v":""},{"$f":"IF(ISBLANK($R452)=TRUE,\"\",VLOOKUP($R452,TAXONOMY!$A$1:$G$959,4,FALSE))","v":""},{"$f":"IF(ISBLANK($R452)=TRUE,\"\",VLOOKUP($R452,TAXONOMY!$A$1:$G$959,3,FALSE))","v":""},{"$f":"IF(ISBLANK($R452)=TRUE,\"\",VLOOKUP($R452,TAXONOMY!$A$1:$H$959,2,FALSE))","v":""}]
[null,null,null,null,null,null,null,null,null,null,null,{"$f":"IF(ISBLANK($R453)=TRUE,\"\",VLOOKUP($R453,TAXONOMY!$A$1:$G$959,7,FALSE))","v":""},{"$f":"IF(ISBLANK($R453)=TRUE,\"\",VLOOKUP($R453,TAXONOMY!$A$1:$G$959,6,FALSE))","v":""},{"$f":"IF(ISBLANK($R453)=TRUE,\"\",VLOOKUP($R453,TAXONOMY!$A$1:$G$959,5,FALSE))","v":""},{"$f":"IF(ISBLANK($R453)=TRUE,\"\",VLOOKUP($R453,TAXONOMY!$A$1:$G$959,4,FALSE))","v":""},{"$f":"IF(ISBLANK($R453)=TRUE,\"\",VLOOKUP($R453,TAXONOMY!$A$1:$G$959,3,FALSE))","v":""},{"$f":"IF(ISBLANK($R453)=TRUE,\"\",VLOOKUP($R453,TAXONOMY!$A$1:$H$959,2,FALSE))","v":""}]
[null,null,null,null,null,null,null,null,null,null,null,{"$f":"IF(ISBLANK($R454)=TRUE,\"\",VLOOKUP($R454,TAXONOMY!$A$1:$G$959,7,FALSE))","v":""},{"$f":"IF(ISBLANK($R454)=TRUE,\"\",VLOOKUP($R454,TAXONOMY!$A$1:$G$959,6,FALSE))","v":""},{"$f":"IF(ISBLANK($R454)=TRUE,\"\",VLOOKUP($R454,TAXONOMY!$A$1:$G$959,5,FALSE))","v":""},{"$f":"IF(ISBLANK($R454)=TRUE,\"\",VLOOKUP($R454,TAXONOMY!$A$1:$G$959,4,FALSE))","v":""},{"$f":"IF(ISBLANK($R454)=TRUE,\"\",VLOOKUP($R454,TAXONOMY!$A$1:$G$959,3,FALSE))","v":""},{"$f":"IF(ISBLANK($R454)=TRUE,\"\",VLOOKUP($R454,TAXONOMY!$A$1:$H$959,2,FALSE))","v":""}]
[null,null,null,null,null,null,null,null,null,null,null,{"$f":"IF(ISBLANK($R455)=TRUE,\"\",VLOOKUP($R455,TAXONOMY!$A$1:$G$959,7,FALSE))","v":""},{"$f":"IF(ISBLANK($R455)=TRUE,\"\",VLOOKUP($R455,TAXONOMY!$A$1:$G$959,6,FALSE))","v":""},{"$f":"IF(ISBLANK($R455)=TRUE,\"\",VLOOKUP($R455,TAXONOMY!$A$1:$G$959,5,FALSE))","v":""},{"$f":"IF(ISBLANK($R455)=TRUE,\"\",VLOOKUP($R455,TAXONOMY!$A$1:$G$959,4,FALSE))","v":""},{"$f":"IF(ISBLANK($R455)=TRUE,\"\",VLOOKUP($R455,TAXONOMY!$A$1:$G$959,3,FALSE))","v":""},{"$f":"IF(ISBLANK($R455)=TRUE,\"\",VLOOKUP($R455,TAXONOMY!$A$1:$H$959,2,FALSE))","v":""}]
[null,null,null,null,null,null,null,null,null,null,null,{"$f":"IF(ISBLANK($R456)=TRUE,\"\",VLOOKUP($R456,TAXONOMY!$A$1:$G$959,7,FALSE))","v":""},{"$f":"IF(ISBLANK($R456)=TRUE,\"\",VLOOKUP($R456,TAXONOMY!$A$1:$G$959,6,FALSE))","v":""},{"$f":"IF(ISBLANK($R456)=TRUE,\"\",VLOOKUP($R456,TAXONOMY!$A$1:$G$959,5,FALSE))","v":""},{"$f":"IF(ISBLANK($R456)=TRUE,\"\",VLOOKUP($R456,TAXONOMY!$A$1:$G$959,4,FALSE))","v":""},{"$f":"IF(ISBLANK($R456)=TRUE,\"\",VLOOKUP($R456,TAXONOMY!$A$1:$G$959,3,FALSE))","v":""},{"$f":"IF(ISBLANK($R456)=TRUE,\"\",VLOOKUP($R456,TAXONOMY!$A$1:$H$959,2,FALSE))","v":""}]
[null,null,null,null,null,null,null,null,null,null,null,{"$f":"IF(ISBLANK($R457)=TRUE,\"\",VLOOKUP($R457,TAXONOMY!$A$1:$G$959,7,FALSE))","v":""},{"$f":"IF(ISBLANK($R457)=TRUE,\"\",VLOOKUP($R457,TAXONOMY!$A$1:$G$959,6,FALSE))","v":""},{"$f":"IF(ISBLANK($R457)=TRUE,\"\",VLOOKUP($R457,TAXONOMY!$A$1:$G$959,5,FALSE))","v":""},{"$f":"IF(ISBLANK($R457)=TRUE,\"\",VLOOKUP($R457,TAXONOMY!$A$1:$G$959,4,FALSE))","v":""},{"$f":"IF(ISBLANK($R457)=TRUE,\"\",VLOOKUP($R457,TAXONOMY!$A$1:$G$959,3,FALSE))","v":""},{"$f":"IF(ISBLANK($R457)=TRUE,\"\",VLOOKUP($R457,TAXONOMY!$A$1:$H$959,2,FALSE))","v":""}]
[null,null,null,null,null,null,null,null,null,null,null,{"$f":"IF(ISBLANK($R458)=TRUE,\"\",VLOOKUP($R458,TAXONOMY!$A$1:$G$959,7,FALSE))","v":""},{"$f":"IF(ISBLANK($R458)=TRUE,\"\",VLOOKUP($R458,TAXONOMY!$A$1:$G$959,6,FALSE))","v":""},{"$f":"IF(ISBLANK($R458)=TRUE,\"\",VLOOKUP($R458,TAXONOMY!$A$1:$G$959,5,FALSE))","v":""},{"$f":"IF(ISBLANK($R458)=TRUE,\"\",VLOOKUP($R458,TAXONOMY!$A$1:$G$959,4,FALSE))","v":""},{"$f":"IF(ISBLANK($R458)=TRUE,\"\",VLOOKUP($R458,TAXONOMY!$A$1:$G$959,3,FALSE))","v":""},{"$f":"IF(ISBLANK($R458)=TRUE,\"\",VLOOKUP($R458,TAXONOMY!$A$1:$H$959,2,FALSE))","v":""}]
[null,null,null,null,null,null,null,null,null,null,null,{"$f":"IF(ISBLANK($R459)=TRUE,\"\",VLOOKUP($R459,TAXONOMY!$A$1:$G$959,7,FALSE))","v":""},{"$f":"IF(ISBLANK($R459)=TRUE,\"\",VLOOKUP($R459,TAXONOMY!$A$1:$G$959,6,FALSE))","v":""},{"$f":"IF(ISBLANK($R459)=TRUE,\"\",VLOOKUP($R459,TAXONOMY!$A$1:$G$959,5,FALSE))","v":""},{"$f":"IF(ISBLANK($R459)=TRUE,\"\",VLOOKUP($R459,TAXONOMY!$A$1:$G$959,4,FALSE))","v":""},{"$f":"IF(ISBLANK($R459)=TRUE,\"\",VLOOKUP($R459,TAXONOMY!$A$1:$G$959,3,FALSE))","v":""},{"$f":"IF(ISBLANK($R459)=TRUE,\"\",VLOOKUP($R459,TAXONOMY!$A$1:$H$959,2,FALSE))","v":""}]
[null,null,null,null,null,null,null,null,null,null,null,{"$f":"IF(ISBLANK($R460)=TRUE,\"\",VLOOKUP($R460,TAXONOMY!$A$1:$G$959,7,FALSE))","v":""},{"$f":"IF(ISBLANK($R460)=TRUE,\"\",VLOOKUP($R460,TAXONOMY!$A$1:$G$959,6,FALSE))","v":""},{"$f":"IF(ISBLANK($R460)=TRUE,\"\",VLOOKUP($R460,TAXONOMY!$A$1:$G$959,5,FALSE))","v":""},{"$f":"IF(ISBLANK($R460)=TRUE,\"\",VLOOKUP($R460,TAXONOMY!$A$1:$G$959,4,FALSE))","v":""},{"$f":"IF(ISBLANK($R460)=TRUE,\"\",VLOOKUP($R460,TAXONOMY!$A$1:$G$959,3,FALSE))","v":""},{"$f":"IF(ISBLANK($R460)=TRUE,\"\",VLOOKUP($R460,TAXONOMY!$A$1:$H$959,2,FALSE))","v":""}]
[null,null,null,null,null,null,null,null,null,null,null,{"$f":"IF(ISBLANK($R461)=TRUE,\"\",VLOOKUP($R461,TAXONOMY!$A$1:$G$959,7,FALSE))","v":""},{"$f":"IF(ISBLANK($R461)=TRUE,\"\",VLOOKUP($R461,TAXONOMY!$A$1:$G$959,6,FALSE))","v":""},{"$f":"IF(ISBLANK($R461)=TRUE,\"\",VLOOKUP($R461,TAXONOMY!$A$1:$G$959,5,FALSE))","v":""},{"$f":"IF(ISBLANK($R461)=TRUE,\"\",VLOOKUP($R461,TAXONOMY!$A$1:$G$959,4,FALSE))","v":""},{"$f":"IF(ISBLANK($R461)=TRUE,\"\",VLOOKUP($R461,TAXONOMY!$A$1:$G$959,3,FALSE))","v":""},{"$f":"IF(ISBLANK($R461)=TRUE,\"\",VLOOKUP($R461,TAXONOMY!$A$1:$H$959,2,FALSE))","v":""}]
[null,null,null,null,null,null,null,null,null,null,null,{"$f":"IF(ISBLANK($R462)=TRUE,\"\",VLOOKUP($R462,TAXONOMY!$A$1:$G$959,7,FALSE))","v":""},{"$f":"IF(ISBLANK($R462)=TRUE,\"\",VLOOKUP($R462,TAXONOMY!$A$1:$G$959,6,FALSE))","v":""},{"$f":"IF(ISBLANK($R462)=TRUE,\"\",VLOOKUP($R462,TAXONOMY!$A$1:$G$959,5,FALSE))","v":""},{"$f":"IF(ISBLANK($R462)=TRUE,\"\",VLOOKUP($R462,TAXONOMY!$A$1:$G$959,4,FALSE))","v":""},{"$f":"IF(ISBLANK($R462)=TRUE,\"\",VLOOKUP($R462,TAXONOMY!$A$1:$G$959,3,FALSE))","v":""},{"$f":"IF(ISBLANK($R462)=TRUE,\"\",VLOOKUP($R462,TAXONOMY!$A$1:$H$959,2,FALSE))","v":""}]
[null,null,null,null,null,null,null,null,null,null,null,{"$f":"IF(ISBLANK($R463)=TRUE,\"\",VLOOKUP($R463,TAXONOMY!$A$1:$G$959,7,FALSE))","v":""},{"$f":"IF(ISBLANK($R463)=TRUE,\"\",VLOOKUP($R463,TAXONOMY!$A$1:$G$959,6,FALSE))","v":""},{"$f":"IF(ISBLANK($R463)=TRUE,\"\",VLOOKUP($R463,TAXONOMY!$A$1:$G$959,5,FALSE))","v":""},{"$f":"IF(ISBLANK($R463)=TRUE,\"\",VLOOKUP($R463,TAXONOMY!$A$1:$G$959,4,FALSE))","v":""},{"$f":"IF(ISBLANK($R463)=TRUE,\"\",VLOOKUP($R463,TAXONOMY!$A$1:$G$959,3,FALSE))","v":""},{"$f":"IF(ISBLANK($R463)=TRUE,\"\",VLOOKUP($R463,TAXONOMY!$A$1:$H$959,2,FALSE))","v":""}]
[null,null,null,null,null,null,null,null,null,null,null,{"$f":"IF(ISBLANK($R464)=TRUE,\"\",VLOOKUP($R464,TAXONOMY!$A$1:$G$959,7,FALSE))","v":""},{"$f":"IF(ISBLANK($R464)=TRUE,\"\",VLOOKUP($R464,TAXONOMY!$A$1:$G$959,6,FALSE))","v":""},{"$f":"IF(ISBLANK($R464)=TRUE,\"\",VLOOKUP($R464,TAXONOMY!$A$1:$G$959,5,FALSE))","v":""},{"$f":"IF(ISBLANK($R464)=TRUE,\"\",VLOOKUP($R464,TAXONOMY!$A$1:$G$959,4,FALSE))","v":""},{"$f":"IF(ISBLANK($R464)=TRUE,\"\",VLOOKUP($R464,TAXONOMY!$A$1:$G$959,3,FALSE))","v":""},{"$f":"IF(ISBLANK($R464)=TRUE,\"\",VLOOKUP($R464,TAXONOMY!$A$1:$H$959,2,FALSE))","v":""}]
[null,null,null,null,null,null,null,null,null,null,null,{"$f":"IF(ISBLANK($R465)=TRUE,\"\",VLOOKUP($R465,TAXONOMY!$A$1:$G$959,7,FALSE))","v":""},{"$f":"IF(ISBLANK($R465)=TRUE,\"\",VLOOKUP($R465,TAXONOMY!$A$1:$G$959,6,FALSE))","v":""},{"$f":"IF(ISBLANK($R465)=TRUE,\"\",VLOOKUP($R465,TAXONOMY!$A$1:$G$959,5,FALSE))","v":""},{"$f":"IF(ISBLANK($R465)=TRUE,\"\",VLOOKUP($R465,TAXONOMY!$A$1:$G$959,4,FALSE))","v":""},{"$f":"IF(ISBLANK($R465)=TRUE,\"\",VLOOKUP($R465,TAXONOMY!$A$1:$G$959,3,FALSE))","v":""},{"$f":"IF(ISBLANK($R465)=TRUE,\"\",VLOOKUP($R465,TAXONOMY!$A$1:$H$959,2,FALSE))","v":""}]
[null,null,null,null,null,null,null,null,null,null,null,{"$f":"IF(ISBLANK($R466)=TRUE,\"\",VLOOKUP($R466,TAXONOMY!$A$1:$G$959,7,FALSE))","v":""},{"$f":"IF(ISBLANK($R466)=TRUE,\"\",VLOOKUP($R466,TAXONOMY!$A$1:$G$959,6,FALSE))","v":""},{"$f":"IF(ISBLANK($R466)=TRUE,\"\",VLOOKUP($R466,TAXONOMY!$A$1:$G$959,5,FALSE))","v":""},{"$f":"IF(ISBLANK($R466)=TRUE,\"\",VLOOKUP($R466,TAXONOMY!$A$1:$G$959,4,FALSE))","v":""},{"$f":"IF(ISBLANK($R466)=TRUE,\"\",VLOOKUP($R466,TAXONOMY!$A$1:$G$959,3,FALSE))","v":""},{"$f":"IF(ISBLANK($R466)=TRUE,\"\",VLOOKUP($R466,TAXONOMY!$A$1:$H$959,2,FALSE))","v":""}]
[null,null,null,null,null,null,null,null,null,null,null,{"$f":"IF(ISBLANK($R467)=TRUE,\"\",VLOOKUP($R467,TAXONOMY!$A$1:$G$959,7,FALSE))","v":""},{"$f":"IF(ISBLANK($R467)=TRUE,\"\",VLOOKUP($R467,TAXONOMY!$A$1:$G$959,6,FALSE))","v":""},{"$f":"IF(ISBLANK($R467)=TRUE,\"\",VLOOKUP($R467,TAXONOMY!$A$1:$G$959,5,FALSE))","v":""},{"$f":"IF(ISBLANK($R467)=TRUE,\"\",VLOOKUP($R467,TAXONOMY!$A$1:$G$959,4,FALSE))","v":""},{"$f":"IF(ISBLANK($R467)=TRUE,\"\",VLOOKUP($R467,TAXONOMY!$A$1:$G$959,3,FALSE))","v":""},{"$f":"IF(ISBLANK($R467)=TRUE,\"\",VLOOKUP($R467,TAXONOMY!$A$1:$H$959,2,FALSE))","v":""}]
[null,null,null,null,null,null,null,null,null,null,null,{"$f":"IF(ISBLANK($R468)=TRUE,\"\",VLOOKUP($R468,TAXONOMY!$A$1:$G$959,7,FALSE))","v":""},{"$f":"IF(ISBLANK($R468)=TRUE,\"\",VLOOKUP($R468,TAXONOMY!$A$1:$G$959,6,FALSE))","v":""},{"$f":"IF(ISBLANK($R468)=TRUE,\"\",VLOOKUP($R468,TAXONOMY!$A$1:$G$959,5,FALSE))","v":""},{"$f":"IF(ISBLANK($R468)=TRUE,\"\",VLOOKUP($R468,TAXONOMY!$A$1:$G$959,4,FALSE))","v":""},{"$f":"IF(ISBLANK($R468)=TRUE,\"\",VLOOKUP($R468,TAXONOMY!$A$1:$G$959,3,FALSE))","v":""},{"$f":"IF(ISBLANK($R468)=TRUE,\"\",VLOOKUP($R468,TAXONOMY!$A$1:$H$959,2,FALSE))","v":""}]
[null,null,null,null,null,null,null,null,null,null,null,{"$f":"IF(ISBLANK($R469)=TRUE,\"\",VLOOKUP($R469,TAXONOMY!$A$1:$G$959,7,FALSE))","v":""},{"$f":"IF(ISBLANK($R469)=TRUE,\"\",VLOOKUP($R469,TAXONOMY!$A$1:$G$959,6,FALSE))","v":""},{"$f":"IF(ISBLANK($R469)=TRUE,\"\",VLOOKUP($R469,TAXONOMY!$A$1:$G$959,5,FALSE))","v":""},{"$f":"IF(ISBLANK($R469)=TRUE,\"\",VLOOKUP($R469,TAXONOMY!$A$1:$G$959,4,FALSE))","v":""},{"$f":"IF(ISBLANK($R469)=TRUE,\"\",VLOOKUP($R469,TAXONOMY!$A$1:$G$959,3,FALSE))","v":""},{"$f":"IF(ISBLANK($R469)=TRUE,\"\",VLOOKUP($R469,TAXONOMY!$A$1:$H$959,2,FALSE))","v":""}]
[null,null,null,null,null,null,null,null,null,null,null,{"$f":"IF(ISBLANK($R470)=TRUE,\"\",VLOOKUP($R470,TAXONOMY!$A$1:$G$959,7,FALSE))","v":""},{"$f":"IF(ISBLANK($R470)=TRUE,\"\",VLOOKUP($R470,TAXONOMY!$A$1:$G$959,6,FALSE))","v":""},{"$f":"IF(ISBLANK($R470)=TRUE,\"\",VLOOKUP($R470,TAXONOMY!$A$1:$G$959,5,FALSE))","v":""},{"$f":"IF(ISBLANK($R470)=TRUE,\"\",VLOOKUP($R470,TAXONOMY!$A$1:$G$959,4,FALSE))","v":""},{"$f":"IF(ISBLANK($R470)=TRUE,\"\",VLOOKUP($R470,TAXONOMY!$A$1:$G$959,3,FALSE))","v":""},{"$f":"IF(ISBLANK($R470)=TRUE,\"\",VLOOKUP($R470,TAXONOMY!$A$1:$H$959,2,FALSE))","v":""}]
[null,null,null,null,null,null,null,null,null,null,null,{"$f":"IF(ISBLANK($R471)=TRUE,\"\",VLOOKUP($R471,TAXONOMY!$A$1:$G$959,7,FALSE))","v":""},{"$f":"IF(ISBLANK($R471)=TRUE,\"\",VLOOKUP($R471,TAXONOMY!$A$1:$G$959,6,FALSE))","v":""},{"$f":"IF(ISBLANK($R471)=TRUE,\"\",VLOOKUP($R471,TAXONOMY!$A$1:$G$959,5,FALSE))","v":""},{"$f":"IF(ISBLANK($R471)=TRUE,\"\",VLOOKUP($R471,TAXONOMY!$A$1:$G$959,4,FALSE))","v":""},{"$f":"IF(ISBLANK($R471)=TRUE,\"\",VLOOKUP($R471,TAXONOMY!$A$1:$G$959,3,FALSE))","v":""},{"$f":"IF(ISBLANK($R471)=TRUE,\"\",VLOOKUP($R471,TAXONOMY!$A$1:$H$959,2,FALSE))","v":""}]
[null,null,null,null,null,null,null,null,null,null,null,{"$f":"IF(ISBLANK($R472)=TRUE,\"\",VLOOKUP($R472,TAXONOMY!$A$1:$G$959,7,FALSE))","v":""},{"$f":"IF(ISBLANK($R472)=TRUE,\"\",VLOOKUP($R472,TAXONOMY!$A$1:$G$959,6,FALSE))","v":""},{"$f":"IF(ISBLANK($R472)=TRUE,\"\",VLOOKUP($R472,TAXONOMY!$A$1:$G$959,5,FALSE))","v":""},{"$f":"IF(ISBLANK($R472)=TRUE,\"\",VLOOKUP($R472,TAXONOMY!$A$1:$G$959,4,FALSE))","v":""},{"$f":"IF(ISBLANK($R472)=TRUE,\"\",VLOOKUP($R472,TAXONOMY!$A$1:$G$959,3,FALSE))","v":""},{"$f":"IF(ISBLANK($R472)=TRUE,\"\",VLOOKUP($R472,TAXONOMY!$A$1:$H$959,2,FALSE))","v":""}]
[null,null,null,null,null,null,null,null,null,null,null,{"$f":"IF(ISBLANK($R473)=TRUE,\"\",VLOOKUP($R473,TAXONOMY!$A$1:$G$959,7,FALSE))","v":""},{"$f":"IF(ISBLANK($R473)=TRUE,\"\",VLOOKUP($R473,TAXONOMY!$A$1:$G$959,6,FALSE))","v":""},{"$f":"IF(ISBLANK($R473)=TRUE,\"\",VLOOKUP($R473,TAXONOMY!$A$1:$G$959,5,FALSE))","v":""},{"$f":"IF(ISBLANK($R473)=TRUE,\"\",VLOOKUP($R473,TAXONOMY!$A$1:$G$959,4,FALSE))","v":""},{"$f":"IF(ISBLANK($R473)=TRUE,\"\",VLOOKUP($R473,TAXONOMY!$A$1:$G$959,3,FALSE))","v":""},{"$f":"IF(ISBLANK($R473)=TRUE,\"\",VLOOKUP($R473,TAXONOMY!$A$1:$H$959,2,FALSE))","v":""}]
[null,null,null,null,null,null,null,null,null,null,null,{"$f":"IF(ISBLANK($R474)=TRUE,\"\",VLOOKUP($R474,TAXONOMY!$A$1:$G$959,7,FALSE))","v":""},{"$f":"IF(ISBLANK($R474)=TRUE,\"\",VLOOKUP($R474,TAXONOMY!$A$1:$G$959,6,FALSE))","v":""},{"$f":"IF(ISBLANK($R474)=TRUE,\"\",VLOOKUP($R474,TAXONOMY!$A$1:$G$959,5,FALSE))","v":""},{"$f":"IF(ISBLANK($R474)=TRUE,\"\",VLOOKUP($R474,TAXONOMY!$A$1:$G$959,4,FALSE))","v":""},{"$f":"IF(ISBLANK($R474)=TRUE,\"\",VLOOKUP($R474,TAXONOMY!$A$1:$G$959,3,FALSE))","v":""},{"$f":"IF(ISBLANK($R474)=TRUE,\"\",VLOOKUP($R474,TAXONOMY!$A$1:$H$959,2,FALSE))","v":""}]
[null,null,null,null,null,null,null,null,null,null,null,{"$f":"IF(ISBLANK($R475)=TRUE,\"\",VLOOKUP($R475,TAXONOMY!$A$1:$G$959,7,FALSE))","v":""},{"$f":"IF(ISBLANK($R475)=TRUE,\"\",VLOOKUP($R475,TAXONOMY!$A$1:$G$959,6,FALSE))","v":""},{"$f":"IF(ISBLANK($R475)=TRUE,\"\",VLOOKUP($R475,TAXONOMY!$A$1:$G$959,5,FALSE))","v":""},{"$f":"IF(ISBLANK($R475)=TRUE,\"\",VLOOKUP($R475,TAXONOMY!$A$1:$G$959,4,FALSE))","v":""},{"$f":"IF(ISBLANK($R475)=TRUE,\"\",VLOOKUP($R475,TAXONOMY!$A$1:$G$959,3,FALSE))","v":""},{"$f":"IF(ISBLANK($R475)=TRUE,\"\",VLOOKUP($R475,TAXONOMY!$A$1:$H$959,2,FALSE))","v":""}]
[null,null,null,null,null,null,null,null,null,null,null,{"$f":"IF(ISBLANK($R476)=TRUE,\"\",VLOOKUP($R476,TAXONOMY!$A$1:$G$959,7,FALSE))","v":""},{"$f":"IF(ISBLANK($R476)=TRUE,\"\",VLOOKUP($R476,TAXONOMY!$A$1:$G$959,6,FALSE))","v":""},{"$f":"IF(ISBLANK($R476)=TRUE,\"\",VLOOKUP($R476,TAXONOMY!$A$1:$G$959,5,FALSE))","v":""},{"$f":"IF(ISBLANK($R476)=TRUE,\"\",VLOOKUP($R476,TAXONOMY!$A$1:$G$959,4,FALSE))","v":""},{"$f":"IF(ISBLANK($R476)=TRUE,\"\",VLOOKUP($R476,TAXONOMY!$A$1:$G$959,3,FALSE))","v":""},{"$f":"IF(ISBLANK($R476)=TRUE,\"\",VLOOKUP($R476,TAXONOMY!$A$1:$H$959,2,FALSE))","v":""}]
[null,null,null,null,null,null,null,null,null,null,null,{"$f":"IF(ISBLANK($R477)=TRUE,\"\",VLOOKUP($R477,TAXONOMY!$A$1:$G$959,7,FALSE))","v":""},{"$f":"IF(ISBLANK($R477)=TRUE,\"\",VLOOKUP($R477,TAXONOMY!$A$1:$G$959,6,FALSE))","v":""},{"$f":"IF(ISBLANK($R477)=TRUE,\"\",VLOOKUP($R477,TAXONOMY!$A$1:$G$959,5,FALSE))","v":""},{"$f":"IF(ISBLANK($R477)=TRUE,\"\",VLOOKUP($R477,TAXONOMY!$A$1:$G$959,4,FALSE))","v":""},{"$f":"IF(ISBLANK($R477)=TRUE,\"\",VLOOKUP($R477,TAXONOMY!$A$1:$G$959,3,FALSE))","v":""},{"$f":"IF(ISBLANK($R477)=TRUE,\"\",VLOOKUP($R477,TAXONOMY!$A$1:$H$959,2,FALSE))","v":""}]
[null,null,null,null,null,null,null,null,null,null,null,{"$f":"IF(ISBLANK($R478)=TRUE,\"\",VLOOKUP($R478,TAXONOMY!$A$1:$G$959,7,FALSE))","v":""},{"$f":"IF(ISBLANK($R478)=TRUE,\"\",VLOOKUP($R478,TAXONOMY!$A$1:$G$959,6,FALSE))","v":""},{"$f":"IF(ISBLANK($R478)=TRUE,\"\",VLOOKUP($R478,TAXONOMY!$A$1:$G$959,5,FALSE))","v":""},{"$f":"IF(ISBLANK($R478)=TRUE,\"\",VLOOKUP($R478,TAXONOMY!$A$1:$G$959,4,FALSE))","v":""},{"$f":"IF(ISBLANK($R478)=TRUE,\"\",VLOOKUP($R478,TAXONOMY!$A$1:$G$959,3,FALSE))","v":""},{"$f":"IF(ISBLANK($R478)=TRUE,\"\",VLOOKUP($R478,TAXONOMY!$A$1:$H$959,2,FALSE))","v":""}]
[null,null,null,null,null,null,null,null,null,null,null,{"$f":"IF(ISBLANK($R479)=TRUE,\"\",VLOOKUP($R479,TAXONOMY!$A$1:$G$959,7,FALSE))","v":""},{"$f":"IF(ISBLANK($R479)=TRUE,\"\",VLOOKUP($R479,TAXONOMY!$A$1:$G$959,6,FALSE))","v":""},{"$f":"IF(ISBLANK($R479)=TRUE,\"\",VLOOKUP($R479,TAXONOMY!$A$1:$G$959,5,FALSE))","v":""},{"$f":"IF(ISBLANK($R479)=TRUE,\"\",VLOOKUP($R479,TAXONOMY!$A$1:$G$959,4,FALSE))","v":""},{"$f":"IF(ISBLANK($R479)=TRUE,\"\",VLOOKUP($R479,TAXONOMY!$A$1:$G$959,3,FALSE))","v":""},{"$f":"IF(ISBLANK($R479)=TRUE,\"\",VLOOKUP($R479,TAXONOMY!$A$1:$H$959,2,FALSE))","v":""}]
[null,null,null,null,null,null,null,null,null,null,null,{"$f":"IF(ISBLANK($R480)=TRUE,\"\",VLOOKUP($R480,TAXONOMY!$A$1:$G$959,7,FALSE))","v":""},{"$f":"IF(ISBLANK($R480)=TRUE,\"\",VLOOKUP($R480,TAXONOMY!$A$1:$G$959,6,FALSE))","v":""},{"$f":"IF(ISBLANK($R480)=TRUE,\"\",VLOOKUP($R480,TAXONOMY!$A$1:$G$959,5,FALSE))","v":""},{"$f":"IF(ISBLANK($R480)=TRUE,\"\",VLOOKUP($R480,TAXONOMY!$A$1:$G$959,4,FALSE))","v":""},{"$f":"IF(ISBLANK($R480)=TRUE,\"\",VLOOKUP($R480,TAXONOMY!$A$1:$G$959,3,FALSE))","v":""},{"$f":"IF(ISBLANK($R480)=TRUE,\"\",VLOOKUP($R480,TAXONOMY!$A$1:$H$959,2,FALSE))","v":""}]
[null,null,null,null,null,null,null,null,null,null,null,{"$f":"IF(ISBLANK($R481)=TRUE,\"\",VLOOKUP($R481,TAXONOMY!$A$1:$G$959,7,FALSE))","v":""},{"$f":"IF(ISBLANK($R481)=TRUE,\"\",VLOOKUP($R481,TAXONOMY!$A$1:$G$959,6,FALSE))","v":""},{"$f":"IF(ISBLANK($R481)=TRUE,\"\",VLOOKUP($R481,TAXONOMY!$A$1:$G$959,5,FALSE))","v":""},{"$f":"IF(ISBLANK($R481)=TRUE,\"\",VLOOKUP($R481,TAXONOMY!$A$1:$G$959,4,FALSE))","v":""},{"$f":"IF(ISBLANK($R481)=TRUE,\"\",VLOOKUP($R481,TAXONOMY!$A$1:$G$959,3,FALSE))","v":""},{"$f":"IF(ISBLANK($R481)=TRUE,\"\",VLOOKUP($R481,TAXONOMY!$A$1:$H$959,2,FALSE))","v":""}]
[null,null,null,null,null,null,null,null,null,null,null,{"$f":"IF(ISBLANK($R482)=TRUE,\"\",VLOOKUP($R482,TAXONOMY!$A$1:$G$959,7,FALSE))","v":""},{"$f":"IF(ISBLANK($R482)=TRUE,\"\",VLOOKUP($R482,TAXONOMY!$A$1:$G$959,6,FALSE))","v":""},{"$f":"IF(ISBLANK($R482)=TRUE,\"\",VLOOKUP($R482,TAXONOMY!$A$1:$G$959,5,FALSE))","v":""},{"$f":"IF(ISBLANK($R482)=TRUE,\"\",VLOOKUP($R482,TAXONOMY!$A$1:$G$959,4,FALSE))","v":""},{"$f":"IF(ISBLANK($R482)=TRUE,\"\",VLOOKUP($R482,TAXONOMY!$A$1:$G$959,3,FALSE))","v":""},{"$f":"IF(ISBLANK($R482)=TRUE,\"\",VLOOKUP($R482,TAXONOMY!$A$1:$H$959,2,FALSE))","v":""}]
[null,null,null,null,null,null,null,null,null,null,null,{"$f":"IF(ISBLANK($R483)=TRUE,\"\",VLOOKUP($R483,TAXONOMY!$A$1:$G$959,7,FALSE))","v":""},{"$f":"IF(ISBLANK($R483)=TRUE,\"\",VLOOKUP($R483,TAXONOMY!$A$1:$G$959,6,FALSE))","v":""},{"$f":"IF(ISBLANK($R483)=TRUE,\"\",VLOOKUP($R483,TAXONOMY!$A$1:$G$959,5,FALSE))","v":""},{"$f":"IF(ISBLANK($R483)=TRUE,\"\",VLOOKUP($R483,TAXONOMY!$A$1:$G$959,4,FALSE))","v":""},{"$f":"IF(ISBLANK($R483)=TRUE,\"\",VLOOKUP($R483,TAXONOMY!$A$1:$G$959,3,FALSE))","v":""},{"$f":"IF(ISBLANK($R483)=TRUE,\"\",VLOOKUP($R483,TAXONOMY!$A$1:$H$959,2,FALSE))","v":""}]
[null,null,null,null,null,null,null,null,null,null,null,{"$f":"IF(ISBLANK($R484)=TRUE,\"\",VLOOKUP($R484,TAXONOMY!$A$1:$G$959,7,FALSE))","v":""},{"$f":"IF(ISBLANK($R484)=TRUE,\"\",VLOOKUP($R484,TAXONOMY!$A$1:$G$959,6,FALSE))","v":""},{"$f":"IF(ISBLANK($R484)=TRUE,\"\",VLOOKUP($R484,TAXONOMY!$A$1:$G$959,5,FALSE))","v":""},{"$f":"IF(ISBLANK($R484)=TRUE,\"\",VLOOKUP($R484,TAXONOMY!$A$1:$G$959,4,FALSE))","v":""},{"$f":"IF(ISBLANK($R484)=TRUE,\"\",VLOOKUP($R484,TAXONOMY!$A$1:$G$959,3,FALSE))","v":""},{"$f":"IF(ISBLANK($R484)=TRUE,\"\",VLOOKUP($R484,TAXONOMY!$A$1:$H$959,2,FALSE))","v":""}]
[null,null,null,null,null,null,null,null,null,null,null,{"$f":"IF(ISBLANK($R485)=TRUE,\"\",VLOOKUP($R485,TAXONOMY!$A$1:$G$959,7,FALSE))","v":""},{"$f":"IF(ISBLANK($R485)=TRUE,\"\",VLOOKUP($R485,TAXONOMY!$A$1:$G$959,6,FALSE))","v":""},{"$f":"IF(ISBLANK($R485)=TRUE,\"\",VLOOKUP($R485,TAXONOMY!$A$1:$G$959,5,FALSE))","v":""},{"$f":"IF(ISBLANK($R485)=TRUE,\"\",VLOOKUP($R485,TAXONOMY!$A$1:$G$959,4,FALSE))","v":""},{"$f":"IF(ISBLANK($R485)=TRUE,\"\",VLOOKUP($R485,TAXONOMY!$A$1:$G$959,3,FALSE))","v":""},{"$f":"IF(ISBLANK($R485)=TRUE,\"\",VLOOKUP($R485,TAXONOMY!$A$1:$H$959,2,FALSE))","v":""}]
[null,null,null,null,null,null,null,null,null,null,null,{"$f":"IF(ISBLANK($R486)=TRUE,\"\",VLOOKUP($R486,TAXONOMY!$A$1:$G$959,7,FALSE))","v":""},{"$f":"IF(ISBLANK($R486)=TRUE,\"\",VLOOKUP($R486,TAXONOMY!$A$1:$G$959,6,FALSE))","v":""},{"$f":"IF(ISBLANK($R486)=TRUE,\"\",VLOOKUP($R486,TAXONOMY!$A$1:$G$959,5,FALSE))","v":""},{"$f":"IF(ISBLANK($R486)=TRUE,\"\",VLOOKUP($R486,TAXONOMY!$A$1:$G$959,4,FALSE))","v":""},{"$f":"IF(ISBLANK($R486)=TRUE,\"\",VLOOKUP($R486,TAXONOMY!$A$1:$G$959,3,FALSE))","v":""},{"$f":"IF(ISBLANK($R486)=TRUE,\"\",VLOOKUP($R486,TAXONOMY!$A$1:$H$959,2,FALSE))","v":""}]
[null,null,null,null,null,null,null,null,null,null,null,{"$f":"IF(ISBLANK($R487)=TRUE,\"\",VLOOKUP($R487,TAXONOMY!$A$1:$G$959,7,FALSE))","v":""},{"$f":"IF(ISBLANK($R487)=TRUE,\"\",VLOOKUP($R487,TAXONOMY!$A$1:$G$959,6,FALSE))","v":""},{"$f":"IF(ISBLANK($R487)=TRUE,\"\",VLOOKUP($R487,TAXONOMY!$A$1:$G$959,5,FALSE))","v":""},{"$f":"IF(ISBLANK($R487)=TRUE,\"\",VLOOKUP($R487,TAXONOMY!$A$1:$G$959,4,FALSE))","v":""},{"$f":"IF(ISBLANK($R487)=TRUE,\"\",VLOOKUP($R487,TAXONOMY!$A$1:$G$959,3,FALSE))","v":""},{"$f":"IF(ISBLANK($R487)=TRUE,\"\",VLOOKUP($R487,TAXONOMY!$A$1:$H$959,2,FALSE))","v":""}]
[null,null,null,null,null,null,null,null,null,null,null,{"$f":"IF(ISBLANK($R488)=TRUE,\"\",VLOOKUP($R488,TAXONOMY!$A$1:$G$959,7,FALSE))","v":""},{"$f":"IF(ISBLANK($R488)=TRUE,\"\",VLOOKUP($R488,TAXONOMY!$A$1:$G$959,6,FALSE))","v":""},{"$f":"IF(ISBLANK($R488)=TRUE,\"\",VLOOKUP($R488,TAXONOMY!$A$1:$G$959,5,FALSE))","v":""},{"$f":"IF(ISBLANK($R488)=TRUE,\"\",VLOOKUP($R488,TAXONOMY!$A$1:$G$959,4,FALSE))","v":""},{"$f":"IF(ISBLANK($R488)=TRUE,\"\",VLOOKUP($R488,TAXONOMY!$A$1:$G$959,3,FALSE))","v":""},{"$f":"IF(ISBLANK($R488)=TRUE,\"\",VLOOKUP($R488,TAXONOMY!$A$1:$H$959,2,FALSE))","v":""}]
[null,null,null,null,null,null,null,null,null,null,null,{"$f":"IF(ISBLANK($R489)=TRUE,\"\",VLOOKUP($R489,TAXONOMY!$A$1:$G$959,7,FALSE))","v":""},{"$f":"IF(ISBLANK($R489)=TRUE,\"\",VLOOKUP($R489,TAXONOMY!$A$1:$G$959,6,FALSE))","v":""},{"$f":"IF(ISBLANK($R489)=TRUE,\"\",VLOOKUP($R489,TAXONOMY!$A$1:$G$959,5,FALSE))","v":""},{"$f":"IF(ISBLANK($R489)=TRUE,\"\",VLOOKUP($R489,TAXONOMY!$A$1:$G$959,4,FALSE))","v":""},{"$f":"IF(ISBLANK($R489)=TRUE,\"\",VLOOKUP($R489,TAXONOMY!$A$1:$G$959,3,FALSE))","v":""},{"$f":"IF(ISBLANK($R489)=TRUE,\"\",VLOOKUP($R489,TAXONOMY!$A$1:$H$959,2,FALSE))","v":""}]
[null,null,null,null,null,null,null,null,null,null,null,{"$f":"IF(ISBLANK($R490)=TRUE,\"\",VLOOKUP($R490,TAXONOMY!$A$1:$G$959,7,FALSE))","v":""},{"$f":"IF(ISBLANK($R490)=TRUE,\"\",VLOOKUP($R490,TAXONOMY!$A$1:$G$959,6,FALSE))","v":""},{"$f":"IF(ISBLANK($R490)=TRUE,\"\",VLOOKUP($R490,TAXONOMY!$A$1:$G$959,5,FALSE))","v":""},{"$f":"IF(ISBLANK($R490)=TRUE,\"\",VLOOKUP($R490,TAXONOMY!$A$1:$G$959,4,FALSE))","v":""},{"$f":"IF(ISBLANK($R490)=TRUE,\"\",VLOOKUP($R490,TAXONOMY!$A$1:$G$959,3,FALSE))","v":""},{"$f":"IF(ISBLANK($R490)=TRUE,\"\",VLOOKUP($R490,TAXONOMY!$A$1:$H$959,2,FALSE))","v":""}]
[null,null,null,null,null,null,null,null,null,null,null,{"$f":"IF(ISBLANK($R491)=TRUE,\"\",VLOOKUP($R491,TAXONOMY!$A$1:$G$959,7,FALSE))","v":""},{"$f":"IF(ISBLANK($R491)=TRUE,\"\",VLOOKUP($R491,TAXONOMY!$A$1:$G$959,6,FALSE))","v":""},{"$f":"IF(ISBLANK($R491)=TRUE,\"\",VLOOKUP($R491,TAXONOMY!$A$1:$G$959,5,FALSE))","v":""},{"$f":"IF(ISBLANK($R491)=TRUE,\"\",VLOOKUP($R491,TAXONOMY!$A$1:$G$959,4,FALSE))","v":""},{"$f":"IF(ISBLANK($R491)=TRUE,\"\",VLOOKUP($R491,TAXONOMY!$A$1:$G$959,3,FALSE))","v":""},{"$f":"IF(ISBLANK($R491)=TRUE,\"\",VLOOKUP($R491,TAXONOMY!$A$1:$H$959,2,FALSE))","v":""}]
[null,null,null,null,null,null,null,null,null,null,null,{"$f":"IF(ISBLANK($R492)=TRUE,\"\",VLOOKUP($R492,TAXONOMY!$A$1:$G$959,7,FALSE))","v":""},{"$f":"IF(ISBLANK($R492)=TRUE,\"\",VLOOKUP($R492,TAXONOMY!$A$1:$G$959,6,FALSE))","v":""},{"$f":"IF(ISBLANK($R492)=TRUE,\"\",VLOOKUP($R492,TAXONOMY!$A$1:$G$959,5,FALSE))","v":""},{"$f":"IF(ISBLANK($R492)=TRUE,\"\",VLOOKUP($R492,TAXONOMY!$A$1:$G$959,4,FALSE))","v":""},{"$f":"IF(ISBLANK($R492)=TRUE,\"\",VLOOKUP($R492,TAXONOMY!$A$1:$G$959,3,FALSE))","v":""},{"$f":"IF(ISBLANK($R492)=TRUE,\"\",VLOOKUP($R492,TAXONOMY!$A$1:$H$959,2,FALSE))","v":""}]
[null,null,null,null,null,null,null,null,null,null,null,{"$f":"IF(ISBLANK($R493)=TRUE,\"\",VLOOKUP($R493,TAXONOMY!$A$1:$G$959,7,FALSE))","v":""},{"$f":"IF(ISBLANK($R493)=TRUE,\"\",VLOOKUP($R493,TAXONOMY!$A$1:$G$959,6,FALSE))","v":""},{"$f":"IF(ISBLANK($R493)=TRUE,\"\",VLOOKUP($R493,TAXONOMY!$A$1:$G$959,5,FALSE))","v":""},{"$f":"IF(ISBLANK($R493)=TRUE,\"\",VLOOKUP($R493,TAXONOMY!$A$1:$G$959,4,FALSE))","v":""},{"$f":"IF(ISBLANK($R493)=TRUE,\"\",VLOOKUP($R493,TAXONOMY!$A$1:$G$959,3,FALSE))","v":""},{"$f":"IF(ISBLANK($R493)=TRUE,\"\",VLOOKUP($R493,TAXONOMY!$A$1:$H$959,2,FALSE))","v":""}]
[null,null,null,null,null,null,null,null,null,null,null,{"$f":"IF(ISBLANK($R494)=TRUE,\"\",VLOOKUP($R494,TAXONOMY!$A$1:$G$959,7,FALSE))","v":""},{"$f":"IF(ISBLANK($R494)=TRUE,\"\",VLOOKUP($R494,TAXONOMY!$A$1:$G$959,6,FALSE))","v":""},{"$f":"IF(ISBLANK($R494)=TRUE,\"\",VLOOKUP($R494,TAXONOMY!$A$1:$G$959,5,FALSE))","v":""},{"$f":"IF(ISBLANK($R494)=TRUE,\"\",VLOOKUP($R494,TAXONOMY!$A$1:$G$959,4,FALSE))","v":""},{"$f":"IF(ISBLANK($R494)=TRUE,\"\",VLOOKUP($R494,TAXONOMY!$A$1:$G$959,3,FALSE))","v":""},{"$f":"IF(ISBLANK($R494)=TRUE,\"\",VLOOKUP($R494,TAXONOMY!$A$1:$H$959,2,FALSE))","v":""}]
[null,null,null,null,null,null,null,null,null,null,null,{"$f":"IF(ISBLANK($R495)=TRUE,\"\",VLOOKUP($R495,TAXONOMY!$A$1:$G$959,7,FALSE))","v":""},{"$f":"IF(ISBLANK($R495)=TRUE,\"\",VLOOKUP($R495,TAXONOMY!$A$1:$G$959,6,FALSE))","v":""},{"$f":"IF(ISBLANK($R495)=TRUE,\"\",VLOOKUP($R495,TAXONOMY!$A$1:$G$959,5,FALSE))","v":""},{"$f":"IF(ISBLANK($R495)=TRUE,\"\",VLOOKUP($R495,TAXONOMY!$A$1:$G$959,4,FALSE))","v":""},{"$f":"IF(ISBLANK($R495)=TRUE,\"\",VLOOKUP($R495,TAXONOMY!$A$1:$G$959,3,FALSE))","v":""},{"$f":"IF(ISBLANK($R495)=TRUE,\"\",VLOOKUP($R495,TAXONOMY!$A$1:$H$959,2,FALSE))","v":""}]
[null,null,null,null,null,null,null,null,null,null,null,{"$f":"IF(ISBLANK($R496)=TRUE,\"\",VLOOKUP($R496,TAXONOMY!$A$1:$G$959,7,FALSE))","v":""},{"$f":"IF(ISBLANK($R496)=TRUE,\"\",VLOOKUP($R496,TAXONOMY!$A$1:$G$959,6,FALSE))","v":""},{"$f":"IF(ISBLANK($R496)=TRUE,\"\",VLOOKUP($R496,TAXONOMY!$A$1:$G$959,5,FALSE))","v":""},{"$f":"IF(ISBLANK($R496)=TRUE,\"\",VLOOKUP($R496,TAXONOMY!$A$1:$G$959,4,FALSE))","v":""},{"$f":"IF(ISBLANK($R496)=TRUE,\"\",VLOOKUP($R496,TAXONOMY!$A$1:$G$959,3,FALSE))","v":""},{"$f":"IF(ISBLANK($R496)=TRUE,\"\",VLOOKUP($R496,TAXONOMY!$A$1:$H$959,2,FALSE))","v":""}]
[null,null,null,null,null,null,null,null,null,null,null,{"$f":"IF(ISBLANK($R497)=TRUE,\"\",VLOOKUP($R497,TAXONOMY!$A$1:$G$959,7,FALSE))","v":""},{"$f":"IF(ISBLANK($R497)=TRUE,\"\",VLOOKUP($R497,TAXONOMY!$A$1:$G$959,6,FALSE))","v":""},{"$f":"IF(ISBLANK($R497)=TRUE,\"\",VLOOKUP($R497,TAXONOMY!$A$1:$G$959,5,FALSE))","v":""},{"$f":"IF(ISBLANK($R497)=TRUE,\"\",VLOOKUP($R497,TAXONOMY!$A$1:$G$959,4,FALSE))","v":""},{"$f":"IF(ISBLANK($R497)=TRUE,\"\",VLOOKUP($R497,TAXONOMY!$A$1:$G$959,3,FALSE))","v":""},{"$f":"IF(ISBLANK($R497)=TRUE,\"\",VLOOKUP($R497,TAXONOMY!$A$1:$H$959,2,FALSE))","v":""}]
[null,null,null,null,null,null,null,null,null,null,null,{"$f":"IF(ISBLANK($R498)=TRUE,\"\",VLOOKUP($R498,TAXONOMY!$A$1:$G$959,7,FALSE))","v":""},{"$f":"IF(ISBLANK($R498)=TRUE,\"\",VLOOKUP($R498,TAXONOMY!$A$1:$G$959,6,FALSE))","v":""},{"$f":"IF(ISBLANK($R498)=TRUE,\"\",VLOOKUP($R498,TAXONOMY!$A$1:$G$959,5,FALSE))","v":""},{"$f":"IF(ISBLANK($R498)=TRUE,\"\",VLOOKUP($R498,TAXONOMY!$A$1:$G$959,4,FALSE))","v":""},{"$f":"IF(ISBLANK($R498)=TRUE,\"\",VLOOKUP($R498,TAXONOMY!$A$1:$G$959,3,FALSE))","v":""},{"$f":"IF(ISBLANK($R498)=TRUE,\"\",VLOOKUP($R498,TAXONOMY!$A$1:$H$959,2,FALSE))","v":""}]
[null,null,null,null,null,null,null,null,null,null,null,{"$f":"IF(ISBLANK($R499)=TRUE,\"\",VLOOKUP($R499,TAXONOMY!$A$1:$G$959,7,FALSE))","v":""},{"$f":"IF(ISBLANK($R499)=TRUE,\"\",VLOOKUP($R499,TAXONOMY!$A$1:$G$959,6,FALSE))","v":""},{"$f":"IF(ISBLANK($R499)=TRUE,\"\",VLOOKUP($R499,TAXONOMY!$A$1:$G$959,5,FALSE))","v":""},{"$f":"IF(ISBLANK($R499)=TRUE,\"\",VLOOKUP($R499,TAXONOMY!$A$1:$G$959,4,FALSE))","v":""},{"$f":"IF(ISBLANK($R499)=TRUE,\"\",VLOOKUP($R499,TAXONOMY!$A$1:$G$959,3,FALSE))","v":""},{"$f":"IF(ISBLANK($R499)=TRUE,\"\",VLOOKUP($R499,TAXONOMY!$A$1:$H$959,2,FALSE))","v":""}]
[null,null,null,null,null,null,null,null,null,null,null,{"$f":"IF(ISBLANK($R500)=TRUE,\"\",VLOOKUP($R500,TAXONOMY!$A$1:$G$959,7,FALSE))","v":""},{"$f":"IF(ISBLANK($R500)=TRUE,\"\",VLOOKUP($R500,TAXONOMY!$A$1:$G$959,6,FALSE))","v":""},{"$f":"IF(ISBLANK($R500)=TRUE,\"\",VLOOKUP($R500,TAXONOMY!$A$1:$G$959,5,FALSE))","v":""},{"$f":"IF(ISBLANK($R500)=TRUE,\"\",VLOOKUP($R500,TAXONOMY!$A$1:$G$959,4,FALSE))","v":""},{"$f":"IF(ISBLANK($R500)=TRUE,\"\",VLOOKUP($R500,TAXONOMY!$A$1:$G$959,3,FALSE))","v":""},{"$f":"IF(ISBLANK($R500)=TRUE,\"\",VLOOKUP($R500,TAXONOMY!$A$1:$H$959,2,FALSE))","v":""}]
[null,null,null,null,null,null,null,null,null,null,null,{"$f":"IF(ISBLANK($R501)=TRUE,\"\",VLOOKUP($R501,TAXONOMY!$A$1:$G$959,7,FALSE))","v":""},{"$f":"IF(ISBLANK($R501)=TRUE,\"\",VLOOKUP($R501,TAXONOMY!$A$1:$G$959,6,FALSE))","v":""},{"$f":"IF(ISBLANK($R501)=TRUE,\"\",VLOOKUP($R501,TAXONOMY!$A$1:$G$959,5,FALSE))","v":""},{"$f":"IF(ISBLANK($R501)=TRUE,\"\",VLOOKUP($R501,TAXONOMY!$A$1:$G$959,4,FALSE))","v":""},{"$f":"IF(ISBLANK($R501)=TRUE,\"\",VLOOKUP($R501,TAXONOMY!$A$1:$G$959,3,FALSE))","v":""},{"$f":"IF(ISBLANK($R501)=TRUE,\"\",VLOOKUP($R501,TAXONOMY!$A$1:$H$959,2,FALSE))","v":""}]
[null,null,null,null,null,null,null,null,null,null,null,{"$f":"IF(ISBLANK($R502)=TRUE,\"\",VLOOKUP($R502,TAXONOMY!$A$1:$G$959,7,FALSE))","v":""},{"$f":"IF(ISBLANK($R502)=TRUE,\"\",VLOOKUP($R502,TAXONOMY!$A$1:$G$959,6,FALSE))","v":""},{"$f":"IF(ISBLANK($R502)=TRUE,\"\",VLOOKUP($R502,TAXONOMY!$A$1:$G$959,5,FALSE))","v":""},{"$f":"IF(ISBLANK($R502)=TRUE,\"\",VLOOKUP($R502,TAXONOMY!$A$1:$G$959,4,FALSE))","v":""},{"$f":"IF(ISBLANK($R502)=TRUE,\"\",VLOOKUP($R502,TAXONOMY!$A$1:$G$959,3,FALSE))","v":""},{"$f":"IF(ISBLANK($R502)=TRUE,\"\",VLOOKUP($R502,TAXONOMY!$A$1:$H$959,2,FALSE))","v":""}]
[null,null,null,null,null,null,null,null,null,null,null,{"$f":"IF(ISBLANK($R503)=TRUE,\"\",VLOOKUP($R503,TAXONOMY!$A$1:$G$959,7,FALSE))","v":""},{"$f":"IF(ISBLANK($R503)=TRUE,\"\",VLOOKUP($R503,TAXONOMY!$A$1:$G$959,6,FALSE))","v":""},{"$f":"IF(ISBLANK($R503)=TRUE,\"\",VLOOKUP($R503,TAXONOMY!$A$1:$G$959,5,FALSE))","v":""},{"$f":"IF(ISBLANK($R503)=TRUE,\"\",VLOOKUP($R503,TAXONOMY!$A$1:$G$959,4,FALSE))","v":""},{"$f":"IF(ISBLANK($R503)=TRUE,\"\",VLOOKUP($R503,TAXONOMY!$A$1:$G$959,3,FALSE))","v":""},{"$f":"IF(ISBLANK($R503)=TRUE,\"\",VLOOKUP($R503,TAXONOMY!$A$1:$H$959,2,FALSE))","v":""}]
[null,null,null,null,null,null,null,null,null,null,null,{"$f":"IF(ISBLANK($R504)=TRUE,\"\",VLOOKUP($R504,TAXONOMY!$A$1:$G$959,7,FALSE))","v":""},{"$f":"IF(ISBLANK($R504)=TRUE,\"\",VLOOKUP($R504,TAXONOMY!$A$1:$G$959,6,FALSE))","v":""},{"$f":"IF(ISBLANK($R504)=TRUE,\"\",VLOOKUP($R504,TAXONOMY!$A$1:$G$959,5,FALSE))","v":""},{"$f":"IF(ISBLANK($R504)=TRUE,\"\",VLOOKUP($R504,TAXONOMY!$A$1:$G$959,4,FALSE))","v":""},{"$f":"IF(ISBLANK($R504)=TRUE,\"\",VLOOKUP($R504,TAXONOMY!$A$1:$G$959,3,FALSE))","v":""},{"$f":"IF(ISBLANK($R504)=TRUE,\"\",VLOOKUP($R504,TAXONOMY!$A$1:$H$959,2,FALSE))","v":""}]
[null,null,null,null,null,null,null,null,null,null,null,{"$f":"IF(ISBLANK($R505)=TRUE,\"\",VLOOKUP($R505,TAXONOMY!$A$1:$G$959,7,FALSE))","v":""},{"$f":"IF(ISBLANK($R505)=TRUE,\"\",VLOOKUP($R505,TAXONOMY!$A$1:$G$959,6,FALSE))","v":""},{"$f":"IF(ISBLANK($R505)=TRUE,\"\",VLOOKUP($R505,TAXONOMY!$A$1:$G$959,5,FALSE))","v":""},{"$f":"IF(ISBLANK($R505)=TRUE,\"\",VLOOKUP($R505,TAXONOMY!$A$1:$G$959,4,FALSE))","v":""},{"$f":"IF(ISBLANK($R505)=TRUE,\"\",VLOOKUP($R505,TAXONOMY!$A$1:$G$959,3,FALSE))","v":""},{"$f":"IF(ISBLANK($R505)=TRUE,\"\",VLOOKUP($R505,TAXONOMY!$A$1:$H$959,2,FALSE))","v":""}]
[null,null,null,null,null,null,null,null,null,null,null,{"$f":"IF(ISBLANK($R506)=TRUE,\"\",VLOOKUP($R506,TAXONOMY!$A$1:$G$959,7,FALSE))","v":""},{"$f":"IF(ISBLANK($R506)=TRUE,\"\",VLOOKUP($R506,TAXONOMY!$A$1:$G$959,6,FALSE))","v":""},{"$f":"IF(ISBLANK($R506)=TRUE,\"\",VLOOKUP($R506,TAXONOMY!$A$1:$G$959,5,FALSE))","v":""},{"$f":"IF(ISBLANK($R506)=TRUE,\"\",VLOOKUP($R506,TAXONOMY!$A$1:$G$959,4,FALSE))","v":""},{"$f":"IF(ISBLANK($R506)=TRUE,\"\",VLOOKUP($R506,TAXONOMY!$A$1:$G$959,3,FALSE))","v":""},{"$f":"IF(ISBLANK($R506)=TRUE,\"\",VLOOKUP($R506,TAXONOMY!$A$1:$H$959,2,FALSE))","v":""}]
[null,null,null,null,null,null,null,null,null,null,null,{"$f":"IF(ISBLANK($R507)=TRUE,\"\",VLOOKUP($R507,TAXONOMY!$A$1:$G$959,7,FALSE))","v":""},{"$f":"IF(ISBLANK($R507)=TRUE,\"\",VLOOKUP($R507,TAXONOMY!$A$1:$G$959,6,FALSE))","v":""},{"$f":"IF(ISBLANK($R507)=TRUE,\"\",VLOOKUP($R507,TAXONOMY!$A$1:$G$959,5,FALSE))","v":""},{"$f":"IF(ISBLANK($R507)=TRUE,\"\",VLOOKUP($R507,TAXONOMY!$A$1:$G$959,4,FALSE))","v":""},{"$f":"IF(ISBLANK($R507)=TRUE,\"\",VLOOKUP($R507,TAXONOMY!$A$1:$G$959,3,FALSE))","v":""},{"$f":"IF(ISBLANK($R507)=TRUE,\"\",VLOOKUP($R507,TAXONOMY!$A$1:$H$959,2,FALSE))","v":""}]
[null,null,null,null,null,null,null,null,null,null,null,{"$f":"IF(ISBLANK($R508)=TRUE,\"\",VLOOKUP($R508,TAXONOMY!$A$1:$G$959,7,FALSE))","v":""},{"$f":"IF(ISBLANK($R508)=TRUE,\"\",VLOOKUP($R508,TAXONOMY!$A$1:$G$959,6,FALSE))","v":""},{"$f":"IF(ISBLANK($R508)=TRUE,\"\",VLOOKUP($R508,TAXONOMY!$A$1:$G$959,5,FALSE))","v":""},{"$f":"IF(ISBLANK($R508)=TRUE,\"\",VLOOKUP($R508,TAXONOMY!$A$1:$G$959,4,FALSE))","v":""},{"$f":"IF(ISBLANK($R508)=TRUE,\"\",VLOOKUP($R508,TAXONOMY!$A$1:$G$959,3,FALSE))","v":""},{"$f":"IF(ISBLANK($R508)=TRUE,\"\",VLOOKUP($R508,TAXONOMY!$A$1:$H$959,2,FALSE))","v":""}]
[null,null,null,null,null,null,null,null,null,null,null,{"$f":"IF(ISBLANK($R509)=TRUE,\"\",VLOOKUP($R509,TAXONOMY!$A$1:$G$959,7,FALSE))","v":""},{"$f":"IF(ISBLANK($R509)=TRUE,\"\",VLOOKUP($R509,TAXONOMY!$A$1:$G$959,6,FALSE))","v":""},{"$f":"IF(ISBLANK($R509)=TRUE,\"\",VLOOKUP($R509,TAXONOMY!$A$1:$G$959,5,FALSE))","v":""},{"$f":"IF(ISBLANK($R509)=TRUE,\"\",VLOOKUP($R509,TAXONOMY!$A$1:$G$959,4,FALSE))","v":""},{"$f":"IF(ISBLANK($R509)=TRUE,\"\",VLOOKUP($R509,TAXONOMY!$A$1:$G$959,3,FALSE))","v":""},{"$f":"IF(ISBLANK($R509)=TRUE,\"\",VLOOKUP($R509,TAXONOMY!$A$1:$H$959,2,FALSE))","v":""}]
[null,null,null,null,null,null,null,null,null,null,null,{"$f":"IF(ISBLANK($R510)=TRUE,\"\",VLOOKUP($R510,TAXONOMY!$A$1:$G$959,7,FALSE))","v":""},{"$f":"IF(ISBLANK($R510)=TRUE,\"\",VLOOKUP($R510,TAXONOMY!$A$1:$G$959,6,FALSE))","v":""},{"$f":"IF(ISBLANK($R510)=TRUE,\"\",VLOOKUP($R510,TAXONOMY!$A$1:$G$959,5,FALSE))","v":""},{"$f":"IF(ISBLANK($R510)=TRUE,\"\",VLOOKUP($R510,TAXONOMY!$A$1:$G$959,4,FALSE))","v":""},{"$f":"IF(ISBLANK($R510)=TRUE,\"\",VLOOKUP($R510,TAXONOMY!$A$1:$G$959,3,FALSE))","v":""},{"$f":"IF(ISBLANK($R510)=TRUE,\"\",VLOOKUP($R510,TAXONOMY!$A$1:$H$959,2,FALSE))","v":""}]
[null,null,null,null,null,null,null,null,null,null,null,{"$f":"IF(ISBLANK($R511)=TRUE,\"\",VLOOKUP($R511,TAXONOMY!$A$1:$G$959,7,FALSE))","v":""},{"$f":"IF(ISBLANK($R511)=TRUE,\"\",VLOOKUP($R511,TAXONOMY!$A$1:$G$959,6,FALSE))","v":""},{"$f":"IF(ISBLANK($R511)=TRUE,\"\",VLOOKUP($R511,TAXONOMY!$A$1:$G$959,5,FALSE))","v":""},{"$f":"IF(ISBLANK($R511)=TRUE,\"\",VLOOKUP($R511,TAXONOMY!$A$1:$G$959,4,FALSE))","v":""},{"$f":"IF(ISBLANK($R511)=TRUE,\"\",VLOOKUP($R511,TAXONOMY!$A$1:$G$959,3,FALSE))","v":""},{"$f":"IF(ISBLANK($R511)=TRUE,\"\",VLOOKUP($R511,TAXONOMY!$A$1:$H$959,2,FALSE))","v":""}]
[null,null,null,null,null,null,null,null,null,null,null,{"$f":"IF(ISBLANK($R512)=TRUE,\"\",VLOOKUP($R512,TAXONOMY!$A$1:$G$959,7,FALSE))","v":""},{"$f":"IF(ISBLANK($R512)=TRUE,\"\",VLOOKUP($R512,TAXONOMY!$A$1:$G$959,6,FALSE))","v":""},{"$f":"IF(ISBLANK($R512)=TRUE,\"\",VLOOKUP($R512,TAXONOMY!$A$1:$G$959,5,FALSE))","v":""},{"$f":"IF(ISBLANK($R512)=TRUE,\"\",VLOOKUP($R512,TAXONOMY!$A$1:$G$959,4,FALSE))","v":""},{"$f":"IF(ISBLANK($R512)=TRUE,\"\",VLOOKUP($R512,TAXONOMY!$A$1:$G$959,3,FALSE))","v":""},{"$f":"IF(ISBLANK($R512)=TRUE,\"\",VLOOKUP($R512,TAXONOMY!$A$1:$H$959,2,FALSE))","v":""}]
[null,null,null,null,null,null,null,null,null,null,null,{"$f":"IF(ISBLANK($R513)=TRUE,\"\",VLOOKUP($R513,TAXONOMY!$A$1:$G$959,7,FALSE))","v":""},{"$f":"IF(ISBLANK($R513)=TRUE,\"\",VLOOKUP($R513,TAXONOMY!$A$1:$G$959,6,FALSE))","v":""},{"$f":"IF(ISBLANK($R513)=TRUE,\"\",VLOOKUP($R513,TAXONOMY!$A$1:$G$959,5,FALSE))","v":""},{"$f":"IF(ISBLANK($R513)=TRUE,\"\",VLOOKUP($R513,TAXONOMY!$A$1:$G$959,4,FALSE))","v":""},{"$f":"IF(ISBLANK($R513)=TRUE,\"\",VLOOKUP($R513,TAXONOMY!$A$1:$G$959,3,FALSE))","v":""},{"$f":"IF(ISBLANK($R513)=TRUE,\"\",VLOOKUP($R513,TAXONOMY!$A$1:$H$959,2,FALSE))","v":""}]
[null,null,null,null,null,null,null,null,null,null,null,{"$f":"IF(ISBLANK($R514)=TRUE,\"\",VLOOKUP($R514,TAXONOMY!$A$1:$G$959,7,FALSE))","v":""},{"$f":"IF(ISBLANK($R514)=TRUE,\"\",VLOOKUP($R514,TAXONOMY!$A$1:$G$959,6,FALSE))","v":""},{"$f":"IF(ISBLANK($R514)=TRUE,\"\",VLOOKUP($R514,TAXONOMY!$A$1:$G$959,5,FALSE))","v":""},{"$f":"IF(ISBLANK($R514)=TRUE,\"\",VLOOKUP($R514,TAXONOMY!$A$1:$G$959,4,FALSE))","v":""},{"$f":"IF(ISBLANK($R514)=TRUE,\"\",VLOOKUP($R514,TAXONOMY!$A$1:$G$959,3,FALSE))","v":""},{"$f":"IF(ISBLANK($R514)=TRUE,\"\",VLOOKUP($R514,TAXONOMY!$A$1:$H$959,2,FALSE))","v":""}]
[null,null,null,null,null,null,null,null,null,null,null,{"$f":"IF(ISBLANK($R515)=TRUE,\"\",VLOOKUP($R515,TAXONOMY!$A$1:$G$959,7,FALSE))","v":""},{"$f":"IF(ISBLANK($R515)=TRUE,\"\",VLOOKUP($R515,TAXONOMY!$A$1:$G$959,6,FALSE))","v":""},{"$f":"IF(ISBLANK($R515)=TRUE,\"\",VLOOKUP($R515,TAXONOMY!$A$1:$G$959,5,FALSE))","v":""},{"$f":"IF(ISBLANK($R515)=TRUE,\"\",VLOOKUP($R515,TAXONOMY!$A$1:$G$959,4,FALSE))","v":""},{"$f":"IF(ISBLANK($R515)=TRUE,\"\",VLOOKUP($R515,TAXONOMY!$A$1:$G$959,3,FALSE))","v":""},{"$f":"IF(ISBLANK($R515)=TRUE,\"\",VLOOKUP($R515,TAXONOMY!$A$1:$H$959,2,FALSE))","v":""}]
[null,null,null,null,null,null,null,null,null,null,null,{"$f":"IF(ISBLANK($R516)=TRUE,\"\",VLOOKUP($R516,TAXONOMY!$A$1:$G$959,7,FALSE))","v":""},{"$f":"IF(ISBLANK($R516)=TRUE,\"\",VLOOKUP($R516,TAXONOMY!$A$1:$G$959,6,FALSE))","v":""},{"$f":"IF(ISBLANK($R516)=TRUE,\"\",VLOOKUP($R516,TAXONOMY!$A$1:$G$959,5,FALSE))","v":""},{"$f":"IF(ISBLANK($R516)=TRUE,\"\",VLOOKUP($R516,TAXONOMY!$A$1:$G$959,4,FALSE))","v":""},{"$f":"IF(ISBLANK($R516)=TRUE,\"\",VLOOKUP($R516,TAXONOMY!$A$1:$G$959,3,FALSE))","v":""},{"$f":"IF(ISBLANK($R516)=TRUE,\"\",VLOOKUP($R516,TAXONOMY!$A$1:$H$959,2,FALSE))","v":""}]
[null,null,null,null,null,null,null,null,null,null,null,{"$f":"IF(ISBLANK($R517)=TRUE,\"\",VLOOKUP($R517,TAXONOMY!$A$1:$G$959,7,FALSE))","v":""},{"$f":"IF(ISBLANK($R517)=TRUE,\"\",VLOOKUP($R517,TAXONOMY!$A$1:$G$959,6,FALSE))","v":""},{"$f":"IF(ISBLANK($R517)=TRUE,\"\",VLOOKUP($R517,TAXONOMY!$A$1:$G$959,5,FALSE))","v":""},{"$f":"IF(ISBLANK($R517)=TRUE,\"\",VLOOKUP($R517,TAXONOMY!$A$1:$G$959,4,FALSE))","v":""},{"$f":"IF(ISBLANK($R517)=TRUE,\"\",VLOOKUP($R517,TAXONOMY!$A$1:$G$959,3,FALSE))","v":""},{"$f":"IF(ISBLANK($R517)=TRUE,\"\",VLOOKUP($R517,TAXONOMY!$A$1:$H$959,2,FALSE))","v":""}]
[null,null,null,null,null,null,null,null,null,null,null,{"$f":"IF(ISBLANK($R518)=TRUE,\"\",VLOOKUP($R518,TAXONOMY!$A$1:$G$959,7,FALSE))","v":""},{"$f":"IF(ISBLANK($R518)=TRUE,\"\",VLOOKUP($R518,TAXONOMY!$A$1:$G$959,6,FALSE))","v":""},{"$f":"IF(ISBLANK($R518)=TRUE,\"\",VLOOKUP($R518,TAXONOMY!$A$1:$G$959,5,FALSE))","v":""},{"$f":"IF(ISBLANK($R518)=TRUE,\"\",VLOOKUP($R518,TAXONOMY!$A$1:$G$959,4,FALSE))","v":""},{"$f":"IF(ISBLANK($R518)=TRUE,\"\",VLOOKUP($R518,TAXONOMY!$A$1:$G$959,3,FALSE))","v":""},{"$f":"IF(ISBLANK($R518)=TRUE,\"\",VLOOKUP($R518,TAXONOMY!$A$1:$H$959,2,FALSE))","v":""}]
[null,null,null,null,null,null,null,null,null,null,null,{"$f":"IF(ISBLANK($R519)=TRUE,\"\",VLOOKUP($R519,TAXONOMY!$A$1:$G$959,7,FALSE))","v":""},{"$f":"IF(ISBLANK($R519)=TRUE,\"\",VLOOKUP($R519,TAXONOMY!$A$1:$G$959,6,FALSE))","v":""},{"$f":"IF(ISBLANK($R519)=TRUE,\"\",VLOOKUP($R519,TAXONOMY!$A$1:$G$959,5,FALSE))","v":""},{"$f":"IF(ISBLANK($R519)=TRUE,\"\",VLOOKUP($R519,TAXONOMY!$A$1:$G$959,4,FALSE))","v":""},{"$f":"IF(ISBLANK($R519)=TRUE,\"\",VLOOKUP($R519,TAXONOMY!$A$1:$G$959,3,FALSE))","v":""},{"$f":"IF(ISBLANK($R519)=TRUE,\"\",VLOOKUP($R519,TAXONOMY!$A$1:$H$959,2,FALSE))","v":""}]
[null,null,null,null,null,null,null,null,null,null,null,{"$f":"IF(ISBLANK($R520)=TRUE,\"\",VLOOKUP($R520,TAXONOMY!$A$1:$G$959,7,FALSE))","v":""},{"$f":"IF(ISBLANK($R520)=TRUE,\"\",VLOOKUP($R520,TAXONOMY!$A$1:$G$959,6,FALSE))","v":""},{"$f":"IF(ISBLANK($R520)=TRUE,\"\",VLOOKUP($R520,TAXONOMY!$A$1:$G$959,5,FALSE))","v":""},{"$f":"IF(ISBLANK($R520)=TRUE,\"\",VLOOKUP($R520,TAXONOMY!$A$1:$G$959,4,FALSE))","v":""},{"$f":"IF(ISBLANK($R520)=TRUE,\"\",VLOOKUP($R520,TAXONOMY!$A$1:$G$959,3,FALSE))","v":""},{"$f":"IF(ISBLANK($R520)=TRUE,\"\",VLOOKUP($R520,TAXONOMY!$A$1:$H$959,2,FALSE))","v":""}]
[null,null,null,null,null,null,null,null,null,null,null,{"$f":"IF(ISBLANK($R521)=TRUE,\"\",VLOOKUP($R521,TAXONOMY!$A$1:$G$959,7,FALSE))","v":""},{"$f":"IF(ISBLANK($R521)=TRUE,\"\",VLOOKUP($R521,TAXONOMY!$A$1:$G$959,6,FALSE))","v":""},{"$f":"IF(ISBLANK($R521)=TRUE,\"\",VLOOKUP($R521,TAXONOMY!$A$1:$G$959,5,FALSE))","v":""},{"$f":"IF(ISBLANK($R521)=TRUE,\"\",VLOOKUP($R521,TAXONOMY!$A$1:$G$959,4,FALSE))","v":""},{"$f":"IF(ISBLANK($R521)=TRUE,\"\",VLOOKUP($R521,TAXONOMY!$A$1:$G$959,3,FALSE))","v":""},{"$f":"IF(ISBLANK($R521)=TRUE,\"\",VLOOKUP($R521,TAXONOMY!$A$1:$H$959,2,FALSE))","v":""}]
[null,null,null,null,null,null,null,null,null,null,null,{"$f":"IF(ISBLANK($R522)=TRUE,\"\",VLOOKUP($R522,TAXONOMY!$A$1:$G$959,7,FALSE))","v":""},{"$f":"IF(ISBLANK($R522)=TRUE,\"\",VLOOKUP($R522,TAXONOMY!$A$1:$G$959,6,FALSE))","v":""},{"$f":"IF(ISBLANK($R522)=TRUE,\"\",VLOOKUP($R522,TAXONOMY!$A$1:$G$959,5,FALSE))","v":""},{"$f":"IF(ISBLANK($R522)=TRUE,\"\",VLOOKUP($R522,TAXONOMY!$A$1:$G$959,4,FALSE))","v":""},{"$f":"IF(ISBLANK($R522)=TRUE,\"\",VLOOKUP($R522,TAXONOMY!$A$1:$G$959,3,FALSE))","v":""},{"$f":"IF(ISBLANK($R522)=TRUE,\"\",VLOOKUP($R522,TAXONOMY!$A$1:$H$959,2,FALSE))","v":""}]
[null,null,null,null,null,null,null,null,null,null,null,{"$f":"IF(ISBLANK($R523)=TRUE,\"\",VLOOKUP($R523,TAXONOMY!$A$1:$G$959,7,FALSE))","v":""},{"$f":"IF(ISBLANK($R523)=TRUE,\"\",VLOOKUP($R523,TAXONOMY!$A$1:$G$959,6,FALSE))","v":""},{"$f":"IF(ISBLANK($R523)=TRUE,\"\",VLOOKUP($R523,TAXONOMY!$A$1:$G$959,5,FALSE))","v":""},{"$f":"IF(ISBLANK($R523)=TRUE,\"\",VLOOKUP($R523,TAXONOMY!$A$1:$G$959,4,FALSE))","v":""},{"$f":"IF(ISBLANK($R523)=TRUE,\"\",VLOOKUP($R523,TAXONOMY!$A$1:$G$959,3,FALSE))","v":""},{"$f":"IF(ISBLANK($R523)=TRUE,\"\",VLOOKUP($R523,TAXONOMY!$A$1:$H$959,2,FALSE))","v":""}]
[null,null,null,null,null,null,null,null,null,null,null,{"$f":"IF(ISBLANK($R524)=TRUE,\"\",VLOOKUP($R524,TAXONOMY!$A$1:$G$959,7,FALSE))","v":""},{"$f":"IF(ISBLANK($R524)=TRUE,\"\",VLOOKUP($R524,TAXONOMY!$A$1:$G$959,6,FALSE))","v":""},{"$f":"IF(ISBLANK($R524)=TRUE,\"\",VLOOKUP($R524,TAXONOMY!$A$1:$G$959,5,FALSE))","v":""},{"$f":"IF(ISBLANK($R524)=TRUE,\"\",VLOOKUP($R524,TAXONOMY!$A$1:$G$959,4,FALSE))","v":""},{"$f":"IF(ISBLANK($R524)=TRUE,\"\",VLOOKUP($R524,TAXONOMY!$A$1:$G$959,3,FALSE))","v":""},{"$f":"IF(ISBLANK($R524)=TRUE,\"\",VLOOKUP($R524,TAXONOMY!$A$1:$H$959,2,FALSE))","v":""}]
[null,null,null,null,null,null,null,null,null,null,null,{"$f":"IF(ISBLANK($R525)=TRUE,\"\",VLOOKUP($R525,TAXONOMY!$A$1:$G$959,7,FALSE))","v":""},{"$f":"IF(ISBLANK($R525)=TRUE,\"\",VLOOKUP($R525,TAXONOMY!$A$1:$G$959,6,FALSE))","v":""},{"$f":"IF(ISBLANK($R525)=TRUE,\"\",VLOOKUP($R525,TAXONOMY!$A$1:$G$959,5,FALSE))","v":""},{"$f":"IF(ISBLANK($R525)=TRUE,\"\",VLOOKUP($R525,TAXONOMY!$A$1:$G$959,4,FALSE))","v":""},{"$f":"IF(ISBLANK($R525)=TRUE,\"\",VLOOKUP($R525,TAXONOMY!$A$1:$G$959,3,FALSE))","v":""},{"$f":"IF(ISBLANK($R525)=TRUE,\"\",VLOOKUP($R525,TAXONOMY!$A$1:$H$959,2,FALSE))","v":""}]
[null,null,null,null,null,null,null,null,null,null,null,{"$f":"IF(ISBLANK($R526)=TRUE,\"\",VLOOKUP($R526,TAXONOMY!$A$1:$G$959,7,FALSE))","v":""},{"$f":"IF(ISBLANK($R526)=TRUE,\"\",VLOOKUP($R526,TAXONOMY!$A$1:$G$959,6,FALSE))","v":""},{"$f":"IF(ISBLANK($R526)=TRUE,\"\",VLOOKUP($R526,TAXONOMY!$A$1:$G$959,5,FALSE))","v":""},{"$f":"IF(ISBLANK($R526)=TRUE,\"\",VLOOKUP($R526,TAXONOMY!$A$1:$G$959,4,FALSE))","v":""},{"$f":"IF(ISBLANK($R526)=TRUE,\"\",VLOOKUP($R526,TAXONOMY!$A$1:$G$959,3,FALSE))","v":""},{"$f":"IF(ISBLANK($R526)=TRUE,\"\",VLOOKUP($R526,TAXONOMY!$A$1:$H$959,2,FALSE))","v":""}]
[null,null,null,null,null,null,null,null,null,null,null,{"$f":"IF(ISBLANK($R527)=TRUE,\"\",VLOOKUP($R527,TAXONOMY!$A$1:$G$959,7,FALSE))","v":""},{"$f":"IF(ISBLANK($R527)=TRUE,\"\",VLOOKUP($R527,TAXONOMY!$A$1:$G$959,6,FALSE))","v":""},{"$f":"IF(ISBLANK($R527)=TRUE,\"\",VLOOKUP($R527,TAXONOMY!$A$1:$G$959,5,FALSE))","v":""},{"$f":"IF(ISBLANK($R527)=TRUE,\"\",VLOOKUP($R527,TAXONOMY!$A$1:$G$959,4,FALSE))","v":""},{"$f":"IF(ISBLANK($R527)=TRUE,\"\",VLOOKUP($R527,TAXONOMY!$A$1:$G$959,3,FALSE))","v":""},{"$f":"IF(ISBLANK($R527)=TRUE,\"\",VLOOKUP($R527,TAXONOMY!$A$1:$H$959,2,FALSE))","v":""}]
[null,null,null,null,null,null,null,null,null,null,null,{"$f":"IF(ISBLANK($R528)=TRUE,\"\",VLOOKUP($R528,TAXONOMY!$A$1:$G$959,7,FALSE))","v":""},{"$f":"IF(ISBLANK($R528)=TRUE,\"\",VLOOKUP($R528,TAXONOMY!$A$1:$G$959,6,FALSE))","v":""},{"$f":"IF(ISBLANK($R528)=TRUE,\"\",VLOOKUP($R528,TAXONOMY!$A$1:$G$959,5,FALSE))","v":""},{"$f":"IF(ISBLANK($R528)=TRUE,\"\",VLOOKUP($R528,TAXONOMY!$A$1:$G$959,4,FALSE))","v":""},{"$f":"IF(ISBLANK($R528)=TRUE,\"\",VLOOKUP($R528,TAXONOMY!$A$1:$G$959,3,FALSE))","v":""},{"$f":"IF(ISBLANK($R528)=TRUE,\"\",VLOOKUP($R528,TAXONOMY!$A$1:$H$959,2,FALSE))","v":""}]
[null,null,null,null,null,null,null,null,null,null,null,{"$f":"IF(ISBLANK($R529)=TRUE,\"\",VLOOKUP($R529,TAXONOMY!$A$1:$G$959,7,FALSE))","v":""},{"$f":"IF(ISBLANK($R529)=TRUE,\"\",VLOOKUP($R529,TAXONOMY!$A$1:$G$959,6,FALSE))","v":""},{"$f":"IF(ISBLANK($R529)=TRUE,\"\",VLOOKUP($R529,TAXONOMY!$A$1:$G$959,5,FALSE))","v":""},{"$f":"IF(ISBLANK($R529)=TRUE,\"\",VLOOKUP($R529,TAXONOMY!$A$1:$G$959,4,FALSE))","v":""},{"$f":"IF(ISBLANK($R529)=TRUE,\"\",VLOOKUP($R529,TAXONOMY!$A$1:$G$959,3,FALSE))","v":""},{"$f":"IF(ISBLANK($R529)=TRUE,\"\",VLOOKUP($R529,TAXONOMY!$A$1:$H$959,2,FALSE))","v":""}]
[null,null,null,null,null,null,null,null,null,null,null,{"$f":"IF(ISBLANK($R530)=TRUE,\"\",VLOOKUP($R530,TAXONOMY!$A$1:$G$959,7,FALSE))","v":""},{"$f":"IF(ISBLANK($R530)=TRUE,\"\",VLOOKUP($R530,TAXONOMY!$A$1:$G$959,6,FALSE))","v":""},{"$f":"IF(ISBLANK($R530)=TRUE,\"\",VLOOKUP($R530,TAXONOMY!$A$1:$G$959,5,FALSE))","v":""},{"$f":"IF(ISBLANK($R530)=TRUE,\"\",VLOOKUP($R530,TAXONOMY!$A$1:$G$959,4,FALSE))","v":""},{"$f":"IF(ISBLANK($R530)=TRUE,\"\",VLOOKUP($R530,TAXONOMY!$A$1:$G$959,3,FALSE))","v":""},{"$f":"IF(ISBLANK($R530)=TRUE,\"\",VLOOKUP($R530,TAXONOMY!$A$1:$H$959,2,FALSE))","v":""}]
[null,null,null,null,null,null,null,null,null,null,null,{"$f":"IF(ISBLANK($R531)=TRUE,\"\",VLOOKUP($R531,TAXONOMY!$A$1:$G$959,7,FALSE))","v":""},{"$f":"IF(ISBLANK($R531)=TRUE,\"\",VLOOKUP($R531,TAXONOMY!$A$1:$G$959,6,FALSE))","v":""},{"$f":"IF(ISBLANK($R531)=TRUE,\"\",VLOOKUP($R531,TAXONOMY!$A$1:$G$959,5,FALSE))","v":""},{"$f":"IF(ISBLANK($R531)=TRUE,\"\",VLOOKUP($R531,TAXONOMY!$A$1:$G$959,4,FALSE))","v":""},{"$f":"IF(ISBLANK($R531)=TRUE,\"\",VLOOKUP($R531,TAXONOMY!$A$1:$G$959,3,FALSE))","v":""},{"$f":"IF(ISBLANK($R531)=TRUE,\"\",VLOOKUP($R531,TAXONOMY!$A$1:$H$959,2,FALSE))","v":""}]
[null,null,null,null,null,null,null,null,null,null,null,{"$f":"IF(ISBLANK($R532)=TRUE,\"\",VLOOKUP($R532,TAXONOMY!$A$1:$G$959,7,FALSE))","v":""},{"$f":"IF(ISBLANK($R532)=TRUE,\"\",VLOOKUP($R532,TAXONOMY!$A$1:$G$959,6,FALSE))","v":""},{"$f":"IF(ISBLANK($R532)=TRUE,\"\",VLOOKUP($R532,TAXONOMY!$A$1:$G$959,5,FALSE))","v":""},{"$f":"IF(ISBLANK($R532)=TRUE,\"\",VLOOKUP($R532,TAXONOMY!$A$1:$G$959,4,FALSE))","v":""},{"$f":"IF(ISBLANK($R532)=TRUE,\"\",VLOOKUP($R532,TAXONOMY!$A$1:$G$959,3,FALSE))","v":""},{"$f":"IF(ISBLANK($R532)=TRUE,\"\",VLOOKUP($R532,TAXONOMY!$A$1:$H$959,2,FALSE))","v":""}]
[null,null,null,null,null,null,null,null,null,null,null,{"$f":"IF(ISBLANK($R533)=TRUE,\"\",VLOOKUP($R533,TAXONOMY!$A$1:$G$959,7,FALSE))","v":""},{"$f":"IF(ISBLANK($R533)=TRUE,\"\",VLOOKUP($R533,TAXONOMY!$A$1:$G$959,6,FALSE))","v":""},{"$f":"IF(ISBLANK($R533)=TRUE,\"\",VLOOKUP($R533,TAXONOMY!$A$1:$G$959,5,FALSE))","v":""},{"$f":"IF(ISBLANK($R533)=TRUE,\"\",VLOOKUP($R533,TAXONOMY!$A$1:$G$959,4,FALSE))","v":""},{"$f":"IF(ISBLANK($R533)=TRUE,\"\",VLOOKUP($R533,TAXONOMY!$A$1:$G$959,3,FALSE))","v":""},{"$f":"IF(ISBLANK($R533)=TRUE,\"\",VLOOKUP($R533,TAXONOMY!$A$1:$H$959,2,FALSE))","v":""}]
[null,null,null,null,null,null,null,null,null,null,null,{"$f":"IF(ISBLANK($R534)=TRUE,\"\",VLOOKUP($R534,TAXONOMY!$A$1:$G$959,7,FALSE))","v":""},{"$f":"IF(ISBLANK($R534)=TRUE,\"\",VLOOKUP($R534,TAXONOMY!$A$1:$G$959,6,FALSE))","v":""},{"$f":"IF(ISBLANK($R534)=TRUE,\"\",VLOOKUP($R534,TAXONOMY!$A$1:$G$959,5,FALSE))","v":""},{"$f":"IF(ISBLANK($R534)=TRUE,\"\",VLOOKUP($R534,TAXONOMY!$A$1:$G$959,4,FALSE))","v":""},{"$f":"IF(ISBLANK($R534)=TRUE,\"\",VLOOKUP($R534,TAXONOMY!$A$1:$G$959,3,FALSE))","v":""},{"$f":"IF(ISBLANK($R534)=TRUE,\"\",VLOOKUP($R534,TAXONOMY!$A$1:$H$959,2,FALSE))","v":""}]
[null,null,null,null,null,null,null,null,null,null,null,{"$f":"IF(ISBLANK($R535)=TRUE,\"\",VLOOKUP($R535,TAXONOMY!$A$1:$G$959,7,FALSE))","v":""},{"$f":"IF(ISBLANK($R535)=TRUE,\"\",VLOOKUP($R535,TAXONOMY!$A$1:$G$959,6,FALSE))","v":""},{"$f":"IF(ISBLANK($R535)=TRUE,\"\",VLOOKUP($R535,TAXONOMY!$A$1:$G$959,5,FALSE))","v":""},{"$f":"IF(ISBLANK($R535)=TRUE,\"\",VLOOKUP($R535,TAXONOMY!$A$1:$G$959,4,FALSE))","v":""},{"$f":"IF(ISBLANK($R535)=TRUE,\"\",VLOOKUP($R535,TAXONOMY!$A$1:$G$959,3,FALSE))","v":""},{"$f":"IF(ISBLANK($R535)=TRUE,\"\",VLOOKUP($R535,TAXONOMY!$A$1:$H$959,2,FALSE))","v":""}]
[null,null,null,null,null,null,null,null,null,null,null,{"$f":"IF(ISBLANK($R536)=TRUE,\"\",VLOOKUP($R536,TAXONOMY!$A$1:$G$959,7,FALSE))","v":""},{"$f":"IF(ISBLANK($R536)=TRUE,\"\",VLOOKUP($R536,TAXONOMY!$A$1:$G$959,6,FALSE))","v":""},{"$f":"IF(ISBLANK($R536)=TRUE,\"\",VLOOKUP($R536,TAXONOMY!$A$1:$G$959,5,FALSE))","v":""},{"$f":"IF(ISBLANK($R536)=TRUE,\"\",VLOOKUP($R536,TAXONOMY!$A$1:$G$959,4,FALSE))","v":""},{"$f":"IF(ISBLANK($R536)=TRUE,\"\",VLOOKUP($R536,TAXONOMY!$A$1:$G$959,3,FALSE))","v":""},{"$f":"IF(ISBLANK($R536)=TRUE,\"\",VLOOKUP($R536,TAXONOMY!$A$1:$H$959,2,FALSE))","v":""}]
[null,null,null,null,null,null,null,null,null,null,null,{"$f":"IF(ISBLANK($R537)=TRUE,\"\",VLOOKUP($R537,TAXONOMY!$A$1:$G$959,7,FALSE))","v":""},{"$f":"IF(ISBLANK($R537)=TRUE,\"\",VLOOKUP($R537,TAXONOMY!$A$1:$G$959,6,FALSE))","v":""},{"$f":"IF(ISBLANK($R537)=TRUE,\"\",VLOOKUP($R537,TAXONOMY!$A$1:$G$959,5,FALSE))","v":""},{"$f":"IF(ISBLANK($R537)=TRUE,\"\",VLOOKUP($R537,TAXONOMY!$A$1:$G$959,4,FALSE))","v":""},{"$f":"IF(ISBLANK($R537)=TRUE,\"\",VLOOKUP($R537,TAXONOMY!$A$1:$G$959,3,FALSE))","v":""},{"$f":"IF(ISBLANK($R537)=TRUE,\"\",VLOOKUP($R537,TAXONOMY!$A$1:$H$959,2,FALSE))","v":""}]
[null,null,null,null,null,null,null,null,null,null,null,{"$f":"IF(ISBLANK($R538)=TRUE,\"\",VLOOKUP($R538,TAXONOMY!$A$1:$G$959,7,FALSE))","v":""},{"$f":"IF(ISBLANK($R538)=TRUE,\"\",VLOOKUP($R538,TAXONOMY!$A$1:$G$959,6,FALSE))","v":""},{"$f":"IF(ISBLANK($R538)=TRUE,\"\",VLOOKUP($R538,TAXONOMY!$A$1:$G$959,5,FALSE))","v":""},{"$f":"IF(ISBLANK($R538)=TRUE,\"\",VLOOKUP($R538,TAXONOMY!$A$1:$G$959,4,FALSE))","v":""},{"$f":"IF(ISBLANK($R538)=TRUE,\"\",VLOOKUP($R538,TAXONOMY!$A$1:$G$959,3,FALSE))","v":""},{"$f":"IF(ISBLANK($R538)=TRUE,\"\",VLOOKUP($R538,TAXONOMY!$A$1:$H$959,2,FALSE))","v":""}]
[null,null,null,null,null,null,null,null,null,null,null,{"$f":"IF(ISBLANK($R539)=TRUE,\"\",VLOOKUP($R539,TAXONOMY!$A$1:$G$959,7,FALSE))","v":""},{"$f":"IF(ISBLANK($R539)=TRUE,\"\",VLOOKUP($R539,TAXONOMY!$A$1:$G$959,6,FALSE))","v":""},{"$f":"IF(ISBLANK($R539)=TRUE,\"\",VLOOKUP($R539,TAXONOMY!$A$1:$G$959,5,FALSE))","v":""},{"$f":"IF(ISBLANK($R539)=TRUE,\"\",VLOOKUP($R539,TAXONOMY!$A$1:$G$959,4,FALSE))","v":""},{"$f":"IF(ISBLANK($R539)=TRUE,\"\",VLOOKUP($R539,TAXONOMY!$A$1:$G$959,3,FALSE))","v":""},{"$f":"IF(ISBLANK($R539)=TRUE,\"\",VLOOKUP($R539,TAXONOMY!$A$1:$H$959,2,FALSE))","v":""}]
[null,null,null,null,null,null,null,null,null,null,null,{"$f":"IF(ISBLANK($R540)=TRUE,\"\",VLOOKUP($R540,TAXONOMY!$A$1:$G$959,7,FALSE))","v":""},{"$f":"IF(ISBLANK($R540)=TRUE,\"\",VLOOKUP($R540,TAXONOMY!$A$1:$G$959,6,FALSE))","v":""},{"$f":"IF(ISBLANK($R540)=TRUE,\"\",VLOOKUP($R540,TAXONOMY!$A$1:$G$959,5,FALSE))","v":""},{"$f":"IF(ISBLANK($R540)=TRUE,\"\",VLOOKUP($R540,TAXONOMY!$A$1:$G$959,4,FALSE))","v":""},{"$f":"IF(ISBLANK($R540)=TRUE,\"\",VLOOKUP($R540,TAXONOMY!$A$1:$G$959,3,FALSE))","v":""},{"$f":"IF(ISBLANK($R540)=TRUE,\"\",VLOOKUP($R540,TAXONOMY!$A$1:$H$959,2,FALSE))","v":""}]
[null,null,null,null,null,null,null,null,null,null,null,{"$f":"IF(ISBLANK($R541)=TRUE,\"\",VLOOKUP($R541,TAXONOMY!$A$1:$G$959,7,FALSE))","v":""},{"$f":"IF(ISBLANK($R541)=TRUE,\"\",VLOOKUP($R541,TAXONOMY!$A$1:$G$959,6,FALSE))","v":""},{"$f":"IF(ISBLANK($R541)=TRUE,\"\",VLOOKUP($R541,TAXONOMY!$A$1:$G$959,5,FALSE))","v":""},{"$f":"IF(ISBLANK($R541)=TRUE,\"\",VLOOKUP($R541,TAXONOMY!$A$1:$G$959,4,FALSE))","v":""},{"$f":"IF(ISBLANK($R541)=TRUE,\"\",VLOOKUP($R541,TAXONOMY!$A$1:$G$959,3,FALSE))","v":""},{"$f":"IF(ISBLANK($R541)=TRUE,\"\",VLOOKUP($R541,TAXONOMY!$A$1:$H$959,2,FALSE))","v":""}]
[null,null,null,null,null,null,null,null,null,null,null,{"$f":"IF(ISBLANK($R542)=TRUE,\"\",VLOOKUP($R542,TAXONOMY!$A$1:$G$959,7,FALSE))","v":""},{"$f":"IF(ISBLANK($R542)=TRUE,\"\",VLOOKUP($R542,TAXONOMY!$A$1:$G$959,6,FALSE))","v":""},{"$f":"IF(ISBLANK($R542)=TRUE,\"\",VLOOKUP($R542,TAXONOMY!$A$1:$G$959,5,FALSE))","v":""},{"$f":"IF(ISBLANK($R542)=TRUE,\"\",VLOOKUP($R542,TAXONOMY!$A$1:$G$959,4,FALSE))","v":""},{"$f":"IF(ISBLANK($R542)=TRUE,\"\",VLOOKUP($R542,TAXONOMY!$A$1:$G$959,3,FALSE))","v":""},{"$f":"IF(ISBLANK($R542)=TRUE,\"\",VLOOKUP($R542,TAXONOMY!$A$1:$H$959,2,FALSE))","v":""}]
[null,null,null,null,null,null,null,null,null,null,null,{"$f":"IF(ISBLANK($R543)=TRUE,\"\",VLOOKUP($R543,TAXONOMY!$A$1:$G$959,7,FALSE))","v":""},{"$f":"IF(ISBLANK($R543)=TRUE,\"\",VLOOKUP($R543,TAXONOMY!$A$1:$G$959,6,FALSE))","v":""},{"$f":"IF(ISBLANK($R543)=TRUE,\"\",VLOOKUP($R543,TAXONOMY!$A$1:$G$959,5,FALSE))","v":""},{"$f":"IF(ISBLANK($R543)=TRUE,\"\",VLOOKUP($R543,TAXONOMY!$A$1:$G$959,4,FALSE))","v":""},{"$f":"IF(ISBLANK($R543)=TRUE,\"\",VLOOKUP($R543,TAXONOMY!$A$1:$G$959,3,FALSE))","v":""},{"$f":"IF(ISBLANK($R543)=TRUE,\"\",VLOOKUP($R543,TAXONOMY!$A$1:$H$959,2,FALSE))","v":""}]
[null,null,null,null,null,null,null,null,null,null,null,{"$f":"IF(ISBLANK($R544)=TRUE,\"\",VLOOKUP($R544,TAXONOMY!$A$1:$G$959,7,FALSE))","v":""},{"$f":"IF(ISBLANK($R544)=TRUE,\"\",VLOOKUP($R544,TAXONOMY!$A$1:$G$959,6,FALSE))","v":""},{"$f":"IF(ISBLANK($R544)=TRUE,\"\",VLOOKUP($R544,TAXONOMY!$A$1:$G$959,5,FALSE))","v":""},{"$f":"IF(ISBLANK($R544)=TRUE,\"\",VLOOKUP($R544,TAXONOMY!$A$1:$G$959,4,FALSE))","v":""},{"$f":"IF(ISBLANK($R544)=TRUE,\"\",VLOOKUP($R544,TAXONOMY!$A$1:$G$959,3,FALSE))","v":""},{"$f":"IF(ISBLANK($R544)=TRUE,\"\",VLOOKUP($R544,TAXONOMY!$A$1:$H$959,2,FALSE))","v":""}]
[null,null,null,null,null,null,null,null,null,null,null,{"$f":"IF(ISBLANK($R545)=TRUE,\"\",VLOOKUP($R545,TAXONOMY!$A$1:$G$959,7,FALSE))","v":""},{"$f":"IF(ISBLANK($R545)=TRUE,\"\",VLOOKUP($R545,TAXONOMY!$A$1:$G$959,6,FALSE))","v":""},{"$f":"IF(ISBLANK($R545)=TRUE,\"\",VLOOKUP($R545,TAXONOMY!$A$1:$G$959,5,FALSE))","v":""},{"$f":"IF(ISBLANK($R545)=TRUE,\"\",VLOOKUP($R545,TAXONOMY!$A$1:$G$959,4,FALSE))","v":""},{"$f":"IF(ISBLANK($R545)=TRUE,\"\",VLOOKUP($R545,TAXONOMY!$A$1:$G$959,3,FALSE))","v":""},{"$f":"IF(ISBLANK($R545)=TRUE,\"\",VLOOKUP($R545,TAXONOMY!$A$1:$H$959,2,FALSE))","v":""}]
[null,null,null,null,null,null,null,null,null,null,null,{"$f":"IF(ISBLANK($R546)=TRUE,\"\",VLOOKUP($R546,TAXONOMY!$A$1:$G$959,7,FALSE))","v":""},{"$f":"IF(ISBLANK($R546)=TRUE,\"\",VLOOKUP($R546,TAXONOMY!$A$1:$G$959,6,FALSE))","v":""},{"$f":"IF(ISBLANK($R546)=TRUE,\"\",VLOOKUP($R546,TAXONOMY!$A$1:$G$959,5,FALSE))","v":""},{"$f":"IF(ISBLANK($R546)=TRUE,\"\",VLOOKUP($R546,TAXONOMY!$A$1:$G$959,4,FALSE))","v":""},{"$f":"IF(ISBLANK($R546)=TRUE,\"\",VLOOKUP($R546,TAXONOMY!$A$1:$G$959,3,FALSE))","v":""},{"$f":"IF(ISBLANK($R546)=TRUE,\"\",VLOOKUP($R546,TAXONOMY!$A$1:$H$959,2,FALSE))","v":""}]
[null,null,null,null,null,null,null,null,null,null,null,{"$f":"IF(ISBLANK($R547)=TRUE,\"\",VLOOKUP($R547,TAXONOMY!$A$1:$G$959,7,FALSE))","v":""},{"$f":"IF(ISBLANK($R547)=TRUE,\"\",VLOOKUP($R547,TAXONOMY!$A$1:$G$959,6,FALSE))","v":""},{"$f":"IF(ISBLANK($R547)=TRUE,\"\",VLOOKUP($R547,TAXONOMY!$A$1:$G$959,5,FALSE))","v":""},{"$f":"IF(ISBLANK($R547)=TRUE,\"\",VLOOKUP($R547,TAXONOMY!$A$1:$G$959,4,FALSE))","v":""},{"$f":"IF(ISBLANK($R547)=TRUE,\"\",VLOOKUP($R547,TAXONOMY!$A$1:$G$959,3,FALSE))","v":""},{"$f":"IF(ISBLANK($R547)=TRUE,\"\",VLOOKUP($R547,TAXONOMY!$A$1:$H$959,2,FALSE))","v":""}]
[null,null,null,null,null,null,null,null,null,null,null,{"$f":"IF(ISBLANK($R548)=TRUE,\"\",VLOOKUP($R548,TAXONOMY!$A$1:$G$959,7,FALSE))","v":""},{"$f":"IF(ISBLANK($R548)=TRUE,\"\",VLOOKUP($R548,TAXONOMY!$A$1:$G$959,6,FALSE))","v":""},{"$f":"IF(ISBLANK($R548)=TRUE,\"\",VLOOKUP($R548,TAXONOMY!$A$1:$G$959,5,FALSE))","v":""},{"$f":"IF(ISBLANK($R548)=TRUE,\"\",VLOOKUP($R548,TAXONOMY!$A$1:$G$959,4,FALSE))","v":""},{"$f":"IF(ISBLANK($R548)=TRUE,\"\",VLOOKUP($R548,TAXONOMY!$A$1:$G$959,3,FALSE))","v":""},{"$f":"IF(ISBLANK($R548)=TRUE,\"\",VLOOKUP($R548,TAXONOMY!$A$1:$H$959,2,FALSE))","v":""}]
[null,null,null,null,null,null,null,null,null,null,null,{"$f":"IF(ISBLANK($R549)=TRUE,\"\",VLOOKUP($R549,TAXONOMY!$A$1:$G$959,7,FALSE))","v":""},{"$f":"IF(ISBLANK($R549)=TRUE,\"\",VLOOKUP($R549,TAXONOMY!$A$1:$G$959,6,FALSE))","v":""},{"$f":"IF(ISBLANK($R549)=TRUE,\"\",VLOOKUP($R549,TAXONOMY!$A$1:$G$959,5,FALSE))","v":""},{"$f":"IF(ISBLANK($R549)=TRUE,\"\",VLOOKUP($R549,TAXONOMY!$A$1:$G$959,4,FALSE))","v":""},{"$f":"IF(ISBLANK($R549)=TRUE,\"\",VLOOKUP($R549,TAXONOMY!$A$1:$G$959,3,FALSE))","v":""},{"$f":"IF(ISBLANK($R549)=TRUE,\"\",VLOOKUP($R549,TAXONOMY!$A$1:$H$959,2,FALSE))","v":""}]
[null,null,null,null,null,null,null,null,null,null,null,{"$f":"IF(ISBLANK($R550)=TRUE,\"\",VLOOKUP($R550,TAXONOMY!$A$1:$G$959,7,FALSE))","v":""},{"$f":"IF(ISBLANK($R550)=TRUE,\"\",VLOOKUP($R550,TAXONOMY!$A$1:$G$959,6,FALSE))","v":""},{"$f":"IF(ISBLANK($R550)=TRUE,\"\",VLOOKUP($R550,TAXONOMY!$A$1:$G$959,5,FALSE))","v":""},{"$f":"IF(ISBLANK($R550)=TRUE,\"\",VLOOKUP($R550,TAXONOMY!$A$1:$G$959,4,FALSE))","v":""},{"$f":"IF(ISBLANK($R550)=TRUE,\"\",VLOOKUP($R550,TAXONOMY!$A$1:$G$959,3,FALSE))","v":""},{"$f":"IF(ISBLANK($R550)=TRUE,\"\",VLOOKUP($R550,TAXONOMY!$A$1:$H$959,2,FALSE))","v":""}]
[null,null,null,null,null,null,null,null,null,null,null,{"$f":"IF(ISBLANK($R551)=TRUE,\"\",VLOOKUP($R551,TAXONOMY!$A$1:$G$959,7,FALSE))","v":""},{"$f":"IF(ISBLANK($R551)=TRUE,\"\",VLOOKUP($R551,TAXONOMY!$A$1:$G$959,6,FALSE))","v":""},{"$f":"IF(ISBLANK($R551)=TRUE,\"\",VLOOKUP($R551,TAXONOMY!$A$1:$G$959,5,FALSE))","v":""},{"$f":"IF(ISBLANK($R551)=TRUE,\"\",VLOOKUP($R551,TAXONOMY!$A$1:$G$959,4,FALSE))","v":""},{"$f":"IF(ISBLANK($R551)=TRUE,\"\",VLOOKUP($R551,TAXONOMY!$A$1:$G$959,3,FALSE))","v":""},{"$f":"IF(ISBLANK($R551)=TRUE,\"\",VLOOKUP($R551,TAXONOMY!$A$1:$H$959,2,FALSE))","v":""}]
[null,null,null,null,null,null,null,null,null,null,null,{"$f":"IF(ISBLANK($R552)=TRUE,\"\",VLOOKUP($R552,TAXONOMY!$A$1:$G$959,7,FALSE))","v":""},{"$f":"IF(ISBLANK($R552)=TRUE,\"\",VLOOKUP($R552,TAXONOMY!$A$1:$G$959,6,FALSE))","v":""},{"$f":"IF(ISBLANK($R552)=TRUE,\"\",VLOOKUP($R552,TAXONOMY!$A$1:$G$959,5,FALSE))","v":""},{"$f":"IF(ISBLANK($R552)=TRUE,\"\",VLOOKUP($R552,TAXONOMY!$A$1:$G$959,4,FALSE))","v":""},{"$f":"IF(ISBLANK($R552)=TRUE,\"\",VLOOKUP($R552,TAXONOMY!$A$1:$G$959,3,FALSE))","v":""},{"$f":"IF(ISBLANK($R552)=TRUE,\"\",VLOOKUP($R552,TAXONOMY!$A$1:$H$959,2,FALSE))","v":""}]
[null,null,null,null,null,null,null,null,null,null,null,{"$f":"IF(ISBLANK($R553)=TRUE,\"\",VLOOKUP($R553,TAXONOMY!$A$1:$G$959,7,FALSE))","v":""},{"$f":"IF(ISBLANK($R553)=TRUE,\"\",VLOOKUP($R553,TAXONOMY!$A$1:$G$959,6,FALSE))","v":""},{"$f":"IF(ISBLANK($R553)=TRUE,\"\",VLOOKUP($R553,TAXONOMY!$A$1:$G$959,5,FALSE))","v":""},{"$f":"IF(ISBLANK($R553)=TRUE,\"\",VLOOKUP($R553,TAXONOMY!$A$1:$G$959,4,FALSE))","v":""},{"$f":"IF(ISBLANK($R553)=TRUE,\"\",VLOOKUP($R553,TAXONOMY!$A$1:$G$959,3,FALSE))","v":""},{"$f":"IF(ISBLANK($R553)=TRUE,\"\",VLOOKUP($R553,TAXONOMY!$A$1:$H$959,2,FALSE))","v":""}]
[null,null,null,null,null,null,null,null,null,null,null,{"$f":"IF(ISBLANK($R554)=TRUE,\"\",VLOOKUP($R554,TAXONOMY!$A$1:$G$959,7,FALSE))","v":""},{"$f":"IF(ISBLANK($R554)=TRUE,\"\",VLOOKUP($R554,TAXONOMY!$A$1:$G$959,6,FALSE))","v":""},{"$f":"IF(ISBLANK($R554)=TRUE,\"\",VLOOKUP($R554,TAXONOMY!$A$1:$G$959,5,FALSE))","v":""},{"$f":"IF(ISBLANK($R554)=TRUE,\"\",VLOOKUP($R554,TAXONOMY!$A$1:$G$959,4,FALSE))","v":""},{"$f":"IF(ISBLANK($R554)=TRUE,\"\",VLOOKUP($R554,TAXONOMY!$A$1:$G$959,3,FALSE))","v":""},{"$f":"IF(ISBLANK($R554)=TRUE,\"\",VLOOKUP($R554,TAXONOMY!$A$1:$H$959,2,FALSE))","v":""}]
[null,null,null,null,null,null,null,null,null,null,null,{"$f":"IF(ISBLANK($R555)=TRUE,\"\",VLOOKUP($R555,TAXONOMY!$A$1:$G$959,7,FALSE))","v":""},{"$f":"IF(ISBLANK($R555)=TRUE,\"\",VLOOKUP($R555,TAXONOMY!$A$1:$G$959,6,FALSE))","v":""},{"$f":"IF(ISBLANK($R555)=TRUE,\"\",VLOOKUP($R555,TAXONOMY!$A$1:$G$959,5,FALSE))","v":""},{"$f":"IF(ISBLANK($R555)=TRUE,\"\",VLOOKUP($R555,TAXONOMY!$A$1:$G$959,4,FALSE))","v":""},{"$f":"IF(ISBLANK($R555)=TRUE,\"\",VLOOKUP($R555,TAXONOMY!$A$1:$G$959,3,FALSE))","v":""},{"$f":"IF(ISBLANK($R555)=TRUE,\"\",VLOOKUP($R555,TAXONOMY!$A$1:$H$959,2,FALSE))","v":""}]
[null,null,null,null,null,null,null,null,null,null,null,{"$f":"IF(ISBLANK($R556)=TRUE,\"\",VLOOKUP($R556,TAXONOMY!$A$1:$G$959,7,FALSE))","v":""},{"$f":"IF(ISBLANK($R556)=TRUE,\"\",VLOOKUP($R556,TAXONOMY!$A$1:$G$959,6,FALSE))","v":""},{"$f":"IF(ISBLANK($R556)=TRUE,\"\",VLOOKUP($R556,TAXONOMY!$A$1:$G$959,5,FALSE))","v":""},{"$f":"IF(ISBLANK($R556)=TRUE,\"\",VLOOKUP($R556,TAXONOMY!$A$1:$G$959,4,FALSE))","v":""},{"$f":"IF(ISBLANK($R556)=TRUE,\"\",VLOOKUP($R556,TAXONOMY!$A$1:$G$959,3,FALSE))","v":""},{"$f":"IF(ISBLANK($R556)=TRUE,\"\",VLOOKUP($R556,TAXONOMY!$A$1:$H$959,2,FALSE))","v":""}]
[null,null,null,null,null,null,null,null,null,null,null,{"$f":"IF(ISBLANK($R557)=TRUE,\"\",VLOOKUP($R557,TAXONOMY!$A$1:$G$959,7,FALSE))","v":""},{"$f":"IF(ISBLANK($R557)=TRUE,\"\",VLOOKUP($R557,TAXONOMY!$A$1:$G$959,6,FALSE))","v":""},{"$f":"IF(ISBLANK($R557)=TRUE,\"\",VLOOKUP($R557,TAXONOMY!$A$1:$G$959,5,FALSE))","v":""},{"$f":"IF(ISBLANK($R557)=TRUE,\"\",VLOOKUP($R557,TAXONOMY!$A$1:$G$959,4,FALSE))","v":""},{"$f":"IF(ISBLANK($R557)=TRUE,\"\",VLOOKUP($R557,TAXONOMY!$A$1:$G$959,3,FALSE))","v":""},{"$f":"IF(ISBLANK($R557)=TRUE,\"\",VLOOKUP($R557,TAXONOMY!$A$1:$H$959,2,FALSE))","v":""}]
[null,null,null,null,null,null,null,null,null,null,null,{"$f":"IF(ISBLANK($R558)=TRUE,\"\",VLOOKUP($R558,TAXONOMY!$A$1:$G$959,7,FALSE))","v":""},{"$f":"IF(ISBLANK($R558)=TRUE,\"\",VLOOKUP($R558,TAXONOMY!$A$1:$G$959,6,FALSE))","v":""},{"$f":"IF(ISBLANK($R558)=TRUE,\"\",VLOOKUP($R558,TAXONOMY!$A$1:$G$959,5,FALSE))","v":""},{"$f":"IF(ISBLANK($R558)=TRUE,\"\",VLOOKUP($R558,TAXONOMY!$A$1:$G$959,4,FALSE))","v":""},{"$f":"IF(ISBLANK($R558)=TRUE,\"\",VLOOKUP($R558,TAXONOMY!$A$1:$G$959,3,FALSE))","v":""},{"$f":"IF(ISBLANK($R558)=TRUE,\"\",VLOOKUP($R558,TAXONOMY!$A$1:$H$959,2,FALSE))","v":""}]
[null,null,null,null,null,null,null,null,null,null,null,{"$f":"IF(ISBLANK($R559)=TRUE,\"\",VLOOKUP($R559,TAXONOMY!$A$1:$G$959,7,FALSE))","v":""},{"$f":"IF(ISBLANK($R559)=TRUE,\"\",VLOOKUP($R559,TAXONOMY!$A$1:$G$959,6,FALSE))","v":""},{"$f":"IF(ISBLANK($R559)=TRUE,\"\",VLOOKUP($R559,TAXONOMY!$A$1:$G$959,5,FALSE))","v":""},{"$f":"IF(ISBLANK($R559)=TRUE,\"\",VLOOKUP($R559,TAXONOMY!$A$1:$G$959,4,FALSE))","v":""},{"$f":"IF(ISBLANK($R559)=TRUE,\"\",VLOOKUP($R559,TAXONOMY!$A$1:$G$959,3,FALSE))","v":""},{"$f":"IF(ISBLANK($R559)=TRUE,\"\",VLOOKUP($R559,TAXONOMY!$A$1:$H$959,2,FALSE))","v":""}]
[null,null,null,null,null,null,null,null,null,null,null,{"$f":"IF(ISBLANK($R560)=TRUE,\"\",VLOOKUP($R560,TAXONOMY!$A$1:$G$959,7,FALSE))","v":""},{"$f":"IF(ISBLANK($R560)=TRUE,\"\",VLOOKUP($R560,TAXONOMY!$A$1:$G$959,6,FALSE))","v":""},{"$f":"IF(ISBLANK($R560)=TRUE,\"\",VLOOKUP($R560,TAXONOMY!$A$1:$G$959,5,FALSE))","v":""},{"$f":"IF(ISBLANK($R560)=TRUE,\"\",VLOOKUP($R560,TAXONOMY!$A$1:$G$959,4,FALSE))","v":""},{"$f":"IF(ISBLANK($R560)=TRUE,\"\",VLOOKUP($R560,TAXONOMY!$A$1:$G$959,3,FALSE))","v":""},{"$f":"IF(ISBLANK($R560)=TRUE,\"\",VLOOKUP($R560,TAXONOMY!$A$1:$H$959,2,FALSE))","v":""}]
[null,null,null,null,null,null,null,null,null,null,null,{"$f":"IF(ISBLANK($R561)=TRUE,\"\",VLOOKUP($R561,TAXONOMY!$A$1:$G$959,7,FALSE))","v":""},{"$f":"IF(ISBLANK($R561)=TRUE,\"\",VLOOKUP($R561,TAXONOMY!$A$1:$G$959,6,FALSE))","v":""},{"$f":"IF(ISBLANK($R561)=TRUE,\"\",VLOOKUP($R561,TAXONOMY!$A$1:$G$959,5,FALSE))","v":""},{"$f":"IF(ISBLANK($R561)=TRUE,\"\",VLOOKUP($R561,TAXONOMY!$A$1:$G$959,4,FALSE))","v":""},{"$f":"IF(ISBLANK($R561)=TRUE,\"\",VLOOKUP($R561,TAXONOMY!$A$1:$G$959,3,FALSE))","v":""},{"$f":"IF(ISBLANK($R561)=TRUE,\"\",VLOOKUP($R561,TAXONOMY!$A$1:$H$959,2,FALSE))","v":""}]
[null,null,null,null,null,null,null,null,null,null,null,{"$f":"IF(ISBLANK($R562)=TRUE,\"\",VLOOKUP($R562,TAXONOMY!$A$1:$G$959,7,FALSE))","v":""},{"$f":"IF(ISBLANK($R562)=TRUE,\"\",VLOOKUP($R562,TAXONOMY!$A$1:$G$959,6,FALSE))","v":""},{"$f":"IF(ISBLANK($R562)=TRUE,\"\",VLOOKUP($R562,TAXONOMY!$A$1:$G$959,5,FALSE))","v":""},{"$f":"IF(ISBLANK($R562)=TRUE,\"\",VLOOKUP($R562,TAXONOMY!$A$1:$G$959,4,FALSE))","v":""},{"$f":"IF(ISBLANK($R562)=TRUE,\"\",VLOOKUP($R562,TAXONOMY!$A$1:$G$959,3,FALSE))","v":""},{"$f":"IF(ISBLANK($R562)=TRUE,\"\",VLOOKUP($R562,TAXONOMY!$A$1:$H$959,2,FALSE))","v":""}]
[null,null,null,null,null,null,null,null,null,null,null,{"$f":"IF(ISBLANK($R563)=TRUE,\"\",VLOOKUP($R563,TAXONOMY!$A$1:$G$959,7,FALSE))","v":""},{"$f":"IF(ISBLANK($R563)=TRUE,\"\",VLOOKUP($R563,TAXONOMY!$A$1:$G$959,6,FALSE))","v":""},{"$f":"IF(ISBLANK($R563)=TRUE,\"\",VLOOKUP($R563,TAXONOMY!$A$1:$G$959,5,FALSE))","v":""},{"$f":"IF(ISBLANK($R563)=TRUE,\"\",VLOOKUP($R563,TAXONOMY!$A$1:$G$959,4,FALSE))","v":""},{"$f":"IF(ISBLANK($R563)=TRUE,\"\",VLOOKUP($R563,TAXONOMY!$A$1:$G$959,3,FALSE))","v":""},{"$f":"IF(ISBLANK($R563)=TRUE,\"\",VLOOKUP($R563,TAXONOMY!$A$1:$H$959,2,FALSE))","v":""}]
[null,null,null,null,null,null,null,null,null,null,null,{"$f":"IF(ISBLANK($R564)=TRUE,\"\",VLOOKUP($R564,TAXONOMY!$A$1:$G$959,7,FALSE))","v":""},{"$f":"IF(ISBLANK($R564)=TRUE,\"\",VLOOKUP($R564,TAXONOMY!$A$1:$G$959,6,FALSE))","v":""},{"$f":"IF(ISBLANK($R564)=TRUE,\"\",VLOOKUP($R564,TAXONOMY!$A$1:$G$959,5,FALSE))","v":""},{"$f":"IF(ISBLANK($R564)=TRUE,\"\",VLOOKUP($R564,TAXONOMY!$A$1:$G$959,4,FALSE))","v":""},{"$f":"IF(ISBLANK($R564)=TRUE,\"\",VLOOKUP($R564,TAXONOMY!$A$1:$G$959,3,FALSE))","v":""},{"$f":"IF(ISBLANK($R564)=TRUE,\"\",VLOOKUP($R564,TAXONOMY!$A$1:$H$959,2,FALSE))","v":""}]
[null,null,null,null,null,null,null,null,null,null,null,{"$f":"IF(ISBLANK($R565)=TRUE,\"\",VLOOKUP($R565,TAXONOMY!$A$1:$G$959,7,FALSE))","v":""},{"$f":"IF(ISBLANK($R565)=TRUE,\"\",VLOOKUP($R565,TAXONOMY!$A$1:$G$959,6,FALSE))","v":""},{"$f":"IF(ISBLANK($R565)=TRUE,\"\",VLOOKUP($R565,TAXONOMY!$A$1:$G$959,5,FALSE))","v":""},{"$f":"IF(ISBLANK($R565)=TRUE,\"\",VLOOKUP($R565,TAXONOMY!$A$1:$G$959,4,FALSE))","v":""},{"$f":"IF(ISBLANK($R565)=TRUE,\"\",VLOOKUP($R565,TAXONOMY!$A$1:$G$959,3,FALSE))","v":""},{"$f":"IF(ISBLANK($R565)=TRUE,\"\",VLOOKUP($R565,TAXONOMY!$A$1:$H$959,2,FALSE))","v":""}]
[null,null,null,null,null,null,null,null,null,null,null,{"$f":"IF(ISBLANK($R566)=TRUE,\"\",VLOOKUP($R566,TAXONOMY!$A$1:$G$959,7,FALSE))","v":""},{"$f":"IF(ISBLANK($R566)=TRUE,\"\",VLOOKUP($R566,TAXONOMY!$A$1:$G$959,6,FALSE))","v":""},{"$f":"IF(ISBLANK($R566)=TRUE,\"\",VLOOKUP($R566,TAXONOMY!$A$1:$G$959,5,FALSE))","v":""},{"$f":"IF(ISBLANK($R566)=TRUE,\"\",VLOOKUP($R566,TAXONOMY!$A$1:$G$959,4,FALSE))","v":""},{"$f":"IF(ISBLANK($R566)=TRUE,\"\",VLOOKUP($R566,TAXONOMY!$A$1:$G$959,3,FALSE))","v":""},{"$f":"IF(ISBLANK($R566)=TRUE,\"\",VLOOKUP($R566,TAXONOMY!$A$1:$H$959,2,FALSE))","v":""}]
[null,null,null,null,null,null,null,null,null,null,null,{"$f":"IF(ISBLANK($R567)=TRUE,\"\",VLOOKUP($R567,TAXONOMY!$A$1:$G$959,7,FALSE))","v":""},{"$f":"IF(ISBLANK($R567)=TRUE,\"\",VLOOKUP($R567,TAXONOMY!$A$1:$G$959,6,FALSE))","v":""},{"$f":"IF(ISBLANK($R567)=TRUE,\"\",VLOOKUP($R567,TAXONOMY!$A$1:$G$959,5,FALSE))","v":""},{"$f":"IF(ISBLANK($R567)=TRUE,\"\",VLOOKUP($R567,TAXONOMY!$A$1:$G$959,4,FALSE))","v":""},{"$f":"IF(ISBLANK($R567)=TRUE,\"\",VLOOKUP($R567,TAXONOMY!$A$1:$G$959,3,FALSE))","v":""},{"$f":"IF(ISBLANK($R567)=TRUE,\"\",VLOOKUP($R567,TAXONOMY!$A$1:$H$959,2,FALSE))","v":""}]
[null,null,null,null,null,null,null,null,null,null,null,{"$f":"IF(ISBLANK($R568)=TRUE,\"\",VLOOKUP($R568,TAXONOMY!$A$1:$G$959,7,FALSE))","v":""},{"$f":"IF(ISBLANK($R568)=TRUE,\"\",VLOOKUP($R568,TAXONOMY!$A$1:$G$959,6,FALSE))","v":""},{"$f":"IF(ISBLANK($R568)=TRUE,\"\",VLOOKUP($R568,TAXONOMY!$A$1:$G$959,5,FALSE))","v":""},{"$f":"IF(ISBLANK($R568)=TRUE,\"\",VLOOKUP($R568,TAXONOMY!$A$1:$G$959,4,FALSE))","v":""},{"$f":"IF(ISBLANK($R568)=TRUE,\"\",VLOOKUP($R568,TAXONOMY!$A$1:$G$959,3,FALSE))","v":""},{"$f":"IF(ISBLANK($R568)=TRUE,\"\",VLOOKUP($R568,TAXONOMY!$A$1:$H$959,2,FALSE))","v":""}]
[null,null,null,null,null,null,null,null,null,null,null,{"$f":"IF(ISBLANK($R569)=TRUE,\"\",VLOOKUP($R569,TAXONOMY!$A$1:$G$959,7,FALSE))","v":""},{"$f":"IF(ISBLANK($R569)=TRUE,\"\",VLOOKUP($R569,TAXONOMY!$A$1:$G$959,6,FALSE))","v":""},{"$f":"IF(ISBLANK($R569)=TRUE,\"\",VLOOKUP($R569,TAXONOMY!$A$1:$G$959,5,FALSE))","v":""},{"$f":"IF(ISBLANK($R569)=TRUE,\"\",VLOOKUP($R569,TAXONOMY!$A$1:$G$959,4,FALSE))","v":""},{"$f":"IF(ISBLANK($R569)=TRUE,\"\",VLOOKUP($R569,TAXONOMY!$A$1:$G$959,3,FALSE))","v":""},{"$f":"IF(ISBLANK($R569)=TRUE,\"\",VLOOKUP($R569,TAXONOMY!$A$1:$H$959,2,FALSE))","v":""}]
[null,null,null,null,null,null,null,null,null,null,null,{"$f":"IF(ISBLANK($R570)=TRUE,\"\",VLOOKUP($R570,TAXONOMY!$A$1:$G$959,7,FALSE))","v":""},{"$f":"IF(ISBLANK($R570)=TRUE,\"\",VLOOKUP($R570,TAXONOMY!$A$1:$G$959,6,FALSE))","v":""},{"$f":"IF(ISBLANK($R570)=TRUE,\"\",VLOOKUP($R570,TAXONOMY!$A$1:$G$959,5,FALSE))","v":""},{"$f":"IF(ISBLANK($R570)=TRUE,\"\",VLOOKUP($R570,TAXONOMY!$A$1:$G$959,4,FALSE))","v":""},{"$f":"IF(ISBLANK($R570)=TRUE,\"\",VLOOKUP($R570,TAXONOMY!$A$1:$G$959,3,FALSE))","v":""},{"$f":"IF(ISBLANK($R570)=TRUE,\"\",VLOOKUP($R570,TAXONOMY!$A$1:$H$959,2,FALSE))","v":""}]
[null,null,null,null,null,null,null,null,null,null,null,{"$f":"IF(ISBLANK($R571)=TRUE,\"\",VLOOKUP($R571,TAXONOMY!$A$1:$G$959,7,FALSE))","v":""},{"$f":"IF(ISBLANK($R571)=TRUE,\"\",VLOOKUP($R571,TAXONOMY!$A$1:$G$959,6,FALSE))","v":""},{"$f":"IF(ISBLANK($R571)=TRUE,\"\",VLOOKUP($R571,TAXONOMY!$A$1:$G$959,5,FALSE))","v":""},{"$f":"IF(ISBLANK($R571)=TRUE,\"\",VLOOKUP($R571,TAXONOMY!$A$1:$G$959,4,FALSE))","v":""},{"$f":"IF(ISBLANK($R571)=TRUE,\"\",VLOOKUP($R571,TAXONOMY!$A$1:$G$959,3,FALSE))","v":""},{"$f":"IF(ISBLANK($R571)=TRUE,\"\",VLOOKUP($R571,TAXONOMY!$A$1:$H$959,2,FALSE))","v":""}]
[null,null,null,null,null,null,null,null,null,null,null,{"$f":"IF(ISBLANK($R572)=TRUE,\"\",VLOOKUP($R572,TAXONOMY!$A$1:$G$959,7,FALSE))","v":""},{"$f":"IF(ISBLANK($R572)=TRUE,\"\",VLOOKUP($R572,TAXONOMY!$A$1:$G$959,6,FALSE))","v":""},{"$f":"IF(ISBLANK($R572)=TRUE,\"\",VLOOKUP($R572,TAXONOMY!$A$1:$G$959,5,FALSE))","v":""},{"$f":"IF(ISBLANK($R572)=TRUE,\"\",VLOOKUP($R572,TAXONOMY!$A$1:$G$959,4,FALSE))","v":""},{"$f":"IF(ISBLANK($R572)=TRUE,\"\",VLOOKUP($R572,TAXONOMY!$A$1:$G$959,3,FALSE))","v":""},{"$f":"IF(ISBLANK($R572)=TRUE,\"\",VLOOKUP($R572,TAXONOMY!$A$1:$H$959,2,FALSE))","v":""}]
[null,null,null,null,null,null,null,null,null,null,null,{"$f":"IF(ISBLANK($R573)=TRUE,\"\",VLOOKUP($R573,TAXONOMY!$A$1:$G$959,7,FALSE))","v":""},{"$f":"IF(ISBLANK($R573)=TRUE,\"\",VLOOKUP($R573,TAXONOMY!$A$1:$G$959,6,FALSE))","v":""},{"$f":"IF(ISBLANK($R573)=TRUE,\"\",VLOOKUP($R573,TAXONOMY!$A$1:$G$959,5,FALSE))","v":""},{"$f":"IF(ISBLANK($R573)=TRUE,\"\",VLOOKUP($R573,TAXONOMY!$A$1:$G$959,4,FALSE))","v":""},{"$f":"IF(ISBLANK($R573)=TRUE,\"\",VLOOKUP($R573,TAXONOMY!$A$1:$G$959,3,FALSE))","v":""},{"$f":"IF(ISBLANK($R573)=TRUE,\"\",VLOOKUP($R573,TAXONOMY!$A$1:$H$959,2,FALSE))","v":""}]
[null,null,null,null,null,null,null,null,null,null,null,{"$f":"IF(ISBLANK($R574)=TRUE,\"\",VLOOKUP($R574,TAXONOMY!$A$1:$G$959,7,FALSE))","v":""},{"$f":"IF(ISBLANK($R574)=TRUE,\"\",VLOOKUP($R574,TAXONOMY!$A$1:$G$959,6,FALSE))","v":""},{"$f":"IF(ISBLANK($R574)=TRUE,\"\",VLOOKUP($R574,TAXONOMY!$A$1:$G$959,5,FALSE))","v":""},{"$f":"IF(ISBLANK($R574)=TRUE,\"\",VLOOKUP($R574,TAXONOMY!$A$1:$G$959,4,FALSE))","v":""},{"$f":"IF(ISBLANK($R574)=TRUE,\"\",VLOOKUP($R574,TAXONOMY!$A$1:$G$959,3,FALSE))","v":""},{"$f":"IF(ISBLANK($R574)=TRUE,\"\",VLOOKUP($R574,TAXONOMY!$A$1:$H$959,2,FALSE))","v":""}]
[null,null,null,null,null,null,null,null,null,null,null,{"$f":"IF(ISBLANK($R575)=TRUE,\"\",VLOOKUP($R575,TAXONOMY!$A$1:$G$959,7,FALSE))","v":""},{"$f":"IF(ISBLANK($R575)=TRUE,\"\",VLOOKUP($R575,TAXONOMY!$A$1:$G$959,6,FALSE))","v":""},{"$f":"IF(ISBLANK($R575)=TRUE,\"\",VLOOKUP($R575,TAXONOMY!$A$1:$G$959,5,FALSE))","v":""},{"$f":"IF(ISBLANK($R575)=TRUE,\"\",VLOOKUP($R575,TAXONOMY!$A$1:$G$959,4,FALSE))","v":""},{"$f":"IF(ISBLANK($R575)=TRUE,\"\",VLOOKUP($R575,TAXONOMY!$A$1:$G$959,3,FALSE))","v":""},{"$f":"IF(ISBLANK($R575)=TRUE,\"\",VLOOKUP($R575,TAXONOMY!$A$1:$H$959,2,FALSE))","v":""}]
[null,null,null,null,null,null,null,null,null,null,null,{"$f":"IF(ISBLANK($R576)=TRUE,\"\",VLOOKUP($R576,TAXONOMY!$A$1:$G$959,7,FALSE))","v":""},{"$f":"IF(ISBLANK($R576)=TRUE,\"\",VLOOKUP($R576,TAXONOMY!$A$1:$G$959,6,FALSE))","v":""},{"$f":"IF(ISBLANK($R576)=TRUE,\"\",VLOOKUP($R576,TAXONOMY!$A$1:$G$959,5,FALSE))","v":""},{"$f":"IF(ISBLANK($R576)=TRUE,\"\",VLOOKUP($R576,TAXONOMY!$A$1:$G$959,4,FALSE))","v":""},{"$f":"IF(ISBLANK($R576)=TRUE,\"\",VLOOKUP($R576,TAXONOMY!$A$1:$G$959,3,FALSE))","v":""},{"$f":"IF(ISBLANK($R576)=TRUE,\"\",VLOOKUP($R576,TAXONOMY!$A$1:$H$959,2,FALSE))","v":""}]
[null,null,null,null,null,null,null,null,null,null,null,{"$f":"IF(ISBLANK($R577)=TRUE,\"\",VLOOKUP($R577,TAXONOMY!$A$1:$G$959,7,FALSE))","v":""},{"$f":"IF(ISBLANK($R577)=TRUE,\"\",VLOOKUP($R577,TAXONOMY!$A$1:$G$959,6,FALSE))","v":""},{"$f":"IF(ISBLANK($R577)=TRUE,\"\",VLOOKUP($R577,TAXONOMY!$A$1:$G$959,5,FALSE))","v":""},{"$f":"IF(ISBLANK($R577)=TRUE,\"\",VLOOKUP($R577,TAXONOMY!$A$1:$G$959,4,FALSE))","v":""},{"$f":"IF(ISBLANK($R577)=TRUE,\"\",VLOOKUP($R577,TAXONOMY!$A$1:$G$959,3,FALSE))","v":""},{"$f":"IF(ISBLANK($R577)=TRUE,\"\",VLOOKUP($R577,TAXONOMY!$A$1:$H$959,2,FALSE))","v":""}]
[null,null,null,null,null,null,null,null,null,null,null,{"$f":"IF(ISBLANK($R578)=TRUE,\"\",VLOOKUP($R578,TAXONOMY!$A$1:$G$959,7,FALSE))","v":""},{"$f":"IF(ISBLANK($R578)=TRUE,\"\",VLOOKUP($R578,TAXONOMY!$A$1:$G$959,6,FALSE))","v":""},{"$f":"IF(ISBLANK($R578)=TRUE,\"\",VLOOKUP($R578,TAXONOMY!$A$1:$G$959,5,FALSE))","v":""},{"$f":"IF(ISBLANK($R578)=TRUE,\"\",VLOOKUP($R578,TAXONOMY!$A$1:$G$959,4,FALSE))","v":""},{"$f":"IF(ISBLANK($R578)=TRUE,\"\",VLOOKUP($R578,TAXONOMY!$A$1:$G$959,3,FALSE))","v":""},{"$f":"IF(ISBLANK($R578)=TRUE,\"\",VLOOKUP($R578,TAXONOMY!$A$1:$H$959,2,FALSE))","v":""}]
[null,null,null,null,null,null,null,null,null,null,null,{"$f":"IF(ISBLANK($R579)=TRUE,\"\",VLOOKUP($R579,TAXONOMY!$A$1:$G$959,7,FALSE))","v":""},{"$f":"IF(ISBLANK($R579)=TRUE,\"\",VLOOKUP($R579,TAXONOMY!$A$1:$G$959,6,FALSE))","v":""},{"$f":"IF(ISBLANK($R579)=TRUE,\"\",VLOOKUP($R579,TAXONOMY!$A$1:$G$959,5,FALSE))","v":""},{"$f":"IF(ISBLANK($R579)=TRUE,\"\",VLOOKUP($R579,TAXONOMY!$A$1:$G$959,4,FALSE))","v":""},{"$f":"IF(ISBLANK($R579)=TRUE,\"\",VLOOKUP($R579,TAXONOMY!$A$1:$G$959,3,FALSE))","v":""},{"$f":"IF(ISBLANK($R579)=TRUE,\"\",VLOOKUP($R579,TAXONOMY!$A$1:$H$959,2,FALSE))","v":""}]
[null,null,null,null,null,null,null,null,null,null,null,{"$f":"IF(ISBLANK($R580)=TRUE,\"\",VLOOKUP($R580,TAXONOMY!$A$1:$G$959,7,FALSE))","v":""},{"$f":"IF(ISBLANK($R580)=TRUE,\"\",VLOOKUP($R580,TAXONOMY!$A$1:$G$959,6,FALSE))","v":""},{"$f":"IF(ISBLANK($R580)=TRUE,\"\",VLOOKUP($R580,TAXONOMY!$A$1:$G$959,5,FALSE))","v":""},{"$f":"IF(ISBLANK($R580)=TRUE,\"\",VLOOKUP($R580,TAXONOMY!$A$1:$G$959,4,FALSE))","v":""},{"$f":"IF(ISBLANK($R580)=TRUE,\"\",VLOOKUP($R580,TAXONOMY!$A$1:$G$959,3,FALSE))","v":""},{"$f":"IF(ISBLANK($R580)=TRUE,\"\",VLOOKUP($R580,TAXONOMY!$A$1:$H$959,2,FALSE))","v":""}]
[null,null,null,null,null,null,null,null,null,null,null,{"$f":"IF(ISBLANK($R581)=TRUE,\"\",VLOOKUP($R581,TAXONOMY!$A$1:$G$959,7,FALSE))","v":""},{"$f":"IF(ISBLANK($R581)=TRUE,\"\",VLOOKUP($R581,TAXONOMY!$A$1:$G$959,6,FALSE))","v":""},{"$f":"IF(ISBLANK($R581)=TRUE,\"\",VLOOKUP($R581,TAXONOMY!$A$1:$G$959,5,FALSE))","v":""},{"$f":"IF(ISBLANK($R581)=TRUE,\"\",VLOOKUP($R581,TAXONOMY!$A$1:$G$959,4,FALSE))","v":""},{"$f":"IF(ISBLANK($R581)=TRUE,\"\",VLOOKUP($R581,TAXONOMY!$A$1:$G$959,3,FALSE))","v":""},{"$f":"IF(ISBLANK($R581)=TRUE,\"\",VLOOKUP($R581,TAXONOMY!$A$1:$H$959,2,FALSE))","v":""}]
[null,null,null,null,null,null,null,null,null,null,null,{"$f":"IF(ISBLANK($R582)=TRUE,\"\",VLOOKUP($R582,TAXONOMY!$A$1:$G$959,7,FALSE))","v":""},{"$f":"IF(ISBLANK($R582)=TRUE,\"\",VLOOKUP($R582,TAXONOMY!$A$1:$G$959,6,FALSE))","v":""},{"$f":"IF(ISBLANK($R582)=TRUE,\"\",VLOOKUP($R582,TAXONOMY!$A$1:$G$959,5,FALSE))","v":""},{"$f":"IF(ISBLANK($R582)=TRUE,\"\",VLOOKUP($R582,TAXONOMY!$A$1:$G$959,4,FALSE))","v":""},{"$f":"IF(ISBLANK($R582)=TRUE,\"\",VLOOKUP($R582,TAXONOMY!$A$1:$G$959,3,FALSE))","v":""},{"$f":"IF(ISBLANK($R582)=TRUE,\"\",VLOOKUP($R582,TAXONOMY!$A$1:$H$959,2,FALSE))","v":""}]
[null,null,null,null,null,null,null,null,null,null,null,{"$f":"IF(ISBLANK($R583)=TRUE,\"\",VLOOKUP($R583,TAXONOMY!$A$1:$G$959,7,FALSE))","v":""},{"$f":"IF(ISBLANK($R583)=TRUE,\"\",VLOOKUP($R583,TAXONOMY!$A$1:$G$959,6,FALSE))","v":""},{"$f":"IF(ISBLANK($R583)=TRUE,\"\",VLOOKUP($R583,TAXONOMY!$A$1:$G$959,5,FALSE))","v":""},{"$f":"IF(ISBLANK($R583)=TRUE,\"\",VLOOKUP($R583,TAXONOMY!$A$1:$G$959,4,FALSE))","v":""},{"$f":"IF(ISBLANK($R583)=TRUE,\"\",VLOOKUP($R583,TAXONOMY!$A$1:$G$959,3,FALSE))","v":""},{"$f":"IF(ISBLANK($R583)=TRUE,\"\",VLOOKUP($R583,TAXONOMY!$A$1:$H$959,2,FALSE))","v":""}]
[null,null,null,null,null,null,null,null,null,null,null,{"$f":"IF(ISBLANK($R584)=TRUE,\"\",VLOOKUP($R584,TAXONOMY!$A$1:$G$959,7,FALSE))","v":""},{"$f":"IF(ISBLANK($R584)=TRUE,\"\",VLOOKUP($R584,TAXONOMY!$A$1:$G$959,6,FALSE))","v":""},{"$f":"IF(ISBLANK($R584)=TRUE,\"\",VLOOKUP($R584,TAXONOMY!$A$1:$G$959,5,FALSE))","v":""},{"$f":"IF(ISBLANK($R584)=TRUE,\"\",VLOOKUP($R584,TAXONOMY!$A$1:$G$959,4,FALSE))","v":""},{"$f":"IF(ISBLANK($R584)=TRUE,\"\",VLOOKUP($R584,TAXONOMY!$A$1:$G$959,3,FALSE))","v":""},{"$f":"IF(ISBLANK($R584)=TRUE,\"\",VLOOKUP($R584,TAXONOMY!$A$1:$H$959,2,FALSE))","v":""}]
[null,null,null,null,null,null,null,null,null,null,null,{"$f":"IF(ISBLANK($R585)=TRUE,\"\",VLOOKUP($R585,TAXONOMY!$A$1:$G$959,7,FALSE))","v":""},{"$f":"IF(ISBLANK($R585)=TRUE,\"\",VLOOKUP($R585,TAXONOMY!$A$1:$G$959,6,FALSE))","v":""},{"$f":"IF(ISBLANK($R585)=TRUE,\"\",VLOOKUP($R585,TAXONOMY!$A$1:$G$959,5,FALSE))","v":""},{"$f":"IF(ISBLANK($R585)=TRUE,\"\",VLOOKUP($R585,TAXONOMY!$A$1:$G$959,4,FALSE))","v":""},{"$f":"IF(ISBLANK($R585)=TRUE,\"\",VLOOKUP($R585,TAXONOMY!$A$1:$G$959,3,FALSE))","v":""},{"$f":"IF(ISBLANK($R585)=TRUE,\"\",VLOOKUP($R585,TAXONOMY!$A$1:$H$959,2,FALSE))","v":""}]
[null,null,null,null,null,null,null,null,null,null,null,{"$f":"IF(ISBLANK($R586)=TRUE,\"\",VLOOKUP($R586,TAXONOMY!$A$1:$G$959,7,FALSE))","v":""},{"$f":"IF(ISBLANK($R586)=TRUE,\"\",VLOOKUP($R586,TAXONOMY!$A$1:$G$959,6,FALSE))","v":""},{"$f":"IF(ISBLANK($R586)=TRUE,\"\",VLOOKUP($R586,TAXONOMY!$A$1:$G$959,5,FALSE))","v":""},{"$f":"IF(ISBLANK($R586)=TRUE,\"\",VLOOKUP($R586,TAXONOMY!$A$1:$G$959,4,FALSE))","v":""},{"$f":"IF(ISBLANK($R586)=TRUE,\"\",VLOOKUP($R586,TAXONOMY!$A$1:$G$959,3,FALSE))","v":""},{"$f":"IF(ISBLANK($R586)=TRUE,\"\",VLOOKUP($R586,TAXONOMY!$A$1:$H$959,2,FALSE))","v":""}]
[null,null,null,null,null,null,null,null,null,null,null,{"$f":"IF(ISBLANK($R587)=TRUE,\"\",VLOOKUP($R587,TAXONOMY!$A$1:$G$959,7,FALSE))","v":""},{"$f":"IF(ISBLANK($R587)=TRUE,\"\",VLOOKUP($R587,TAXONOMY!$A$1:$G$959,6,FALSE))","v":""},{"$f":"IF(ISBLANK($R587)=TRUE,\"\",VLOOKUP($R587,TAXONOMY!$A$1:$G$959,5,FALSE))","v":""},{"$f":"IF(ISBLANK($R587)=TRUE,\"\",VLOOKUP($R587,TAXONOMY!$A$1:$G$959,4,FALSE))","v":""},{"$f":"IF(ISBLANK($R587)=TRUE,\"\",VLOOKUP($R587,TAXONOMY!$A$1:$G$959,3,FALSE))","v":""},{"$f":"IF(ISBLANK($R587)=TRUE,\"\",VLOOKUP($R587,TAXONOMY!$A$1:$H$959,2,FALSE))","v":""}]
[null,null,null,null,null,null,null,null,null,null,null,{"$f":"IF(ISBLANK($R588)=TRUE,\"\",VLOOKUP($R588,TAXONOMY!$A$1:$G$959,7,FALSE))","v":""},{"$f":"IF(ISBLANK($R588)=TRUE,\"\",VLOOKUP($R588,TAXONOMY!$A$1:$G$959,6,FALSE))","v":""},{"$f":"IF(ISBLANK($R588)=TRUE,\"\",VLOOKUP($R588,TAXONOMY!$A$1:$G$959,5,FALSE))","v":""},{"$f":"IF(ISBLANK($R588)=TRUE,\"\",VLOOKUP($R588,TAXONOMY!$A$1:$G$959,4,FALSE))","v":""},{"$f":"IF(ISBLANK($R588)=TRUE,\"\",VLOOKUP($R588,TAXONOMY!$A$1:$G$959,3,FALSE))","v":""},{"$f":"IF(ISBLANK($R588)=TRUE,\"\",VLOOKUP($R588,TAXONOMY!$A$1:$H$959,2,FALSE))","v":""}]
[null,null,null,null,null,null,null,null,null,null,null,{"$f":"IF(ISBLANK($R589)=TRUE,\"\",VLOOKUP($R589,TAXONOMY!$A$1:$G$959,7,FALSE))","v":""},{"$f":"IF(ISBLANK($R589)=TRUE,\"\",VLOOKUP($R589,TAXONOMY!$A$1:$G$959,6,FALSE))","v":""},{"$f":"IF(ISBLANK($R589)=TRUE,\"\",VLOOKUP($R589,TAXONOMY!$A$1:$G$959,5,FALSE))","v":""},{"$f":"IF(ISBLANK($R589)=TRUE,\"\",VLOOKUP($R589,TAXONOMY!$A$1:$G$959,4,FALSE))","v":""},{"$f":"IF(ISBLANK($R589)=TRUE,\"\",VLOOKUP($R589,TAXONOMY!$A$1:$G$959,3,FALSE))","v":""},{"$f":"IF(ISBLANK($R589)=TRUE,\"\",VLOOKUP($R589,TAXONOMY!$A$1:$H$959,2,FALSE))","v":""}]
[null,null,null,null,null,null,null,null,null,null,null,{"$f":"IF(ISBLANK($R590)=TRUE,\"\",VLOOKUP($R590,TAXONOMY!$A$1:$G$959,7,FALSE))","v":""},{"$f":"IF(ISBLANK($R590)=TRUE,\"\",VLOOKUP($R590,TAXONOMY!$A$1:$G$959,6,FALSE))","v":""},{"$f":"IF(ISBLANK($R590)=TRUE,\"\",VLOOKUP($R590,TAXONOMY!$A$1:$G$959,5,FALSE))","v":""},{"$f":"IF(ISBLANK($R590)=TRUE,\"\",VLOOKUP($R590,TAXONOMY!$A$1:$G$959,4,FALSE))","v":""},{"$f":"IF(ISBLANK($R590)=TRUE,\"\",VLOOKUP($R590,TAXONOMY!$A$1:$G$959,3,FALSE))","v":""},{"$f":"IF(ISBLANK($R590)=TRUE,\"\",VLOOKUP($R590,TAXONOMY!$A$1:$H$959,2,FALSE))","v":""}]
[null,null,null,null,null,null,null,null,null,null,null,{"$f":"IF(ISBLANK($R591)=TRUE,\"\",VLOOKUP($R591,TAXONOMY!$A$1:$G$959,7,FALSE))","v":""},{"$f":"IF(ISBLANK($R591)=TRUE,\"\",VLOOKUP($R591,TAXONOMY!$A$1:$G$959,6,FALSE))","v":""},{"$f":"IF(ISBLANK($R591)=TRUE,\"\",VLOOKUP($R591,TAXONOMY!$A$1:$G$959,5,FALSE))","v":""},{"$f":"IF(ISBLANK($R591)=TRUE,\"\",VLOOKUP($R591,TAXONOMY!$A$1:$G$959,4,FALSE))","v":""},{"$f":"IF(ISBLANK($R591)=TRUE,\"\",VLOOKUP($R591,TAXONOMY!$A$1:$G$959,3,FALSE))","v":""},{"$f":"IF(ISBLANK($R591)=TRUE,\"\",VLOOKUP($R591,TAXONOMY!$A$1:$H$959,2,FALSE))","v":""}]
[null,null,null,null,null,null,null,null,null,null,null,{"$f":"IF(ISBLANK($R592)=TRUE,\"\",VLOOKUP($R592,TAXONOMY!$A$1:$G$959,7,FALSE))","v":""},{"$f":"IF(ISBLANK($R592)=TRUE,\"\",VLOOKUP($R592,TAXONOMY!$A$1:$G$959,6,FALSE))","v":""},{"$f":"IF(ISBLANK($R592)=TRUE,\"\",VLOOKUP($R592,TAXONOMY!$A$1:$G$959,5,FALSE))","v":""},{"$f":"IF(ISBLANK($R592)=TRUE,\"\",VLOOKUP($R592,TAXONOMY!$A$1:$G$959,4,FALSE))","v":""},{"$f":"IF(ISBLANK($R592)=TRUE,\"\",VLOOKUP($R592,TAXONOMY!$A$1:$G$959,3,FALSE))","v":""},{"$f":"IF(ISBLANK($R592)=TRUE,\"\",VLOOKUP($R592,TAXONOMY!$A$1:$H$959,2,FALSE))","v":""}]
[null,null,null,null,null,null,null,null,null,null,null,{"$f":"IF(ISBLANK($R593)=TRUE,\"\",VLOOKUP($R593,TAXONOMY!$A$1:$G$959,7,FALSE))","v":""},{"$f":"IF(ISBLANK($R593)=TRUE,\"\",VLOOKUP($R593,TAXONOMY!$A$1:$G$959,6,FALSE))","v":""},{"$f":"IF(ISBLANK($R593)=TRUE,\"\",VLOOKUP($R593,TAXONOMY!$A$1:$G$959,5,FALSE))","v":""},{"$f":"IF(ISBLANK($R593)=TRUE,\"\",VLOOKUP($R593,TAXONOMY!$A$1:$G$959,4,FALSE))","v":""},{"$f":"IF(ISBLANK($R593)=TRUE,\"\",VLOOKUP($R593,TAXONOMY!$A$1:$G$959,3,FALSE))","v":""},{"$f":"IF(ISBLANK($R593)=TRUE,\"\",VLOOKUP($R593,TAXONOMY!$A$1:$H$959,2,FALSE))","v":""}]
[null,null,null,null,null,null,null,null,null,null,null,{"$f":"IF(ISBLANK($R594)=TRUE,\"\",VLOOKUP($R594,TAXONOMY!$A$1:$G$959,7,FALSE))","v":""},{"$f":"IF(ISBLANK($R594)=TRUE,\"\",VLOOKUP($R594,TAXONOMY!$A$1:$G$959,6,FALSE))","v":""},{"$f":"IF(ISBLANK($R594)=TRUE,\"\",VLOOKUP($R594,TAXONOMY!$A$1:$G$959,5,FALSE))","v":""},{"$f":"IF(ISBLANK($R594)=TRUE,\"\",VLOOKUP($R594,TAXONOMY!$A$1:$G$959,4,FALSE))","v":""},{"$f":"IF(ISBLANK($R594)=TRUE,\"\",VLOOKUP($R594,TAXONOMY!$A$1:$G$959,3,FALSE))","v":""},{"$f":"IF(ISBLANK($R594)=TRUE,\"\",VLOOKUP($R594,TAXONOMY!$A$1:$H$959,2,FALSE))","v":""}]
[null,null,null,null,null,null,null,null,null,null,null,{"$f":"IF(ISBLANK($R595)=TRUE,\"\",VLOOKUP($R595,TAXONOMY!$A$1:$G$959,7,FALSE))","v":""},{"$f":"IF(ISBLANK($R595)=TRUE,\"\",VLOOKUP($R595,TAXONOMY!$A$1:$G$959,6,FALSE))","v":""},{"$f":"IF(ISBLANK($R595)=TRUE,\"\",VLOOKUP($R595,TAXONOMY!$A$1:$G$959,5,FALSE))","v":""},{"$f":"IF(ISBLANK($R595)=TRUE,\"\",VLOOKUP($R595,TAXONOMY!$A$1:$G$959,4,FALSE))","v":""},{"$f":"IF(ISBLANK($R595)=TRUE,\"\",VLOOKUP($R595,TAXONOMY!$A$1:$G$959,3,FALSE))","v":""},{"$f":"IF(ISBLANK($R595)=TRUE,\"\",VLOOKUP($R595,TAXONOMY!$A$1:$H$959,2,FALSE))","v":""}]
[null,null,null,null,null,null,null,null,null,null,null,{"$f":"IF(ISBLANK($R596)=TRUE,\"\",VLOOKUP($R596,TAXONOMY!$A$1:$G$959,7,FALSE))","v":""},{"$f":"IF(ISBLANK($R596)=TRUE,\"\",VLOOKUP($R596,TAXONOMY!$A$1:$G$959,6,FALSE))","v":""},{"$f":"IF(ISBLANK($R596)=TRUE,\"\",VLOOKUP($R596,TAXONOMY!$A$1:$G$959,5,FALSE))","v":""},{"$f":"IF(ISBLANK($R596)=TRUE,\"\",VLOOKUP($R596,TAXONOMY!$A$1:$G$959,4,FALSE))","v":""},{"$f":"IF(ISBLANK($R596)=TRUE,\"\",VLOOKUP($R596,TAXONOMY!$A$1:$G$959,3,FALSE))","v":""},{"$f":"IF(ISBLANK($R596)=TRUE,\"\",VLOOKUP($R596,TAXONOMY!$A$1:$H$959,2,FALSE))","v":""}]
[null,null,null,null,null,null,null,null,null,null,null,{"$f":"IF(ISBLANK($R597)=TRUE,\"\",VLOOKUP($R597,TAXONOMY!$A$1:$G$959,7,FALSE))","v":""},{"$f":"IF(ISBLANK($R597)=TRUE,\"\",VLOOKUP($R597,TAXONOMY!$A$1:$G$959,6,FALSE))","v":""},{"$f":"IF(ISBLANK($R597)=TRUE,\"\",VLOOKUP($R597,TAXONOMY!$A$1:$G$959,5,FALSE))","v":""},{"$f":"IF(ISBLANK($R597)=TRUE,\"\",VLOOKUP($R597,TAXONOMY!$A$1:$G$959,4,FALSE))","v":""},{"$f":"IF(ISBLANK($R597)=TRUE,\"\",VLOOKUP($R597,TAXONOMY!$A$1:$G$959,3,FALSE))","v":""},{"$f":"IF(ISBLANK($R597)=TRUE,\"\",VLOOKUP($R597,TAXONOMY!$A$1:$H$959,2,FALSE))","v":""}]
[null,null,null,null,null,null,null,null,null,null,null,{"$f":"IF(ISBLANK($R598)=TRUE,\"\",VLOOKUP($R598,TAXONOMY!$A$1:$G$959,7,FALSE))","v":""},{"$f":"IF(ISBLANK($R598)=TRUE,\"\",VLOOKUP($R598,TAXONOMY!$A$1:$G$959,6,FALSE))","v":""},{"$f":"IF(ISBLANK($R598)=TRUE,\"\",VLOOKUP($R598,TAXONOMY!$A$1:$G$959,5,FALSE))","v":""},{"$f":"IF(ISBLANK($R598)=TRUE,\"\",VLOOKUP($R598,TAXONOMY!$A$1:$G$959,4,FALSE))","v":""},{"$f":"IF(ISBLANK($R598)=TRUE,\"\",VLOOKUP($R598,TAXONOMY!$A$1:$G$959,3,FALSE))","v":""},{"$f":"IF(ISBLANK($R598)=TRUE,\"\",VLOOKUP($R598,TAXONOMY!$A$1:$H$959,2,FALSE))","v":""}]
[null,null,null,null,null,null,null,null,null,null,null,{"$f":"IF(ISBLANK($R599)=TRUE,\"\",VLOOKUP($R599,TAXONOMY!$A$1:$G$959,7,FALSE))","v":""},{"$f":"IF(ISBLANK($R599)=TRUE,\"\",VLOOKUP($R599,TAXONOMY!$A$1:$G$959,6,FALSE))","v":""},{"$f":"IF(ISBLANK($R599)=TRUE,\"\",VLOOKUP($R599,TAXONOMY!$A$1:$G$959,5,FALSE))","v":""},{"$f":"IF(ISBLANK($R599)=TRUE,\"\",VLOOKUP($R599,TAXONOMY!$A$1:$G$959,4,FALSE))","v":""},{"$f":"IF(ISBLANK($R599)=TRUE,\"\",VLOOKUP($R599,TAXONOMY!$A$1:$G$959,3,FALSE))","v":""},{"$f":"IF(ISBLANK($R599)=TRUE,\"\",VLOOKUP($R599,TAXONOMY!$A$1:$H$959,2,FALSE))","v":""}]
[null,null,null,null,null,null,null,null,null,null,null,{"$f":"IF(ISBLANK($R600)=TRUE,\"\",VLOOKUP($R600,TAXONOMY!$A$1:$G$959,7,FALSE))","v":""},{"$f":"IF(ISBLANK($R600)=TRUE,\"\",VLOOKUP($R600,TAXONOMY!$A$1:$G$959,6,FALSE))","v":""},{"$f":"IF(ISBLANK($R600)=TRUE,\"\",VLOOKUP($R600,TAXONOMY!$A$1:$G$959,5,FALSE))","v":""},{"$f":"IF(ISBLANK($R600)=TRUE,\"\",VLOOKUP($R600,TAXONOMY!$A$1:$G$959,4,FALSE))","v":""},{"$f":"IF(ISBLANK($R600)=TRUE,\"\",VLOOKUP($R600,TAXONOMY!$A$1:$G$959,3,FALSE))","v":""},{"$f":"IF(ISBLANK($R600)=TRUE,\"\",VLOOKUP($R600,TAXONOMY!$A$1:$H$959,2,FALSE))","v":""}]
[null,null,null,null,null,null,null,null,null,null,null,{"$f":"IF(ISBLANK($R601)=TRUE,\"\",VLOOKUP($R601,TAXONOMY!$A$1:$G$959,7,FALSE))","v":""},{"$f":"IF(ISBLANK($R601)=TRUE,\"\",VLOOKUP($R601,TAXONOMY!$A$1:$G$959,6,FALSE))","v":""},{"$f":"IF(ISBLANK($R601)=TRUE,\"\",VLOOKUP($R601,TAXONOMY!$A$1:$G$959,5,FALSE))","v":""},{"$f":"IF(ISBLANK($R601)=TRUE,\"\",VLOOKUP($R601,TAXONOMY!$A$1:$G$959,4,FALSE))","v":""},{"$f":"IF(ISBLANK($R601)=TRUE,\"\",VLOOKUP($R601,TAXONOMY!$A$1:$G$959,3,FALSE))","v":""},{"$f":"IF(ISBLANK($R601)=TRUE,\"\",VLOOKUP($R601,TAXONOMY!$A$1:$H$959,2,FALSE))","v":""}]
[null,null,null,null,null,null,null,null,null,null,null,{"$f":"IF(ISBLANK($R602)=TRUE,\"\",VLOOKUP($R602,TAXONOMY!$A$1:$G$959,7,FALSE))","v":""},{"$f":"IF(ISBLANK($R602)=TRUE,\"\",VLOOKUP($R602,TAXONOMY!$A$1:$G$959,6,FALSE))","v":""},{"$f":"IF(ISBLANK($R602)=TRUE,\"\",VLOOKUP($R602,TAXONOMY!$A$1:$G$959,5,FALSE))","v":""},{"$f":"IF(ISBLANK($R602)=TRUE,\"\",VLOOKUP($R602,TAXONOMY!$A$1:$G$959,4,FALSE))","v":""},{"$f":"IF(ISBLANK($R602)=TRUE,\"\",VLOOKUP($R602,TAXONOMY!$A$1:$G$959,3,FALSE))","v":""},{"$f":"IF(ISBLANK($R602)=TRUE,\"\",VLOOKUP($R602,TAXONOMY!$A$1:$H$959,2,FALSE))","v":""}]
[null,null,null,null,null,null,null,null,null,null,null,{"$f":"IF(ISBLANK($R603)=TRUE,\"\",VLOOKUP($R603,TAXONOMY!$A$1:$G$959,7,FALSE))","v":""},{"$f":"IF(ISBLANK($R603)=TRUE,\"\",VLOOKUP($R603,TAXONOMY!$A$1:$G$959,6,FALSE))","v":""},{"$f":"IF(ISBLANK($R603)=TRUE,\"\",VLOOKUP($R603,TAXONOMY!$A$1:$G$959,5,FALSE))","v":""},{"$f":"IF(ISBLANK($R603)=TRUE,\"\",VLOOKUP($R603,TAXONOMY!$A$1:$G$959,4,FALSE))","v":""},{"$f":"IF(ISBLANK($R603)=TRUE,\"\",VLOOKUP($R603,TAXONOMY!$A$1:$G$959,3,FALSE))","v":""},{"$f":"IF(ISBLANK($R603)=TRUE,\"\",VLOOKUP($R603,TAXONOMY!$A$1:$H$959,2,FALSE))","v":""}]
[null,null,null,null,null,null,null,null,null,null,null,{"$f":"IF(ISBLANK($R604)=TRUE,\"\",VLOOKUP($R604,TAXONOMY!$A$1:$G$959,7,FALSE))","v":""},{"$f":"IF(ISBLANK($R604)=TRUE,\"\",VLOOKUP($R604,TAXONOMY!$A$1:$G$959,6,FALSE))","v":""},{"$f":"IF(ISBLANK($R604)=TRUE,\"\",VLOOKUP($R604,TAXONOMY!$A$1:$G$959,5,FALSE))","v":""},{"$f":"IF(ISBLANK($R604)=TRUE,\"\",VLOOKUP($R604,TAXONOMY!$A$1:$G$959,4,FALSE))","v":""},{"$f":"IF(ISBLANK($R604)=TRUE,\"\",VLOOKUP($R604,TAXONOMY!$A$1:$G$959,3,FALSE))","v":""},{"$f":"IF(ISBLANK($R604)=TRUE,\"\",VLOOKUP($R604,TAXONOMY!$A$1:$H$959,2,FALSE))","v":""}]
[null,null,null,null,null,null,null,null,null,null,null,{"$f":"IF(ISBLANK($R605)=TRUE,\"\",VLOOKUP($R605,TAXONOMY!$A$1:$G$959,7,FALSE))","v":""},{"$f":"IF(ISBLANK($R605)=TRUE,\"\",VLOOKUP($R605,TAXONOMY!$A$1:$G$959,6,FALSE))","v":""},{"$f":"IF(ISBLANK($R605)=TRUE,\"\",VLOOKUP($R605,TAXONOMY!$A$1:$G$959,5,FALSE))","v":""},{"$f":"IF(ISBLANK($R605)=TRUE,\"\",VLOOKUP($R605,TAXONOMY!$A$1:$G$959,4,FALSE))","v":""},{"$f":"IF(ISBLANK($R605)=TRUE,\"\",VLOOKUP($R605,TAXONOMY!$A$1:$G$959,3,FALSE))","v":""},{"$f":"IF(ISBLANK($R605)=TRUE,\"\",VLOOKUP($R605,TAXONOMY!$A$1:$H$959,2,FALSE))","v":""}]
[null,null,null,null,null,null,null,null,null,null,null,{"$f":"IF(ISBLANK($R606)=TRUE,\"\",VLOOKUP($R606,TAXONOMY!$A$1:$G$959,7,FALSE))","v":""},{"$f":"IF(ISBLANK($R606)=TRUE,\"\",VLOOKUP($R606,TAXONOMY!$A$1:$G$959,6,FALSE))","v":""},{"$f":"IF(ISBLANK($R606)=TRUE,\"\",VLOOKUP($R606,TAXONOMY!$A$1:$G$959,5,FALSE))","v":""},{"$f":"IF(ISBLANK($R606)=TRUE,\"\",VLOOKUP($R606,TAXONOMY!$A$1:$G$959,4,FALSE))","v":""},{"$f":"IF(ISBLANK($R606)=TRUE,\"\",VLOOKUP($R606,TAXONOMY!$A$1:$G$959,3,FALSE))","v":""},{"$f":"IF(ISBLANK($R606)=TRUE,\"\",VLOOKUP($R606,TAXONOMY!$A$1:$H$959,2,FALSE))","v":""}]
[null,null,null,null,null,null,null,null,null,null,null,{"$f":"IF(ISBLANK($R607)=TRUE,\"\",VLOOKUP($R607,TAXONOMY!$A$1:$G$959,7,FALSE))","v":""},{"$f":"IF(ISBLANK($R607)=TRUE,\"\",VLOOKUP($R607,TAXONOMY!$A$1:$G$959,6,FALSE))","v":""},{"$f":"IF(ISBLANK($R607)=TRUE,\"\",VLOOKUP($R607,TAXONOMY!$A$1:$G$959,5,FALSE))","v":""},{"$f":"IF(ISBLANK($R607)=TRUE,\"\",VLOOKUP($R607,TAXONOMY!$A$1:$G$959,4,FALSE))","v":""},{"$f":"IF(ISBLANK($R607)=TRUE,\"\",VLOOKUP($R607,TAXONOMY!$A$1:$G$959,3,FALSE))","v":""},{"$f":"IF(ISBLANK($R607)=TRUE,\"\",VLOOKUP($R607,TAXONOMY!$A$1:$H$959,2,FALSE))","v":""}]
[null,null,null,null,null,null,null,null,null,null,null,{"$f":"IF(ISBLANK($R608)=TRUE,\"\",VLOOKUP($R608,TAXONOMY!$A$1:$G$959,7,FALSE))","v":""},{"$f":"IF(ISBLANK($R608)=TRUE,\"\",VLOOKUP($R608,TAXONOMY!$A$1:$G$959,6,FALSE))","v":""},{"$f":"IF(ISBLANK($R608)=TRUE,\"\",VLOOKUP($R608,TAXONOMY!$A$1:$G$959,5,FALSE))","v":""},{"$f":"IF(ISBLANK($R608)=TRUE,\"\",VLOOKUP($R608,TAXONOMY!$A$1:$G$959,4,FALSE))","v":""},{"$f":"IF(ISBLANK($R608)=TRUE,\"\",VLOOKUP($R608,TAXONOMY!$A$1:$G$959,3,FALSE))","v":""},{"$f":"IF(ISBLANK($R608)=TRUE,\"\",VLOOKUP($R608,TAXONOMY!$A$1:$H$959,2,FALSE))","v":""}]
[null,null,null,null,null,null,null,null,null,null,null,{"$f":"IF(ISBLANK($R609)=TRUE,\"\",VLOOKUP($R609,TAXONOMY!$A$1:$G$959,7,FALSE))","v":""},{"$f":"IF(ISBLANK($R609)=TRUE,\"\",VLOOKUP($R609,TAXONOMY!$A$1:$G$959,6,FALSE))","v":""},{"$f":"IF(ISBLANK($R609)=TRUE,\"\",VLOOKUP($R609,TAXONOMY!$A$1:$G$959,5,FALSE))","v":""},{"$f":"IF(ISBLANK($R609)=TRUE,\"\",VLOOKUP($R609,TAXONOMY!$A$1:$G$959,4,FALSE))","v":""},{"$f":"IF(ISBLANK($R609)=TRUE,\"\",VLOOKUP($R609,TAXONOMY!$A$1:$G$959,3,FALSE))","v":""},{"$f":"IF(ISBLANK($R609)=TRUE,\"\",VLOOKUP($R609,TAXONOMY!$A$1:$H$959,2,FALSE))","v":""}]
[null,null,null,null,null,null,null,null,null,null,null,{"$f":"IF(ISBLANK($R610)=TRUE,\"\",VLOOKUP($R610,TAXONOMY!$A$1:$G$959,7,FALSE))","v":""},{"$f":"IF(ISBLANK($R610)=TRUE,\"\",VLOOKUP($R610,TAXONOMY!$A$1:$G$959,6,FALSE))","v":""},{"$f":"IF(ISBLANK($R610)=TRUE,\"\",VLOOKUP($R610,TAXONOMY!$A$1:$G$959,5,FALSE))","v":""},{"$f":"IF(ISBLANK($R610)=TRUE,\"\",VLOOKUP($R610,TAXONOMY!$A$1:$G$959,4,FALSE))","v":""},{"$f":"IF(ISBLANK($R610)=TRUE,\"\",VLOOKUP($R610,TAXONOMY!$A$1:$G$959,3,FALSE))","v":""},{"$f":"IF(ISBLANK($R610)=TRUE,\"\",VLOOKUP($R610,TAXONOMY!$A$1:$H$959,2,FALSE))","v":""}]
[null,null,null,null,null,null,null,null,null,null,null,{"$f":"IF(ISBLANK($R611)=TRUE,\"\",VLOOKUP($R611,TAXONOMY!$A$1:$G$959,7,FALSE))","v":""},{"$f":"IF(ISBLANK($R611)=TRUE,\"\",VLOOKUP($R611,TAXONOMY!$A$1:$G$959,6,FALSE))","v":""},{"$f":"IF(ISBLANK($R611)=TRUE,\"\",VLOOKUP($R611,TAXONOMY!$A$1:$G$959,5,FALSE))","v":""},{"$f":"IF(ISBLANK($R611)=TRUE,\"\",VLOOKUP($R611,TAXONOMY!$A$1:$G$959,4,FALSE))","v":""},{"$f":"IF(ISBLANK($R611)=TRUE,\"\",VLOOKUP($R611,TAXONOMY!$A$1:$G$959,3,FALSE))","v":""},{"$f":"IF(ISBLANK($R611)=TRUE,\"\",VLOOKUP($R611,TAXONOMY!$A$1:$H$959,2,FALSE))","v":""}]
[null,null,null,null,null,null,null,null,null,null,null,{"$f":"IF(ISBLANK($R612)=TRUE,\"\",VLOOKUP($R612,TAXONOMY!$A$1:$G$959,7,FALSE))","v":""},{"$f":"IF(ISBLANK($R612)=TRUE,\"\",VLOOKUP($R612,TAXONOMY!$A$1:$G$959,6,FALSE))","v":""},{"$f":"IF(ISBLANK($R612)=TRUE,\"\",VLOOKUP($R612,TAXONOMY!$A$1:$G$959,5,FALSE))","v":""},{"$f":"IF(ISBLANK($R612)=TRUE,\"\",VLOOKUP($R612,TAXONOMY!$A$1:$G$959,4,FALSE))","v":""},{"$f":"IF(ISBLANK($R612)=TRUE,\"\",VLOOKUP($R612,TAXONOMY!$A$1:$G$959,3,FALSE))","v":""},{"$f":"IF(ISBLANK($R612)=TRUE,\"\",VLOOKUP($R612,TAXONOMY!$A$1:$H$959,2,FALSE))","v":""}]
[null,null,null,null,null,null,null,null,null,null,null,{"$f":"IF(ISBLANK($R613)=TRUE,\"\",VLOOKUP($R613,TAXONOMY!$A$1:$G$959,7,FALSE))","v":""},{"$f":"IF(ISBLANK($R613)=TRUE,\"\",VLOOKUP($R613,TAXONOMY!$A$1:$G$959,6,FALSE))","v":""},{"$f":"IF(ISBLANK($R613)=TRUE,\"\",VLOOKUP($R613,TAXONOMY!$A$1:$G$959,5,FALSE))","v":""},{"$f":"IF(ISBLANK($R613)=TRUE,\"\",VLOOKUP($R613,TAXONOMY!$A$1:$G$959,4,FALSE))","v":""},{"$f":"IF(ISBLANK($R613)=TRUE,\"\",VLOOKUP($R613,TAXONOMY!$A$1:$G$959,3,FALSE))","v":""},{"$f":"IF(ISBLANK($R613)=TRUE,\"\",VLOOKUP($R613,TAXONOMY!$A$1:$H$959,2,FALSE))","v":""}]
[null,null,null,null,null,null,null,null,null,null,null,{"$f":"IF(ISBLANK($R614)=TRUE,\"\",VLOOKUP($R614,TAXONOMY!$A$1:$G$959,7,FALSE))","v":""},{"$f":"IF(ISBLANK($R614)=TRUE,\"\",VLOOKUP($R614,TAXONOMY!$A$1:$G$959,6,FALSE))","v":""},{"$f":"IF(ISBLANK($R614)=TRUE,\"\",VLOOKUP($R614,TAXONOMY!$A$1:$G$959,5,FALSE))","v":""},{"$f":"IF(ISBLANK($R614)=TRUE,\"\",VLOOKUP($R614,TAXONOMY!$A$1:$G$959,4,FALSE))","v":""},{"$f":"IF(ISBLANK($R614)=TRUE,\"\",VLOOKUP($R614,TAXONOMY!$A$1:$G$959,3,FALSE))","v":""},{"$f":"IF(ISBLANK($R614)=TRUE,\"\",VLOOKUP($R614,TAXONOMY!$A$1:$H$959,2,FALSE))","v":""}]
[null,null,null,null,null,null,null,null,null,null,null,{"$f":"IF(ISBLANK($R615)=TRUE,\"\",VLOOKUP($R615,TAXONOMY!$A$1:$G$959,7,FALSE))","v":""},{"$f":"IF(ISBLANK($R615)=TRUE,\"\",VLOOKUP($R615,TAXONOMY!$A$1:$G$959,6,FALSE))","v":""},{"$f":"IF(ISBLANK($R615)=TRUE,\"\",VLOOKUP($R615,TAXONOMY!$A$1:$G$959,5,FALSE))","v":""},{"$f":"IF(ISBLANK($R615)=TRUE,\"\",VLOOKUP($R615,TAXONOMY!$A$1:$G$959,4,FALSE))","v":""},{"$f":"IF(ISBLANK($R615)=TRUE,\"\",VLOOKUP($R615,TAXONOMY!$A$1:$G$959,3,FALSE))","v":""},{"$f":"IF(ISBLANK($R615)=TRUE,\"\",VLOOKUP($R615,TAXONOMY!$A$1:$H$959,2,FALSE))","v":""}]
[null,null,null,null,null,null,null,null,null,null,null,{"$f":"IF(ISBLANK($R616)=TRUE,\"\",VLOOKUP($R616,TAXONOMY!$A$1:$G$959,7,FALSE))","v":""},{"$f":"IF(ISBLANK($R616)=TRUE,\"\",VLOOKUP($R616,TAXONOMY!$A$1:$G$959,6,FALSE))","v":""},{"$f":"IF(ISBLANK($R616)=TRUE,\"\",VLOOKUP($R616,TAXONOMY!$A$1:$G$959,5,FALSE))","v":""},{"$f":"IF(ISBLANK($R616)=TRUE,\"\",VLOOKUP($R616,TAXONOMY!$A$1:$G$959,4,FALSE))","v":""},{"$f":"IF(ISBLANK($R616)=TRUE,\"\",VLOOKUP($R616,TAXONOMY!$A$1:$G$959,3,FALSE))","v":""},{"$f":"IF(ISBLANK($R616)=TRUE,\"\",VLOOKUP($R616,TAXONOMY!$A$1:$H$959,2,FALSE))","v":""}]
[null,null,null,null,null,null,null,null,null,null,null,{"$f":"IF(ISBLANK($R617)=TRUE,\"\",VLOOKUP($R617,TAXONOMY!$A$1:$G$959,7,FALSE))","v":""},{"$f":"IF(ISBLANK($R617)=TRUE,\"\",VLOOKUP($R617,TAXONOMY!$A$1:$G$959,6,FALSE))","v":""},{"$f":"IF(ISBLANK($R617)=TRUE,\"\",VLOOKUP($R617,TAXONOMY!$A$1:$G$959,5,FALSE))","v":""},{"$f":"IF(ISBLANK($R617)=TRUE,\"\",VLOOKUP($R617,TAXONOMY!$A$1:$G$959,4,FALSE))","v":""},{"$f":"IF(ISBLANK($R617)=TRUE,\"\",VLOOKUP($R617,TAXONOMY!$A$1:$G$959,3,FALSE))","v":""},{"$f":"IF(ISBLANK($R617)=TRUE,\"\",VLOOKUP($R617,TAXONOMY!$A$1:$H$959,2,FALSE))","v":""}]
[null,null,null,null,null,null,null,null,null,null,null,{"$f":"IF(ISBLANK($R618)=TRUE,\"\",VLOOKUP($R618,TAXONOMY!$A$1:$G$959,7,FALSE))","v":""},{"$f":"IF(ISBLANK($R618)=TRUE,\"\",VLOOKUP($R618,TAXONOMY!$A$1:$G$959,6,FALSE))","v":""},{"$f":"IF(ISBLANK($R618)=TRUE,\"\",VLOOKUP($R618,TAXONOMY!$A$1:$G$959,5,FALSE))","v":""},{"$f":"IF(ISBLANK($R618)=TRUE,\"\",VLOOKUP($R618,TAXONOMY!$A$1:$G$959,4,FALSE))","v":""},{"$f":"IF(ISBLANK($R618)=TRUE,\"\",VLOOKUP($R618,TAXONOMY!$A$1:$G$959,3,FALSE))","v":""},{"$f":"IF(ISBLANK($R618)=TRUE,\"\",VLOOKUP($R618,TAXONOMY!$A$1:$H$959,2,FALSE))","v":""}]
[null,null,null,null,null,null,null,null,null,null,null,{"$f":"IF(ISBLANK($R619)=TRUE,\"\",VLOOKUP($R619,TAXONOMY!$A$1:$G$959,7,FALSE))","v":""},{"$f":"IF(ISBLANK($R619)=TRUE,\"\",VLOOKUP($R619,TAXONOMY!$A$1:$G$959,6,FALSE))","v":""},{"$f":"IF(ISBLANK($R619)=TRUE,\"\",VLOOKUP($R619,TAXONOMY!$A$1:$G$959,5,FALSE))","v":""},{"$f":"IF(ISBLANK($R619)=TRUE,\"\",VLOOKUP($R619,TAXONOMY!$A$1:$G$959,4,FALSE))","v":""},{"$f":"IF(ISBLANK($R619)=TRUE,\"\",VLOOKUP($R619,TAXONOMY!$A$1:$G$959,3,FALSE))","v":""},{"$f":"IF(ISBLANK($R619)=TRUE,\"\",VLOOKUP($R619,TAXONOMY!$A$1:$H$959,2,FALSE))","v":""}]
[null,null,null,null,null,null,null,null,null,null,null,{"$f":"IF(ISBLANK($R620)=TRUE,\"\",VLOOKUP($R620,TAXONOMY!$A$1:$G$959,7,FALSE))","v":""},{"$f":"IF(ISBLANK($R620)=TRUE,\"\",VLOOKUP($R620,TAXONOMY!$A$1:$G$959,6,FALSE))","v":""},{"$f":"IF(ISBLANK($R620)=TRUE,\"\",VLOOKUP($R620,TAXONOMY!$A$1:$G$959,5,FALSE))","v":""},{"$f":"IF(ISBLANK($R620)=TRUE,\"\",VLOOKUP($R620,TAXONOMY!$A$1:$G$959,4,FALSE))","v":""},{"$f":"IF(ISBLANK($R620)=TRUE,\"\",VLOOKUP($R620,TAXONOMY!$A$1:$G$959,3,FALSE))","v":""},{"$f":"IF(ISBLANK($R620)=TRUE,\"\",VLOOKUP($R620,TAXONOMY!$A$1:$H$959,2,FALSE))","v":""}]
[null,null,null,null,null,null,null,null,null,null,null,{"$f":"IF(ISBLANK($R621)=TRUE,\"\",VLOOKUP($R621,TAXONOMY!$A$1:$G$959,7,FALSE))","v":""},{"$f":"IF(ISBLANK($R621)=TRUE,\"\",VLOOKUP($R621,TAXONOMY!$A$1:$G$959,6,FALSE))","v":""},{"$f":"IF(ISBLANK($R621)=TRUE,\"\",VLOOKUP($R621,TAXONOMY!$A$1:$G$959,5,FALSE))","v":""},{"$f":"IF(ISBLANK($R621)=TRUE,\"\",VLOOKUP($R621,TAXONOMY!$A$1:$G$959,4,FALSE))","v":""},{"$f":"IF(ISBLANK($R621)=TRUE,\"\",VLOOKUP($R621,TAXONOMY!$A$1:$G$959,3,FALSE))","v":""},{"$f":"IF(ISBLANK($R621)=TRUE,\"\",VLOOKUP($R621,TAXONOMY!$A$1:$H$959,2,FALSE))","v":""}]
[null,null,null,null,null,null,null,null,null,null,null,{"$f":"IF(ISBLANK($R622)=TRUE,\"\",VLOOKUP($R622,TAXONOMY!$A$1:$G$959,7,FALSE))","v":""},{"$f":"IF(ISBLANK($R622)=TRUE,\"\",VLOOKUP($R622,TAXONOMY!$A$1:$G$959,6,FALSE))","v":""},{"$f":"IF(ISBLANK($R622)=TRUE,\"\",VLOOKUP($R622,TAXONOMY!$A$1:$G$959,5,FALSE))","v":""},{"$f":"IF(ISBLANK($R622)=TRUE,\"\",VLOOKUP($R622,TAXONOMY!$A$1:$G$959,4,FALSE))","v":""},{"$f":"IF(ISBLANK($R622)=TRUE,\"\",VLOOKUP($R622,TAXONOMY!$A$1:$G$959,3,FALSE))","v":""},{"$f":"IF(ISBLANK($R622)=TRUE,\"\",VLOOKUP($R622,TAXONOMY!$A$1:$H$959,2,FALSE))","v":""}]
[null,null,null,null,null,null,null,null,null,null,null,{"$f":"IF(ISBLANK($R623)=TRUE,\"\",VLOOKUP($R623,TAXONOMY!$A$1:$G$959,7,FALSE))","v":""},{"$f":"IF(ISBLANK($R623)=TRUE,\"\",VLOOKUP($R623,TAXONOMY!$A$1:$G$959,6,FALSE))","v":""},{"$f":"IF(ISBLANK($R623)=TRUE,\"\",VLOOKUP($R623,TAXONOMY!$A$1:$G$959,5,FALSE))","v":""},{"$f":"IF(ISBLANK($R623)=TRUE,\"\",VLOOKUP($R623,TAXONOMY!$A$1:$G$959,4,FALSE))","v":""},{"$f":"IF(ISBLANK($R623)=TRUE,\"\",VLOOKUP($R623,TAXONOMY!$A$1:$G$959,3,FALSE))","v":""},{"$f":"IF(ISBLANK($R623)=TRUE,\"\",VLOOKUP($R623,TAXONOMY!$A$1:$H$959,2,FALSE))","v":""}]
[null,null,null,null,null,null,null,null,null,null,null,{"$f":"IF(ISBLANK($R624)=TRUE,\"\",VLOOKUP($R624,TAXONOMY!$A$1:$G$959,7,FALSE))","v":""},{"$f":"IF(ISBLANK($R624)=TRUE,\"\",VLOOKUP($R624,TAXONOMY!$A$1:$G$959,6,FALSE))","v":""},{"$f":"IF(ISBLANK($R624)=TRUE,\"\",VLOOKUP($R624,TAXONOMY!$A$1:$G$959,5,FALSE))","v":""},{"$f":"IF(ISBLANK($R624)=TRUE,\"\",VLOOKUP($R624,TAXONOMY!$A$1:$G$959,4,FALSE))","v":""},{"$f":"IF(ISBLANK($R624)=TRUE,\"\",VLOOKUP($R624,TAXONOMY!$A$1:$G$959,3,FALSE))","v":""},{"$f":"IF(ISBLANK($R624)=TRUE,\"\",VLOOKUP($R624,TAXONOMY!$A$1:$H$959,2,FALSE))","v":""}]
[null,null,null,null,null,null,null,null,null,null,null,{"$f":"IF(ISBLANK($R625)=TRUE,\"\",VLOOKUP($R625,TAXONOMY!$A$1:$G$959,7,FALSE))","v":""},{"$f":"IF(ISBLANK($R625)=TRUE,\"\",VLOOKUP($R625,TAXONOMY!$A$1:$G$959,6,FALSE))","v":""},{"$f":"IF(ISBLANK($R625)=TRUE,\"\",VLOOKUP($R625,TAXONOMY!$A$1:$G$959,5,FALSE))","v":""},{"$f":"IF(ISBLANK($R625)=TRUE,\"\",VLOOKUP($R625,TAXONOMY!$A$1:$G$959,4,FALSE))","v":""},{"$f":"IF(ISBLANK($R625)=TRUE,\"\",VLOOKUP($R625,TAXONOMY!$A$1:$G$959,3,FALSE))","v":""},{"$f":"IF(ISBLANK($R625)=TRUE,\"\",VLOOKUP($R625,TAXONOMY!$A$1:$H$959,2,FALSE))","v":""}]
[null,null,null,null,null,null,null,null,null,null,null,{"$f":"IF(ISBLANK($R626)=TRUE,\"\",VLOOKUP($R626,TAXONOMY!$A$1:$G$959,7,FALSE))","v":""},{"$f":"IF(ISBLANK($R626)=TRUE,\"\",VLOOKUP($R626,TAXONOMY!$A$1:$G$959,6,FALSE))","v":""},{"$f":"IF(ISBLANK($R626)=TRUE,\"\",VLOOKUP($R626,TAXONOMY!$A$1:$G$959,5,FALSE))","v":""},{"$f":"IF(ISBLANK($R626)=TRUE,\"\",VLOOKUP($R626,TAXONOMY!$A$1:$G$959,4,FALSE))","v":""},{"$f":"IF(ISBLANK($R626)=TRUE,\"\",VLOOKUP($R626,TAXONOMY!$A$1:$G$959,3,FALSE))","v":""},{"$f":"IF(ISBLANK($R626)=TRUE,\"\",VLOOKUP($R626,TAXONOMY!$A$1:$H$959,2,FALSE))","v":""}]
[null,null,null,null,null,null,null,null,null,null,null,{"$f":"IF(ISBLANK($R627)=TRUE,\"\",VLOOKUP($R627,TAXONOMY!$A$1:$G$959,7,FALSE))","v":""},{"$f":"IF(ISBLANK($R627)=TRUE,\"\",VLOOKUP($R627,TAXONOMY!$A$1:$G$959,6,FALSE))","v":""},{"$f":"IF(ISBLANK($R627)=TRUE,\"\",VLOOKUP($R627,TAXONOMY!$A$1:$G$959,5,FALSE))","v":""},{"$f":"IF(ISBLANK($R627)=TRUE,\"\",VLOOKUP($R627,TAXONOMY!$A$1:$G$959,4,FALSE))","v":""},{"$f":"IF(ISBLANK($R627)=TRUE,\"\",VLOOKUP($R627,TAXONOMY!$A$1:$G$959,3,FALSE))","v":""},{"$f":"IF(ISBLANK($R627)=TRUE,\"\",VLOOKUP($R627,TAXONOMY!$A$1:$H$959,2,FALSE))","v":""}]
[null,null,null,null,null,null,null,null,null,null,null,{"$f":"IF(ISBLANK($R628)=TRUE,\"\",VLOOKUP($R628,TAXONOMY!$A$1:$G$959,7,FALSE))","v":""},{"$f":"IF(ISBLANK($R628)=TRUE,\"\",VLOOKUP($R628,TAXONOMY!$A$1:$G$959,6,FALSE))","v":""},{"$f":"IF(ISBLANK($R628)=TRUE,\"\",VLOOKUP($R628,TAXONOMY!$A$1:$G$959,5,FALSE))","v":""},{"$f":"IF(ISBLANK($R628)=TRUE,\"\",VLOOKUP($R628,TAXONOMY!$A$1:$G$959,4,FALSE))","v":""},{"$f":"IF(ISBLANK($R628)=TRUE,\"\",VLOOKUP($R628,TAXONOMY!$A$1:$G$959,3,FALSE))","v":""},{"$f":"IF(ISBLANK($R628)=TRUE,\"\",VLOOKUP($R628,TAXONOMY!$A$1:$H$959,2,FALSE))","v":""}]
[null,null,null,null,null,null,null,null,null,null,null,{"$f":"IF(ISBLANK($R629)=TRUE,\"\",VLOOKUP($R629,TAXONOMY!$A$1:$G$959,7,FALSE))","v":""},{"$f":"IF(ISBLANK($R629)=TRUE,\"\",VLOOKUP($R629,TAXONOMY!$A$1:$G$959,6,FALSE))","v":""},{"$f":"IF(ISBLANK($R629)=TRUE,\"\",VLOOKUP($R629,TAXONOMY!$A$1:$G$959,5,FALSE))","v":""},{"$f":"IF(ISBLANK($R629)=TRUE,\"\",VLOOKUP($R629,TAXONOMY!$A$1:$G$959,4,FALSE))","v":""},{"$f":"IF(ISBLANK($R629)=TRUE,\"\",VLOOKUP($R629,TAXONOMY!$A$1:$G$959,3,FALSE))","v":""},{"$f":"IF(ISBLANK($R629)=TRUE,\"\",VLOOKUP($R629,TAXONOMY!$A$1:$H$959,2,FALSE))","v":""}]
[null,null,null,null,null,null,null,null,null,null,null,{"$f":"IF(ISBLANK($R630)=TRUE,\"\",VLOOKUP($R630,TAXONOMY!$A$1:$G$959,7,FALSE))","v":""},{"$f":"IF(ISBLANK($R630)=TRUE,\"\",VLOOKUP($R630,TAXONOMY!$A$1:$G$959,6,FALSE))","v":""},{"$f":"IF(ISBLANK($R630)=TRUE,\"\",VLOOKUP($R630,TAXONOMY!$A$1:$G$959,5,FALSE))","v":""},{"$f":"IF(ISBLANK($R630)=TRUE,\"\",VLOOKUP($R630,TAXONOMY!$A$1:$G$959,4,FALSE))","v":""},{"$f":"IF(ISBLANK($R630)=TRUE,\"\",VLOOKUP($R630,TAXONOMY!$A$1:$G$959,3,FALSE))","v":""},{"$f":"IF(ISBLANK($R630)=TRUE,\"\",VLOOKUP($R630,TAXONOMY!$A$1:$H$959,2,FALSE))","v":""}]
[null,null,null,null,null,null,null,null,null,null,null,{"$f":"IF(ISBLANK($R631)=TRUE,\"\",VLOOKUP($R631,TAXONOMY!$A$1:$G$959,7,FALSE))","v":""},{"$f":"IF(ISBLANK($R631)=TRUE,\"\",VLOOKUP($R631,TAXONOMY!$A$1:$G$959,6,FALSE))","v":""},{"$f":"IF(ISBLANK($R631)=TRUE,\"\",VLOOKUP($R631,TAXONOMY!$A$1:$G$959,5,FALSE))","v":""},{"$f":"IF(ISBLANK($R631)=TRUE,\"\",VLOOKUP($R631,TAXONOMY!$A$1:$G$959,4,FALSE))","v":""},{"$f":"IF(ISBLANK($R631)=TRUE,\"\",VLOOKUP($R631,TAXONOMY!$A$1:$G$959,3,FALSE))","v":""},{"$f":"IF(ISBLANK($R631)=TRUE,\"\",VLOOKUP($R631,TAXONOMY!$A$1:$H$959,2,FALSE))","v":""}]
[null,null,null,null,null,null,null,null,null,null,null,{"$f":"IF(ISBLANK($R632)=TRUE,\"\",VLOOKUP($R632,TAXONOMY!$A$1:$G$959,7,FALSE))","v":""},{"$f":"IF(ISBLANK($R632)=TRUE,\"\",VLOOKUP($R632,TAXONOMY!$A$1:$G$959,6,FALSE))","v":""},{"$f":"IF(ISBLANK($R632)=TRUE,\"\",VLOOKUP($R632,TAXONOMY!$A$1:$G$959,5,FALSE))","v":""},{"$f":"IF(ISBLANK($R632)=TRUE,\"\",VLOOKUP($R632,TAXONOMY!$A$1:$G$959,4,FALSE))","v":""},{"$f":"IF(ISBLANK($R632)=TRUE,\"\",VLOOKUP($R632,TAXONOMY!$A$1:$G$959,3,FALSE))","v":""},{"$f":"IF(ISBLANK($R632)=TRUE,\"\",VLOOKUP($R632,TAXONOMY!$A$1:$H$959,2,FALSE))","v":""}]
[null,null,null,null,null,null,null,null,null,null,null,{"$f":"IF(ISBLANK($R633)=TRUE,\"\",VLOOKUP($R633,TAXONOMY!$A$1:$G$959,7,FALSE))","v":""},{"$f":"IF(ISBLANK($R633)=TRUE,\"\",VLOOKUP($R633,TAXONOMY!$A$1:$G$959,6,FALSE))","v":""},{"$f":"IF(ISBLANK($R633)=TRUE,\"\",VLOOKUP($R633,TAXONOMY!$A$1:$G$959,5,FALSE))","v":""},{"$f":"IF(ISBLANK($R633)=TRUE,\"\",VLOOKUP($R633,TAXONOMY!$A$1:$G$959,4,FALSE))","v":""},{"$f":"IF(ISBLANK($R633)=TRUE,\"\",VLOOKUP($R633,TAXONOMY!$A$1:$G$959,3,FALSE))","v":""},{"$f":"IF(ISBLANK($R633)=TRUE,\"\",VLOOKUP($R633,TAXONOMY!$A$1:$H$959,2,FALSE))","v":""}]
[null,null,null,null,null,null,null,null,null,null,null,{"$f":"IF(ISBLANK($R634)=TRUE,\"\",VLOOKUP($R634,TAXONOMY!$A$1:$G$959,7,FALSE))","v":""},{"$f":"IF(ISBLANK($R634)=TRUE,\"\",VLOOKUP($R634,TAXONOMY!$A$1:$G$959,6,FALSE))","v":""},{"$f":"IF(ISBLANK($R634)=TRUE,\"\",VLOOKUP($R634,TAXONOMY!$A$1:$G$959,5,FALSE))","v":""},{"$f":"IF(ISBLANK($R634)=TRUE,\"\",VLOOKUP($R634,TAXONOMY!$A$1:$G$959,4,FALSE))","v":""},{"$f":"IF(ISBLANK($R634)=TRUE,\"\",VLOOKUP($R634,TAXONOMY!$A$1:$G$959,3,FALSE))","v":""},{"$f":"IF(ISBLANK($R634)=TRUE,\"\",VLOOKUP($R634,TAXONOMY!$A$1:$H$959,2,FALSE))","v":""}]
[null,null,null,null,null,null,null,null,null,null,null,{"$f":"IF(ISBLANK($R635)=TRUE,\"\",VLOOKUP($R635,TAXONOMY!$A$1:$G$959,7,FALSE))","v":""},{"$f":"IF(ISBLANK($R635)=TRUE,\"\",VLOOKUP($R635,TAXONOMY!$A$1:$G$959,6,FALSE))","v":""},{"$f":"IF(ISBLANK($R635)=TRUE,\"\",VLOOKUP($R635,TAXONOMY!$A$1:$G$959,5,FALSE))","v":""},{"$f":"IF(ISBLANK($R635)=TRUE,\"\",VLOOKUP($R635,TAXONOMY!$A$1:$G$959,4,FALSE))","v":""},{"$f":"IF(ISBLANK($R635)=TRUE,\"\",VLOOKUP($R635,TAXONOMY!$A$1:$G$959,3,FALSE))","v":""},{"$f":"IF(ISBLANK($R635)=TRUE,\"\",VLOOKUP($R635,TAXONOMY!$A$1:$H$959,2,FALSE))","v":""}]
[null,null,null,null,null,null,null,null,null,null,null,{"$f":"IF(ISBLANK($R636)=TRUE,\"\",VLOOKUP($R636,TAXONOMY!$A$1:$G$959,7,FALSE))","v":""},{"$f":"IF(ISBLANK($R636)=TRUE,\"\",VLOOKUP($R636,TAXONOMY!$A$1:$G$959,6,FALSE))","v":""},{"$f":"IF(ISBLANK($R636)=TRUE,\"\",VLOOKUP($R636,TAXONOMY!$A$1:$G$959,5,FALSE))","v":""},{"$f":"IF(ISBLANK($R636)=TRUE,\"\",VLOOKUP($R636,TAXONOMY!$A$1:$G$959,4,FALSE))","v":""},{"$f":"IF(ISBLANK($R636)=TRUE,\"\",VLOOKUP($R636,TAXONOMY!$A$1:$G$959,3,FALSE))","v":""},{"$f":"IF(ISBLANK($R636)=TRUE,\"\",VLOOKUP($R636,TAXONOMY!$A$1:$H$959,2,FALSE))","v":""}]
[null,null,null,null,null,null,null,null,null,null,null,{"$f":"IF(ISBLANK($R637)=TRUE,\"\",VLOOKUP($R637,TAXONOMY!$A$1:$G$959,7,FALSE))","v":""},{"$f":"IF(ISBLANK($R637)=TRUE,\"\",VLOOKUP($R637,TAXONOMY!$A$1:$G$959,6,FALSE))","v":""},{"$f":"IF(ISBLANK($R637)=TRUE,\"\",VLOOKUP($R637,TAXONOMY!$A$1:$G$959,5,FALSE))","v":""},{"$f":"IF(ISBLANK($R637)=TRUE,\"\",VLOOKUP($R637,TAXONOMY!$A$1:$G$959,4,FALSE))","v":""},{"$f":"IF(ISBLANK($R637)=TRUE,\"\",VLOOKUP($R637,TAXONOMY!$A$1:$G$959,3,FALSE))","v":""},{"$f":"IF(ISBLANK($R637)=TRUE,\"\",VLOOKUP($R637,TAXONOMY!$A$1:$H$959,2,FALSE))","v":""}]
[null,null,null,null,null,null,null,null,null,null,null,{"$f":"IF(ISBLANK($R638)=TRUE,\"\",VLOOKUP($R638,TAXONOMY!$A$1:$G$959,7,FALSE))","v":""},{"$f":"IF(ISBLANK($R638)=TRUE,\"\",VLOOKUP($R638,TAXONOMY!$A$1:$G$959,6,FALSE))","v":""},{"$f":"IF(ISBLANK($R638)=TRUE,\"\",VLOOKUP($R638,TAXONOMY!$A$1:$G$959,5,FALSE))","v":""},{"$f":"IF(ISBLANK($R638)=TRUE,\"\",VLOOKUP($R638,TAXONOMY!$A$1:$G$959,4,FALSE))","v":""},{"$f":"IF(ISBLANK($R638)=TRUE,\"\",VLOOKUP($R638,TAXONOMY!$A$1:$G$959,3,FALSE))","v":""},{"$f":"IF(ISBLANK($R638)=TRUE,\"\",VLOOKUP($R638,TAXONOMY!$A$1:$H$959,2,FALSE))","v":""}]
[null,null,null,null,null,null,null,null,null,null,null,{"$f":"IF(ISBLANK($R639)=TRUE,\"\",VLOOKUP($R639,TAXONOMY!$A$1:$G$959,7,FALSE))","v":""},{"$f":"IF(ISBLANK($R639)=TRUE,\"\",VLOOKUP($R639,TAXONOMY!$A$1:$G$959,6,FALSE))","v":""},{"$f":"IF(ISBLANK($R639)=TRUE,\"\",VLOOKUP($R639,TAXONOMY!$A$1:$G$959,5,FALSE))","v":""},{"$f":"IF(ISBLANK($R639)=TRUE,\"\",VLOOKUP($R639,TAXONOMY!$A$1:$G$959,4,FALSE))","v":""},{"$f":"IF(ISBLANK($R639)=TRUE,\"\",VLOOKUP($R639,TAXONOMY!$A$1:$G$959,3,FALSE))","v":""},{"$f":"IF(ISBLANK($R639)=TRUE,\"\",VLOOKUP($R639,TAXONOMY!$A$1:$H$959,2,FALSE))","v":""}]
[null,null,null,null,null,null,null,null,null,null,null,{"$f":"IF(ISBLANK($R640)=TRUE,\"\",VLOOKUP($R640,TAXONOMY!$A$1:$G$959,7,FALSE))","v":""},{"$f":"IF(ISBLANK($R640)=TRUE,\"\",VLOOKUP($R640,TAXONOMY!$A$1:$G$959,6,FALSE))","v":""},{"$f":"IF(ISBLANK($R640)=TRUE,\"\",VLOOKUP($R640,TAXONOMY!$A$1:$G$959,5,FALSE))","v":""},{"$f":"IF(ISBLANK($R640)=TRUE,\"\",VLOOKUP($R640,TAXONOMY!$A$1:$G$959,4,FALSE))","v":""},{"$f":"IF(ISBLANK($R640)=TRUE,\"\",VLOOKUP($R640,TAXONOMY!$A$1:$G$959,3,FALSE))","v":""},{"$f":"IF(ISBLANK($R640)=TRUE,\"\",VLOOKUP($R640,TAXONOMY!$A$1:$H$959,2,FALSE))","v":""}]
[null,null,null,null,null,null,null,null,null,null,null,{"$f":"IF(ISBLANK($R641)=TRUE,\"\",VLOOKUP($R641,TAXONOMY!$A$1:$G$959,7,FALSE))","v":""},{"$f":"IF(ISBLANK($R641)=TRUE,\"\",VLOOKUP($R641,TAXONOMY!$A$1:$G$959,6,FALSE))","v":""},{"$f":"IF(ISBLANK($R641)=TRUE,\"\",VLOOKUP($R641,TAXONOMY!$A$1:$G$959,5,FALSE))","v":""},{"$f":"IF(ISBLANK($R641)=TRUE,\"\",VLOOKUP($R641,TAXONOMY!$A$1:$G$959,4,FALSE))","v":""},{"$f":"IF(ISBLANK($R641)=TRUE,\"\",VLOOKUP($R641,TAXONOMY!$A$1:$G$959,3,FALSE))","v":""},{"$f":"IF(ISBLANK($R641)=TRUE,\"\",VLOOKUP($R641,TAXONOMY!$A$1:$H$959,2,FALSE))","v":""}]
[null,null,null,null,null,null,null,null,null,null,null,{"$f":"IF(ISBLANK($R642)=TRUE,\"\",VLOOKUP($R642,TAXONOMY!$A$1:$G$959,7,FALSE))","v":""},{"$f":"IF(ISBLANK($R642)=TRUE,\"\",VLOOKUP($R642,TAXONOMY!$A$1:$G$959,6,FALSE))","v":""},{"$f":"IF(ISBLANK($R642)=TRUE,\"\",VLOOKUP($R642,TAXONOMY!$A$1:$G$959,5,FALSE))","v":""},{"$f":"IF(ISBLANK($R642)=TRUE,\"\",VLOOKUP($R642,TAXONOMY!$A$1:$G$959,4,FALSE))","v":""},{"$f":"IF(ISBLANK($R642)=TRUE,\"\",VLOOKUP($R642,TAXONOMY!$A$1:$G$959,3,FALSE))","v":""},{"$f":"IF(ISBLANK($R642)=TRUE,\"\",VLOOKUP($R642,TAXONOMY!$A$1:$H$959,2,FALSE))","v":""}]
[null,null,null,null,null,null,null,null,null,null,null,{"$f":"IF(ISBLANK($R643)=TRUE,\"\",VLOOKUP($R643,TAXONOMY!$A$1:$G$959,7,FALSE))","v":""},{"$f":"IF(ISBLANK($R643)=TRUE,\"\",VLOOKUP($R643,TAXONOMY!$A$1:$G$959,6,FALSE))","v":""},{"$f":"IF(ISBLANK($R643)=TRUE,\"\",VLOOKUP($R643,TAXONOMY!$A$1:$G$959,5,FALSE))","v":""},{"$f":"IF(ISBLANK($R643)=TRUE,\"\",VLOOKUP($R643,TAXONOMY!$A$1:$G$959,4,FALSE))","v":""},{"$f":"IF(ISBLANK($R643)=TRUE,\"\",VLOOKUP($R643,TAXONOMY!$A$1:$G$959,3,FALSE))","v":""},{"$f":"IF(ISBLANK($R643)=TRUE,\"\",VLOOKUP($R643,TAXONOMY!$A$1:$H$959,2,FALSE))","v":""}]
[null,null,null,null,null,null,null,null,null,null,null,{"$f":"IF(ISBLANK($R644)=TRUE,\"\",VLOOKUP($R644,TAXONOMY!$A$1:$G$959,7,FALSE))","v":""},{"$f":"IF(ISBLANK($R644)=TRUE,\"\",VLOOKUP($R644,TAXONOMY!$A$1:$G$959,6,FALSE))","v":""},{"$f":"IF(ISBLANK($R644)=TRUE,\"\",VLOOKUP($R644,TAXONOMY!$A$1:$G$959,5,FALSE))","v":""},{"$f":"IF(ISBLANK($R644)=TRUE,\"\",VLOOKUP($R644,TAXONOMY!$A$1:$G$959,4,FALSE))","v":""},{"$f":"IF(ISBLANK($R644)=TRUE,\"\",VLOOKUP($R644,TAXONOMY!$A$1:$G$959,3,FALSE))","v":""},{"$f":"IF(ISBLANK($R644)=TRUE,\"\",VLOOKUP($R644,TAXONOMY!$A$1:$H$959,2,FALSE))","v":""}]
[null,null,null,null,null,null,null,null,null,null,null,{"$f":"IF(ISBLANK($R645)=TRUE,\"\",VLOOKUP($R645,TAXONOMY!$A$1:$G$959,7,FALSE))","v":""},{"$f":"IF(ISBLANK($R645)=TRUE,\"\",VLOOKUP($R645,TAXONOMY!$A$1:$G$959,6,FALSE))","v":""},{"$f":"IF(ISBLANK($R645)=TRUE,\"\",VLOOKUP($R645,TAXONOMY!$A$1:$G$959,5,FALSE))","v":""},{"$f":"IF(ISBLANK($R645)=TRUE,\"\",VLOOKUP($R645,TAXONOMY!$A$1:$G$959,4,FALSE))","v":""},{"$f":"IF(ISBLANK($R645)=TRUE,\"\",VLOOKUP($R645,TAXONOMY!$A$1:$G$959,3,FALSE))","v":""},{"$f":"IF(ISBLANK($R645)=TRUE,\"\",VLOOKUP($R645,TAXONOMY!$A$1:$H$959,2,FALSE))","v":""}]
[null,null,null,null,null,null,null,null,null,null,null,{"$f":"IF(ISBLANK($R646)=TRUE,\"\",VLOOKUP($R646,TAXONOMY!$A$1:$G$959,7,FALSE))","v":""},{"$f":"IF(ISBLANK($R646)=TRUE,\"\",VLOOKUP($R646,TAXONOMY!$A$1:$G$959,6,FALSE))","v":""},{"$f":"IF(ISBLANK($R646)=TRUE,\"\",VLOOKUP($R646,TAXONOMY!$A$1:$G$959,5,FALSE))","v":""},{"$f":"IF(ISBLANK($R646)=TRUE,\"\",VLOOKUP($R646,TAXONOMY!$A$1:$G$959,4,FALSE))","v":""},{"$f":"IF(ISBLANK($R646)=TRUE,\"\",VLOOKUP($R646,TAXONOMY!$A$1:$G$959,3,FALSE))","v":""},{"$f":"IF(ISBLANK($R646)=TRUE,\"\",VLOOKUP($R646,TAXONOMY!$A$1:$H$959,2,FALSE))","v":""}]
[null,null,null,null,null,null,null,null,null,null,null,{"$f":"IF(ISBLANK($R647)=TRUE,\"\",VLOOKUP($R647,TAXONOMY!$A$1:$G$959,7,FALSE))","v":""},{"$f":"IF(ISBLANK($R647)=TRUE,\"\",VLOOKUP($R647,TAXONOMY!$A$1:$G$959,6,FALSE))","v":""},{"$f":"IF(ISBLANK($R647)=TRUE,\"\",VLOOKUP($R647,TAXONOMY!$A$1:$G$959,5,FALSE))","v":""},{"$f":"IF(ISBLANK($R647)=TRUE,\"\",VLOOKUP($R647,TAXONOMY!$A$1:$G$959,4,FALSE))","v":""},{"$f":"IF(ISBLANK($R647)=TRUE,\"\",VLOOKUP($R647,TAXONOMY!$A$1:$G$959,3,FALSE))","v":""},{"$f":"IF(ISBLANK($R647)=TRUE,\"\",VLOOKUP($R647,TAXONOMY!$A$1:$H$959,2,FALSE))","v":""}]
[null,null,null,null,null,null,null,null,null,null,null,{"$f":"IF(ISBLANK($R648)=TRUE,\"\",VLOOKUP($R648,TAXONOMY!$A$1:$G$959,7,FALSE))","v":""},{"$f":"IF(ISBLANK($R648)=TRUE,\"\",VLOOKUP($R648,TAXONOMY!$A$1:$G$959,6,FALSE))","v":""},{"$f":"IF(ISBLANK($R648)=TRUE,\"\",VLOOKUP($R648,TAXONOMY!$A$1:$G$959,5,FALSE))","v":""},{"$f":"IF(ISBLANK($R648)=TRUE,\"\",VLOOKUP($R648,TAXONOMY!$A$1:$G$959,4,FALSE))","v":""},{"$f":"IF(ISBLANK($R648)=TRUE,\"\",VLOOKUP($R648,TAXONOMY!$A$1:$G$959,3,FALSE))","v":""},{"$f":"IF(ISBLANK($R648)=TRUE,\"\",VLOOKUP($R648,TAXONOMY!$A$1:$H$959,2,FALSE))","v":""}]
[null,null,null,null,null,null,null,null,null,null,null,{"$f":"IF(ISBLANK($R649)=TRUE,\"\",VLOOKUP($R649,TAXONOMY!$A$1:$G$959,7,FALSE))","v":""},{"$f":"IF(ISBLANK($R649)=TRUE,\"\",VLOOKUP($R649,TAXONOMY!$A$1:$G$959,6,FALSE))","v":""},{"$f":"IF(ISBLANK($R649)=TRUE,\"\",VLOOKUP($R649,TAXONOMY!$A$1:$G$959,5,FALSE))","v":""},{"$f":"IF(ISBLANK($R649)=TRUE,\"\",VLOOKUP($R649,TAXONOMY!$A$1:$G$959,4,FALSE))","v":""},{"$f":"IF(ISBLANK($R649)=TRUE,\"\",VLOOKUP($R649,TAXONOMY!$A$1:$G$959,3,FALSE))","v":""},{"$f":"IF(ISBLANK($R649)=TRUE,\"\",VLOOKUP($R649,TAXONOMY!$A$1:$H$959,2,FALSE))","v":""}]
[null,null,null,null,null,null,null,null,null,null,null,{"$f":"IF(ISBLANK($R650)=TRUE,\"\",VLOOKUP($R650,TAXONOMY!$A$1:$G$959,7,FALSE))","v":""},{"$f":"IF(ISBLANK($R650)=TRUE,\"\",VLOOKUP($R650,TAXONOMY!$A$1:$G$959,6,FALSE))","v":""},{"$f":"IF(ISBLANK($R650)=TRUE,\"\",VLOOKUP($R650,TAXONOMY!$A$1:$G$959,5,FALSE))","v":""},{"$f":"IF(ISBLANK($R650)=TRUE,\"\",VLOOKUP($R650,TAXONOMY!$A$1:$G$959,4,FALSE))","v":""},{"$f":"IF(ISBLANK($R650)=TRUE,\"\",VLOOKUP($R650,TAXONOMY!$A$1:$G$959,3,FALSE))","v":""},{"$f":"IF(ISBLANK($R650)=TRUE,\"\",VLOOKUP($R650,TAXONOMY!$A$1:$H$959,2,FALSE))","v":""}]
[null,null,null,null,null,null,null,null,null,null,null,{"$f":"IF(ISBLANK($R651)=TRUE,\"\",VLOOKUP($R651,TAXONOMY!$A$1:$G$959,7,FALSE))","v":""},{"$f":"IF(ISBLANK($R651)=TRUE,\"\",VLOOKUP($R651,TAXONOMY!$A$1:$G$959,6,FALSE))","v":""},{"$f":"IF(ISBLANK($R651)=TRUE,\"\",VLOOKUP($R651,TAXONOMY!$A$1:$G$959,5,FALSE))","v":""},{"$f":"IF(ISBLANK($R651)=TRUE,\"\",VLOOKUP($R651,TAXONOMY!$A$1:$G$959,4,FALSE))","v":""},{"$f":"IF(ISBLANK($R651)=TRUE,\"\",VLOOKUP($R651,TAXONOMY!$A$1:$G$959,3,FALSE))","v":""},{"$f":"IF(ISBLANK($R651)=TRUE,\"\",VLOOKUP($R651,TAXONOMY!$A$1:$H$959,2,FALSE))","v":""}]
[null,null,null,null,null,null,null,null,null,null,null,{"$f":"IF(ISBLANK($R652)=TRUE,\"\",VLOOKUP($R652,TAXONOMY!$A$1:$G$959,7,FALSE))","v":""},{"$f":"IF(ISBLANK($R652)=TRUE,\"\",VLOOKUP($R652,TAXONOMY!$A$1:$G$959,6,FALSE))","v":""},{"$f":"IF(ISBLANK($R652)=TRUE,\"\",VLOOKUP($R652,TAXONOMY!$A$1:$G$959,5,FALSE))","v":""},{"$f":"IF(ISBLANK($R652)=TRUE,\"\",VLOOKUP($R652,TAXONOMY!$A$1:$G$959,4,FALSE))","v":""},{"$f":"IF(ISBLANK($R652)=TRUE,\"\",VLOOKUP($R652,TAXONOMY!$A$1:$G$959,3,FALSE))","v":""},{"$f":"IF(ISBLANK($R652)=TRUE,\"\",VLOOKUP($R652,TAXONOMY!$A$1:$H$959,2,FALSE))","v":""}]
[null,null,null,null,null,null,null,null,null,null,null,{"$f":"IF(ISBLANK($R653)=TRUE,\"\",VLOOKUP($R653,TAXONOMY!$A$1:$G$959,7,FALSE))","v":""},{"$f":"IF(ISBLANK($R653)=TRUE,\"\",VLOOKUP($R653,TAXONOMY!$A$1:$G$959,6,FALSE))","v":""},{"$f":"IF(ISBLANK($R653)=TRUE,\"\",VLOOKUP($R653,TAXONOMY!$A$1:$G$959,5,FALSE))","v":""},{"$f":"IF(ISBLANK($R653)=TRUE,\"\",VLOOKUP($R653,TAXONOMY!$A$1:$G$959,4,FALSE))","v":""},{"$f":"IF(ISBLANK($R653)=TRUE,\"\",VLOOKUP($R653,TAXONOMY!$A$1:$G$959,3,FALSE))","v":""},{"$f":"IF(ISBLANK($R653)=TRUE,\"\",VLOOKUP($R653,TAXONOMY!$A$1:$H$959,2,FALSE))","v":""}]
[null,null,null,null,null,null,null,null,null,null,null,{"$f":"IF(ISBLANK($R654)=TRUE,\"\",VLOOKUP($R654,TAXONOMY!$A$1:$G$959,7,FALSE))","v":""},{"$f":"IF(ISBLANK($R654)=TRUE,\"\",VLOOKUP($R654,TAXONOMY!$A$1:$G$959,6,FALSE))","v":""},{"$f":"IF(ISBLANK($R654)=TRUE,\"\",VLOOKUP($R654,TAXONOMY!$A$1:$G$959,5,FALSE))","v":""},{"$f":"IF(ISBLANK($R654)=TRUE,\"\",VLOOKUP($R654,TAXONOMY!$A$1:$G$959,4,FALSE))","v":""},{"$f":"IF(ISBLANK($R654)=TRUE,\"\",VLOOKUP($R654,TAXONOMY!$A$1:$G$959,3,FALSE))","v":""},{"$f":"IF(ISBLANK($R654)=TRUE,\"\",VLOOKUP($R654,TAXONOMY!$A$1:$H$959,2,FALSE))","v":""}]
[null,null,null,null,null,null,null,null,null,null,null,{"$f":"IF(ISBLANK($R655)=TRUE,\"\",VLOOKUP($R655,TAXONOMY!$A$1:$G$959,7,FALSE))","v":""},{"$f":"IF(ISBLANK($R655)=TRUE,\"\",VLOOKUP($R655,TAXONOMY!$A$1:$G$959,6,FALSE))","v":""},{"$f":"IF(ISBLANK($R655)=TRUE,\"\",VLOOKUP($R655,TAXONOMY!$A$1:$G$959,5,FALSE))","v":""},{"$f":"IF(ISBLANK($R655)=TRUE,\"\",VLOOKUP($R655,TAXONOMY!$A$1:$G$959,4,FALSE))","v":""},{"$f":"IF(ISBLANK($R655)=TRUE,\"\",VLOOKUP($R655,TAXONOMY!$A$1:$G$959,3,FALSE))","v":""},{"$f":"IF(ISBLANK($R655)=TRUE,\"\",VLOOKUP($R655,TAXONOMY!$A$1:$H$959,2,FALSE))","v":""}]
[null,null,null,null,null,null,null,null,null,null,null,{"$f":"IF(ISBLANK($R656)=TRUE,\"\",VLOOKUP($R656,TAXONOMY!$A$1:$G$959,7,FALSE))","v":""},{"$f":"IF(ISBLANK($R656)=TRUE,\"\",VLOOKUP($R656,TAXONOMY!$A$1:$G$959,6,FALSE))","v":""},{"$f":"IF(ISBLANK($R656)=TRUE,\"\",VLOOKUP($R656,TAXONOMY!$A$1:$G$959,5,FALSE))","v":""},{"$f":"IF(ISBLANK($R656)=TRUE,\"\",VLOOKUP($R656,TAXONOMY!$A$1:$G$959,4,FALSE))","v":""},{"$f":"IF(ISBLANK($R656)=TRUE,\"\",VLOOKUP($R656,TAXONOMY!$A$1:$G$959,3,FALSE))","v":""},{"$f":"IF(ISBLANK($R656)=TRUE,\"\",VLOOKUP($R656,TAXONOMY!$A$1:$H$959,2,FALSE))","v":""}]
[null,null,null,null,null,null,null,null,null,null,null,{"$f":"IF(ISBLANK($R657)=TRUE,\"\",VLOOKUP($R657,TAXONOMY!$A$1:$G$959,7,FALSE))","v":""},{"$f":"IF(ISBLANK($R657)=TRUE,\"\",VLOOKUP($R657,TAXONOMY!$A$1:$G$959,6,FALSE))","v":""},{"$f":"IF(ISBLANK($R657)=TRUE,\"\",VLOOKUP($R657,TAXONOMY!$A$1:$G$959,5,FALSE))","v":""},{"$f":"IF(ISBLANK($R657)=TRUE,\"\",VLOOKUP($R657,TAXONOMY!$A$1:$G$959,4,FALSE))","v":""},{"$f":"IF(ISBLANK($R657)=TRUE,\"\",VLOOKUP($R657,TAXONOMY!$A$1:$G$959,3,FALSE))","v":""},{"$f":"IF(ISBLANK($R657)=TRUE,\"\",VLOOKUP($R657,TAXONOMY!$A$1:$H$959,2,FALSE))","v":""}]
[null,null,null,null,null,null,null,null,null,null,null,{"$f":"IF(ISBLANK($R658)=TRUE,\"\",VLOOKUP($R658,TAXONOMY!$A$1:$G$959,7,FALSE))","v":""},{"$f":"IF(ISBLANK($R658)=TRUE,\"\",VLOOKUP($R658,TAXONOMY!$A$1:$G$959,6,FALSE))","v":""},{"$f":"IF(ISBLANK($R658)=TRUE,\"\",VLOOKUP($R658,TAXONOMY!$A$1:$G$959,5,FALSE))","v":""},{"$f":"IF(ISBLANK($R658)=TRUE,\"\",VLOOKUP($R658,TAXONOMY!$A$1:$G$959,4,FALSE))","v":""},{"$f":"IF(ISBLANK($R658)=TRUE,\"\",VLOOKUP($R658,TAXONOMY!$A$1:$G$959,3,FALSE))","v":""},{"$f":"IF(ISBLANK($R658)=TRUE,\"\",VLOOKUP($R658,TAXONOMY!$A$1:$H$959,2,FALSE))","v":""}]
[null,null,null,null,null,null,null,null,null,null,null,{"$f":"IF(ISBLANK($R659)=TRUE,\"\",VLOOKUP($R659,TAXONOMY!$A$1:$G$959,7,FALSE))","v":""},{"$f":"IF(ISBLANK($R659)=TRUE,\"\",VLOOKUP($R659,TAXONOMY!$A$1:$G$959,6,FALSE))","v":""},{"$f":"IF(ISBLANK($R659)=TRUE,\"\",VLOOKUP($R659,TAXONOMY!$A$1:$G$959,5,FALSE))","v":""},{"$f":"IF(ISBLANK($R659)=TRUE,\"\",VLOOKUP($R659,TAXONOMY!$A$1:$G$959,4,FALSE))","v":""},{"$f":"IF(ISBLANK($R659)=TRUE,\"\",VLOOKUP($R659,TAXONOMY!$A$1:$G$959,3,FALSE))","v":""},{"$f":"IF(ISBLANK($R659)=TRUE,\"\",VLOOKUP($R659,TAXONOMY!$A$1:$H$959,2,FALSE))","v":""}]
[null,null,null,null,null,null,null,null,null,null,null,{"$f":"IF(ISBLANK($R660)=TRUE,\"\",VLOOKUP($R660,TAXONOMY!$A$1:$G$959,7,FALSE))","v":""},{"$f":"IF(ISBLANK($R660)=TRUE,\"\",VLOOKUP($R660,TAXONOMY!$A$1:$G$959,6,FALSE))","v":""},{"$f":"IF(ISBLANK($R660)=TRUE,\"\",VLOOKUP($R660,TAXONOMY!$A$1:$G$959,5,FALSE))","v":""},{"$f":"IF(ISBLANK($R660)=TRUE,\"\",VLOOKUP($R660,TAXONOMY!$A$1:$G$959,4,FALSE))","v":""},{"$f":"IF(ISBLANK($R660)=TRUE,\"\",VLOOKUP($R660,TAXONOMY!$A$1:$G$959,3,FALSE))","v":""},{"$f":"IF(ISBLANK($R660)=TRUE,\"\",VLOOKUP($R660,TAXONOMY!$A$1:$H$959,2,FALSE))","v":""}]
[null,null,null,null,null,null,null,null,null,null,null,{"$f":"IF(ISBLANK($R661)=TRUE,\"\",VLOOKUP($R661,TAXONOMY!$A$1:$G$959,7,FALSE))","v":""},{"$f":"IF(ISBLANK($R661)=TRUE,\"\",VLOOKUP($R661,TAXONOMY!$A$1:$G$959,6,FALSE))","v":""},{"$f":"IF(ISBLANK($R661)=TRUE,\"\",VLOOKUP($R661,TAXONOMY!$A$1:$G$959,5,FALSE))","v":""},{"$f":"IF(ISBLANK($R661)=TRUE,\"\",VLOOKUP($R661,TAXONOMY!$A$1:$G$959,4,FALSE))","v":""},{"$f":"IF(ISBLANK($R661)=TRUE,\"\",VLOOKUP($R661,TAXONOMY!$A$1:$G$959,3,FALSE))","v":""},{"$f":"IF(ISBLANK($R661)=TRUE,\"\",VLOOKUP($R661,TAXONOMY!$A$1:$H$959,2,FALSE))","v":""}]
[null,null,null,null,null,null,null,null,null,null,null,{"$f":"IF(ISBLANK($R662)=TRUE,\"\",VLOOKUP($R662,TAXONOMY!$A$1:$G$959,7,FALSE))","v":""},{"$f":"IF(ISBLANK($R662)=TRUE,\"\",VLOOKUP($R662,TAXONOMY!$A$1:$G$959,6,FALSE))","v":""},{"$f":"IF(ISBLANK($R662)=TRUE,\"\",VLOOKUP($R662,TAXONOMY!$A$1:$G$959,5,FALSE))","v":""},{"$f":"IF(ISBLANK($R662)=TRUE,\"\",VLOOKUP($R662,TAXONOMY!$A$1:$G$959,4,FALSE))","v":""},{"$f":"IF(ISBLANK($R662)=TRUE,\"\",VLOOKUP($R662,TAXONOMY!$A$1:$G$959,3,FALSE))","v":""},{"$f":"IF(ISBLANK($R662)=TRUE,\"\",VLOOKUP($R662,TAXONOMY!$A$1:$H$959,2,FALSE))","v":""}]
[null,null,null,null,null,null,null,null,null,null,null,{"$f":"IF(ISBLANK($R663)=TRUE,\"\",VLOOKUP($R663,TAXONOMY!$A$1:$G$959,7,FALSE))","v":""},{"$f":"IF(ISBLANK($R663)=TRUE,\"\",VLOOKUP($R663,TAXONOMY!$A$1:$G$959,6,FALSE))","v":""},{"$f":"IF(ISBLANK($R663)=TRUE,\"\",VLOOKUP($R663,TAXONOMY!$A$1:$G$959,5,FALSE))","v":""},{"$f":"IF(ISBLANK($R663)=TRUE,\"\",VLOOKUP($R663,TAXONOMY!$A$1:$G$959,4,FALSE))","v":""},{"$f":"IF(ISBLANK($R663)=TRUE,\"\",VLOOKUP($R663,TAXONOMY!$A$1:$G$959,3,FALSE))","v":""},{"$f":"IF(ISBLANK($R663)=TRUE,\"\",VLOOKUP($R663,TAXONOMY!$A$1:$H$959,2,FALSE))","v":""}]
[null,null,null,null,null,null,null,null,null,null,null,{"$f":"IF(ISBLANK($R664)=TRUE,\"\",VLOOKUP($R664,TAXONOMY!$A$1:$G$959,7,FALSE))","v":""},{"$f":"IF(ISBLANK($R664)=TRUE,\"\",VLOOKUP($R664,TAXONOMY!$A$1:$G$959,6,FALSE))","v":""},{"$f":"IF(ISBLANK($R664)=TRUE,\"\",VLOOKUP($R664,TAXONOMY!$A$1:$G$959,5,FALSE))","v":""},{"$f":"IF(ISBLANK($R664)=TRUE,\"\",VLOOKUP($R664,TAXONOMY!$A$1:$G$959,4,FALSE))","v":""},{"$f":"IF(ISBLANK($R664)=TRUE,\"\",VLOOKUP($R664,TAXONOMY!$A$1:$G$959,3,FALSE))","v":""},{"$f":"IF(ISBLANK($R664)=TRUE,\"\",VLOOKUP($R664,TAXONOMY!$A$1:$H$959,2,FALSE))","v":""}]
[null,null,null,null,null,null,null,null,null,null,null,{"$f":"IF(ISBLANK($R665)=TRUE,\"\",VLOOKUP($R665,TAXONOMY!$A$1:$G$959,7,FALSE))","v":""},{"$f":"IF(ISBLANK($R665)=TRUE,\"\",VLOOKUP($R665,TAXONOMY!$A$1:$G$959,6,FALSE))","v":""},{"$f":"IF(ISBLANK($R665)=TRUE,\"\",VLOOKUP($R665,TAXONOMY!$A$1:$G$959,5,FALSE))","v":""},{"$f":"IF(ISBLANK($R665)=TRUE,\"\",VLOOKUP($R665,TAXONOMY!$A$1:$G$959,4,FALSE))","v":""},{"$f":"IF(ISBLANK($R665)=TRUE,\"\",VLOOKUP($R665,TAXONOMY!$A$1:$G$959,3,FALSE))","v":""},{"$f":"IF(ISBLANK($R665)=TRUE,\"\",VLOOKUP($R665,TAXONOMY!$A$1:$H$959,2,FALSE))","v":""}]
[null,null,null,null,null,null,null,null,null,null,null,{"$f":"IF(ISBLANK($R666)=TRUE,\"\",VLOOKUP($R666,TAXONOMY!$A$1:$G$959,7,FALSE))","v":""},{"$f":"IF(ISBLANK($R666)=TRUE,\"\",VLOOKUP($R666,TAXONOMY!$A$1:$G$959,6,FALSE))","v":""},{"$f":"IF(ISBLANK($R666)=TRUE,\"\",VLOOKUP($R666,TAXONOMY!$A$1:$G$959,5,FALSE))","v":""},{"$f":"IF(ISBLANK($R666)=TRUE,\"\",VLOOKUP($R666,TAXONOMY!$A$1:$G$959,4,FALSE))","v":""},{"$f":"IF(ISBLANK($R666)=TRUE,\"\",VLOOKUP($R666,TAXONOMY!$A$1:$G$959,3,FALSE))","v":""},{"$f":"IF(ISBLANK($R666)=TRUE,\"\",VLOOKUP($R666,TAXONOMY!$A$1:$H$959,2,FALSE))","v":""}]
[null,null,null,null,null,null,null,null,null,null,null,{"$f":"IF(ISBLANK($R667)=TRUE,\"\",VLOOKUP($R667,TAXONOMY!$A$1:$G$959,7,FALSE))","v":""},{"$f":"IF(ISBLANK($R667)=TRUE,\"\",VLOOKUP($R667,TAXONOMY!$A$1:$G$959,6,FALSE))","v":""},{"$f":"IF(ISBLANK($R667)=TRUE,\"\",VLOOKUP($R667,TAXONOMY!$A$1:$G$959,5,FALSE))","v":""},{"$f":"IF(ISBLANK($R667)=TRUE,\"\",VLOOKUP($R667,TAXONOMY!$A$1:$G$959,4,FALSE))","v":""},{"$f":"IF(ISBLANK($R667)=TRUE,\"\",VLOOKUP($R667,TAXONOMY!$A$1:$G$959,3,FALSE))","v":""},{"$f":"IF(ISBLANK($R667)=TRUE,\"\",VLOOKUP($R667,TAXONOMY!$A$1:$H$959,2,FALSE))","v":""}]
[null,null,null,null,null,null,null,null,null,null,null,{"$f":"IF(ISBLANK($R668)=TRUE,\"\",VLOOKUP($R668,TAXONOMY!$A$1:$G$959,7,FALSE))","v":""},{"$f":"IF(ISBLANK($R668)=TRUE,\"\",VLOOKUP($R668,TAXONOMY!$A$1:$G$959,6,FALSE))","v":""},{"$f":"IF(ISBLANK($R668)=TRUE,\"\",VLOOKUP($R668,TAXONOMY!$A$1:$G$959,5,FALSE))","v":""},{"$f":"IF(ISBLANK($R668)=TRUE,\"\",VLOOKUP($R668,TAXONOMY!$A$1:$G$959,4,FALSE))","v":""},{"$f":"IF(ISBLANK($R668)=TRUE,\"\",VLOOKUP($R668,TAXONOMY!$A$1:$G$959,3,FALSE))","v":""},{"$f":"IF(ISBLANK($R668)=TRUE,\"\",VLOOKUP($R668,TAXONOMY!$A$1:$H$959,2,FALSE))","v":""}]
[null,null,null,null,null,null,null,null,null,null,null,{"$f":"IF(ISBLANK($R669)=TRUE,\"\",VLOOKUP($R669,TAXONOMY!$A$1:$G$959,7,FALSE))","v":""},{"$f":"IF(ISBLANK($R669)=TRUE,\"\",VLOOKUP($R669,TAXONOMY!$A$1:$G$959,6,FALSE))","v":""},{"$f":"IF(ISBLANK($R669)=TRUE,\"\",VLOOKUP($R669,TAXONOMY!$A$1:$G$959,5,FALSE))","v":""},{"$f":"IF(ISBLANK($R669)=TRUE,\"\",VLOOKUP($R669,TAXONOMY!$A$1:$G$959,4,FALSE))","v":""},{"$f":"IF(ISBLANK($R669)=TRUE,\"\",VLOOKUP($R669,TAXONOMY!$A$1:$G$959,3,FALSE))","v":""},{"$f":"IF(ISBLANK($R669)=TRUE,\"\",VLOOKUP($R669,TAXONOMY!$A$1:$H$959,2,FALSE))","v":""}]
[null,null,null,null,null,null,null,null,null,null,null,{"$f":"IF(ISBLANK($R670)=TRUE,\"\",VLOOKUP($R670,TAXONOMY!$A$1:$G$959,7,FALSE))","v":""},{"$f":"IF(ISBLANK($R670)=TRUE,\"\",VLOOKUP($R670,TAXONOMY!$A$1:$G$959,6,FALSE))","v":""},{"$f":"IF(ISBLANK($R670)=TRUE,\"\",VLOOKUP($R670,TAXONOMY!$A$1:$G$959,5,FALSE))","v":""},{"$f":"IF(ISBLANK($R670)=TRUE,\"\",VLOOKUP($R670,TAXONOMY!$A$1:$G$959,4,FALSE))","v":""},{"$f":"IF(ISBLANK($R670)=TRUE,\"\",VLOOKUP($R670,TAXONOMY!$A$1:$G$959,3,FALSE))","v":""},{"$f":"IF(ISBLANK($R670)=TRUE,\"\",VLOOKUP($R670,TAXONOMY!$A$1:$H$959,2,FALSE))","v":""}]
[null,null,null,null,null,null,null,null,null,null,null,{"$f":"IF(ISBLANK($R671)=TRUE,\"\",VLOOKUP($R671,TAXONOMY!$A$1:$G$959,7,FALSE))","v":""},{"$f":"IF(ISBLANK($R671)=TRUE,\"\",VLOOKUP($R671,TAXONOMY!$A$1:$G$959,6,FALSE))","v":""},{"$f":"IF(ISBLANK($R671)=TRUE,\"\",VLOOKUP($R671,TAXONOMY!$A$1:$G$959,5,FALSE))","v":""},{"$f":"IF(ISBLANK($R671)=TRUE,\"\",VLOOKUP($R671,TAXONOMY!$A$1:$G$959,4,FALSE))","v":""},{"$f":"IF(ISBLANK($R671)=TRUE,\"\",VLOOKUP($R671,TAXONOMY!$A$1:$G$959,3,FALSE))","v":""},{"$f":"IF(ISBLANK($R671)=TRUE,\"\",VLOOKUP($R671,TAXONOMY!$A$1:$H$959,2,FALSE))","v":""}]
[null,null,null,null,null,null,null,null,null,null,null,{"$f":"IF(ISBLANK($R672)=TRUE,\"\",VLOOKUP($R672,TAXONOMY!$A$1:$G$959,7,FALSE))","v":""},{"$f":"IF(ISBLANK($R672)=TRUE,\"\",VLOOKUP($R672,TAXONOMY!$A$1:$G$959,6,FALSE))","v":""},{"$f":"IF(ISBLANK($R672)=TRUE,\"\",VLOOKUP($R672,TAXONOMY!$A$1:$G$959,5,FALSE))","v":""},{"$f":"IF(ISBLANK($R672)=TRUE,\"\",VLOOKUP($R672,TAXONOMY!$A$1:$G$959,4,FALSE))","v":""},{"$f":"IF(ISBLANK($R672)=TRUE,\"\",VLOOKUP($R672,TAXONOMY!$A$1:$G$959,3,FALSE))","v":""},{"$f":"IF(ISBLANK($R672)=TRUE,\"\",VLOOKUP($R672,TAXONOMY!$A$1:$H$959,2,FALSE))","v":""}]
[null,null,null,null,null,null,null,null,null,null,null,{"$f":"IF(ISBLANK($R673)=TRUE,\"\",VLOOKUP($R673,TAXONOMY!$A$1:$G$959,7,FALSE))","v":""},{"$f":"IF(ISBLANK($R673)=TRUE,\"\",VLOOKUP($R673,TAXONOMY!$A$1:$G$959,6,FALSE))","v":""},{"$f":"IF(ISBLANK($R673)=TRUE,\"\",VLOOKUP($R673,TAXONOMY!$A$1:$G$959,5,FALSE))","v":""},{"$f":"IF(ISBLANK($R673)=TRUE,\"\",VLOOKUP($R673,TAXONOMY!$A$1:$G$959,4,FALSE))","v":""},{"$f":"IF(ISBLANK($R673)=TRUE,\"\",VLOOKUP($R673,TAXONOMY!$A$1:$G$959,3,FALSE))","v":""},{"$f":"IF(ISBLANK($R673)=TRUE,\"\",VLOOKUP($R673,TAXONOMY!$A$1:$H$959,2,FALSE))","v":""}]
[null,null,null,null,null,null,null,null,null,null,null,{"$f":"IF(ISBLANK($R674)=TRUE,\"\",VLOOKUP($R674,TAXONOMY!$A$1:$G$959,7,FALSE))","v":""},{"$f":"IF(ISBLANK($R674)=TRUE,\"\",VLOOKUP($R674,TAXONOMY!$A$1:$G$959,6,FALSE))","v":""},{"$f":"IF(ISBLANK($R674)=TRUE,\"\",VLOOKUP($R674,TAXONOMY!$A$1:$G$959,5,FALSE))","v":""},{"$f":"IF(ISBLANK($R674)=TRUE,\"\",VLOOKUP($R674,TAXONOMY!$A$1:$G$959,4,FALSE))","v":""},{"$f":"IF(ISBLANK($R674)=TRUE,\"\",VLOOKUP($R674,TAXONOMY!$A$1:$G$959,3,FALSE))","v":""},{"$f":"IF(ISBLANK($R674)=TRUE,\"\",VLOOKUP($R674,TAXONOMY!$A$1:$H$959,2,FALSE))","v":""}]
[null,null,null,null,null,null,null,null,null,null,null,{"$f":"IF(ISBLANK($R675)=TRUE,\"\",VLOOKUP($R675,TAXONOMY!$A$1:$G$959,7,FALSE))","v":""},{"$f":"IF(ISBLANK($R675)=TRUE,\"\",VLOOKUP($R675,TAXONOMY!$A$1:$G$959,6,FALSE))","v":""},{"$f":"IF(ISBLANK($R675)=TRUE,\"\",VLOOKUP($R675,TAXONOMY!$A$1:$G$959,5,FALSE))","v":""},{"$f":"IF(ISBLANK($R675)=TRUE,\"\",VLOOKUP($R675,TAXONOMY!$A$1:$G$959,4,FALSE))","v":""},{"$f":"IF(ISBLANK($R675)=TRUE,\"\",VLOOKUP($R675,TAXONOMY!$A$1:$G$959,3,FALSE))","v":""},{"$f":"IF(ISBLANK($R675)=TRUE,\"\",VLOOKUP($R675,TAXONOMY!$A$1:$H$959,2,FALSE))","v":""}]
[null,null,null,null,null,null,null,null,null,null,null,{"$f":"IF(ISBLANK($R676)=TRUE,\"\",VLOOKUP($R676,TAXONOMY!$A$1:$G$959,7,FALSE))","v":""},{"$f":"IF(ISBLANK($R676)=TRUE,\"\",VLOOKUP($R676,TAXONOMY!$A$1:$G$959,6,FALSE))","v":""},{"$f":"IF(ISBLANK($R676)=TRUE,\"\",VLOOKUP($R676,TAXONOMY!$A$1:$G$959,5,FALSE))","v":""},{"$f":"IF(ISBLANK($R676)=TRUE,\"\",VLOOKUP($R676,TAXONOMY!$A$1:$G$959,4,FALSE))","v":""},{"$f":"IF(ISBLANK($R676)=TRUE,\"\",VLOOKUP($R676,TAXONOMY!$A$1:$G$959,3,FALSE))","v":""},{"$f":"IF(ISBLANK($R676)=TRUE,\"\",VLOOKUP($R676,TAXONOMY!$A$1:$H$959,2,FALSE))","v":""}]
[null,null,null,null,null,null,null,null,null,null,null,{"$f":"IF(ISBLANK($R677)=TRUE,\"\",VLOOKUP($R677,TAXONOMY!$A$1:$G$959,7,FALSE))","v":""},{"$f":"IF(ISBLANK($R677)=TRUE,\"\",VLOOKUP($R677,TAXONOMY!$A$1:$G$959,6,FALSE))","v":""},{"$f":"IF(ISBLANK($R677)=TRUE,\"\",VLOOKUP($R677,TAXONOMY!$A$1:$G$959,5,FALSE))","v":""},{"$f":"IF(ISBLANK($R677)=TRUE,\"\",VLOOKUP($R677,TAXONOMY!$A$1:$G$959,4,FALSE))","v":""},{"$f":"IF(ISBLANK($R677)=TRUE,\"\",VLOOKUP($R677,TAXONOMY!$A$1:$G$959,3,FALSE))","v":""},{"$f":"IF(ISBLANK($R677)=TRUE,\"\",VLOOKUP($R677,TAXONOMY!$A$1:$H$959,2,FALSE))","v":""}]
[null,null,null,null,null,null,null,null,null,null,null,{"$f":"IF(ISBLANK($R678)=TRUE,\"\",VLOOKUP($R678,TAXONOMY!$A$1:$G$959,7,FALSE))","v":""},{"$f":"IF(ISBLANK($R678)=TRUE,\"\",VLOOKUP($R678,TAXONOMY!$A$1:$G$959,6,FALSE))","v":""},{"$f":"IF(ISBLANK($R678)=TRUE,\"\",VLOOKUP($R678,TAXONOMY!$A$1:$G$959,5,FALSE))","v":""},{"$f":"IF(ISBLANK($R678)=TRUE,\"\",VLOOKUP($R678,TAXONOMY!$A$1:$G$959,4,FALSE))","v":""},{"$f":"IF(ISBLANK($R678)=TRUE,\"\",VLOOKUP($R678,TAXONOMY!$A$1:$G$959,3,FALSE))","v":""},{"$f":"IF(ISBLANK($R678)=TRUE,\"\",VLOOKUP($R678,TAXONOMY!$A$1:$H$959,2,FALSE))","v":""}]
[null,null,null,null,null,null,null,null,null,null,null,{"$f":"IF(ISBLANK($R679)=TRUE,\"\",VLOOKUP($R679,TAXONOMY!$A$1:$G$959,7,FALSE))","v":""},{"$f":"IF(ISBLANK($R679)=TRUE,\"\",VLOOKUP($R679,TAXONOMY!$A$1:$G$959,6,FALSE))","v":""},{"$f":"IF(ISBLANK($R679)=TRUE,\"\",VLOOKUP($R679,TAXONOMY!$A$1:$G$959,5,FALSE))","v":""},{"$f":"IF(ISBLANK($R679)=TRUE,\"\",VLOOKUP($R679,TAXONOMY!$A$1:$G$959,4,FALSE))","v":""},{"$f":"IF(ISBLANK($R679)=TRUE,\"\",VLOOKUP($R679,TAXONOMY!$A$1:$G$959,3,FALSE))","v":""},{"$f":"IF(ISBLANK($R679)=TRUE,\"\",VLOOKUP($R679,TAXONOMY!$A$1:$H$959,2,FALSE))","v":""}]
[null,null,null,null,null,null,null,null,null,null,null,{"$f":"IF(ISBLANK($R680)=TRUE,\"\",VLOOKUP($R680,TAXONOMY!$A$1:$G$959,7,FALSE))","v":""},{"$f":"IF(ISBLANK($R680)=TRUE,\"\",VLOOKUP($R680,TAXONOMY!$A$1:$G$959,6,FALSE))","v":""},{"$f":"IF(ISBLANK($R680)=TRUE,\"\",VLOOKUP($R680,TAXONOMY!$A$1:$G$959,5,FALSE))","v":""},{"$f":"IF(ISBLANK($R680)=TRUE,\"\",VLOOKUP($R680,TAXONOMY!$A$1:$G$959,4,FALSE))","v":""},{"$f":"IF(ISBLANK($R680)=TRUE,\"\",VLOOKUP($R680,TAXONOMY!$A$1:$G$959,3,FALSE))","v":""},{"$f":"IF(ISBLANK($R680)=TRUE,\"\",VLOOKUP($R680,TAXONOMY!$A$1:$H$959,2,FALSE))","v":""}]
[null,null,null,null,null,null,null,null,null,null,null,{"$f":"IF(ISBLANK($R681)=TRUE,\"\",VLOOKUP($R681,TAXONOMY!$A$1:$G$959,7,FALSE))","v":""},{"$f":"IF(ISBLANK($R681)=TRUE,\"\",VLOOKUP($R681,TAXONOMY!$A$1:$G$959,6,FALSE))","v":""},{"$f":"IF(ISBLANK($R681)=TRUE,\"\",VLOOKUP($R681,TAXONOMY!$A$1:$G$959,5,FALSE))","v":""},{"$f":"IF(ISBLANK($R681)=TRUE,\"\",VLOOKUP($R681,TAXONOMY!$A$1:$G$959,4,FALSE))","v":""},{"$f":"IF(ISBLANK($R681)=TRUE,\"\",VLOOKUP($R681,TAXONOMY!$A$1:$G$959,3,FALSE))","v":""},{"$f":"IF(ISBLANK($R681)=TRUE,\"\",VLOOKUP($R681,TAXONOMY!$A$1:$H$959,2,FALSE))","v":""}]
[null,null,null,null,null,null,null,null,null,null,null,{"$f":"IF(ISBLANK($R682)=TRUE,\"\",VLOOKUP($R682,TAXONOMY!$A$1:$G$959,7,FALSE))","v":""},{"$f":"IF(ISBLANK($R682)=TRUE,\"\",VLOOKUP($R682,TAXONOMY!$A$1:$G$959,6,FALSE))","v":""},{"$f":"IF(ISBLANK($R682)=TRUE,\"\",VLOOKUP($R682,TAXONOMY!$A$1:$G$959,5,FALSE))","v":""},{"$f":"IF(ISBLANK($R682)=TRUE,\"\",VLOOKUP($R682,TAXONOMY!$A$1:$G$959,4,FALSE))","v":""},{"$f":"IF(ISBLANK($R682)=TRUE,\"\",VLOOKUP($R682,TAXONOMY!$A$1:$G$959,3,FALSE))","v":""},{"$f":"IF(ISBLANK($R682)=TRUE,\"\",VLOOKUP($R682,TAXONOMY!$A$1:$H$959,2,FALSE))","v":""}]
[null,null,null,null,null,null,null,null,null,null,null,{"$f":"IF(ISBLANK($R683)=TRUE,\"\",VLOOKUP($R683,TAXONOMY!$A$1:$G$959,7,FALSE))","v":""},{"$f":"IF(ISBLANK($R683)=TRUE,\"\",VLOOKUP($R683,TAXONOMY!$A$1:$G$959,6,FALSE))","v":""},{"$f":"IF(ISBLANK($R683)=TRUE,\"\",VLOOKUP($R683,TAXONOMY!$A$1:$G$959,5,FALSE))","v":""},{"$f":"IF(ISBLANK($R683)=TRUE,\"\",VLOOKUP($R683,TAXONOMY!$A$1:$G$959,4,FALSE))","v":""},{"$f":"IF(ISBLANK($R683)=TRUE,\"\",VLOOKUP($R683,TAXONOMY!$A$1:$G$959,3,FALSE))","v":""},{"$f":"IF(ISBLANK($R683)=TRUE,\"\",VLOOKUP($R683,TAXONOMY!$A$1:$H$959,2,FALSE))","v":""}]
[null,null,null,null,null,null,null,null,null,null,null,{"$f":"IF(ISBLANK($R684)=TRUE,\"\",VLOOKUP($R684,TAXONOMY!$A$1:$G$959,7,FALSE))","v":""},{"$f":"IF(ISBLANK($R684)=TRUE,\"\",VLOOKUP($R684,TAXONOMY!$A$1:$G$959,6,FALSE))","v":""},{"$f":"IF(ISBLANK($R684)=TRUE,\"\",VLOOKUP($R684,TAXONOMY!$A$1:$G$959,5,FALSE))","v":""},{"$f":"IF(ISBLANK($R684)=TRUE,\"\",VLOOKUP($R684,TAXONOMY!$A$1:$G$959,4,FALSE))","v":""},{"$f":"IF(ISBLANK($R684)=TRUE,\"\",VLOOKUP($R684,TAXONOMY!$A$1:$G$959,3,FALSE))","v":""},{"$f":"IF(ISBLANK($R684)=TRUE,\"\",VLOOKUP($R684,TAXONOMY!$A$1:$H$959,2,FALSE))","v":""}]
[null,null,null,null,null,null,null,null,null,null,null,{"$f":"IF(ISBLANK($R685)=TRUE,\"\",VLOOKUP($R685,TAXONOMY!$A$1:$G$959,7,FALSE))","v":""},{"$f":"IF(ISBLANK($R685)=TRUE,\"\",VLOOKUP($R685,TAXONOMY!$A$1:$G$959,6,FALSE))","v":""},{"$f":"IF(ISBLANK($R685)=TRUE,\"\",VLOOKUP($R685,TAXONOMY!$A$1:$G$959,5,FALSE))","v":""},{"$f":"IF(ISBLANK($R685)=TRUE,\"\",VLOOKUP($R685,TAXONOMY!$A$1:$G$959,4,FALSE))","v":""},{"$f":"IF(ISBLANK($R685)=TRUE,\"\",VLOOKUP($R685,TAXONOMY!$A$1:$G$959,3,FALSE))","v":""},{"$f":"IF(ISBLANK($R685)=TRUE,\"\",VLOOKUP($R685,TAXONOMY!$A$1:$H$959,2,FALSE))","v":""}]
[null,null,null,null,null,null,null,null,null,null,null,{"$f":"IF(ISBLANK($R686)=TRUE,\"\",VLOOKUP($R686,TAXONOMY!$A$1:$G$959,7,FALSE))","v":""},{"$f":"IF(ISBLANK($R686)=TRUE,\"\",VLOOKUP($R686,TAXONOMY!$A$1:$G$959,6,FALSE))","v":""},{"$f":"IF(ISBLANK($R686)=TRUE,\"\",VLOOKUP($R686,TAXONOMY!$A$1:$G$959,5,FALSE))","v":""},{"$f":"IF(ISBLANK($R686)=TRUE,\"\",VLOOKUP($R686,TAXONOMY!$A$1:$G$959,4,FALSE))","v":""},{"$f":"IF(ISBLANK($R686)=TRUE,\"\",VLOOKUP($R686,TAXONOMY!$A$1:$G$959,3,FALSE))","v":""},{"$f":"IF(ISBLANK($R686)=TRUE,\"\",VLOOKUP($R686,TAXONOMY!$A$1:$H$959,2,FALSE))","v":""}]
[null,null,null,null,null,null,null,null,null,null,null,{"$f":"IF(ISBLANK($R687)=TRUE,\"\",VLOOKUP($R687,TAXONOMY!$A$1:$G$959,7,FALSE))","v":""},{"$f":"IF(ISBLANK($R687)=TRUE,\"\",VLOOKUP($R687,TAXONOMY!$A$1:$G$959,6,FALSE))","v":""},{"$f":"IF(ISBLANK($R687)=TRUE,\"\",VLOOKUP($R687,TAXONOMY!$A$1:$G$959,5,FALSE))","v":""},{"$f":"IF(ISBLANK($R687)=TRUE,\"\",VLOOKUP($R687,TAXONOMY!$A$1:$G$959,4,FALSE))","v":""},{"$f":"IF(ISBLANK($R687)=TRUE,\"\",VLOOKUP($R687,TAXONOMY!$A$1:$G$959,3,FALSE))","v":""},{"$f":"IF(ISBLANK($R687)=TRUE,\"\",VLOOKUP($R687,TAXONOMY!$A$1:$H$959,2,FALSE))","v":""}]
[null,null,null,null,null,null,null,null,null,null,null,{"$f":"IF(ISBLANK($R688)=TRUE,\"\",VLOOKUP($R688,TAXONOMY!$A$1:$G$959,7,FALSE))","v":""},{"$f":"IF(ISBLANK($R688)=TRUE,\"\",VLOOKUP($R688,TAXONOMY!$A$1:$G$959,6,FALSE))","v":""},{"$f":"IF(ISBLANK($R688)=TRUE,\"\",VLOOKUP($R688,TAXONOMY!$A$1:$G$959,5,FALSE))","v":""},{"$f":"IF(ISBLANK($R688)=TRUE,\"\",VLOOKUP($R688,TAXONOMY!$A$1:$G$959,4,FALSE))","v":""},{"$f":"IF(ISBLANK($R688)=TRUE,\"\",VLOOKUP($R688,TAXONOMY!$A$1:$G$959,3,FALSE))","v":""},{"$f":"IF(ISBLANK($R688)=TRUE,\"\",VLOOKUP($R688,TAXONOMY!$A$1:$H$959,2,FALSE))","v":""}]
[null,null,null,null,null,null,null,null,null,null,null,{"$f":"IF(ISBLANK($R689)=TRUE,\"\",VLOOKUP($R689,TAXONOMY!$A$1:$G$959,7,FALSE))","v":""},{"$f":"IF(ISBLANK($R689)=TRUE,\"\",VLOOKUP($R689,TAXONOMY!$A$1:$G$959,6,FALSE))","v":""},{"$f":"IF(ISBLANK($R689)=TRUE,\"\",VLOOKUP($R689,TAXONOMY!$A$1:$G$959,5,FALSE))","v":""},{"$f":"IF(ISBLANK($R689)=TRUE,\"\",VLOOKUP($R689,TAXONOMY!$A$1:$G$959,4,FALSE))","v":""},{"$f":"IF(ISBLANK($R689)=TRUE,\"\",VLOOKUP($R689,TAXONOMY!$A$1:$G$959,3,FALSE))","v":""},{"$f":"IF(ISBLANK($R689)=TRUE,\"\",VLOOKUP($R689,TAXONOMY!$A$1:$H$959,2,FALSE))","v":""}]
[null,null,null,null,null,null,null,null,null,null,null,{"$f":"IF(ISBLANK($R690)=TRUE,\"\",VLOOKUP($R690,TAXONOMY!$A$1:$G$959,7,FALSE))","v":""},{"$f":"IF(ISBLANK($R690)=TRUE,\"\",VLOOKUP($R690,TAXONOMY!$A$1:$G$959,6,FALSE))","v":""},{"$f":"IF(ISBLANK($R690)=TRUE,\"\",VLOOKUP($R690,TAXONOMY!$A$1:$G$959,5,FALSE))","v":""},{"$f":"IF(ISBLANK($R690)=TRUE,\"\",VLOOKUP($R690,TAXONOMY!$A$1:$G$959,4,FALSE))","v":""},{"$f":"IF(ISBLANK($R690)=TRUE,\"\",VLOOKUP($R690,TAXONOMY!$A$1:$G$959,3,FALSE))","v":""},{"$f":"IF(ISBLANK($R690)=TRUE,\"\",VLOOKUP($R690,TAXONOMY!$A$1:$H$959,2,FALSE))","v":""}]
[null,null,null,null,null,null,null,null,null,null,null,{"$f":"IF(ISBLANK($R691)=TRUE,\"\",VLOOKUP($R691,TAXONOMY!$A$1:$G$959,7,FALSE))","v":""},{"$f":"IF(ISBLANK($R691)=TRUE,\"\",VLOOKUP($R691,TAXONOMY!$A$1:$G$959,6,FALSE))","v":""},{"$f":"IF(ISBLANK($R691)=TRUE,\"\",VLOOKUP($R691,TAXONOMY!$A$1:$G$959,5,FALSE))","v":""},{"$f":"IF(ISBLANK($R691)=TRUE,\"\",VLOOKUP($R691,TAXONOMY!$A$1:$G$959,4,FALSE))","v":""},{"$f":"IF(ISBLANK($R691)=TRUE,\"\",VLOOKUP($R691,TAXONOMY!$A$1:$G$959,3,FALSE))","v":""},{"$f":"IF(ISBLANK($R691)=TRUE,\"\",VLOOKUP($R691,TAXONOMY!$A$1:$H$959,2,FALSE))","v":""}]
[null,null,null,null,null,null,null,null,null,null,null,{"$f":"IF(ISBLANK($R692)=TRUE,\"\",VLOOKUP($R692,TAXONOMY!$A$1:$G$959,7,FALSE))","v":""},{"$f":"IF(ISBLANK($R692)=TRUE,\"\",VLOOKUP($R692,TAXONOMY!$A$1:$G$959,6,FALSE))","v":""},{"$f":"IF(ISBLANK($R692)=TRUE,\"\",VLOOKUP($R692,TAXONOMY!$A$1:$G$959,5,FALSE))","v":""},{"$f":"IF(ISBLANK($R692)=TRUE,\"\",VLOOKUP($R692,TAXONOMY!$A$1:$G$959,4,FALSE))","v":""},{"$f":"IF(ISBLANK($R692)=TRUE,\"\",VLOOKUP($R692,TAXONOMY!$A$1:$G$959,3,FALSE))","v":""},{"$f":"IF(ISBLANK($R692)=TRUE,\"\",VLOOKUP($R692,TAXONOMY!$A$1:$H$959,2,FALSE))","v":""}]
[null,null,null,null,null,null,null,null,null,null,null,{"$f":"IF(ISBLANK($R693)=TRUE,\"\",VLOOKUP($R693,TAXONOMY!$A$1:$G$959,7,FALSE))","v":""},{"$f":"IF(ISBLANK($R693)=TRUE,\"\",VLOOKUP($R693,TAXONOMY!$A$1:$G$959,6,FALSE))","v":""},{"$f":"IF(ISBLANK($R693)=TRUE,\"\",VLOOKUP($R693,TAXONOMY!$A$1:$G$959,5,FALSE))","v":""},{"$f":"IF(ISBLANK($R693)=TRUE,\"\",VLOOKUP($R693,TAXONOMY!$A$1:$G$959,4,FALSE))","v":""},{"$f":"IF(ISBLANK($R693)=TRUE,\"\",VLOOKUP($R693,TAXONOMY!$A$1:$G$959,3,FALSE))","v":""},{"$f":"IF(ISBLANK($R693)=TRUE,\"\",VLOOKUP($R693,TAXONOMY!$A$1:$H$959,2,FALSE))","v":""}]
[null,null,null,null,null,null,null,null,null,null,null,{"$f":"IF(ISBLANK($R694)=TRUE,\"\",VLOOKUP($R694,TAXONOMY!$A$1:$G$959,7,FALSE))","v":""},{"$f":"IF(ISBLANK($R694)=TRUE,\"\",VLOOKUP($R694,TAXONOMY!$A$1:$G$959,6,FALSE))","v":""},{"$f":"IF(ISBLANK($R694)=TRUE,\"\",VLOOKUP($R694,TAXONOMY!$A$1:$G$959,5,FALSE))","v":""},{"$f":"IF(ISBLANK($R694)=TRUE,\"\",VLOOKUP($R694,TAXONOMY!$A$1:$G$959,4,FALSE))","v":""},{"$f":"IF(ISBLANK($R694)=TRUE,\"\",VLOOKUP($R694,TAXONOMY!$A$1:$G$959,3,FALSE))","v":""},{"$f":"IF(ISBLANK($R694)=TRUE,\"\",VLOOKUP($R694,TAXONOMY!$A$1:$H$959,2,FALSE))","v":""}]
[null,null,null,null,null,null,null,null,null,null,null,{"$f":"IF(ISBLANK($R695)=TRUE,\"\",VLOOKUP($R695,TAXONOMY!$A$1:$G$959,7,FALSE))","v":""},{"$f":"IF(ISBLANK($R695)=TRUE,\"\",VLOOKUP($R695,TAXONOMY!$A$1:$G$959,6,FALSE))","v":""},{"$f":"IF(ISBLANK($R695)=TRUE,\"\",VLOOKUP($R695,TAXONOMY!$A$1:$G$959,5,FALSE))","v":""},{"$f":"IF(ISBLANK($R695)=TRUE,\"\",VLOOKUP($R695,TAXONOMY!$A$1:$G$959,4,FALSE))","v":""},{"$f":"IF(ISBLANK($R695)=TRUE,\"\",VLOOKUP($R695,TAXONOMY!$A$1:$G$959,3,FALSE))","v":""},{"$f":"IF(ISBLANK($R695)=TRUE,\"\",VLOOKUP($R695,TAXONOMY!$A$1:$H$959,2,FALSE))","v":""}]
[null,null,null,null,null,null,null,null,null,null,null,{"$f":"IF(ISBLANK($R696)=TRUE,\"\",VLOOKUP($R696,TAXONOMY!$A$1:$G$959,7,FALSE))","v":""},{"$f":"IF(ISBLANK($R696)=TRUE,\"\",VLOOKUP($R696,TAXONOMY!$A$1:$G$959,6,FALSE))","v":""},{"$f":"IF(ISBLANK($R696)=TRUE,\"\",VLOOKUP($R696,TAXONOMY!$A$1:$G$959,5,FALSE))","v":""},{"$f":"IF(ISBLANK($R696)=TRUE,\"\",VLOOKUP($R696,TAXONOMY!$A$1:$G$959,4,FALSE))","v":""},{"$f":"IF(ISBLANK($R696)=TRUE,\"\",VLOOKUP($R696,TAXONOMY!$A$1:$G$959,3,FALSE))","v":""},{"$f":"IF(ISBLANK($R696)=TRUE,\"\",VLOOKUP($R696,TAXONOMY!$A$1:$H$959,2,FALSE))","v":""}]
[null,null,null,null,null,null,null,null,null,null,null,{"$f":"IF(ISBLANK($R697)=TRUE,\"\",VLOOKUP($R697,TAXONOMY!$A$1:$G$959,7,FALSE))","v":""},{"$f":"IF(ISBLANK($R697)=TRUE,\"\",VLOOKUP($R697,TAXONOMY!$A$1:$G$959,6,FALSE))","v":""},{"$f":"IF(ISBLANK($R697)=TRUE,\"\",VLOOKUP($R697,TAXONOMY!$A$1:$G$959,5,FALSE))","v":""},{"$f":"IF(ISBLANK($R697)=TRUE,\"\",VLOOKUP($R697,TAXONOMY!$A$1:$G$959,4,FALSE))","v":""},{"$f":"IF(ISBLANK($R697)=TRUE,\"\",VLOOKUP($R697,TAXONOMY!$A$1:$G$959,3,FALSE))","v":""},{"$f":"IF(ISBLANK($R697)=TRUE,\"\",VLOOKUP($R697,TAXONOMY!$A$1:$H$959,2,FALSE))","v":""}]
[null,null,null,null,null,null,null,null,null,null,null,{"$f":"IF(ISBLANK($R698)=TRUE,\"\",VLOOKUP($R698,TAXONOMY!$A$1:$G$959,7,FALSE))","v":""},{"$f":"IF(ISBLANK($R698)=TRUE,\"\",VLOOKUP($R698,TAXONOMY!$A$1:$G$959,6,FALSE))","v":""},{"$f":"IF(ISBLANK($R698)=TRUE,\"\",VLOOKUP($R698,TAXONOMY!$A$1:$G$959,5,FALSE))","v":""},{"$f":"IF(ISBLANK($R698)=TRUE,\"\",VLOOKUP($R698,TAXONOMY!$A$1:$G$959,4,FALSE))","v":""},{"$f":"IF(ISBLANK($R698)=TRUE,\"\",VLOOKUP($R698,TAXONOMY!$A$1:$G$959,3,FALSE))","v":""},{"$f":"IF(ISBLANK($R698)=TRUE,\"\",VLOOKUP($R698,TAXONOMY!$A$1:$H$959,2,FALSE))","v":""}]
[null,null,null,null,null,null,null,null,null,null,null,{"$f":"IF(ISBLANK($R699)=TRUE,\"\",VLOOKUP($R699,TAXONOMY!$A$1:$G$959,7,FALSE))","v":""},{"$f":"IF(ISBLANK($R699)=TRUE,\"\",VLOOKUP($R699,TAXONOMY!$A$1:$G$959,6,FALSE))","v":""},{"$f":"IF(ISBLANK($R699)=TRUE,\"\",VLOOKUP($R699,TAXONOMY!$A$1:$G$959,5,FALSE))","v":""},{"$f":"IF(ISBLANK($R699)=TRUE,\"\",VLOOKUP($R699,TAXONOMY!$A$1:$G$959,4,FALSE))","v":""},{"$f":"IF(ISBLANK($R699)=TRUE,\"\",VLOOKUP($R699,TAXONOMY!$A$1:$G$959,3,FALSE))","v":""},{"$f":"IF(ISBLANK($R699)=TRUE,\"\",VLOOKUP($R699,TAXONOMY!$A$1:$H$959,2,FALSE))","v":""}]
[null,null,null,null,null,null,null,null,null,null,null,{"$f":"IF(ISBLANK($R700)=TRUE,\"\",VLOOKUP($R700,TAXONOMY!$A$1:$G$959,7,FALSE))","v":""},{"$f":"IF(ISBLANK($R700)=TRUE,\"\",VLOOKUP($R700,TAXONOMY!$A$1:$G$959,6,FALSE))","v":""},{"$f":"IF(ISBLANK($R700)=TRUE,\"\",VLOOKUP($R700,TAXONOMY!$A$1:$G$959,5,FALSE))","v":""},{"$f":"IF(ISBLANK($R700)=TRUE,\"\",VLOOKUP($R700,TAXONOMY!$A$1:$G$959,4,FALSE))","v":""},{"$f":"IF(ISBLANK($R700)=TRUE,\"\",VLOOKUP($R700,TAXONOMY!$A$1:$G$959,3,FALSE))","v":""},{"$f":"IF(ISBLANK($R700)=TRUE,\"\",VLOOKUP($R700,TAXONOMY!$A$1:$H$959,2,FALSE))","v":""}]
[null,null,null,null,null,null,null,null,null,null,null,{"$f":"IF(ISBLANK($R701)=TRUE,\"\",VLOOKUP($R701,TAXONOMY!$A$1:$G$959,7,FALSE))","v":""},{"$f":"IF(ISBLANK($R701)=TRUE,\"\",VLOOKUP($R701,TAXONOMY!$A$1:$G$959,6,FALSE))","v":""},{"$f":"IF(ISBLANK($R701)=TRUE,\"\",VLOOKUP($R701,TAXONOMY!$A$1:$G$959,5,FALSE))","v":""},{"$f":"IF(ISBLANK($R701)=TRUE,\"\",VLOOKUP($R701,TAXONOMY!$A$1:$G$959,4,FALSE))","v":""},{"$f":"IF(ISBLANK($R701)=TRUE,\"\",VLOOKUP($R701,TAXONOMY!$A$1:$G$959,3,FALSE))","v":""},{"$f":"IF(ISBLANK($R701)=TRUE,\"\",VLOOKUP($R701,TAXONOMY!$A$1:$H$959,2,FALSE))","v":""}]
[null,null,null,null,null,null,null,null,null,null,null,{"$f":"IF(ISBLANK($R702)=TRUE,\"\",VLOOKUP($R702,TAXONOMY!$A$1:$G$959,7,FALSE))","v":""},{"$f":"IF(ISBLANK($R702)=TRUE,\"\",VLOOKUP($R702,TAXONOMY!$A$1:$G$959,6,FALSE))","v":""},{"$f":"IF(ISBLANK($R702)=TRUE,\"\",VLOOKUP($R702,TAXONOMY!$A$1:$G$959,5,FALSE))","v":""},{"$f":"IF(ISBLANK($R702)=TRUE,\"\",VLOOKUP($R702,TAXONOMY!$A$1:$G$959,4,FALSE))","v":""},{"$f":"IF(ISBLANK($R702)=TRUE,\"\",VLOOKUP($R702,TAXONOMY!$A$1:$G$959,3,FALSE))","v":""},{"$f":"IF(ISBLANK($R702)=TRUE,\"\",VLOOKUP($R702,TAXONOMY!$A$1:$H$959,2,FALSE))","v":""}]
[null,null,null,null,null,null,null,null,null,null,null,{"$f":"IF(ISBLANK($R703)=TRUE,\"\",VLOOKUP($R703,TAXONOMY!$A$1:$G$959,7,FALSE))","v":""},{"$f":"IF(ISBLANK($R703)=TRUE,\"\",VLOOKUP($R703,TAXONOMY!$A$1:$G$959,6,FALSE))","v":""},{"$f":"IF(ISBLANK($R703)=TRUE,\"\",VLOOKUP($R703,TAXONOMY!$A$1:$G$959,5,FALSE))","v":""},{"$f":"IF(ISBLANK($R703)=TRUE,\"\",VLOOKUP($R703,TAXONOMY!$A$1:$G$959,4,FALSE))","v":""},{"$f":"IF(ISBLANK($R703)=TRUE,\"\",VLOOKUP($R703,TAXONOMY!$A$1:$G$959,3,FALSE))","v":""},{"$f":"IF(ISBLANK($R703)=TRUE,\"\",VLOOKUP($R703,TAXONOMY!$A$1:$H$959,2,FALSE))","v":""}]
[null,null,null,null,null,null,null,null,null,null,null,{"$f":"IF(ISBLANK($R704)=TRUE,\"\",VLOOKUP($R704,TAXONOMY!$A$1:$G$959,7,FALSE))","v":""},{"$f":"IF(ISBLANK($R704)=TRUE,\"\",VLOOKUP($R704,TAXONOMY!$A$1:$G$959,6,FALSE))","v":""},{"$f":"IF(ISBLANK($R704)=TRUE,\"\",VLOOKUP($R704,TAXONOMY!$A$1:$G$959,5,FALSE))","v":""},{"$f":"IF(ISBLANK($R704)=TRUE,\"\",VLOOKUP($R704,TAXONOMY!$A$1:$G$959,4,FALSE))","v":""},{"$f":"IF(ISBLANK($R704)=TRUE,\"\",VLOOKUP($R704,TAXONOMY!$A$1:$G$959,3,FALSE))","v":""},{"$f":"IF(ISBLANK($R704)=TRUE,\"\",VLOOKUP($R704,TAXONOMY!$A$1:$H$959,2,FALSE))","v":""}]
[null,null,null,null,null,null,null,null,null,null,null,{"$f":"IF(ISBLANK($R705)=TRUE,\"\",VLOOKUP($R705,TAXONOMY!$A$1:$G$959,7,FALSE))","v":""},{"$f":"IF(ISBLANK($R705)=TRUE,\"\",VLOOKUP($R705,TAXONOMY!$A$1:$G$959,6,FALSE))","v":""},{"$f":"IF(ISBLANK($R705)=TRUE,\"\",VLOOKUP($R705,TAXONOMY!$A$1:$G$959,5,FALSE))","v":""},{"$f":"IF(ISBLANK($R705)=TRUE,\"\",VLOOKUP($R705,TAXONOMY!$A$1:$G$959,4,FALSE))","v":""},{"$f":"IF(ISBLANK($R705)=TRUE,\"\",VLOOKUP($R705,TAXONOMY!$A$1:$G$959,3,FALSE))","v":""},{"$f":"IF(ISBLANK($R705)=TRUE,\"\",VLOOKUP($R705,TAXONOMY!$A$1:$H$959,2,FALSE))","v":""}]
[null,null,null,null,null,null,null,null,null,null,null,{"$f":"IF(ISBLANK($R706)=TRUE,\"\",VLOOKUP($R706,TAXONOMY!$A$1:$G$959,7,FALSE))","v":""},{"$f":"IF(ISBLANK($R706)=TRUE,\"\",VLOOKUP($R706,TAXONOMY!$A$1:$G$959,6,FALSE))","v":""},{"$f":"IF(ISBLANK($R706)=TRUE,\"\",VLOOKUP($R706,TAXONOMY!$A$1:$G$959,5,FALSE))","v":""},{"$f":"IF(ISBLANK($R706)=TRUE,\"\",VLOOKUP($R706,TAXONOMY!$A$1:$G$959,4,FALSE))","v":""},{"$f":"IF(ISBLANK($R706)=TRUE,\"\",VLOOKUP($R706,TAXONOMY!$A$1:$G$959,3,FALSE))","v":""},{"$f":"IF(ISBLANK($R706)=TRUE,\"\",VLOOKUP($R706,TAXONOMY!$A$1:$H$959,2,FALSE))","v":""}]
[null,null,null,null,null,null,null,null,null,null,null,{"$f":"IF(ISBLANK($R707)=TRUE,\"\",VLOOKUP($R707,TAXONOMY!$A$1:$G$959,7,FALSE))","v":""},{"$f":"IF(ISBLANK($R707)=TRUE,\"\",VLOOKUP($R707,TAXONOMY!$A$1:$G$959,6,FALSE))","v":""},{"$f":"IF(ISBLANK($R707)=TRUE,\"\",VLOOKUP($R707,TAXONOMY!$A$1:$G$959,5,FALSE))","v":""},{"$f":"IF(ISBLANK($R707)=TRUE,\"\",VLOOKUP($R707,TAXONOMY!$A$1:$G$959,4,FALSE))","v":""},{"$f":"IF(ISBLANK($R707)=TRUE,\"\",VLOOKUP($R707,TAXONOMY!$A$1:$G$959,3,FALSE))","v":""},{"$f":"IF(ISBLANK($R707)=TRUE,\"\",VLOOKUP($R707,TAXONOMY!$A$1:$H$959,2,FALSE))","v":""}]
[null,null,null,null,null,null,null,null,null,null,null,{"$f":"IF(ISBLANK($R708)=TRUE,\"\",VLOOKUP($R708,TAXONOMY!$A$1:$G$959,7,FALSE))","v":""},{"$f":"IF(ISBLANK($R708)=TRUE,\"\",VLOOKUP($R708,TAXONOMY!$A$1:$G$959,6,FALSE))","v":""},{"$f":"IF(ISBLANK($R708)=TRUE,\"\",VLOOKUP($R708,TAXONOMY!$A$1:$G$959,5,FALSE))","v":""},{"$f":"IF(ISBLANK($R708)=TRUE,\"\",VLOOKUP($R708,TAXONOMY!$A$1:$G$959,4,FALSE))","v":""},{"$f":"IF(ISBLANK($R708)=TRUE,\"\",VLOOKUP($R708,TAXONOMY!$A$1:$G$959,3,FALSE))","v":""},{"$f":"IF(ISBLANK($R708)=TRUE,\"\",VLOOKUP($R708,TAXONOMY!$A$1:$H$959,2,FALSE))","v":""}]
[null,null,null,null,null,null,null,null,null,null,null,{"$f":"IF(ISBLANK($R709)=TRUE,\"\",VLOOKUP($R709,TAXONOMY!$A$1:$G$959,7,FALSE))","v":""},{"$f":"IF(ISBLANK($R709)=TRUE,\"\",VLOOKUP($R709,TAXONOMY!$A$1:$G$959,6,FALSE))","v":""},{"$f":"IF(ISBLANK($R709)=TRUE,\"\",VLOOKUP($R709,TAXONOMY!$A$1:$G$959,5,FALSE))","v":""},{"$f":"IF(ISBLANK($R709)=TRUE,\"\",VLOOKUP($R709,TAXONOMY!$A$1:$G$959,4,FALSE))","v":""},{"$f":"IF(ISBLANK($R709)=TRUE,\"\",VLOOKUP($R709,TAXONOMY!$A$1:$G$959,3,FALSE))","v":""},{"$f":"IF(ISBLANK($R709)=TRUE,\"\",VLOOKUP($R709,TAXONOMY!$A$1:$H$959,2,FALSE))","v":""}]
[null,null,null,null,null,null,null,null,null,null,null,{"$f":"IF(ISBLANK($R710)=TRUE,\"\",VLOOKUP($R710,TAXONOMY!$A$1:$G$959,7,FALSE))","v":""},{"$f":"IF(ISBLANK($R710)=TRUE,\"\",VLOOKUP($R710,TAXONOMY!$A$1:$G$959,6,FALSE))","v":""},{"$f":"IF(ISBLANK($R710)=TRUE,\"\",VLOOKUP($R710,TAXONOMY!$A$1:$G$959,5,FALSE))","v":""},{"$f":"IF(ISBLANK($R710)=TRUE,\"\",VLOOKUP($R710,TAXONOMY!$A$1:$G$959,4,FALSE))","v":""},{"$f":"IF(ISBLANK($R710)=TRUE,\"\",VLOOKUP($R710,TAXONOMY!$A$1:$G$959,3,FALSE))","v":""},{"$f":"IF(ISBLANK($R710)=TRUE,\"\",VLOOKUP($R710,TAXONOMY!$A$1:$H$959,2,FALSE))","v":""}]
[null,null,null,null,null,null,null,null,null,null,null,{"$f":"IF(ISBLANK($R711)=TRUE,\"\",VLOOKUP($R711,TAXONOMY!$A$1:$G$959,7,FALSE))","v":""},{"$f":"IF(ISBLANK($R711)=TRUE,\"\",VLOOKUP($R711,TAXONOMY!$A$1:$G$959,6,FALSE))","v":""},{"$f":"IF(ISBLANK($R711)=TRUE,\"\",VLOOKUP($R711,TAXONOMY!$A$1:$G$959,5,FALSE))","v":""},{"$f":"IF(ISBLANK($R711)=TRUE,\"\",VLOOKUP($R711,TAXONOMY!$A$1:$G$959,4,FALSE))","v":""},{"$f":"IF(ISBLANK($R711)=TRUE,\"\",VLOOKUP($R711,TAXONOMY!$A$1:$G$959,3,FALSE))","v":""},{"$f":"IF(ISBLANK($R711)=TRUE,\"\",VLOOKUP($R711,TAXONOMY!$A$1:$H$959,2,FALSE))","v":""}]
[null,null,null,null,null,null,null,null,null,null,null,{"$f":"IF(ISBLANK($R712)=TRUE,\"\",VLOOKUP($R712,TAXONOMY!$A$1:$G$959,7,FALSE))","v":""},{"$f":"IF(ISBLANK($R712)=TRUE,\"\",VLOOKUP($R712,TAXONOMY!$A$1:$G$959,6,FALSE))","v":""},{"$f":"IF(ISBLANK($R712)=TRUE,\"\",VLOOKUP($R712,TAXONOMY!$A$1:$G$959,5,FALSE))","v":""},{"$f":"IF(ISBLANK($R712)=TRUE,\"\",VLOOKUP($R712,TAXONOMY!$A$1:$G$959,4,FALSE))","v":""},{"$f":"IF(ISBLANK($R712)=TRUE,\"\",VLOOKUP($R712,TAXONOMY!$A$1:$G$959,3,FALSE))","v":""},{"$f":"IF(ISBLANK($R712)=TRUE,\"\",VLOOKUP($R712,TAXONOMY!$A$1:$H$959,2,FALSE))","v":""}]
[null,null,null,null,null,null,null,null,null,null,null,{"$f":"IF(ISBLANK($R713)=TRUE,\"\",VLOOKUP($R713,TAXONOMY!$A$1:$G$959,7,FALSE))","v":""},{"$f":"IF(ISBLANK($R713)=TRUE,\"\",VLOOKUP($R713,TAXONOMY!$A$1:$G$959,6,FALSE))","v":""},{"$f":"IF(ISBLANK($R713)=TRUE,\"\",VLOOKUP($R713,TAXONOMY!$A$1:$G$959,5,FALSE))","v":""},{"$f":"IF(ISBLANK($R713)=TRUE,\"\",VLOOKUP($R713,TAXONOMY!$A$1:$G$959,4,FALSE))","v":""},{"$f":"IF(ISBLANK($R713)=TRUE,\"\",VLOOKUP($R713,TAXONOMY!$A$1:$G$959,3,FALSE))","v":""},{"$f":"IF(ISBLANK($R713)=TRUE,\"\",VLOOKUP($R713,TAXONOMY!$A$1:$H$959,2,FALSE))","v":""}]
[null,null,null,null,null,null,null,null,null,null,null,{"$f":"IF(ISBLANK($R714)=TRUE,\"\",VLOOKUP($R714,TAXONOMY!$A$1:$G$959,7,FALSE))","v":""},{"$f":"IF(ISBLANK($R714)=TRUE,\"\",VLOOKUP($R714,TAXONOMY!$A$1:$G$959,6,FALSE))","v":""},{"$f":"IF(ISBLANK($R714)=TRUE,\"\",VLOOKUP($R714,TAXONOMY!$A$1:$G$959,5,FALSE))","v":""},{"$f":"IF(ISBLANK($R714)=TRUE,\"\",VLOOKUP($R714,TAXONOMY!$A$1:$G$959,4,FALSE))","v":""},{"$f":"IF(ISBLANK($R714)=TRUE,\"\",VLOOKUP($R714,TAXONOMY!$A$1:$G$959,3,FALSE))","v":""},{"$f":"IF(ISBLANK($R714)=TRUE,\"\",VLOOKUP($R714,TAXONOMY!$A$1:$H$959,2,FALSE))","v":""}]
[null,null,null,null,null,null,null,null,null,null,null,{"$f":"IF(ISBLANK($R715)=TRUE,\"\",VLOOKUP($R715,TAXONOMY!$A$1:$G$959,7,FALSE))","v":""},{"$f":"IF(ISBLANK($R715)=TRUE,\"\",VLOOKUP($R715,TAXONOMY!$A$1:$G$959,6,FALSE))","v":""},{"$f":"IF(ISBLANK($R715)=TRUE,\"\",VLOOKUP($R715,TAXONOMY!$A$1:$G$959,5,FALSE))","v":""},{"$f":"IF(ISBLANK($R715)=TRUE,\"\",VLOOKUP($R715,TAXONOMY!$A$1:$G$959,4,FALSE))","v":""},{"$f":"IF(ISBLANK($R715)=TRUE,\"\",VLOOKUP($R715,TAXONOMY!$A$1:$G$959,3,FALSE))","v":""},{"$f":"IF(ISBLANK($R715)=TRUE,\"\",VLOOKUP($R715,TAXONOMY!$A$1:$H$959,2,FALSE))","v":""}]
[null,null,null,null,null,null,null,null,null,null,null,{"$f":"IF(ISBLANK($R716)=TRUE,\"\",VLOOKUP($R716,TAXONOMY!$A$1:$G$959,7,FALSE))","v":""},{"$f":"IF(ISBLANK($R716)=TRUE,\"\",VLOOKUP($R716,TAXONOMY!$A$1:$G$959,6,FALSE))","v":""},{"$f":"IF(ISBLANK($R716)=TRUE,\"\",VLOOKUP($R716,TAXONOMY!$A$1:$G$959,5,FALSE))","v":""},{"$f":"IF(ISBLANK($R716)=TRUE,\"\",VLOOKUP($R716,TAXONOMY!$A$1:$G$959,4,FALSE))","v":""},{"$f":"IF(ISBLANK($R716)=TRUE,\"\",VLOOKUP($R716,TAXONOMY!$A$1:$G$959,3,FALSE))","v":""},{"$f":"IF(ISBLANK($R716)=TRUE,\"\",VLOOKUP($R716,TAXONOMY!$A$1:$H$959,2,FALSE))","v":""}]
[null,null,null,null,null,null,null,null,null,null,null,{"$f":"IF(ISBLANK($R717)=TRUE,\"\",VLOOKUP($R717,TAXONOMY!$A$1:$G$959,7,FALSE))","v":""},{"$f":"IF(ISBLANK($R717)=TRUE,\"\",VLOOKUP($R717,TAXONOMY!$A$1:$G$959,6,FALSE))","v":""},{"$f":"IF(ISBLANK($R717)=TRUE,\"\",VLOOKUP($R717,TAXONOMY!$A$1:$G$959,5,FALSE))","v":""},{"$f":"IF(ISBLANK($R717)=TRUE,\"\",VLOOKUP($R717,TAXONOMY!$A$1:$G$959,4,FALSE))","v":""},{"$f":"IF(ISBLANK($R717)=TRUE,\"\",VLOOKUP($R717,TAXONOMY!$A$1:$G$959,3,FALSE))","v":""},{"$f":"IF(ISBLANK($R717)=TRUE,\"\",VLOOKUP($R717,TAXONOMY!$A$1:$H$959,2,FALSE))","v":""}]
[null,null,null,null,null,null,null,null,null,null,null,{"$f":"IF(ISBLANK($R718)=TRUE,\"\",VLOOKUP($R718,TAXONOMY!$A$1:$G$959,7,FALSE))","v":""},{"$f":"IF(ISBLANK($R718)=TRUE,\"\",VLOOKUP($R718,TAXONOMY!$A$1:$G$959,6,FALSE))","v":""},{"$f":"IF(ISBLANK($R718)=TRUE,\"\",VLOOKUP($R718,TAXONOMY!$A$1:$G$959,5,FALSE))","v":""},{"$f":"IF(ISBLANK($R718)=TRUE,\"\",VLOOKUP($R718,TAXONOMY!$A$1:$G$959,4,FALSE))","v":""},{"$f":"IF(ISBLANK($R718)=TRUE,\"\",VLOOKUP($R718,TAXONOMY!$A$1:$G$959,3,FALSE))","v":""},{"$f":"IF(ISBLANK($R718)=TRUE,\"\",VLOOKUP($R718,TAXONOMY!$A$1:$H$959,2,FALSE))","v":""}]
[null,null,null,null,null,null,null,null,null,null,null,{"$f":"IF(ISBLANK($R719)=TRUE,\"\",VLOOKUP($R719,TAXONOMY!$A$1:$G$959,7,FALSE))","v":""},{"$f":"IF(ISBLANK($R719)=TRUE,\"\",VLOOKUP($R719,TAXONOMY!$A$1:$G$959,6,FALSE))","v":""},{"$f":"IF(ISBLANK($R719)=TRUE,\"\",VLOOKUP($R719,TAXONOMY!$A$1:$G$959,5,FALSE))","v":""},{"$f":"IF(ISBLANK($R719)=TRUE,\"\",VLOOKUP($R719,TAXONOMY!$A$1:$G$959,4,FALSE))","v":""},{"$f":"IF(ISBLANK($R719)=TRUE,\"\",VLOOKUP($R719,TAXONOMY!$A$1:$G$959,3,FALSE))","v":""},{"$f":"IF(ISBLANK($R719)=TRUE,\"\",VLOOKUP($R719,TAXONOMY!$A$1:$H$959,2,FALSE))","v":""}]
[null,null,null,null,null,null,null,null,null,null,null,{"$f":"IF(ISBLANK($R720)=TRUE,\"\",VLOOKUP($R720,TAXONOMY!$A$1:$G$959,7,FALSE))","v":""},{"$f":"IF(ISBLANK($R720)=TRUE,\"\",VLOOKUP($R720,TAXONOMY!$A$1:$G$959,6,FALSE))","v":""},{"$f":"IF(ISBLANK($R720)=TRUE,\"\",VLOOKUP($R720,TAXONOMY!$A$1:$G$959,5,FALSE))","v":""},{"$f":"IF(ISBLANK($R720)=TRUE,\"\",VLOOKUP($R720,TAXONOMY!$A$1:$G$959,4,FALSE))","v":""},{"$f":"IF(ISBLANK($R720)=TRUE,\"\",VLOOKUP($R720,TAXONOMY!$A$1:$G$959,3,FALSE))","v":""},{"$f":"IF(ISBLANK($R720)=TRUE,\"\",VLOOKUP($R720,TAXONOMY!$A$1:$H$959,2,FALSE))","v":""}]
[null,null,null,null,null,null,null,null,null,null,null,{"$f":"IF(ISBLANK($R721)=TRUE,\"\",VLOOKUP($R721,TAXONOMY!$A$1:$G$959,7,FALSE))","v":""},{"$f":"IF(ISBLANK($R721)=TRUE,\"\",VLOOKUP($R721,TAXONOMY!$A$1:$G$959,6,FALSE))","v":""},{"$f":"IF(ISBLANK($R721)=TRUE,\"\",VLOOKUP($R721,TAXONOMY!$A$1:$G$959,5,FALSE))","v":""},{"$f":"IF(ISBLANK($R721)=TRUE,\"\",VLOOKUP($R721,TAXONOMY!$A$1:$G$959,4,FALSE))","v":""},{"$f":"IF(ISBLANK($R721)=TRUE,\"\",VLOOKUP($R721,TAXONOMY!$A$1:$G$959,3,FALSE))","v":""},{"$f":"IF(ISBLANK($R721)=TRUE,\"\",VLOOKUP($R721,TAXONOMY!$A$1:$H$959,2,FALSE))","v":""}]
[null,null,null,null,null,null,null,null,null,null,null,{"$f":"IF(ISBLANK($R722)=TRUE,\"\",VLOOKUP($R722,TAXONOMY!$A$1:$G$959,7,FALSE))","v":""},{"$f":"IF(ISBLANK($R722)=TRUE,\"\",VLOOKUP($R722,TAXONOMY!$A$1:$G$959,6,FALSE))","v":""},{"$f":"IF(ISBLANK($R722)=TRUE,\"\",VLOOKUP($R722,TAXONOMY!$A$1:$G$959,5,FALSE))","v":""},{"$f":"IF(ISBLANK($R722)=TRUE,\"\",VLOOKUP($R722,TAXONOMY!$A$1:$G$959,4,FALSE))","v":""},{"$f":"IF(ISBLANK($R722)=TRUE,\"\",VLOOKUP($R722,TAXONOMY!$A$1:$G$959,3,FALSE))","v":""},{"$f":"IF(ISBLANK($R722)=TRUE,\"\",VLOOKUP($R722,TAXONOMY!$A$1:$H$959,2,FALSE))","v":""}]
[null,null,null,null,null,null,null,null,null,null,null,{"$f":"IF(ISBLANK($R723)=TRUE,\"\",VLOOKUP($R723,TAXONOMY!$A$1:$G$959,7,FALSE))","v":""},{"$f":"IF(ISBLANK($R723)=TRUE,\"\",VLOOKUP($R723,TAXONOMY!$A$1:$G$959,6,FALSE))","v":""},{"$f":"IF(ISBLANK($R723)=TRUE,\"\",VLOOKUP($R723,TAXONOMY!$A$1:$G$959,5,FALSE))","v":""},{"$f":"IF(ISBLANK($R723)=TRUE,\"\",VLOOKUP($R723,TAXONOMY!$A$1:$G$959,4,FALSE))","v":""},{"$f":"IF(ISBLANK($R723)=TRUE,\"\",VLOOKUP($R723,TAXONOMY!$A$1:$G$959,3,FALSE))","v":""},{"$f":"IF(ISBLANK($R723)=TRUE,\"\",VLOOKUP($R723,TAXONOMY!$A$1:$H$959,2,FALSE))","v":""}]
[null,null,null,null,null,null,null,null,null,null,null,{"$f":"IF(ISBLANK($R724)=TRUE,\"\",VLOOKUP($R724,TAXONOMY!$A$1:$G$959,7,FALSE))","v":""},{"$f":"IF(ISBLANK($R724)=TRUE,\"\",VLOOKUP($R724,TAXONOMY!$A$1:$G$959,6,FALSE))","v":""},{"$f":"IF(ISBLANK($R724)=TRUE,\"\",VLOOKUP($R724,TAXONOMY!$A$1:$G$959,5,FALSE))","v":""},{"$f":"IF(ISBLANK($R724)=TRUE,\"\",VLOOKUP($R724,TAXONOMY!$A$1:$G$959,4,FALSE))","v":""},{"$f":"IF(ISBLANK($R724)=TRUE,\"\",VLOOKUP($R724,TAXONOMY!$A$1:$G$959,3,FALSE))","v":""},{"$f":"IF(ISBLANK($R724)=TRUE,\"\",VLOOKUP($R724,TAXONOMY!$A$1:$H$959,2,FALSE))","v":""}]
[null,null,null,null,null,null,null,null,null,null,null,{"$f":"IF(ISBLANK($R725)=TRUE,\"\",VLOOKUP($R725,TAXONOMY!$A$1:$G$959,7,FALSE))","v":""},{"$f":"IF(ISBLANK($R725)=TRUE,\"\",VLOOKUP($R725,TAXONOMY!$A$1:$G$959,6,FALSE))","v":""},{"$f":"IF(ISBLANK($R725)=TRUE,\"\",VLOOKUP($R725,TAXONOMY!$A$1:$G$959,5,FALSE))","v":""},{"$f":"IF(ISBLANK($R725)=TRUE,\"\",VLOOKUP($R725,TAXONOMY!$A$1:$G$959,4,FALSE))","v":""},{"$f":"IF(ISBLANK($R725)=TRUE,\"\",VLOOKUP($R725,TAXONOMY!$A$1:$G$959,3,FALSE))","v":""},{"$f":"IF(ISBLANK($R725)=TRUE,\"\",VLOOKUP($R725,TAXONOMY!$A$1:$H$959,2,FALSE))","v":""}]
[null,null,null,null,null,null,null,null,null,null,null,{"$f":"IF(ISBLANK($R726)=TRUE,\"\",VLOOKUP($R726,TAXONOMY!$A$1:$G$959,7,FALSE))","v":""},{"$f":"IF(ISBLANK($R726)=TRUE,\"\",VLOOKUP($R726,TAXONOMY!$A$1:$G$959,6,FALSE))","v":""},{"$f":"IF(ISBLANK($R726)=TRUE,\"\",VLOOKUP($R726,TAXONOMY!$A$1:$G$959,5,FALSE))","v":""},{"$f":"IF(ISBLANK($R726)=TRUE,\"\",VLOOKUP($R726,TAXONOMY!$A$1:$G$959,4,FALSE))","v":""},{"$f":"IF(ISBLANK($R726)=TRUE,\"\",VLOOKUP($R726,TAXONOMY!$A$1:$G$959,3,FALSE))","v":""},{"$f":"IF(ISBLANK($R726)=TRUE,\"\",VLOOKUP($R726,TAXONOMY!$A$1:$H$959,2,FALSE))","v":""}]
[null,null,null,null,null,null,null,null,null,null,null,{"$f":"IF(ISBLANK($R727)=TRUE,\"\",VLOOKUP($R727,TAXONOMY!$A$1:$G$959,7,FALSE))","v":""},{"$f":"IF(ISBLANK($R727)=TRUE,\"\",VLOOKUP($R727,TAXONOMY!$A$1:$G$959,6,FALSE))","v":""},{"$f":"IF(ISBLANK($R727)=TRUE,\"\",VLOOKUP($R727,TAXONOMY!$A$1:$G$959,5,FALSE))","v":""},{"$f":"IF(ISBLANK($R727)=TRUE,\"\",VLOOKUP($R727,TAXONOMY!$A$1:$G$959,4,FALSE))","v":""},{"$f":"IF(ISBLANK($R727)=TRUE,\"\",VLOOKUP($R727,TAXONOMY!$A$1:$G$959,3,FALSE))","v":""},{"$f":"IF(ISBLANK($R727)=TRUE,\"\",VLOOKUP($R727,TAXONOMY!$A$1:$H$959,2,FALSE))","v":""}]
[null,null,null,null,null,null,null,null,null,null,null,{"$f":"IF(ISBLANK($R728)=TRUE,\"\",VLOOKUP($R728,TAXONOMY!$A$1:$G$959,7,FALSE))","v":""},{"$f":"IF(ISBLANK($R728)=TRUE,\"\",VLOOKUP($R728,TAXONOMY!$A$1:$G$959,6,FALSE))","v":""},{"$f":"IF(ISBLANK($R728)=TRUE,\"\",VLOOKUP($R728,TAXONOMY!$A$1:$G$959,5,FALSE))","v":""},{"$f":"IF(ISBLANK($R728)=TRUE,\"\",VLOOKUP($R728,TAXONOMY!$A$1:$G$959,4,FALSE))","v":""},{"$f":"IF(ISBLANK($R728)=TRUE,\"\",VLOOKUP($R728,TAXONOMY!$A$1:$G$959,3,FALSE))","v":""},{"$f":"IF(ISBLANK($R728)=TRUE,\"\",VLOOKUP($R728,TAXONOMY!$A$1:$H$959,2,FALSE))","v":""}]
[null,null,null,null,null,null,null,null,null,null,null,{"$f":"IF(ISBLANK($R729)=TRUE,\"\",VLOOKUP($R729,TAXONOMY!$A$1:$G$959,7,FALSE))","v":""},{"$f":"IF(ISBLANK($R729)=TRUE,\"\",VLOOKUP($R729,TAXONOMY!$A$1:$G$959,6,FALSE))","v":""},{"$f":"IF(ISBLANK($R729)=TRUE,\"\",VLOOKUP($R729,TAXONOMY!$A$1:$G$959,5,FALSE))","v":""},{"$f":"IF(ISBLANK($R729)=TRUE,\"\",VLOOKUP($R729,TAXONOMY!$A$1:$G$959,4,FALSE))","v":""},{"$f":"IF(ISBLANK($R729)=TRUE,\"\",VLOOKUP($R729,TAXONOMY!$A$1:$G$959,3,FALSE))","v":""},{"$f":"IF(ISBLANK($R729)=TRUE,\"\",VLOOKUP($R729,TAXONOMY!$A$1:$H$959,2,FALSE))","v":""}]
[null,null,null,null,null,null,null,null,null,null,null,{"$f":"IF(ISBLANK($R730)=TRUE,\"\",VLOOKUP($R730,TAXONOMY!$A$1:$G$959,7,FALSE))","v":""},{"$f":"IF(ISBLANK($R730)=TRUE,\"\",VLOOKUP($R730,TAXONOMY!$A$1:$G$959,6,FALSE))","v":""},{"$f":"IF(ISBLANK($R730)=TRUE,\"\",VLOOKUP($R730,TAXONOMY!$A$1:$G$959,5,FALSE))","v":""},{"$f":"IF(ISBLANK($R730)=TRUE,\"\",VLOOKUP($R730,TAXONOMY!$A$1:$G$959,4,FALSE))","v":""},{"$f":"IF(ISBLANK($R730)=TRUE,\"\",VLOOKUP($R730,TAXONOMY!$A$1:$G$959,3,FALSE))","v":""},{"$f":"IF(ISBLANK($R730)=TRUE,\"\",VLOOKUP($R730,TAXONOMY!$A$1:$H$959,2,FALSE))","v":""}]
[null,null,null,null,null,null,null,null,null,null,null,{"$f":"IF(ISBLANK($R731)=TRUE,\"\",VLOOKUP($R731,TAXONOMY!$A$1:$G$959,7,FALSE))","v":""},{"$f":"IF(ISBLANK($R731)=TRUE,\"\",VLOOKUP($R731,TAXONOMY!$A$1:$G$959,6,FALSE))","v":""},{"$f":"IF(ISBLANK($R731)=TRUE,\"\",VLOOKUP($R731,TAXONOMY!$A$1:$G$959,5,FALSE))","v":""},{"$f":"IF(ISBLANK($R731)=TRUE,\"\",VLOOKUP($R731,TAXONOMY!$A$1:$G$959,4,FALSE))","v":""},{"$f":"IF(ISBLANK($R731)=TRUE,\"\",VLOOKUP($R731,TAXONOMY!$A$1:$G$959,3,FALSE))","v":""},{"$f":"IF(ISBLANK($R731)=TRUE,\"\",VLOOKUP($R731,TAXONOMY!$A$1:$H$959,2,FALSE))","v":""}]
[null,null,null,null,null,null,null,null,null,null,null,{"$f":"IF(ISBLANK($R732)=TRUE,\"\",VLOOKUP($R732,TAXONOMY!$A$1:$G$959,7,FALSE))","v":""},{"$f":"IF(ISBLANK($R732)=TRUE,\"\",VLOOKUP($R732,TAXONOMY!$A$1:$G$959,6,FALSE))","v":""},{"$f":"IF(ISBLANK($R732)=TRUE,\"\",VLOOKUP($R732,TAXONOMY!$A$1:$G$959,5,FALSE))","v":""},{"$f":"IF(ISBLANK($R732)=TRUE,\"\",VLOOKUP($R732,TAXONOMY!$A$1:$G$959,4,FALSE))","v":""},{"$f":"IF(ISBLANK($R732)=TRUE,\"\",VLOOKUP($R732,TAXONOMY!$A$1:$G$959,3,FALSE))","v":""},{"$f":"IF(ISBLANK($R732)=TRUE,\"\",VLOOKUP($R732,TAXONOMY!$A$1:$H$959,2,FALSE))","v":""}]
[null,null,null,null,null,null,null,null,null,null,null,{"$f":"IF(ISBLANK($R733)=TRUE,\"\",VLOOKUP($R733,TAXONOMY!$A$1:$G$959,7,FALSE))","v":""},{"$f":"IF(ISBLANK($R733)=TRUE,\"\",VLOOKUP($R733,TAXONOMY!$A$1:$G$959,6,FALSE))","v":""},{"$f":"IF(ISBLANK($R733)=TRUE,\"\",VLOOKUP($R733,TAXONOMY!$A$1:$G$959,5,FALSE))","v":""},{"$f":"IF(ISBLANK($R733)=TRUE,\"\",VLOOKUP($R733,TAXONOMY!$A$1:$G$959,4,FALSE))","v":""},{"$f":"IF(ISBLANK($R733)=TRUE,\"\",VLOOKUP($R733,TAXONOMY!$A$1:$G$959,3,FALSE))","v":""},{"$f":"IF(ISBLANK($R733)=TRUE,\"\",VLOOKUP($R733,TAXONOMY!$A$1:$H$959,2,FALSE))","v":""}]
[null,null,null,null,null,null,null,null,null,null,null,{"$f":"IF(ISBLANK($R734)=TRUE,\"\",VLOOKUP($R734,TAXONOMY!$A$1:$G$959,7,FALSE))","v":""},{"$f":"IF(ISBLANK($R734)=TRUE,\"\",VLOOKUP($R734,TAXONOMY!$A$1:$G$959,6,FALSE))","v":""},{"$f":"IF(ISBLANK($R734)=TRUE,\"\",VLOOKUP($R734,TAXONOMY!$A$1:$G$959,5,FALSE))","v":""},{"$f":"IF(ISBLANK($R734)=TRUE,\"\",VLOOKUP($R734,TAXONOMY!$A$1:$G$959,4,FALSE))","v":""},{"$f":"IF(ISBLANK($R734)=TRUE,\"\",VLOOKUP($R734,TAXONOMY!$A$1:$G$959,3,FALSE))","v":""},{"$f":"IF(ISBLANK($R734)=TRUE,\"\",VLOOKUP($R734,TAXONOMY!$A$1:$H$959,2,FALSE))","v":""}]
[null,null,null,null,null,null,null,null,null,null,null,{"$f":"IF(ISBLANK($R735)=TRUE,\"\",VLOOKUP($R735,TAXONOMY!$A$1:$G$959,7,FALSE))","v":""},{"$f":"IF(ISBLANK($R735)=TRUE,\"\",VLOOKUP($R735,TAXONOMY!$A$1:$G$959,6,FALSE))","v":""},{"$f":"IF(ISBLANK($R735)=TRUE,\"\",VLOOKUP($R735,TAXONOMY!$A$1:$G$959,5,FALSE))","v":""},{"$f":"IF(ISBLANK($R735)=TRUE,\"\",VLOOKUP($R735,TAXONOMY!$A$1:$G$959,4,FALSE))","v":""},{"$f":"IF(ISBLANK($R735)=TRUE,\"\",VLOOKUP($R735,TAXONOMY!$A$1:$G$959,3,FALSE))","v":""},{"$f":"IF(ISBLANK($R735)=TRUE,\"\",VLOOKUP($R735,TAXONOMY!$A$1:$H$959,2,FALSE))","v":""}]
[null,null,null,null,null,null,null,null,null,null,null,{"$f":"IF(ISBLANK($R736)=TRUE,\"\",VLOOKUP($R736,TAXONOMY!$A$1:$G$959,7,FALSE))","v":""},{"$f":"IF(ISBLANK($R736)=TRUE,\"\",VLOOKUP($R736,TAXONOMY!$A$1:$G$959,6,FALSE))","v":""},{"$f":"IF(ISBLANK($R736)=TRUE,\"\",VLOOKUP($R736,TAXONOMY!$A$1:$G$959,5,FALSE))","v":""},{"$f":"IF(ISBLANK($R736)=TRUE,\"\",VLOOKUP($R736,TAXONOMY!$A$1:$G$959,4,FALSE))","v":""},{"$f":"IF(ISBLANK($R736)=TRUE,\"\",VLOOKUP($R736,TAXONOMY!$A$1:$G$959,3,FALSE))","v":""},{"$f":"IF(ISBLANK($R736)=TRUE,\"\",VLOOKUP($R736,TAXONOMY!$A$1:$H$959,2,FALSE))","v":""}]
[null,null,null,null,null,null,null,null,null,null,null,{"$f":"IF(ISBLANK($R737)=TRUE,\"\",VLOOKUP($R737,TAXONOMY!$A$1:$G$959,7,FALSE))","v":""},{"$f":"IF(ISBLANK($R737)=TRUE,\"\",VLOOKUP($R737,TAXONOMY!$A$1:$G$959,6,FALSE))","v":""},{"$f":"IF(ISBLANK($R737)=TRUE,\"\",VLOOKUP($R737,TAXONOMY!$A$1:$G$959,5,FALSE))","v":""},{"$f":"IF(ISBLANK($R737)=TRUE,\"\",VLOOKUP($R737,TAXONOMY!$A$1:$G$959,4,FALSE))","v":""},{"$f":"IF(ISBLANK($R737)=TRUE,\"\",VLOOKUP($R737,TAXONOMY!$A$1:$G$959,3,FALSE))","v":""},{"$f":"IF(ISBLANK($R737)=TRUE,\"\",VLOOKUP($R737,TAXONOMY!$A$1:$H$959,2,FALSE))","v":""}]
[null,null,null,null,null,null,null,null,null,null,null,{"$f":"IF(ISBLANK($R738)=TRUE,\"\",VLOOKUP($R738,TAXONOMY!$A$1:$G$959,7,FALSE))","v":""},{"$f":"IF(ISBLANK($R738)=TRUE,\"\",VLOOKUP($R738,TAXONOMY!$A$1:$G$959,6,FALSE))","v":""},{"$f":"IF(ISBLANK($R738)=TRUE,\"\",VLOOKUP($R738,TAXONOMY!$A$1:$G$959,5,FALSE))","v":""},{"$f":"IF(ISBLANK($R738)=TRUE,\"\",VLOOKUP($R738,TAXONOMY!$A$1:$G$959,4,FALSE))","v":""},{"$f":"IF(ISBLANK($R738)=TRUE,\"\",VLOOKUP($R738,TAXONOMY!$A$1:$G$959,3,FALSE))","v":""},{"$f":"IF(ISBLANK($R738)=TRUE,\"\",VLOOKUP($R738,TAXONOMY!$A$1:$H$959,2,FALSE))","v":""}]
[null,null,null,null,null,null,null,null,null,null,null,{"$f":"IF(ISBLANK($R739)=TRUE,\"\",VLOOKUP($R739,TAXONOMY!$A$1:$G$959,7,FALSE))","v":""},{"$f":"IF(ISBLANK($R739)=TRUE,\"\",VLOOKUP($R739,TAXONOMY!$A$1:$G$959,6,FALSE))","v":""},{"$f":"IF(ISBLANK($R739)=TRUE,\"\",VLOOKUP($R739,TAXONOMY!$A$1:$G$959,5,FALSE))","v":""},{"$f":"IF(ISBLANK($R739)=TRUE,\"\",VLOOKUP($R739,TAXONOMY!$A$1:$G$959,4,FALSE))","v":""},{"$f":"IF(ISBLANK($R739)=TRUE,\"\",VLOOKUP($R739,TAXONOMY!$A$1:$G$959,3,FALSE))","v":""},{"$f":"IF(ISBLANK($R739)=TRUE,\"\",VLOOKUP($R739,TAXONOMY!$A$1:$H$959,2,FALSE))","v":""}]
[null,null,null,null,null,null,null,null,null,null,null,{"$f":"IF(ISBLANK($R740)=TRUE,\"\",VLOOKUP($R740,TAXONOMY!$A$1:$G$959,7,FALSE))","v":""},{"$f":"IF(ISBLANK($R740)=TRUE,\"\",VLOOKUP($R740,TAXONOMY!$A$1:$G$959,6,FALSE))","v":""},{"$f":"IF(ISBLANK($R740)=TRUE,\"\",VLOOKUP($R740,TAXONOMY!$A$1:$G$959,5,FALSE))","v":""},{"$f":"IF(ISBLANK($R740)=TRUE,\"\",VLOOKUP($R740,TAXONOMY!$A$1:$G$959,4,FALSE))","v":""},{"$f":"IF(ISBLANK($R740)=TRUE,\"\",VLOOKUP($R740,TAXONOMY!$A$1:$G$959,3,FALSE))","v":""},{"$f":"IF(ISBLANK($R740)=TRUE,\"\",VLOOKUP($R740,TAXONOMY!$A$1:$H$959,2,FALSE))","v":""}]
[null,null,null,null,null,null,null,null,null,null,null,{"$f":"IF(ISBLANK($R741)=TRUE,\"\",VLOOKUP($R741,TAXONOMY!$A$1:$G$959,7,FALSE))","v":""},{"$f":"IF(ISBLANK($R741)=TRUE,\"\",VLOOKUP($R741,TAXONOMY!$A$1:$G$959,6,FALSE))","v":""},{"$f":"IF(ISBLANK($R741)=TRUE,\"\",VLOOKUP($R741,TAXONOMY!$A$1:$G$959,5,FALSE))","v":""},{"$f":"IF(ISBLANK($R741)=TRUE,\"\",VLOOKUP($R741,TAXONOMY!$A$1:$G$959,4,FALSE))","v":""},{"$f":"IF(ISBLANK($R741)=TRUE,\"\",VLOOKUP($R741,TAXONOMY!$A$1:$G$959,3,FALSE))","v":""},{"$f":"IF(ISBLANK($R741)=TRUE,\"\",VLOOKUP($R741,TAXONOMY!$A$1:$H$959,2,FALSE))","v":""}]
[null,null,null,null,null,null,null,null,null,null,null,{"$f":"IF(ISBLANK($R742)=TRUE,\"\",VLOOKUP($R742,TAXONOMY!$A$1:$G$959,7,FALSE))","v":""},{"$f":"IF(ISBLANK($R742)=TRUE,\"\",VLOOKUP($R742,TAXONOMY!$A$1:$G$959,6,FALSE))","v":""},{"$f":"IF(ISBLANK($R742)=TRUE,\"\",VLOOKUP($R742,TAXONOMY!$A$1:$G$959,5,FALSE))","v":""},{"$f":"IF(ISBLANK($R742)=TRUE,\"\",VLOOKUP($R742,TAXONOMY!$A$1:$G$959,4,FALSE))","v":""},{"$f":"IF(ISBLANK($R742)=TRUE,\"\",VLOOKUP($R742,TAXONOMY!$A$1:$G$959,3,FALSE))","v":""},{"$f":"IF(ISBLANK($R742)=TRUE,\"\",VLOOKUP($R742,TAXONOMY!$A$1:$H$959,2,FALSE))","v":""}]
[null,null,null,null,null,null,null,null,null,null,null,{"$f":"IF(ISBLANK($R743)=TRUE,\"\",VLOOKUP($R743,TAXONOMY!$A$1:$G$959,7,FALSE))","v":""},{"$f":"IF(ISBLANK($R743)=TRUE,\"\",VLOOKUP($R743,TAXONOMY!$A$1:$G$959,6,FALSE))","v":""},{"$f":"IF(ISBLANK($R743)=TRUE,\"\",VLOOKUP($R743,TAXONOMY!$A$1:$G$959,5,FALSE))","v":""},{"$f":"IF(ISBLANK($R743)=TRUE,\"\",VLOOKUP($R743,TAXONOMY!$A$1:$G$959,4,FALSE))","v":""},{"$f":"IF(ISBLANK($R743)=TRUE,\"\",VLOOKUP($R743,TAXONOMY!$A$1:$G$959,3,FALSE))","v":""},{"$f":"IF(ISBLANK($R743)=TRUE,\"\",VLOOKUP($R743,TAXONOMY!$A$1:$H$959,2,FALSE))","v":""}]
[null,null,null,null,null,null,null,null,null,null,null,{"$f":"IF(ISBLANK($R744)=TRUE,\"\",VLOOKUP($R744,TAXONOMY!$A$1:$G$959,7,FALSE))","v":""},{"$f":"IF(ISBLANK($R744)=TRUE,\"\",VLOOKUP($R744,TAXONOMY!$A$1:$G$959,6,FALSE))","v":""},{"$f":"IF(ISBLANK($R744)=TRUE,\"\",VLOOKUP($R744,TAXONOMY!$A$1:$G$959,5,FALSE))","v":""},{"$f":"IF(ISBLANK($R744)=TRUE,\"\",VLOOKUP($R744,TAXONOMY!$A$1:$G$959,4,FALSE))","v":""},{"$f":"IF(ISBLANK($R744)=TRUE,\"\",VLOOKUP($R744,TAXONOMY!$A$1:$G$959,3,FALSE))","v":""},{"$f":"IF(ISBLANK($R744)=TRUE,\"\",VLOOKUP($R744,TAXONOMY!$A$1:$H$959,2,FALSE))","v":""}]
[null,null,null,null,null,null,null,null,null,null,null,{"$f":"IF(ISBLANK($R745)=TRUE,\"\",VLOOKUP($R745,TAXONOMY!$A$1:$G$959,7,FALSE))","v":""},{"$f":"IF(ISBLANK($R745)=TRUE,\"\",VLOOKUP($R745,TAXONOMY!$A$1:$G$959,6,FALSE))","v":""},{"$f":"IF(ISBLANK($R745)=TRUE,\"\",VLOOKUP($R745,TAXONOMY!$A$1:$G$959,5,FALSE))","v":""},{"$f":"IF(ISBLANK($R745)=TRUE,\"\",VLOOKUP($R745,TAXONOMY!$A$1:$G$959,4,FALSE))","v":""},{"$f":"IF(ISBLANK($R745)=TRUE,\"\",VLOOKUP($R745,TAXONOMY!$A$1:$G$959,3,FALSE))","v":""},{"$f":"IF(ISBLANK($R745)=TRUE,\"\",VLOOKUP($R745,TAXONOMY!$A$1:$H$959,2,FALSE))","v":""}]
[null,null,null,null,null,null,null,null,null,null,null,{"$f":"IF(ISBLANK($R746)=TRUE,\"\",VLOOKUP($R746,TAXONOMY!$A$1:$G$959,7,FALSE))","v":""},{"$f":"IF(ISBLANK($R746)=TRUE,\"\",VLOOKUP($R746,TAXONOMY!$A$1:$G$959,6,FALSE))","v":""},{"$f":"IF(ISBLANK($R746)=TRUE,\"\",VLOOKUP($R746,TAXONOMY!$A$1:$G$959,5,FALSE))","v":""},{"$f":"IF(ISBLANK($R746)=TRUE,\"\",VLOOKUP($R746,TAXONOMY!$A$1:$G$959,4,FALSE))","v":""},{"$f":"IF(ISBLANK($R746)=TRUE,\"\",VLOOKUP($R746,TAXONOMY!$A$1:$G$959,3,FALSE))","v":""},{"$f":"IF(ISBLANK($R746)=TRUE,\"\",VLOOKUP($R746,TAXONOMY!$A$1:$H$959,2,FALSE))","v":""}]
[null,null,null,null,null,null,null,null,null,null,null,{"$f":"IF(ISBLANK($R747)=TRUE,\"\",VLOOKUP($R747,TAXONOMY!$A$1:$G$959,7,FALSE))","v":""},{"$f":"IF(ISBLANK($R747)=TRUE,\"\",VLOOKUP($R747,TAXONOMY!$A$1:$G$959,6,FALSE))","v":""},{"$f":"IF(ISBLANK($R747)=TRUE,\"\",VLOOKUP($R747,TAXONOMY!$A$1:$G$959,5,FALSE))","v":""},{"$f":"IF(ISBLANK($R747)=TRUE,\"\",VLOOKUP($R747,TAXONOMY!$A$1:$G$959,4,FALSE))","v":""},{"$f":"IF(ISBLANK($R747)=TRUE,\"\",VLOOKUP($R747,TAXONOMY!$A$1:$G$959,3,FALSE))","v":""},{"$f":"IF(ISBLANK($R747)=TRUE,\"\",VLOOKUP($R747,TAXONOMY!$A$1:$H$959,2,FALSE))","v":""}]
[null,null,null,null,null,null,null,null,null,null,null,{"$f":"IF(ISBLANK($R748)=TRUE,\"\",VLOOKUP($R748,TAXONOMY!$A$1:$G$959,7,FALSE))","v":""},{"$f":"IF(ISBLANK($R748)=TRUE,\"\",VLOOKUP($R748,TAXONOMY!$A$1:$G$959,6,FALSE))","v":""},{"$f":"IF(ISBLANK($R748)=TRUE,\"\",VLOOKUP($R748,TAXONOMY!$A$1:$G$959,5,FALSE))","v":""},{"$f":"IF(ISBLANK($R748)=TRUE,\"\",VLOOKUP($R748,TAXONOMY!$A$1:$G$959,4,FALSE))","v":""},{"$f":"IF(ISBLANK($R748)=TRUE,\"\",VLOOKUP($R748,TAXONOMY!$A$1:$G$959,3,FALSE))","v":""},{"$f":"IF(ISBLANK($R748)=TRUE,\"\",VLOOKUP($R748,TAXONOMY!$A$1:$H$959,2,FALSE))","v":""}]
[null,null,null,null,null,null,null,null,null,null,null,{"$f":"IF(ISBLANK($R749)=TRUE,\"\",VLOOKUP($R749,TAXONOMY!$A$1:$G$959,7,FALSE))","v":""},{"$f":"IF(ISBLANK($R749)=TRUE,\"\",VLOOKUP($R749,TAXONOMY!$A$1:$G$959,6,FALSE))","v":""},{"$f":"IF(ISBLANK($R749)=TRUE,\"\",VLOOKUP($R749,TAXONOMY!$A$1:$G$959,5,FALSE))","v":""},{"$f":"IF(ISBLANK($R749)=TRUE,\"\",VLOOKUP($R749,TAXONOMY!$A$1:$G$959,4,FALSE))","v":""},{"$f":"IF(ISBLANK($R749)=TRUE,\"\",VLOOKUP($R749,TAXONOMY!$A$1:$G$959,3,FALSE))","v":""},{"$f":"IF(ISBLANK($R749)=TRUE,\"\",VLOOKUP($R749,TAXONOMY!$A$1:$H$959,2,FALSE))","v":""}]
[null,null,null,null,null,null,null,null,null,null,null,{"$f":"IF(ISBLANK($R750)=TRUE,\"\",VLOOKUP($R750,TAXONOMY!$A$1:$G$959,7,FALSE))","v":""},{"$f":"IF(ISBLANK($R750)=TRUE,\"\",VLOOKUP($R750,TAXONOMY!$A$1:$G$959,6,FALSE))","v":""},{"$f":"IF(ISBLANK($R750)=TRUE,\"\",VLOOKUP($R750,TAXONOMY!$A$1:$G$959,5,FALSE))","v":""},{"$f":"IF(ISBLANK($R750)=TRUE,\"\",VLOOKUP($R750,TAXONOMY!$A$1:$G$959,4,FALSE))","v":""},{"$f":"IF(ISBLANK($R750)=TRUE,\"\",VLOOKUP($R750,TAXONOMY!$A$1:$G$959,3,FALSE))","v":""},{"$f":"IF(ISBLANK($R750)=TRUE,\"\",VLOOKUP($R750,TAXONOMY!$A$1:$H$959,2,FALSE))","v":""}]
[null,null,null,null,null,null,null,null,null,null,null,{"$f":"IF(ISBLANK($R751)=TRUE,\"\",VLOOKUP($R751,TAXONOMY!$A$1:$G$959,7,FALSE))","v":""},{"$f":"IF(ISBLANK($R751)=TRUE,\"\",VLOOKUP($R751,TAXONOMY!$A$1:$G$959,6,FALSE))","v":""},{"$f":"IF(ISBLANK($R751)=TRUE,\"\",VLOOKUP($R751,TAXONOMY!$A$1:$G$959,5,FALSE))","v":""},{"$f":"IF(ISBLANK($R751)=TRUE,\"\",VLOOKUP($R751,TAXONOMY!$A$1:$G$959,4,FALSE))","v":""},{"$f":"IF(ISBLANK($R751)=TRUE,\"\",VLOOKUP($R751,TAXONOMY!$A$1:$G$959,3,FALSE))","v":""},{"$f":"IF(ISBLANK($R751)=TRUE,\"\",VLOOKUP($R751,TAXONOMY!$A$1:$H$959,2,FALSE))","v":""}]
[null,null,null,null,null,null,null,null,null,null,null,{"$f":"IF(ISBLANK($R752)=TRUE,\"\",VLOOKUP($R752,TAXONOMY!$A$1:$G$959,7,FALSE))","v":""},{"$f":"IF(ISBLANK($R752)=TRUE,\"\",VLOOKUP($R752,TAXONOMY!$A$1:$G$959,6,FALSE))","v":""},{"$f":"IF(ISBLANK($R752)=TRUE,\"\",VLOOKUP($R752,TAXONOMY!$A$1:$G$959,5,FALSE))","v":""},{"$f":"IF(ISBLANK($R752)=TRUE,\"\",VLOOKUP($R752,TAXONOMY!$A$1:$G$959,4,FALSE))","v":""},{"$f":"IF(ISBLANK($R752)=TRUE,\"\",VLOOKUP($R752,TAXONOMY!$A$1:$G$959,3,FALSE))","v":""},{"$f":"IF(ISBLANK($R752)=TRUE,\"\",VLOOKUP($R752,TAXONOMY!$A$1:$H$959,2,FALSE))","v":""}]
[null,null,null,null,null,null,null,null,null,null,null,{"$f":"IF(ISBLANK($R753)=TRUE,\"\",VLOOKUP($R753,TAXONOMY!$A$1:$G$959,7,FALSE))","v":""},{"$f":"IF(ISBLANK($R753)=TRUE,\"\",VLOOKUP($R753,TAXONOMY!$A$1:$G$959,6,FALSE))","v":""},{"$f":"IF(ISBLANK($R753)=TRUE,\"\",VLOOKUP($R753,TAXONOMY!$A$1:$G$959,5,FALSE))","v":""},{"$f":"IF(ISBLANK($R753)=TRUE,\"\",VLOOKUP($R753,TAXONOMY!$A$1:$G$959,4,FALSE))","v":""},{"$f":"IF(ISBLANK($R753)=TRUE,\"\",VLOOKUP($R753,TAXONOMY!$A$1:$G$959,3,FALSE))","v":""},{"$f":"IF(ISBLANK($R753)=TRUE,\"\",VLOOKUP($R753,TAXONOMY!$A$1:$H$959,2,FALSE))","v":""}]
[null,null,null,null,null,null,null,null,null,null,null,{"$f":"IF(ISBLANK($R754)=TRUE,\"\",VLOOKUP($R754,TAXONOMY!$A$1:$G$959,7,FALSE))","v":""},{"$f":"IF(ISBLANK($R754)=TRUE,\"\",VLOOKUP($R754,TAXONOMY!$A$1:$G$959,6,FALSE))","v":""},{"$f":"IF(ISBLANK($R754)=TRUE,\"\",VLOOKUP($R754,TAXONOMY!$A$1:$G$959,5,FALSE))","v":""},{"$f":"IF(ISBLANK($R754)=TRUE,\"\",VLOOKUP($R754,TAXONOMY!$A$1:$G$959,4,FALSE))","v":""},{"$f":"IF(ISBLANK($R754)=TRUE,\"\",VLOOKUP($R754,TAXONOMY!$A$1:$G$959,3,FALSE))","v":""},{"$f":"IF(ISBLANK($R754)=TRUE,\"\",VLOOKUP($R754,TAXONOMY!$A$1:$H$959,2,FALSE))","v":""}]
[null,null,null,null,null,null,null,null,null,null,null,{"$f":"IF(ISBLANK($R755)=TRUE,\"\",VLOOKUP($R755,TAXONOMY!$A$1:$G$959,7,FALSE))","v":""},{"$f":"IF(ISBLANK($R755)=TRUE,\"\",VLOOKUP($R755,TAXONOMY!$A$1:$G$959,6,FALSE))","v":""},{"$f":"IF(ISBLANK($R755)=TRUE,\"\",VLOOKUP($R755,TAXONOMY!$A$1:$G$959,5,FALSE))","v":""},{"$f":"IF(ISBLANK($R755)=TRUE,\"\",VLOOKUP($R755,TAXONOMY!$A$1:$G$959,4,FALSE))","v":""},{"$f":"IF(ISBLANK($R755)=TRUE,\"\",VLOOKUP($R755,TAXONOMY!$A$1:$G$959,3,FALSE))","v":""},{"$f":"IF(ISBLANK($R755)=TRUE,\"\",VLOOKUP($R755,TAXONOMY!$A$1:$H$959,2,FALSE))","v":""}]
[null,null,null,null,null,null,null,null,null,null,null,{"$f":"IF(ISBLANK($R756)=TRUE,\"\",VLOOKUP($R756,TAXONOMY!$A$1:$G$959,7,FALSE))","v":""},{"$f":"IF(ISBLANK($R756)=TRUE,\"\",VLOOKUP($R756,TAXONOMY!$A$1:$G$959,6,FALSE))","v":""},{"$f":"IF(ISBLANK($R756)=TRUE,\"\",VLOOKUP($R756,TAXONOMY!$A$1:$G$959,5,FALSE))","v":""},{"$f":"IF(ISBLANK($R756)=TRUE,\"\",VLOOKUP($R756,TAXONOMY!$A$1:$G$959,4,FALSE))","v":""},{"$f":"IF(ISBLANK($R756)=TRUE,\"\",VLOOKUP($R756,TAXONOMY!$A$1:$G$959,3,FALSE))","v":""},{"$f":"IF(ISBLANK($R756)=TRUE,\"\",VLOOKUP($R756,TAXONOMY!$A$1:$H$959,2,FALSE))","v":""}]
[null,null,null,null,null,null,null,null,null,null,null,{"$f":"IF(ISBLANK($R757)=TRUE,\"\",VLOOKUP($R757,TAXONOMY!$A$1:$G$959,7,FALSE))","v":""},{"$f":"IF(ISBLANK($R757)=TRUE,\"\",VLOOKUP($R757,TAXONOMY!$A$1:$G$959,6,FALSE))","v":""},{"$f":"IF(ISBLANK($R757)=TRUE,\"\",VLOOKUP($R757,TAXONOMY!$A$1:$G$959,5,FALSE))","v":""},{"$f":"IF(ISBLANK($R757)=TRUE,\"\",VLOOKUP($R757,TAXONOMY!$A$1:$G$959,4,FALSE))","v":""},{"$f":"IF(ISBLANK($R757)=TRUE,\"\",VLOOKUP($R757,TAXONOMY!$A$1:$G$959,3,FALSE))","v":""},{"$f":"IF(ISBLANK($R757)=TRUE,\"\",VLOOKUP($R757,TAXONOMY!$A$1:$H$959,2,FALSE))","v":""}]
[null,null,null,null,null,null,null,null,null,null,null,{"$f":"IF(ISBLANK($R758)=TRUE,\"\",VLOOKUP($R758,TAXONOMY!$A$1:$G$959,7,FALSE))","v":""},{"$f":"IF(ISBLANK($R758)=TRUE,\"\",VLOOKUP($R758,TAXONOMY!$A$1:$G$959,6,FALSE))","v":""},{"$f":"IF(ISBLANK($R758)=TRUE,\"\",VLOOKUP($R758,TAXONOMY!$A$1:$G$959,5,FALSE))","v":""},{"$f":"IF(ISBLANK($R758)=TRUE,\"\",VLOOKUP($R758,TAXONOMY!$A$1:$G$959,4,FALSE))","v":""},{"$f":"IF(ISBLANK($R758)=TRUE,\"\",VLOOKUP($R758,TAXONOMY!$A$1:$G$959,3,FALSE))","v":""},{"$f":"IF(ISBLANK($R758)=TRUE,\"\",VLOOKUP($R758,TAXONOMY!$A$1:$H$959,2,FALSE))","v":""}]
[null,null,null,null,null,null,null,null,null,null,null,{"$f":"IF(ISBLANK($R759)=TRUE,\"\",VLOOKUP($R759,TAXONOMY!$A$1:$G$959,7,FALSE))","v":""},{"$f":"IF(ISBLANK($R759)=TRUE,\"\",VLOOKUP($R759,TAXONOMY!$A$1:$G$959,6,FALSE))","v":""},{"$f":"IF(ISBLANK($R759)=TRUE,\"\",VLOOKUP($R759,TAXONOMY!$A$1:$G$959,5,FALSE))","v":""},{"$f":"IF(ISBLANK($R759)=TRUE,\"\",VLOOKUP($R759,TAXONOMY!$A$1:$G$959,4,FALSE))","v":""},{"$f":"IF(ISBLANK($R759)=TRUE,\"\",VLOOKUP($R759,TAXONOMY!$A$1:$G$959,3,FALSE))","v":""},{"$f":"IF(ISBLANK($R759)=TRUE,\"\",VLOOKUP($R759,TAXONOMY!$A$1:$H$959,2,FALSE))","v":""}]
[null,null,null,null,null,null,null,null,null,null,null,{"$f":"IF(ISBLANK($R760)=TRUE,\"\",VLOOKUP($R760,TAXONOMY!$A$1:$G$959,7,FALSE))","v":""},{"$f":"IF(ISBLANK($R760)=TRUE,\"\",VLOOKUP($R760,TAXONOMY!$A$1:$G$959,6,FALSE))","v":""},{"$f":"IF(ISBLANK($R760)=TRUE,\"\",VLOOKUP($R760,TAXONOMY!$A$1:$G$959,5,FALSE))","v":""},{"$f":"IF(ISBLANK($R760)=TRUE,\"\",VLOOKUP($R760,TAXONOMY!$A$1:$G$959,4,FALSE))","v":""},{"$f":"IF(ISBLANK($R760)=TRUE,\"\",VLOOKUP($R760,TAXONOMY!$A$1:$G$959,3,FALSE))","v":""},{"$f":"IF(ISBLANK($R760)=TRUE,\"\",VLOOKUP($R760,TAXONOMY!$A$1:$H$959,2,FALSE))","v":""}]
[null,null,null,null,null,null,null,null,null,null,null,{"$f":"IF(ISBLANK($R761)=TRUE,\"\",VLOOKUP($R761,TAXONOMY!$A$1:$G$959,7,FALSE))","v":""},{"$f":"IF(ISBLANK($R761)=TRUE,\"\",VLOOKUP($R761,TAXONOMY!$A$1:$G$959,6,FALSE))","v":""},{"$f":"IF(ISBLANK($R761)=TRUE,\"\",VLOOKUP($R761,TAXONOMY!$A$1:$G$959,5,FALSE))","v":""},{"$f":"IF(ISBLANK($R761)=TRUE,\"\",VLOOKUP($R761,TAXONOMY!$A$1:$G$959,4,FALSE))","v":""},{"$f":"IF(ISBLANK($R761)=TRUE,\"\",VLOOKUP($R761,TAXONOMY!$A$1:$G$959,3,FALSE))","v":""},{"$f":"IF(ISBLANK($R761)=TRUE,\"\",VLOOKUP($R761,TAXONOMY!$A$1:$H$959,2,FALSE))","v":""}]
[null,null,null,null,null,null,null,null,null,null,null,{"$f":"IF(ISBLANK($R762)=TRUE,\"\",VLOOKUP($R762,TAXONOMY!$A$1:$G$959,7,FALSE))","v":""},{"$f":"IF(ISBLANK($R762)=TRUE,\"\",VLOOKUP($R762,TAXONOMY!$A$1:$G$959,6,FALSE))","v":""},{"$f":"IF(ISBLANK($R762)=TRUE,\"\",VLOOKUP($R762,TAXONOMY!$A$1:$G$959,5,FALSE))","v":""},{"$f":"IF(ISBLANK($R762)=TRUE,\"\",VLOOKUP($R762,TAXONOMY!$A$1:$G$959,4,FALSE))","v":""},{"$f":"IF(ISBLANK($R762)=TRUE,\"\",VLOOKUP($R762,TAXONOMY!$A$1:$G$959,3,FALSE))","v":""},{"$f":"IF(ISBLANK($R762)=TRUE,\"\",VLOOKUP($R762,TAXONOMY!$A$1:$H$959,2,FALSE))","v":""}]
[null,null,null,null,null,null,null,null,null,null,null,{"$f":"IF(ISBLANK($R763)=TRUE,\"\",VLOOKUP($R763,TAXONOMY!$A$1:$G$959,7,FALSE))","v":""},{"$f":"IF(ISBLANK($R763)=TRUE,\"\",VLOOKUP($R763,TAXONOMY!$A$1:$G$959,6,FALSE))","v":""},{"$f":"IF(ISBLANK($R763)=TRUE,\"\",VLOOKUP($R763,TAXONOMY!$A$1:$G$959,5,FALSE))","v":""},{"$f":"IF(ISBLANK($R763)=TRUE,\"\",VLOOKUP($R763,TAXONOMY!$A$1:$G$959,4,FALSE))","v":""},{"$f":"IF(ISBLANK($R763)=TRUE,\"\",VLOOKUP($R763,TAXONOMY!$A$1:$G$959,3,FALSE))","v":""},{"$f":"IF(ISBLANK($R763)=TRUE,\"\",VLOOKUP($R763,TAXONOMY!$A$1:$H$959,2,FALSE))","v":""}]
[null,null,null,null,null,null,null,null,null,null,null,{"$f":"IF(ISBLANK($R764)=TRUE,\"\",VLOOKUP($R764,TAXONOMY!$A$1:$G$959,7,FALSE))","v":""},{"$f":"IF(ISBLANK($R764)=TRUE,\"\",VLOOKUP($R764,TAXONOMY!$A$1:$G$959,6,FALSE))","v":""},{"$f":"IF(ISBLANK($R764)=TRUE,\"\",VLOOKUP($R764,TAXONOMY!$A$1:$G$959,5,FALSE))","v":""},{"$f":"IF(ISBLANK($R764)=TRUE,\"\",VLOOKUP($R764,TAXONOMY!$A$1:$G$959,4,FALSE))","v":""},{"$f":"IF(ISBLANK($R764)=TRUE,\"\",VLOOKUP($R764,TAXONOMY!$A$1:$G$959,3,FALSE))","v":""},{"$f":"IF(ISBLANK($R764)=TRUE,\"\",VLOOKUP($R764,TAXONOMY!$A$1:$H$959,2,FALSE))","v":""}]
[null,null,null,null,null,null,null,null,null,null,null,{"$f":"IF(ISBLANK($R765)=TRUE,\"\",VLOOKUP($R765,TAXONOMY!$A$1:$G$959,7,FALSE))","v":""},{"$f":"IF(ISBLANK($R765)=TRUE,\"\",VLOOKUP($R765,TAXONOMY!$A$1:$G$959,6,FALSE))","v":""},{"$f":"IF(ISBLANK($R765)=TRUE,\"\",VLOOKUP($R765,TAXONOMY!$A$1:$G$959,5,FALSE))","v":""},{"$f":"IF(ISBLANK($R765)=TRUE,\"\",VLOOKUP($R765,TAXONOMY!$A$1:$G$959,4,FALSE))","v":""},{"$f":"IF(ISBLANK($R765)=TRUE,\"\",VLOOKUP($R765,TAXONOMY!$A$1:$G$959,3,FALSE))","v":""},{"$f":"IF(ISBLANK($R765)=TRUE,\"\",VLOOKUP($R765,TAXONOMY!$A$1:$H$959,2,FALSE))","v":""}]
[null,null,null,null,null,null,null,null,null,null,null,{"$f":"IF(ISBLANK($R766)=TRUE,\"\",VLOOKUP($R766,TAXONOMY!$A$1:$G$959,7,FALSE))","v":""},{"$f":"IF(ISBLANK($R766)=TRUE,\"\",VLOOKUP($R766,TAXONOMY!$A$1:$G$959,6,FALSE))","v":""},{"$f":"IF(ISBLANK($R766)=TRUE,\"\",VLOOKUP($R766,TAXONOMY!$A$1:$G$959,5,FALSE))","v":""},{"$f":"IF(ISBLANK($R766)=TRUE,\"\",VLOOKUP($R766,TAXONOMY!$A$1:$G$959,4,FALSE))","v":""},{"$f":"IF(ISBLANK($R766)=TRUE,\"\",VLOOKUP($R766,TAXONOMY!$A$1:$G$959,3,FALSE))","v":""},{"$f":"IF(ISBLANK($R766)=TRUE,\"\",VLOOKUP($R766,TAXONOMY!$A$1:$H$959,2,FALSE))","v":""}]
[null,null,null,null,null,null,null,null,null,null,null,{"$f":"IF(ISBLANK($R767)=TRUE,\"\",VLOOKUP($R767,TAXONOMY!$A$1:$G$959,7,FALSE))","v":""},{"$f":"IF(ISBLANK($R767)=TRUE,\"\",VLOOKUP($R767,TAXONOMY!$A$1:$G$959,6,FALSE))","v":""},{"$f":"IF(ISBLANK($R767)=TRUE,\"\",VLOOKUP($R767,TAXONOMY!$A$1:$G$959,5,FALSE))","v":""},{"$f":"IF(ISBLANK($R767)=TRUE,\"\",VLOOKUP($R767,TAXONOMY!$A$1:$G$959,4,FALSE))","v":""},{"$f":"IF(ISBLANK($R767)=TRUE,\"\",VLOOKUP($R767,TAXONOMY!$A$1:$G$959,3,FALSE))","v":""},{"$f":"IF(ISBLANK($R767)=TRUE,\"\",VLOOKUP($R767,TAXONOMY!$A$1:$H$959,2,FALSE))","v":""}]
[null,null,null,null,null,null,null,null,null,null,null,{"$f":"IF(ISBLANK($R768)=TRUE,\"\",VLOOKUP($R768,TAXONOMY!$A$1:$G$959,7,FALSE))","v":""},{"$f":"IF(ISBLANK($R768)=TRUE,\"\",VLOOKUP($R768,TAXONOMY!$A$1:$G$959,6,FALSE))","v":""},{"$f":"IF(ISBLANK($R768)=TRUE,\"\",VLOOKUP($R768,TAXONOMY!$A$1:$G$959,5,FALSE))","v":""},{"$f":"IF(ISBLANK($R768)=TRUE,\"\",VLOOKUP($R768,TAXONOMY!$A$1:$G$959,4,FALSE))","v":""},{"$f":"IF(ISBLANK($R768)=TRUE,\"\",VLOOKUP($R768,TAXONOMY!$A$1:$G$959,3,FALSE))","v":""},{"$f":"IF(ISBLANK($R768)=TRUE,\"\",VLOOKUP($R768,TAXONOMY!$A$1:$H$959,2,FALSE))","v":""}]
[null,null,null,null,null,null,null,null,null,null,null,{"$f":"IF(ISBLANK($R769)=TRUE,\"\",VLOOKUP($R769,TAXONOMY!$A$1:$G$959,7,FALSE))","v":""},{"$f":"IF(ISBLANK($R769)=TRUE,\"\",VLOOKUP($R769,TAXONOMY!$A$1:$G$959,6,FALSE))","v":""},{"$f":"IF(ISBLANK($R769)=TRUE,\"\",VLOOKUP($R769,TAXONOMY!$A$1:$G$959,5,FALSE))","v":""},{"$f":"IF(ISBLANK($R769)=TRUE,\"\",VLOOKUP($R769,TAXONOMY!$A$1:$G$959,4,FALSE))","v":""},{"$f":"IF(ISBLANK($R769)=TRUE,\"\",VLOOKUP($R769,TAXONOMY!$A$1:$G$959,3,FALSE))","v":""},{"$f":"IF(ISBLANK($R769)=TRUE,\"\",VLOOKUP($R769,TAXONOMY!$A$1:$H$959,2,FALSE))","v":""}]
[null,null,null,null,null,null,null,null,null,null,null,{"$f":"IF(ISBLANK($R770)=TRUE,\"\",VLOOKUP($R770,TAXONOMY!$A$1:$G$959,7,FALSE))","v":""},{"$f":"IF(ISBLANK($R770)=TRUE,\"\",VLOOKUP($R770,TAXONOMY!$A$1:$G$959,6,FALSE))","v":""},{"$f":"IF(ISBLANK($R770)=TRUE,\"\",VLOOKUP($R770,TAXONOMY!$A$1:$G$959,5,FALSE))","v":""},{"$f":"IF(ISBLANK($R770)=TRUE,\"\",VLOOKUP($R770,TAXONOMY!$A$1:$G$959,4,FALSE))","v":""},{"$f":"IF(ISBLANK($R770)=TRUE,\"\",VLOOKUP($R770,TAXONOMY!$A$1:$G$959,3,FALSE))","v":""},{"$f":"IF(ISBLANK($R770)=TRUE,\"\",VLOOKUP($R770,TAXONOMY!$A$1:$H$959,2,FALSE))","v":""}]
[null,null,null,null,null,null,null,null,null,null,null,{"$f":"IF(ISBLANK($R771)=TRUE,\"\",VLOOKUP($R771,TAXONOMY!$A$1:$G$959,7,FALSE))","v":""},{"$f":"IF(ISBLANK($R771)=TRUE,\"\",VLOOKUP($R771,TAXONOMY!$A$1:$G$959,6,FALSE))","v":""},{"$f":"IF(ISBLANK($R771)=TRUE,\"\",VLOOKUP($R771,TAXONOMY!$A$1:$G$959,5,FALSE))","v":""},{"$f":"IF(ISBLANK($R771)=TRUE,\"\",VLOOKUP($R771,TAXONOMY!$A$1:$G$959,4,FALSE))","v":""},{"$f":"IF(ISBLANK($R771)=TRUE,\"\",VLOOKUP($R771,TAXONOMY!$A$1:$G$959,3,FALSE))","v":""},{"$f":"IF(ISBLANK($R771)=TRUE,\"\",VLOOKUP($R771,TAXONOMY!$A$1:$H$959,2,FALSE))","v":""}]
[null,null,null,null,null,null,null,null,null,null,null,{"$f":"IF(ISBLANK($R772)=TRUE,\"\",VLOOKUP($R772,TAXONOMY!$A$1:$G$959,7,FALSE))","v":""},{"$f":"IF(ISBLANK($R772)=TRUE,\"\",VLOOKUP($R772,TAXONOMY!$A$1:$G$959,6,FALSE))","v":""},{"$f":"IF(ISBLANK($R772)=TRUE,\"\",VLOOKUP($R772,TAXONOMY!$A$1:$G$959,5,FALSE))","v":""},{"$f":"IF(ISBLANK($R772)=TRUE,\"\",VLOOKUP($R772,TAXONOMY!$A$1:$G$959,4,FALSE))","v":""},{"$f":"IF(ISBLANK($R772)=TRUE,\"\",VLOOKUP($R772,TAXONOMY!$A$1:$G$959,3,FALSE))","v":""},{"$f":"IF(ISBLANK($R772)=TRUE,\"\",VLOOKUP($R772,TAXONOMY!$A$1:$H$959,2,FALSE))","v":""}]
[null,null,null,null,null,null,null,null,null,null,null,{"$f":"IF(ISBLANK($R773)=TRUE,\"\",VLOOKUP($R773,TAXONOMY!$A$1:$G$959,7,FALSE))","v":""},{"$f":"IF(ISBLANK($R773)=TRUE,\"\",VLOOKUP($R773,TAXONOMY!$A$1:$G$959,6,FALSE))","v":""},{"$f":"IF(ISBLANK($R773)=TRUE,\"\",VLOOKUP($R773,TAXONOMY!$A$1:$G$959,5,FALSE))","v":""},{"$f":"IF(ISBLANK($R773)=TRUE,\"\",VLOOKUP($R773,TAXONOMY!$A$1:$G$959,4,FALSE))","v":""},{"$f":"IF(ISBLANK($R773)=TRUE,\"\",VLOOKUP($R773,TAXONOMY!$A$1:$G$959,3,FALSE))","v":""},{"$f":"IF(ISBLANK($R773)=TRUE,\"\",VLOOKUP($R773,TAXONOMY!$A$1:$H$959,2,FALSE))","v":""}]
[null,null,null,null,null,null,null,null,null,null,null,{"$f":"IF(ISBLANK($R774)=TRUE,\"\",VLOOKUP($R774,TAXONOMY!$A$1:$G$959,7,FALSE))","v":""},{"$f":"IF(ISBLANK($R774)=TRUE,\"\",VLOOKUP($R774,TAXONOMY!$A$1:$G$959,6,FALSE))","v":""},{"$f":"IF(ISBLANK($R774)=TRUE,\"\",VLOOKUP($R774,TAXONOMY!$A$1:$G$959,5,FALSE))","v":""},{"$f":"IF(ISBLANK($R774)=TRUE,\"\",VLOOKUP($R774,TAXONOMY!$A$1:$G$959,4,FALSE))","v":""},{"$f":"IF(ISBLANK($R774)=TRUE,\"\",VLOOKUP($R774,TAXONOMY!$A$1:$G$959,3,FALSE))","v":""},{"$f":"IF(ISBLANK($R774)=TRUE,\"\",VLOOKUP($R774,TAXONOMY!$A$1:$H$959,2,FALSE))","v":""}]
[null,null,null,null,null,null,null,null,null,null,null,{"$f":"IF(ISBLANK($R775)=TRUE,\"\",VLOOKUP($R775,TAXONOMY!$A$1:$G$959,7,FALSE))","v":""},{"$f":"IF(ISBLANK($R775)=TRUE,\"\",VLOOKUP($R775,TAXONOMY!$A$1:$G$959,6,FALSE))","v":""},{"$f":"IF(ISBLANK($R775)=TRUE,\"\",VLOOKUP($R775,TAXONOMY!$A$1:$G$959,5,FALSE))","v":""},{"$f":"IF(ISBLANK($R775)=TRUE,\"\",VLOOKUP($R775,TAXONOMY!$A$1:$G$959,4,FALSE))","v":""},{"$f":"IF(ISBLANK($R775)=TRUE,\"\",VLOOKUP($R775,TAXONOMY!$A$1:$G$959,3,FALSE))","v":""},{"$f":"IF(ISBLANK($R775)=TRUE,\"\",VLOOKUP($R775,TAXONOMY!$A$1:$H$959,2,FALSE))","v":""}]
[null,null,null,null,null,null,null,null,null,null,null,{"$f":"IF(ISBLANK($R776)=TRUE,\"\",VLOOKUP($R776,TAXONOMY!$A$1:$G$959,7,FALSE))","v":""},{"$f":"IF(ISBLANK($R776)=TRUE,\"\",VLOOKUP($R776,TAXONOMY!$A$1:$G$959,6,FALSE))","v":""},{"$f":"IF(ISBLANK($R776)=TRUE,\"\",VLOOKUP($R776,TAXONOMY!$A$1:$G$959,5,FALSE))","v":""},{"$f":"IF(ISBLANK($R776)=TRUE,\"\",VLOOKUP($R776,TAXONOMY!$A$1:$G$959,4,FALSE))","v":""},{"$f":"IF(ISBLANK($R776)=TRUE,\"\",VLOOKUP($R776,TAXONOMY!$A$1:$G$959,3,FALSE))","v":""},{"$f":"IF(ISBLANK($R776)=TRUE,\"\",VLOOKUP($R776,TAXONOMY!$A$1:$H$959,2,FALSE))","v":""}]
[null,null,null,null,null,null,null,null,null,null,null,{"$f":"IF(ISBLANK($R777)=TRUE,\"\",VLOOKUP($R777,TAXONOMY!$A$1:$G$959,7,FALSE))","v":""},{"$f":"IF(ISBLANK($R777)=TRUE,\"\",VLOOKUP($R777,TAXONOMY!$A$1:$G$959,6,FALSE))","v":""},{"$f":"IF(ISBLANK($R777)=TRUE,\"\",VLOOKUP($R777,TAXONOMY!$A$1:$G$959,5,FALSE))","v":""},{"$f":"IF(ISBLANK($R777)=TRUE,\"\",VLOOKUP($R777,TAXONOMY!$A$1:$G$959,4,FALSE))","v":""},{"$f":"IF(ISBLANK($R777)=TRUE,\"\",VLOOKUP($R777,TAXONOMY!$A$1:$G$959,3,FALSE))","v":""},{"$f":"IF(ISBLANK($R777)=TRUE,\"\",VLOOKUP($R777,TAXONOMY!$A$1:$H$959,2,FALSE))","v":""}]
[null,null,null,null,null,null,null,null,null,null,null,{"$f":"IF(ISBLANK($R778)=TRUE,\"\",VLOOKUP($R778,TAXONOMY!$A$1:$G$959,7,FALSE))","v":""},{"$f":"IF(ISBLANK($R778)=TRUE,\"\",VLOOKUP($R778,TAXONOMY!$A$1:$G$959,6,FALSE))","v":""},{"$f":"IF(ISBLANK($R778)=TRUE,\"\",VLOOKUP($R778,TAXONOMY!$A$1:$G$959,5,FALSE))","v":""},{"$f":"IF(ISBLANK($R778)=TRUE,\"\",VLOOKUP($R778,TAXONOMY!$A$1:$G$959,4,FALSE))","v":""},{"$f":"IF(ISBLANK($R778)=TRUE,\"\",VLOOKUP($R778,TAXONOMY!$A$1:$G$959,3,FALSE))","v":""},{"$f":"IF(ISBLANK($R778)=TRUE,\"\",VLOOKUP($R778,TAXONOMY!$A$1:$H$959,2,FALSE))","v":""}]
[null,null,null,null,null,null,null,null,null,null,null,{"$f":"IF(ISBLANK($R779)=TRUE,\"\",VLOOKUP($R779,TAXONOMY!$A$1:$G$959,7,FALSE))","v":""},{"$f":"IF(ISBLANK($R779)=TRUE,\"\",VLOOKUP($R779,TAXONOMY!$A$1:$G$959,6,FALSE))","v":""},{"$f":"IF(ISBLANK($R779)=TRUE,\"\",VLOOKUP($R779,TAXONOMY!$A$1:$G$959,5,FALSE))","v":""},{"$f":"IF(ISBLANK($R779)=TRUE,\"\",VLOOKUP($R779,TAXONOMY!$A$1:$G$959,4,FALSE))","v":""},{"$f":"IF(ISBLANK($R779)=TRUE,\"\",VLOOKUP($R779,TAXONOMY!$A$1:$G$959,3,FALSE))","v":""},{"$f":"IF(ISBLANK($R779)=TRUE,\"\",VLOOKUP($R779,TAXONOMY!$A$1:$H$959,2,FALSE))","v":""}]
[null,null,null,null,null,null,null,null,null,null,null,{"$f":"IF(ISBLANK($R780)=TRUE,\"\",VLOOKUP($R780,TAXONOMY!$A$1:$G$959,7,FALSE))","v":""},{"$f":"IF(ISBLANK($R780)=TRUE,\"\",VLOOKUP($R780,TAXONOMY!$A$1:$G$959,6,FALSE))","v":""},{"$f":"IF(ISBLANK($R780)=TRUE,\"\",VLOOKUP($R780,TAXONOMY!$A$1:$G$959,5,FALSE))","v":""},{"$f":"IF(ISBLANK($R780)=TRUE,\"\",VLOOKUP($R780,TAXONOMY!$A$1:$G$959,4,FALSE))","v":""},{"$f":"IF(ISBLANK($R780)=TRUE,\"\",VLOOKUP($R780,TAXONOMY!$A$1:$G$959,3,FALSE))","v":""},{"$f":"IF(ISBLANK($R780)=TRUE,\"\",VLOOKUP($R780,TAXONOMY!$A$1:$H$959,2,FALSE))","v":""}]
[null,null,null,null,null,null,null,null,null,null,null,{"$f":"IF(ISBLANK($R781)=TRUE,\"\",VLOOKUP($R781,TAXONOMY!$A$1:$G$959,7,FALSE))","v":""},{"$f":"IF(ISBLANK($R781)=TRUE,\"\",VLOOKUP($R781,TAXONOMY!$A$1:$G$959,6,FALSE))","v":""},{"$f":"IF(ISBLANK($R781)=TRUE,\"\",VLOOKUP($R781,TAXONOMY!$A$1:$G$959,5,FALSE))","v":""},{"$f":"IF(ISBLANK($R781)=TRUE,\"\",VLOOKUP($R781,TAXONOMY!$A$1:$G$959,4,FALSE))","v":""},{"$f":"IF(ISBLANK($R781)=TRUE,\"\",VLOOKUP($R781,TAXONOMY!$A$1:$G$959,3,FALSE))","v":""},{"$f":"IF(ISBLANK($R781)=TRUE,\"\",VLOOKUP($R781,TAXONOMY!$A$1:$H$959,2,FALSE))","v":""}]
[null,null,null,null,null,null,null,null,null,null,null,{"$f":"IF(ISBLANK($R782)=TRUE,\"\",VLOOKUP($R782,TAXONOMY!$A$1:$G$959,7,FALSE))","v":""},{"$f":"IF(ISBLANK($R782)=TRUE,\"\",VLOOKUP($R782,TAXONOMY!$A$1:$G$959,6,FALSE))","v":""},{"$f":"IF(ISBLANK($R782)=TRUE,\"\",VLOOKUP($R782,TAXONOMY!$A$1:$G$959,5,FALSE))","v":""},{"$f":"IF(ISBLANK($R782)=TRUE,\"\",VLOOKUP($R782,TAXONOMY!$A$1:$G$959,4,FALSE))","v":""},{"$f":"IF(ISBLANK($R782)=TRUE,\"\",VLOOKUP($R782,TAXONOMY!$A$1:$G$959,3,FALSE))","v":""},{"$f":"IF(ISBLANK($R782)=TRUE,\"\",VLOOKUP($R782,TAXONOMY!$A$1:$H$959,2,FALSE))","v":""}]
[null,null,null,null,null,null,null,null,null,null,null,{"$f":"IF(ISBLANK($R783)=TRUE,\"\",VLOOKUP($R783,TAXONOMY!$A$1:$G$959,7,FALSE))","v":""},{"$f":"IF(ISBLANK($R783)=TRUE,\"\",VLOOKUP($R783,TAXONOMY!$A$1:$G$959,6,FALSE))","v":""},{"$f":"IF(ISBLANK($R783)=TRUE,\"\",VLOOKUP($R783,TAXONOMY!$A$1:$G$959,5,FALSE))","v":""},{"$f":"IF(ISBLANK($R783)=TRUE,\"\",VLOOKUP($R783,TAXONOMY!$A$1:$G$959,4,FALSE))","v":""},{"$f":"IF(ISBLANK($R783)=TRUE,\"\",VLOOKUP($R783,TAXONOMY!$A$1:$G$959,3,FALSE))","v":""},{"$f":"IF(ISBLANK($R783)=TRUE,\"\",VLOOKUP($R783,TAXONOMY!$A$1:$H$959,2,FALSE))","v":""}]
[null,null,null,null,null,null,null,null,null,null,null,{"$f":"IF(ISBLANK($R784)=TRUE,\"\",VLOOKUP($R784,TAXONOMY!$A$1:$G$959,7,FALSE))","v":""},{"$f":"IF(ISBLANK($R784)=TRUE,\"\",VLOOKUP($R784,TAXONOMY!$A$1:$G$959,6,FALSE))","v":""},{"$f":"IF(ISBLANK($R784)=TRUE,\"\",VLOOKUP($R784,TAXONOMY!$A$1:$G$959,5,FALSE))","v":""},{"$f":"IF(ISBLANK($R784)=TRUE,\"\",VLOOKUP($R784,TAXONOMY!$A$1:$G$959,4,FALSE))","v":""},{"$f":"IF(ISBLANK($R784)=TRUE,\"\",VLOOKUP($R784,TAXONOMY!$A$1:$G$959,3,FALSE))","v":""},{"$f":"IF(ISBLANK($R784)=TRUE,\"\",VLOOKUP($R784,TAXONOMY!$A$1:$H$959,2,FALSE))","v":""}]
[null,null,null,null,null,null,null,null,null,null,null,{"$f":"IF(ISBLANK($R785)=TRUE,\"\",VLOOKUP($R785,TAXONOMY!$A$1:$G$959,7,FALSE))","v":""},{"$f":"IF(ISBLANK($R785)=TRUE,\"\",VLOOKUP($R785,TAXONOMY!$A$1:$G$959,6,FALSE))","v":""},{"$f":"IF(ISBLANK($R785)=TRUE,\"\",VLOOKUP($R785,TAXONOMY!$A$1:$G$959,5,FALSE))","v":""},{"$f":"IF(ISBLANK($R785)=TRUE,\"\",VLOOKUP($R785,TAXONOMY!$A$1:$G$959,4,FALSE))","v":""},{"$f":"IF(ISBLANK($R785)=TRUE,\"\",VLOOKUP($R785,TAXONOMY!$A$1:$G$959,3,FALSE))","v":""},{"$f":"IF(ISBLANK($R785)=TRUE,\"\",VLOOKUP($R785,TAXONOMY!$A$1:$H$959,2,FALSE))","v":""}]
[null,null,null,null,null,null,null,null,null,null,null,{"$f":"IF(ISBLANK($R786)=TRUE,\"\",VLOOKUP($R786,TAXONOMY!$A$1:$G$959,7,FALSE))","v":""},{"$f":"IF(ISBLANK($R786)=TRUE,\"\",VLOOKUP($R786,TAXONOMY!$A$1:$G$959,6,FALSE))","v":""},{"$f":"IF(ISBLANK($R786)=TRUE,\"\",VLOOKUP($R786,TAXONOMY!$A$1:$G$959,5,FALSE))","v":""},{"$f":"IF(ISBLANK($R786)=TRUE,\"\",VLOOKUP($R786,TAXONOMY!$A$1:$G$959,4,FALSE))","v":""},{"$f":"IF(ISBLANK($R786)=TRUE,\"\",VLOOKUP($R786,TAXONOMY!$A$1:$G$959,3,FALSE))","v":""},{"$f":"IF(ISBLANK($R786)=TRUE,\"\",VLOOKUP($R786,TAXONOMY!$A$1:$H$959,2,FALSE))","v":""}]
[null,null,null,null,null,null,null,null,null,null,null,{"$f":"IF(ISBLANK($R787)=TRUE,\"\",VLOOKUP($R787,TAXONOMY!$A$1:$G$959,7,FALSE))","v":""},{"$f":"IF(ISBLANK($R787)=TRUE,\"\",VLOOKUP($R787,TAXONOMY!$A$1:$G$959,6,FALSE))","v":""},{"$f":"IF(ISBLANK($R787)=TRUE,\"\",VLOOKUP($R787,TAXONOMY!$A$1:$G$959,5,FALSE))","v":""},{"$f":"IF(ISBLANK($R787)=TRUE,\"\",VLOOKUP($R787,TAXONOMY!$A$1:$G$959,4,FALSE))","v":""},{"$f":"IF(ISBLANK($R787)=TRUE,\"\",VLOOKUP($R787,TAXONOMY!$A$1:$G$959,3,FALSE))","v":""},{"$f":"IF(ISBLANK($R787)=TRUE,\"\",VLOOKUP($R787,TAXONOMY!$A$1:$H$959,2,FALSE))","v":""}]
[null,null,null,null,null,null,null,null,null,null,null,{"$f":"IF(ISBLANK($R788)=TRUE,\"\",VLOOKUP($R788,TAXONOMY!$A$1:$G$959,7,FALSE))","v":""},{"$f":"IF(ISBLANK($R788)=TRUE,\"\",VLOOKUP($R788,TAXONOMY!$A$1:$G$959,6,FALSE))","v":""},{"$f":"IF(ISBLANK($R788)=TRUE,\"\",VLOOKUP($R788,TAXONOMY!$A$1:$G$959,5,FALSE))","v":""},{"$f":"IF(ISBLANK($R788)=TRUE,\"\",VLOOKUP($R788,TAXONOMY!$A$1:$G$959,4,FALSE))","v":""},{"$f":"IF(ISBLANK($R788)=TRUE,\"\",VLOOKUP($R788,TAXONOMY!$A$1:$G$959,3,FALSE))","v":""},{"$f":"IF(ISBLANK($R788)=TRUE,\"\",VLOOKUP($R788,TAXONOMY!$A$1:$H$959,2,FALSE))","v":""}]
[null,null,null,null,null,null,null,null,null,null,null,{"$f":"IF(ISBLANK($R789)=TRUE,\"\",VLOOKUP($R789,TAXONOMY!$A$1:$G$959,7,FALSE))","v":""},{"$f":"IF(ISBLANK($R789)=TRUE,\"\",VLOOKUP($R789,TAXONOMY!$A$1:$G$959,6,FALSE))","v":""},{"$f":"IF(ISBLANK($R789)=TRUE,\"\",VLOOKUP($R789,TAXONOMY!$A$1:$G$959,5,FALSE))","v":""},{"$f":"IF(ISBLANK($R789)=TRUE,\"\",VLOOKUP($R789,TAXONOMY!$A$1:$G$959,4,FALSE))","v":""},{"$f":"IF(ISBLANK($R789)=TRUE,\"\",VLOOKUP($R789,TAXONOMY!$A$1:$G$959,3,FALSE))","v":""},{"$f":"IF(ISBLANK($R789)=TRUE,\"\",VLOOKUP($R789,TAXONOMY!$A$1:$H$959,2,FALSE))","v":""}]
[null,null,null,null,null,null,null,null,null,null,null,{"$f":"IF(ISBLANK($R790)=TRUE,\"\",VLOOKUP($R790,TAXONOMY!$A$1:$G$959,7,FALSE))","v":""},{"$f":"IF(ISBLANK($R790)=TRUE,\"\",VLOOKUP($R790,TAXONOMY!$A$1:$G$959,6,FALSE))","v":""},{"$f":"IF(ISBLANK($R790)=TRUE,\"\",VLOOKUP($R790,TAXONOMY!$A$1:$G$959,5,FALSE))","v":""},{"$f":"IF(ISBLANK($R790)=TRUE,\"\",VLOOKUP($R790,TAXONOMY!$A$1:$G$959,4,FALSE))","v":""},{"$f":"IF(ISBLANK($R790)=TRUE,\"\",VLOOKUP($R790,TAXONOMY!$A$1:$G$959,3,FALSE))","v":""},{"$f":"IF(ISBLANK($R790)=TRUE,\"\",VLOOKUP($R790,TAXONOMY!$A$1:$H$959,2,FALSE))","v":""}]
[null,null,null,null,null,null,null,null,null,null,null,{"$f":"IF(ISBLANK($R791)=TRUE,\"\",VLOOKUP($R791,TAXONOMY!$A$1:$G$959,7,FALSE))","v":""},{"$f":"IF(ISBLANK($R791)=TRUE,\"\",VLOOKUP($R791,TAXONOMY!$A$1:$G$959,6,FALSE))","v":""},{"$f":"IF(ISBLANK($R791)=TRUE,\"\",VLOOKUP($R791,TAXONOMY!$A$1:$G$959,5,FALSE))","v":""},{"$f":"IF(ISBLANK($R791)=TRUE,\"\",VLOOKUP($R791,TAXONOMY!$A$1:$G$959,4,FALSE))","v":""},{"$f":"IF(ISBLANK($R791)=TRUE,\"\",VLOOKUP($R791,TAXONOMY!$A$1:$G$959,3,FALSE))","v":""},{"$f":"IF(ISBLANK($R791)=TRUE,\"\",VLOOKUP($R791,TAXONOMY!$A$1:$H$959,2,FALSE))","v":""}]
[null,null,null,null,null,null,null,null,null,null,null,{"$f":"IF(ISBLANK($R792)=TRUE,\"\",VLOOKUP($R792,TAXONOMY!$A$1:$G$959,7,FALSE))","v":""},{"$f":"IF(ISBLANK($R792)=TRUE,\"\",VLOOKUP($R792,TAXONOMY!$A$1:$G$959,6,FALSE))","v":""},{"$f":"IF(ISBLANK($R792)=TRUE,\"\",VLOOKUP($R792,TAXONOMY!$A$1:$G$959,5,FALSE))","v":""},{"$f":"IF(ISBLANK($R792)=TRUE,\"\",VLOOKUP($R792,TAXONOMY!$A$1:$G$959,4,FALSE))","v":""},{"$f":"IF(ISBLANK($R792)=TRUE,\"\",VLOOKUP($R792,TAXONOMY!$A$1:$G$959,3,FALSE))","v":""},{"$f":"IF(ISBLANK($R792)=TRUE,\"\",VLOOKUP($R792,TAXONOMY!$A$1:$H$959,2,FALSE))","v":""}]
[null,null,null,null,null,null,null,null,null,null,null,{"$f":"IF(ISBLANK($R793)=TRUE,\"\",VLOOKUP($R793,TAXONOMY!$A$1:$G$959,7,FALSE))","v":""},{"$f":"IF(ISBLANK($R793)=TRUE,\"\",VLOOKUP($R793,TAXONOMY!$A$1:$G$959,6,FALSE))","v":""},{"$f":"IF(ISBLANK($R793)=TRUE,\"\",VLOOKUP($R793,TAXONOMY!$A$1:$G$959,5,FALSE))","v":""},{"$f":"IF(ISBLANK($R793)=TRUE,\"\",VLOOKUP($R793,TAXONOMY!$A$1:$G$959,4,FALSE))","v":""},{"$f":"IF(ISBLANK($R793)=TRUE,\"\",VLOOKUP($R793,TAXONOMY!$A$1:$G$959,3,FALSE))","v":""},{"$f":"IF(ISBLANK($R793)=TRUE,\"\",VLOOKUP($R793,TAXONOMY!$A$1:$H$959,2,FALSE))","v":""}]
[null,null,null,null,null,null,null,null,null,null,null,{"$f":"IF(ISBLANK($R794)=TRUE,\"\",VLOOKUP($R794,TAXONOMY!$A$1:$G$959,7,FALSE))","v":""},{"$f":"IF(ISBLANK($R794)=TRUE,\"\",VLOOKUP($R794,TAXONOMY!$A$1:$G$959,6,FALSE))","v":""},{"$f":"IF(ISBLANK($R794)=TRUE,\"\",VLOOKUP($R794,TAXONOMY!$A$1:$G$959,5,FALSE))","v":""},{"$f":"IF(ISBLANK($R794)=TRUE,\"\",VLOOKUP($R794,TAXONOMY!$A$1:$G$959,4,FALSE))","v":""},{"$f":"IF(ISBLANK($R794)=TRUE,\"\",VLOOKUP($R794,TAXONOMY!$A$1:$G$959,3,FALSE))","v":""},{"$f":"IF(ISBLANK($R794)=TRUE,\"\",VLOOKUP($R794,TAXONOMY!$A$1:$H$959,2,FALSE))","v":""}]
[null,null,null,null,null,null,null,null,null,null,null,{"$f":"IF(ISBLANK($R795)=TRUE,\"\",VLOOKUP($R795,TAXONOMY!$A$1:$G$959,7,FALSE))","v":""},{"$f":"IF(ISBLANK($R795)=TRUE,\"\",VLOOKUP($R795,TAXONOMY!$A$1:$G$959,6,FALSE))","v":""},{"$f":"IF(ISBLANK($R795)=TRUE,\"\",VLOOKUP($R795,TAXONOMY!$A$1:$G$959,5,FALSE))","v":""},{"$f":"IF(ISBLANK($R795)=TRUE,\"\",VLOOKUP($R795,TAXONOMY!$A$1:$G$959,4,FALSE))","v":""},{"$f":"IF(ISBLANK($R795)=TRUE,\"\",VLOOKUP($R795,TAXONOMY!$A$1:$G$959,3,FALSE))","v":""},{"$f":"IF(ISBLANK($R795)=TRUE,\"\",VLOOKUP($R795,TAXONOMY!$A$1:$H$959,2,FALSE))","v":""}]
[null,null,null,null,null,null,null,null,null,null,null,{"$f":"IF(ISBLANK($R796)=TRUE,\"\",VLOOKUP($R796,TAXONOMY!$A$1:$G$959,7,FALSE))","v":""},{"$f":"IF(ISBLANK($R796)=TRUE,\"\",VLOOKUP($R796,TAXONOMY!$A$1:$G$959,6,FALSE))","v":""},{"$f":"IF(ISBLANK($R796)=TRUE,\"\",VLOOKUP($R796,TAXONOMY!$A$1:$G$959,5,FALSE))","v":""},{"$f":"IF(ISBLANK($R796)=TRUE,\"\",VLOOKUP($R796,TAXONOMY!$A$1:$G$959,4,FALSE))","v":""},{"$f":"IF(ISBLANK($R796)=TRUE,\"\",VLOOKUP($R796,TAXONOMY!$A$1:$G$959,3,FALSE))","v":""},{"$f":"IF(ISBLANK($R796)=TRUE,\"\",VLOOKUP($R796,TAXONOMY!$A$1:$H$959,2,FALSE))","v":""}]
[null,null,null,null,null,null,null,null,null,null,null,{"$f":"IF(ISBLANK($R797)=TRUE,\"\",VLOOKUP($R797,TAXONOMY!$A$1:$G$959,7,FALSE))","v":""},{"$f":"IF(ISBLANK($R797)=TRUE,\"\",VLOOKUP($R797,TAXONOMY!$A$1:$G$959,6,FALSE))","v":""},{"$f":"IF(ISBLANK($R797)=TRUE,\"\",VLOOKUP($R797,TAXONOMY!$A$1:$G$959,5,FALSE))","v":""},{"$f":"IF(ISBLANK($R797)=TRUE,\"\",VLOOKUP($R797,TAXONOMY!$A$1:$G$959,4,FALSE))","v":""},{"$f":"IF(ISBLANK($R797)=TRUE,\"\",VLOOKUP($R797,TAXONOMY!$A$1:$G$959,3,FALSE))","v":""},{"$f":"IF(ISBLANK($R797)=TRUE,\"\",VLOOKUP($R797,TAXONOMY!$A$1:$H$959,2,FALSE))","v":""}]
[null,null,null,null,null,null,null,null,null,null,null,{"$f":"IF(ISBLANK($R798)=TRUE,\"\",VLOOKUP($R798,TAXONOMY!$A$1:$G$959,7,FALSE))","v":""},{"$f":"IF(ISBLANK($R798)=TRUE,\"\",VLOOKUP($R798,TAXONOMY!$A$1:$G$959,6,FALSE))","v":""},{"$f":"IF(ISBLANK($R798)=TRUE,\"\",VLOOKUP($R798,TAXONOMY!$A$1:$G$959,5,FALSE))","v":""},{"$f":"IF(ISBLANK($R798)=TRUE,\"\",VLOOKUP($R798,TAXONOMY!$A$1:$G$959,4,FALSE))","v":""},{"$f":"IF(ISBLANK($R798)=TRUE,\"\",VLOOKUP($R798,TAXONOMY!$A$1:$G$959,3,FALSE))","v":""},{"$f":"IF(ISBLANK($R798)=TRUE,\"\",VLOOKUP($R798,TAXONOMY!$A$1:$H$959,2,FALSE))","v":""}]
[null,null,null,null,null,null,null,null,null,null,null,{"$f":"IF(ISBLANK($R799)=TRUE,\"\",VLOOKUP($R799,TAXONOMY!$A$1:$G$959,7,FALSE))","v":""},{"$f":"IF(ISBLANK($R799)=TRUE,\"\",VLOOKUP($R799,TAXONOMY!$A$1:$G$959,6,FALSE))","v":""},{"$f":"IF(ISBLANK($R799)=TRUE,\"\",VLOOKUP($R799,TAXONOMY!$A$1:$G$959,5,FALSE))","v":""},{"$f":"IF(ISBLANK($R799)=TRUE,\"\",VLOOKUP($R799,TAXONOMY!$A$1:$G$959,4,FALSE))","v":""},{"$f":"IF(ISBLANK($R799)=TRUE,\"\",VLOOKUP($R799,TAXONOMY!$A$1:$G$959,3,FALSE))","v":""},{"$f":"IF(ISBLANK($R799)=TRUE,\"\",VLOOKUP($R799,TAXONOMY!$A$1:$H$959,2,FALSE))","v":""}]
[null,null,null,null,null,null,null,null,null,null,null,{"$f":"IF(ISBLANK($R800)=TRUE,\"\",VLOOKUP($R800,TAXONOMY!$A$1:$G$959,7,FALSE))","v":""},{"$f":"IF(ISBLANK($R800)=TRUE,\"\",VLOOKUP($R800,TAXONOMY!$A$1:$G$959,6,FALSE))","v":""},{"$f":"IF(ISBLANK($R800)=TRUE,\"\",VLOOKUP($R800,TAXONOMY!$A$1:$G$959,5,FALSE))","v":""},{"$f":"IF(ISBLANK($R800)=TRUE,\"\",VLOOKUP($R800,TAXONOMY!$A$1:$G$959,4,FALSE))","v":""},{"$f":"IF(ISBLANK($R800)=TRUE,\"\",VLOOKUP($R800,TAXONOMY!$A$1:$G$959,3,FALSE))","v":""},{"$f":"IF(ISBLANK($R800)=TRUE,\"\",VLOOKUP($R800,TAXONOMY!$A$1:$H$959,2,FALSE))","v":""}]
[null,null,null,null,null,null,null,null,null,null,null,{"$f":"IF(ISBLANK($R801)=TRUE,\"\",VLOOKUP($R801,TAXONOMY!$A$1:$G$959,7,FALSE))","v":""},{"$f":"IF(ISBLANK($R801)=TRUE,\"\",VLOOKUP($R801,TAXONOMY!$A$1:$G$959,6,FALSE))","v":""},{"$f":"IF(ISBLANK($R801)=TRUE,\"\",VLOOKUP($R801,TAXONOMY!$A$1:$G$959,5,FALSE))","v":""},{"$f":"IF(ISBLANK($R801)=TRUE,\"\",VLOOKUP($R801,TAXONOMY!$A$1:$G$959,4,FALSE))","v":""},{"$f":"IF(ISBLANK($R801)=TRUE,\"\",VLOOKUP($R801,TAXONOMY!$A$1:$G$959,3,FALSE))","v":""},{"$f":"IF(ISBLANK($R801)=TRUE,\"\",VLOOKUP($R801,TAXONOMY!$A$1:$H$959,2,FALSE))","v":""}]
[null,null,null,null,null,null,null,null,null,null,null,{"$f":"IF(ISBLANK($R802)=TRUE,\"\",VLOOKUP($R802,TAXONOMY!$A$1:$G$959,7,FALSE))","v":""},{"$f":"IF(ISBLANK($R802)=TRUE,\"\",VLOOKUP($R802,TAXONOMY!$A$1:$G$959,6,FALSE))","v":""},{"$f":"IF(ISBLANK($R802)=TRUE,\"\",VLOOKUP($R802,TAXONOMY!$A$1:$G$959,5,FALSE))","v":""},{"$f":"IF(ISBLANK($R802)=TRUE,\"\",VLOOKUP($R802,TAXONOMY!$A$1:$G$959,4,FALSE))","v":""},{"$f":"IF(ISBLANK($R802)=TRUE,\"\",VLOOKUP($R802,TAXONOMY!$A$1:$G$959,3,FALSE))","v":""},{"$f":"IF(ISBLANK($R802)=TRUE,\"\",VLOOKUP($R802,TAXONOMY!$A$1:$H$959,2,FALSE))","v":""}]
[null,null,null,null,null,null,null,null,null,null,null,{"$f":"IF(ISBLANK($R803)=TRUE,\"\",VLOOKUP($R803,TAXONOMY!$A$1:$G$959,7,FALSE))","v":""},{"$f":"IF(ISBLANK($R803)=TRUE,\"\",VLOOKUP($R803,TAXONOMY!$A$1:$G$959,6,FALSE))","v":""},{"$f":"IF(ISBLANK($R803)=TRUE,\"\",VLOOKUP($R803,TAXONOMY!$A$1:$G$959,5,FALSE))","v":""},{"$f":"IF(ISBLANK($R803)=TRUE,\"\",VLOOKUP($R803,TAXONOMY!$A$1:$G$959,4,FALSE))","v":""},{"$f":"IF(ISBLANK($R803)=TRUE,\"\",VLOOKUP($R803,TAXONOMY!$A$1:$G$959,3,FALSE))","v":""},{"$f":"IF(ISBLANK($R803)=TRUE,\"\",VLOOKUP($R803,TAXONOMY!$A$1:$H$959,2,FALSE))","v":""}]
[null,null,null,null,null,null,null,null,null,null,null,{"$f":"IF(ISBLANK($R804)=TRUE,\"\",VLOOKUP($R804,TAXONOMY!$A$1:$G$959,7,FALSE))","v":""},{"$f":"IF(ISBLANK($R804)=TRUE,\"\",VLOOKUP($R804,TAXONOMY!$A$1:$G$959,6,FALSE))","v":""},{"$f":"IF(ISBLANK($R804)=TRUE,\"\",VLOOKUP($R804,TAXONOMY!$A$1:$G$959,5,FALSE))","v":""},{"$f":"IF(ISBLANK($R804)=TRUE,\"\",VLOOKUP($R804,TAXONOMY!$A$1:$G$959,4,FALSE))","v":""},{"$f":"IF(ISBLANK($R804)=TRUE,\"\",VLOOKUP($R804,TAXONOMY!$A$1:$G$959,3,FALSE))","v":""},{"$f":"IF(ISBLANK($R804)=TRUE,\"\",VLOOKUP($R804,TAXONOMY!$A$1:$H$959,2,FALSE))","v":""}]
[null,null,null,null,null,null,null,null,null,null,null,{"$f":"IF(ISBLANK($R805)=TRUE,\"\",VLOOKUP($R805,TAXONOMY!$A$1:$G$959,7,FALSE))","v":""},{"$f":"IF(ISBLANK($R805)=TRUE,\"\",VLOOKUP($R805,TAXONOMY!$A$1:$G$959,6,FALSE))","v":""},{"$f":"IF(ISBLANK($R805)=TRUE,\"\",VLOOKUP($R805,TAXONOMY!$A$1:$G$959,5,FALSE))","v":""},{"$f":"IF(ISBLANK($R805)=TRUE,\"\",VLOOKUP($R805,TAXONOMY!$A$1:$G$959,4,FALSE))","v":""},{"$f":"IF(ISBLANK($R805)=TRUE,\"\",VLOOKUP($R805,TAXONOMY!$A$1:$G$959,3,FALSE))","v":""},{"$f":"IF(ISBLANK($R805)=TRUE,\"\",VLOOKUP($R805,TAXONOMY!$A$1:$H$959,2,FALSE))","v":""}]
[null,null,null,null,null,null,null,null,null,null,null,{"$f":"IF(ISBLANK($R806)=TRUE,\"\",VLOOKUP($R806,TAXONOMY!$A$1:$G$959,7,FALSE))","v":""},{"$f":"IF(ISBLANK($R806)=TRUE,\"\",VLOOKUP($R806,TAXONOMY!$A$1:$G$959,6,FALSE))","v":""},{"$f":"IF(ISBLANK($R806)=TRUE,\"\",VLOOKUP($R806,TAXONOMY!$A$1:$G$959,5,FALSE))","v":""},{"$f":"IF(ISBLANK($R806)=TRUE,\"\",VLOOKUP($R806,TAXONOMY!$A$1:$G$959,4,FALSE))","v":""},{"$f":"IF(ISBLANK($R806)=TRUE,\"\",VLOOKUP($R806,TAXONOMY!$A$1:$G$959,3,FALSE))","v":""},{"$f":"IF(ISBLANK($R806)=TRUE,\"\",VLOOKUP($R806,TAXONOMY!$A$1:$H$959,2,FALSE))","v":""}]
[null,null,null,null,null,null,null,null,null,null,null,{"$f":"IF(ISBLANK($R807)=TRUE,\"\",VLOOKUP($R807,TAXONOMY!$A$1:$G$959,7,FALSE))","v":""},{"$f":"IF(ISBLANK($R807)=TRUE,\"\",VLOOKUP($R807,TAXONOMY!$A$1:$G$959,6,FALSE))","v":""},{"$f":"IF(ISBLANK($R807)=TRUE,\"\",VLOOKUP($R807,TAXONOMY!$A$1:$G$959,5,FALSE))","v":""},{"$f":"IF(ISBLANK($R807)=TRUE,\"\",VLOOKUP($R807,TAXONOMY!$A$1:$G$959,4,FALSE))","v":""},{"$f":"IF(ISBLANK($R807)=TRUE,\"\",VLOOKUP($R807,TAXONOMY!$A$1:$G$959,3,FALSE))","v":""},{"$f":"IF(ISBLANK($R807)=TRUE,\"\",VLOOKUP($R807,TAXONOMY!$A$1:$H$959,2,FALSE))","v":""}]
[null,null,null,null,null,null,null,null,null,null,null,{"$f":"IF(ISBLANK($R808)=TRUE,\"\",VLOOKUP($R808,TAXONOMY!$A$1:$G$959,7,FALSE))","v":""},{"$f":"IF(ISBLANK($R808)=TRUE,\"\",VLOOKUP($R808,TAXONOMY!$A$1:$G$959,6,FALSE))","v":""},{"$f":"IF(ISBLANK($R808)=TRUE,\"\",VLOOKUP($R808,TAXONOMY!$A$1:$G$959,5,FALSE))","v":""},{"$f":"IF(ISBLANK($R808)=TRUE,\"\",VLOOKUP($R808,TAXONOMY!$A$1:$G$959,4,FALSE))","v":""},{"$f":"IF(ISBLANK($R808)=TRUE,\"\",VLOOKUP($R808,TAXONOMY!$A$1:$G$959,3,FALSE))","v":""},{"$f":"IF(ISBLANK($R808)=TRUE,\"\",VLOOKUP($R808,TAXONOMY!$A$1:$H$959,2,FALSE))","v":""}]
[null,null,null,null,null,null,null,null,null,null,null,{"$f":"IF(ISBLANK($R809)=TRUE,\"\",VLOOKUP($R809,TAXONOMY!$A$1:$G$959,7,FALSE))","v":""},{"$f":"IF(ISBLANK($R809)=TRUE,\"\",VLOOKUP($R809,TAXONOMY!$A$1:$G$959,6,FALSE))","v":""},{"$f":"IF(ISBLANK($R809)=TRUE,\"\",VLOOKUP($R809,TAXONOMY!$A$1:$G$959,5,FALSE))","v":""},{"$f":"IF(ISBLANK($R809)=TRUE,\"\",VLOOKUP($R809,TAXONOMY!$A$1:$G$959,4,FALSE))","v":""},{"$f":"IF(ISBLANK($R809)=TRUE,\"\",VLOOKUP($R809,TAXONOMY!$A$1:$G$959,3,FALSE))","v":""},{"$f":"IF(ISBLANK($R809)=TRUE,\"\",VLOOKUP($R809,TAXONOMY!$A$1:$H$959,2,FALSE))","v":""}]
[null,null,null,null,null,null,null,null,null,null,null,{"$f":"IF(ISBLANK($R810)=TRUE,\"\",VLOOKUP($R810,TAXONOMY!$A$1:$G$959,7,FALSE))","v":""},{"$f":"IF(ISBLANK($R810)=TRUE,\"\",VLOOKUP($R810,TAXONOMY!$A$1:$G$959,6,FALSE))","v":""},{"$f":"IF(ISBLANK($R810)=TRUE,\"\",VLOOKUP($R810,TAXONOMY!$A$1:$G$959,5,FALSE))","v":""},{"$f":"IF(ISBLANK($R810)=TRUE,\"\",VLOOKUP($R810,TAXONOMY!$A$1:$G$959,4,FALSE))","v":""},{"$f":"IF(ISBLANK($R810)=TRUE,\"\",VLOOKUP($R810,TAXONOMY!$A$1:$G$959,3,FALSE))","v":""},{"$f":"IF(ISBLANK($R810)=TRUE,\"\",VLOOKUP($R810,TAXONOMY!$A$1:$H$959,2,FALSE))","v":""}]
[null,null,null,null,null,null,null,null,null,null,null,{"$f":"IF(ISBLANK($R811)=TRUE,\"\",VLOOKUP($R811,TAXONOMY!$A$1:$G$959,7,FALSE))","v":""},{"$f":"IF(ISBLANK($R811)=TRUE,\"\",VLOOKUP($R811,TAXONOMY!$A$1:$G$959,6,FALSE))","v":""},{"$f":"IF(ISBLANK($R811)=TRUE,\"\",VLOOKUP($R811,TAXONOMY!$A$1:$G$959,5,FALSE))","v":""},{"$f":"IF(ISBLANK($R811)=TRUE,\"\",VLOOKUP($R811,TAXONOMY!$A$1:$G$959,4,FALSE))","v":""},{"$f":"IF(ISBLANK($R811)=TRUE,\"\",VLOOKUP($R811,TAXONOMY!$A$1:$G$959,3,FALSE))","v":""},{"$f":"IF(ISBLANK($R811)=TRUE,\"\",VLOOKUP($R811,TAXONOMY!$A$1:$H$959,2,FALSE))","v":""}]
[null,null,null,null,null,null,null,null,null,null,null,{"$f":"IF(ISBLANK($R812)=TRUE,\"\",VLOOKUP($R812,TAXONOMY!$A$1:$G$959,7,FALSE))","v":""},{"$f":"IF(ISBLANK($R812)=TRUE,\"\",VLOOKUP($R812,TAXONOMY!$A$1:$G$959,6,FALSE))","v":""},{"$f":"IF(ISBLANK($R812)=TRUE,\"\",VLOOKUP($R812,TAXONOMY!$A$1:$G$959,5,FALSE))","v":""},{"$f":"IF(ISBLANK($R812)=TRUE,\"\",VLOOKUP($R812,TAXONOMY!$A$1:$G$959,4,FALSE))","v":""},{"$f":"IF(ISBLANK($R812)=TRUE,\"\",VLOOKUP($R812,TAXONOMY!$A$1:$G$959,3,FALSE))","v":""},{"$f":"IF(ISBLANK($R812)=TRUE,\"\",VLOOKUP($R812,TAXONOMY!$A$1:$H$959,2,FALSE))","v":""}]
[null,null,null,null,null,null,null,null,null,null,null,{"$f":"IF(ISBLANK($R813)=TRUE,\"\",VLOOKUP($R813,TAXONOMY!$A$1:$G$959,7,FALSE))","v":""},{"$f":"IF(ISBLANK($R813)=TRUE,\"\",VLOOKUP($R813,TAXONOMY!$A$1:$G$959,6,FALSE))","v":""},{"$f":"IF(ISBLANK($R813)=TRUE,\"\",VLOOKUP($R813,TAXONOMY!$A$1:$G$959,5,FALSE))","v":""},{"$f":"IF(ISBLANK($R813)=TRUE,\"\",VLOOKUP($R813,TAXONOMY!$A$1:$G$959,4,FALSE))","v":""},{"$f":"IF(ISBLANK($R813)=TRUE,\"\",VLOOKUP($R813,TAXONOMY!$A$1:$G$959,3,FALSE))","v":""},{"$f":"IF(ISBLANK($R813)=TRUE,\"\",VLOOKUP($R813,TAXONOMY!$A$1:$H$959,2,FALSE))","v":""}]
[null,null,null,null,null,null,null,null,null,null,null,{"$f":"IF(ISBLANK($R814)=TRUE,\"\",VLOOKUP($R814,TAXONOMY!$A$1:$G$959,7,FALSE))","v":""},{"$f":"IF(ISBLANK($R814)=TRUE,\"\",VLOOKUP($R814,TAXONOMY!$A$1:$G$959,6,FALSE))","v":""},{"$f":"IF(ISBLANK($R814)=TRUE,\"\",VLOOKUP($R814,TAXONOMY!$A$1:$G$959,5,FALSE))","v":""},{"$f":"IF(ISBLANK($R814)=TRUE,\"\",VLOOKUP($R814,TAXONOMY!$A$1:$G$959,4,FALSE))","v":""},{"$f":"IF(ISBLANK($R814)=TRUE,\"\",VLOOKUP($R814,TAXONOMY!$A$1:$G$959,3,FALSE))","v":""},{"$f":"IF(ISBLANK($R814)=TRUE,\"\",VLOOKUP($R814,TAXONOMY!$A$1:$H$959,2,FALSE))","v":""}]
[null,null,null,null,null,null,null,null,null,null,null,{"$f":"IF(ISBLANK($R815)=TRUE,\"\",VLOOKUP($R815,TAXONOMY!$A$1:$G$959,7,FALSE))","v":""},{"$f":"IF(ISBLANK($R815)=TRUE,\"\",VLOOKUP($R815,TAXONOMY!$A$1:$G$959,6,FALSE))","v":""},{"$f":"IF(ISBLANK($R815)=TRUE,\"\",VLOOKUP($R815,TAXONOMY!$A$1:$G$959,5,FALSE))","v":""},{"$f":"IF(ISBLANK($R815)=TRUE,\"\",VLOOKUP($R815,TAXONOMY!$A$1:$G$959,4,FALSE))","v":""},{"$f":"IF(ISBLANK($R815)=TRUE,\"\",VLOOKUP($R815,TAXONOMY!$A$1:$G$959,3,FALSE))","v":""},{"$f":"IF(ISBLANK($R815)=TRUE,\"\",VLOOKUP($R815,TAXONOMY!$A$1:$H$959,2,FALSE))","v":""}]
[null,null,null,null,null,null,null,null,null,null,null,{"$f":"IF(ISBLANK($R816)=TRUE,\"\",VLOOKUP($R816,TAXONOMY!$A$1:$G$959,7,FALSE))","v":""},{"$f":"IF(ISBLANK($R816)=TRUE,\"\",VLOOKUP($R816,TAXONOMY!$A$1:$G$959,6,FALSE))","v":""},{"$f":"IF(ISBLANK($R816)=TRUE,\"\",VLOOKUP($R816,TAXONOMY!$A$1:$G$959,5,FALSE))","v":""},{"$f":"IF(ISBLANK($R816)=TRUE,\"\",VLOOKUP($R816,TAXONOMY!$A$1:$G$959,4,FALSE))","v":""},{"$f":"IF(ISBLANK($R816)=TRUE,\"\",VLOOKUP($R816,TAXONOMY!$A$1:$G$959,3,FALSE))","v":""},{"$f":"IF(ISBLANK($R816)=TRUE,\"\",VLOOKUP($R816,TAXONOMY!$A$1:$H$959,2,FALSE))","v":""}]
[null,null,null,null,null,null,null,null,null,null,null,{"$f":"IF(ISBLANK($R817)=TRUE,\"\",VLOOKUP($R817,TAXONOMY!$A$1:$G$959,7,FALSE))","v":""},{"$f":"IF(ISBLANK($R817)=TRUE,\"\",VLOOKUP($R817,TAXONOMY!$A$1:$G$959,6,FALSE))","v":""},{"$f":"IF(ISBLANK($R817)=TRUE,\"\",VLOOKUP($R817,TAXONOMY!$A$1:$G$959,5,FALSE))","v":""},{"$f":"IF(ISBLANK($R817)=TRUE,\"\",VLOOKUP($R817,TAXONOMY!$A$1:$G$959,4,FALSE))","v":""},{"$f":"IF(ISBLANK($R817)=TRUE,\"\",VLOOKUP($R817,TAXONOMY!$A$1:$G$959,3,FALSE))","v":""},{"$f":"IF(ISBLANK($R817)=TRUE,\"\",VLOOKUP($R817,TAXONOMY!$A$1:$H$959,2,FALSE))","v":""}]
[null,null,null,null,null,null,null,null,null,null,null,{"$f":"IF(ISBLANK($R818)=TRUE,\"\",VLOOKUP($R818,TAXONOMY!$A$1:$G$959,7,FALSE))","v":""},{"$f":"IF(ISBLANK($R818)=TRUE,\"\",VLOOKUP($R818,TAXONOMY!$A$1:$G$959,6,FALSE))","v":""},{"$f":"IF(ISBLANK($R818)=TRUE,\"\",VLOOKUP($R818,TAXONOMY!$A$1:$G$959,5,FALSE))","v":""},{"$f":"IF(ISBLANK($R818)=TRUE,\"\",VLOOKUP($R818,TAXONOMY!$A$1:$G$959,4,FALSE))","v":""},{"$f":"IF(ISBLANK($R818)=TRUE,\"\",VLOOKUP($R818,TAXONOMY!$A$1:$G$959,3,FALSE))","v":""},{"$f":"IF(ISBLANK($R818)=TRUE,\"\",VLOOKUP($R818,TAXONOMY!$A$1:$H$959,2,FALSE))","v":""}]
[null,null,null,null,null,null,null,null,null,null,null,{"$f":"IF(ISBLANK($R819)=TRUE,\"\",VLOOKUP($R819,TAXONOMY!$A$1:$G$959,7,FALSE))","v":""},{"$f":"IF(ISBLANK($R819)=TRUE,\"\",VLOOKUP($R819,TAXONOMY!$A$1:$G$959,6,FALSE))","v":""},{"$f":"IF(ISBLANK($R819)=TRUE,\"\",VLOOKUP($R819,TAXONOMY!$A$1:$G$959,5,FALSE))","v":""},{"$f":"IF(ISBLANK($R819)=TRUE,\"\",VLOOKUP($R819,TAXONOMY!$A$1:$G$959,4,FALSE))","v":""},{"$f":"IF(ISBLANK($R819)=TRUE,\"\",VLOOKUP($R819,TAXONOMY!$A$1:$G$959,3,FALSE))","v":""},{"$f":"IF(ISBLANK($R819)=TRUE,\"\",VLOOKUP($R819,TAXONOMY!$A$1:$H$959,2,FALSE))","v":""}]
[null,null,null,null,null,null,null,null,null,null,null,{"$f":"IF(ISBLANK($R820)=TRUE,\"\",VLOOKUP($R820,TAXONOMY!$A$1:$G$959,7,FALSE))","v":""},{"$f":"IF(ISBLANK($R820)=TRUE,\"\",VLOOKUP($R820,TAXONOMY!$A$1:$G$959,6,FALSE))","v":""},{"$f":"IF(ISBLANK($R820)=TRUE,\"\",VLOOKUP($R820,TAXONOMY!$A$1:$G$959,5,FALSE))","v":""},{"$f":"IF(ISBLANK($R820)=TRUE,\"\",VLOOKUP($R820,TAXONOMY!$A$1:$G$959,4,FALSE))","v":""},{"$f":"IF(ISBLANK($R820)=TRUE,\"\",VLOOKUP($R820,TAXONOMY!$A$1:$G$959,3,FALSE))","v":""},{"$f":"IF(ISBLANK($R820)=TRUE,\"\",VLOOKUP($R820,TAXONOMY!$A$1:$H$959,2,FALSE))","v":""}]
[null,null,null,null,null,null,null,null,null,null,null,{"$f":"IF(ISBLANK($R821)=TRUE,\"\",VLOOKUP($R821,TAXONOMY!$A$1:$G$959,7,FALSE))","v":""},{"$f":"IF(ISBLANK($R821)=TRUE,\"\",VLOOKUP($R821,TAXONOMY!$A$1:$G$959,6,FALSE))","v":""},{"$f":"IF(ISBLANK($R821)=TRUE,\"\",VLOOKUP($R821,TAXONOMY!$A$1:$G$959,5,FALSE))","v":""},{"$f":"IF(ISBLANK($R821)=TRUE,\"\",VLOOKUP($R821,TAXONOMY!$A$1:$G$959,4,FALSE))","v":""},{"$f":"IF(ISBLANK($R821)=TRUE,\"\",VLOOKUP($R821,TAXONOMY!$A$1:$G$959,3,FALSE))","v":""},{"$f":"IF(ISBLANK($R821)=TRUE,\"\",VLOOKUP($R821,TAXONOMY!$A$1:$H$959,2,FALSE))","v":""}]
[null,null,null,null,null,null,null,null,null,null,null,{"$f":"IF(ISBLANK($R822)=TRUE,\"\",VLOOKUP($R822,TAXONOMY!$A$1:$G$959,7,FALSE))","v":""},{"$f":"IF(ISBLANK($R822)=TRUE,\"\",VLOOKUP($R822,TAXONOMY!$A$1:$G$959,6,FALSE))","v":""},{"$f":"IF(ISBLANK($R822)=TRUE,\"\",VLOOKUP($R822,TAXONOMY!$A$1:$G$959,5,FALSE))","v":""},{"$f":"IF(ISBLANK($R822)=TRUE,\"\",VLOOKUP($R822,TAXONOMY!$A$1:$G$959,4,FALSE))","v":""},{"$f":"IF(ISBLANK($R822)=TRUE,\"\",VLOOKUP($R822,TAXONOMY!$A$1:$G$959,3,FALSE))","v":""},{"$f":"IF(ISBLANK($R822)=TRUE,\"\",VLOOKUP($R822,TAXONOMY!$A$1:$H$959,2,FALSE))","v":""}]
[null,null,null,null,null,null,null,null,null,null,null,{"$f":"IF(ISBLANK($R823)=TRUE,\"\",VLOOKUP($R823,TAXONOMY!$A$1:$G$959,7,FALSE))","v":""},{"$f":"IF(ISBLANK($R823)=TRUE,\"\",VLOOKUP($R823,TAXONOMY!$A$1:$G$959,6,FALSE))","v":""},{"$f":"IF(ISBLANK($R823)=TRUE,\"\",VLOOKUP($R823,TAXONOMY!$A$1:$G$959,5,FALSE))","v":""},{"$f":"IF(ISBLANK($R823)=TRUE,\"\",VLOOKUP($R823,TAXONOMY!$A$1:$G$959,4,FALSE))","v":""},{"$f":"IF(ISBLANK($R823)=TRUE,\"\",VLOOKUP($R823,TAXONOMY!$A$1:$G$959,3,FALSE))","v":""},{"$f":"IF(ISBLANK($R823)=TRUE,\"\",VLOOKUP($R823,TAXONOMY!$A$1:$H$959,2,FALSE))","v":""}]
[null,null,null,null,null,null,null,null,null,null,null,{"$f":"IF(ISBLANK($R824)=TRUE,\"\",VLOOKUP($R824,TAXONOMY!$A$1:$G$959,7,FALSE))","v":""},{"$f":"IF(ISBLANK($R824)=TRUE,\"\",VLOOKUP($R824,TAXONOMY!$A$1:$G$959,6,FALSE))","v":""},{"$f":"IF(ISBLANK($R824)=TRUE,\"\",VLOOKUP($R824,TAXONOMY!$A$1:$G$959,5,FALSE))","v":""},{"$f":"IF(ISBLANK($R824)=TRUE,\"\",VLOOKUP($R824,TAXONOMY!$A$1:$G$959,4,FALSE))","v":""},{"$f":"IF(ISBLANK($R824)=TRUE,\"\",VLOOKUP($R824,TAXONOMY!$A$1:$G$959,3,FALSE))","v":""},{"$f":"IF(ISBLANK($R824)=TRUE,\"\",VLOOKUP($R824,TAXONOMY!$A$1:$H$959,2,FALSE))","v":""}]
[null,null,null,null,null,null,null,null,null,null,null,{"$f":"IF(ISBLANK($R825)=TRUE,\"\",VLOOKUP($R825,TAXONOMY!$A$1:$G$959,7,FALSE))","v":""},{"$f":"IF(ISBLANK($R825)=TRUE,\"\",VLOOKUP($R825,TAXONOMY!$A$1:$G$959,6,FALSE))","v":""},{"$f":"IF(ISBLANK($R825)=TRUE,\"\",VLOOKUP($R825,TAXONOMY!$A$1:$G$959,5,FALSE))","v":""},{"$f":"IF(ISBLANK($R825)=TRUE,\"\",VLOOKUP($R825,TAXONOMY!$A$1:$G$959,4,FALSE))","v":""},{"$f":"IF(ISBLANK($R825)=TRUE,\"\",VLOOKUP($R825,TAXONOMY!$A$1:$G$959,3,FALSE))","v":""},{"$f":"IF(ISBLANK($R825)=TRUE,\"\",VLOOKUP($R825,TAXONOMY!$A$1:$H$959,2,FALSE))","v":""}]
[null,null,null,null,null,null,null,null,null,null,null,{"$f":"IF(ISBLANK($R826)=TRUE,\"\",VLOOKUP($R826,TAXONOMY!$A$1:$G$959,7,FALSE))","v":""},{"$f":"IF(ISBLANK($R826)=TRUE,\"\",VLOOKUP($R826,TAXONOMY!$A$1:$G$959,6,FALSE))","v":""},{"$f":"IF(ISBLANK($R826)=TRUE,\"\",VLOOKUP($R826,TAXONOMY!$A$1:$G$959,5,FALSE))","v":""},{"$f":"IF(ISBLANK($R826)=TRUE,\"\",VLOOKUP($R826,TAXONOMY!$A$1:$G$959,4,FALSE))","v":""},{"$f":"IF(ISBLANK($R826)=TRUE,\"\",VLOOKUP($R826,TAXONOMY!$A$1:$G$959,3,FALSE))","v":""},{"$f":"IF(ISBLANK($R826)=TRUE,\"\",VLOOKUP($R826,TAXONOMY!$A$1:$H$959,2,FALSE))","v":""}]
[null,null,null,null,null,null,null,null,null,null,null,{"$f":"IF(ISBLANK($R827)=TRUE,\"\",VLOOKUP($R827,TAXONOMY!$A$1:$G$959,7,FALSE))","v":""},{"$f":"IF(ISBLANK($R827)=TRUE,\"\",VLOOKUP($R827,TAXONOMY!$A$1:$G$959,6,FALSE))","v":""},{"$f":"IF(ISBLANK($R827)=TRUE,\"\",VLOOKUP($R827,TAXONOMY!$A$1:$G$959,5,FALSE))","v":""},{"$f":"IF(ISBLANK($R827)=TRUE,\"\",VLOOKUP($R827,TAXONOMY!$A$1:$G$959,4,FALSE))","v":""},{"$f":"IF(ISBLANK($R827)=TRUE,\"\",VLOOKUP($R827,TAXONOMY!$A$1:$G$959,3,FALSE))","v":""},{"$f":"IF(ISBLANK($R827)=TRUE,\"\",VLOOKUP($R827,TAXONOMY!$A$1:$H$959,2,FALSE))","v":""}]
[null,null,null,null,null,null,null,null,null,null,null,{"$f":"IF(ISBLANK($R828)=TRUE,\"\",VLOOKUP($R828,TAXONOMY!$A$1:$G$959,7,FALSE))","v":""},{"$f":"IF(ISBLANK($R828)=TRUE,\"\",VLOOKUP($R828,TAXONOMY!$A$1:$G$959,6,FALSE))","v":""},{"$f":"IF(ISBLANK($R828)=TRUE,\"\",VLOOKUP($R828,TAXONOMY!$A$1:$G$959,5,FALSE))","v":""},{"$f":"IF(ISBLANK($R828)=TRUE,\"\",VLOOKUP($R828,TAXONOMY!$A$1:$G$959,4,FALSE))","v":""},{"$f":"IF(ISBLANK($R828)=TRUE,\"\",VLOOKUP($R828,TAXONOMY!$A$1:$G$959,3,FALSE))","v":""},{"$f":"IF(ISBLANK($R828)=TRUE,\"\",VLOOKUP($R828,TAXONOMY!$A$1:$H$959,2,FALSE))","v":""}]
[null,null,null,null,null,null,null,null,null,null,null,{"$f":"IF(ISBLANK($R829)=TRUE,\"\",VLOOKUP($R829,TAXONOMY!$A$1:$G$959,7,FALSE))","v":""},{"$f":"IF(ISBLANK($R829)=TRUE,\"\",VLOOKUP($R829,TAXONOMY!$A$1:$G$959,6,FALSE))","v":""},{"$f":"IF(ISBLANK($R829)=TRUE,\"\",VLOOKUP($R829,TAXONOMY!$A$1:$G$959,5,FALSE))","v":""},{"$f":"IF(ISBLANK($R829)=TRUE,\"\",VLOOKUP($R829,TAXONOMY!$A$1:$G$959,4,FALSE))","v":""},{"$f":"IF(ISBLANK($R829)=TRUE,\"\",VLOOKUP($R829,TAXONOMY!$A$1:$G$959,3,FALSE))","v":""},{"$f":"IF(ISBLANK($R829)=TRUE,\"\",VLOOKUP($R829,TAXONOMY!$A$1:$H$959,2,FALSE))","v":""}]
[null,null,null,null,null,null,null,null,null,null,null,{"$f":"IF(ISBLANK($R830)=TRUE,\"\",VLOOKUP($R830,TAXONOMY!$A$1:$G$959,7,FALSE))","v":""},{"$f":"IF(ISBLANK($R830)=TRUE,\"\",VLOOKUP($R830,TAXONOMY!$A$1:$G$959,6,FALSE))","v":""},{"$f":"IF(ISBLANK($R830)=TRUE,\"\",VLOOKUP($R830,TAXONOMY!$A$1:$G$959,5,FALSE))","v":""},{"$f":"IF(ISBLANK($R830)=TRUE,\"\",VLOOKUP($R830,TAXONOMY!$A$1:$G$959,4,FALSE))","v":""},{"$f":"IF(ISBLANK($R830)=TRUE,\"\",VLOOKUP($R830,TAXONOMY!$A$1:$G$959,3,FALSE))","v":""},{"$f":"IF(ISBLANK($R830)=TRUE,\"\",VLOOKUP($R830,TAXONOMY!$A$1:$H$959,2,FALSE))","v":""}]
[null,null,null,null,null,null,null,null,null,null,null,{"$f":"IF(ISBLANK($R831)=TRUE,\"\",VLOOKUP($R831,TAXONOMY!$A$1:$G$959,7,FALSE))","v":""},{"$f":"IF(ISBLANK($R831)=TRUE,\"\",VLOOKUP($R831,TAXONOMY!$A$1:$G$959,6,FALSE))","v":""},{"$f":"IF(ISBLANK($R831)=TRUE,\"\",VLOOKUP($R831,TAXONOMY!$A$1:$G$959,5,FALSE))","v":""},{"$f":"IF(ISBLANK($R831)=TRUE,\"\",VLOOKUP($R831,TAXONOMY!$A$1:$G$959,4,FALSE))","v":""},{"$f":"IF(ISBLANK($R831)=TRUE,\"\",VLOOKUP($R831,TAXONOMY!$A$1:$G$959,3,FALSE))","v":""},{"$f":"IF(ISBLANK($R831)=TRUE,\"\",VLOOKUP($R831,TAXONOMY!$A$1:$H$959,2,FALSE))","v":""}]
[null,null,null,null,null,null,null,null,null,null,null,{"$f":"IF(ISBLANK($R832)=TRUE,\"\",VLOOKUP($R832,TAXONOMY!$A$1:$G$959,7,FALSE))","v":""},{"$f":"IF(ISBLANK($R832)=TRUE,\"\",VLOOKUP($R832,TAXONOMY!$A$1:$G$959,6,FALSE))","v":""},{"$f":"IF(ISBLANK($R832)=TRUE,\"\",VLOOKUP($R832,TAXONOMY!$A$1:$G$959,5,FALSE))","v":""},{"$f":"IF(ISBLANK($R832)=TRUE,\"\",VLOOKUP($R832,TAXONOMY!$A$1:$G$959,4,FALSE))","v":""},{"$f":"IF(ISBLANK($R832)=TRUE,\"\",VLOOKUP($R832,TAXONOMY!$A$1:$G$959,3,FALSE))","v":""},{"$f":"IF(ISBLANK($R832)=TRUE,\"\",VLOOKUP($R832,TAXONOMY!$A$1:$H$959,2,FALSE))","v":""}]
[null,null,null,null,null,null,null,null,null,null,null,{"$f":"IF(ISBLANK($R833)=TRUE,\"\",VLOOKUP($R833,TAXONOMY!$A$1:$G$959,7,FALSE))","v":""},{"$f":"IF(ISBLANK($R833)=TRUE,\"\",VLOOKUP($R833,TAXONOMY!$A$1:$G$959,6,FALSE))","v":""},{"$f":"IF(ISBLANK($R833)=TRUE,\"\",VLOOKUP($R833,TAXONOMY!$A$1:$G$959,5,FALSE))","v":""},{"$f":"IF(ISBLANK($R833)=TRUE,\"\",VLOOKUP($R833,TAXONOMY!$A$1:$G$959,4,FALSE))","v":""},{"$f":"IF(ISBLANK($R833)=TRUE,\"\",VLOOKUP($R833,TAXONOMY!$A$1:$G$959,3,FALSE))","v":""},{"$f":"IF(ISBLANK($R833)=TRUE,\"\",VLOOKUP($R833,TAXONOMY!$A$1:$H$959,2,FALSE))","v":""}]
[null,null,null,null,null,null,null,null,null,null,null,{"$f":"IF(ISBLANK($R834)=TRUE,\"\",VLOOKUP($R834,TAXONOMY!$A$1:$G$959,7,FALSE))","v":""},{"$f":"IF(ISBLANK($R834)=TRUE,\"\",VLOOKUP($R834,TAXONOMY!$A$1:$G$959,6,FALSE))","v":""},{"$f":"IF(ISBLANK($R834)=TRUE,\"\",VLOOKUP($R834,TAXONOMY!$A$1:$G$959,5,FALSE))","v":""},{"$f":"IF(ISBLANK($R834)=TRUE,\"\",VLOOKUP($R834,TAXONOMY!$A$1:$G$959,4,FALSE))","v":""},{"$f":"IF(ISBLANK($R834)=TRUE,\"\",VLOOKUP($R834,TAXONOMY!$A$1:$G$959,3,FALSE))","v":""},{"$f":"IF(ISBLANK($R834)=TRUE,\"\",VLOOKUP($R834,TAXONOMY!$A$1:$H$959,2,FALSE))","v":""}]
[null,null,null,null,null,null,null,null,null,null,null,{"$f":"IF(ISBLANK($R835)=TRUE,\"\",VLOOKUP($R835,TAXONOMY!$A$1:$G$959,7,FALSE))","v":""},{"$f":"IF(ISBLANK($R835)=TRUE,\"\",VLOOKUP($R835,TAXONOMY!$A$1:$G$959,6,FALSE))","v":""},{"$f":"IF(ISBLANK($R835)=TRUE,\"\",VLOOKUP($R835,TAXONOMY!$A$1:$G$959,5,FALSE))","v":""},{"$f":"IF(ISBLANK($R835)=TRUE,\"\",VLOOKUP($R835,TAXONOMY!$A$1:$G$959,4,FALSE))","v":""},{"$f":"IF(ISBLANK($R835)=TRUE,\"\",VLOOKUP($R835,TAXONOMY!$A$1:$G$959,3,FALSE))","v":""},{"$f":"IF(ISBLANK($R835)=TRUE,\"\",VLOOKUP($R835,TAXONOMY!$A$1:$H$959,2,FALSE))","v":""}]
[null,null,null,null,null,null,null,null,null,null,null,{"$f":"IF(ISBLANK($R836)=TRUE,\"\",VLOOKUP($R836,TAXONOMY!$A$1:$G$959,7,FALSE))","v":""},{"$f":"IF(ISBLANK($R836)=TRUE,\"\",VLOOKUP($R836,TAXONOMY!$A$1:$G$959,6,FALSE))","v":""},{"$f":"IF(ISBLANK($R836)=TRUE,\"\",VLOOKUP($R836,TAXONOMY!$A$1:$G$959,5,FALSE))","v":""},{"$f":"IF(ISBLANK($R836)=TRUE,\"\",VLOOKUP($R836,TAXONOMY!$A$1:$G$959,4,FALSE))","v":""},{"$f":"IF(ISBLANK($R836)=TRUE,\"\",VLOOKUP($R836,TAXONOMY!$A$1:$G$959,3,FALSE))","v":""},{"$f":"IF(ISBLANK($R836)=TRUE,\"\",VLOOKUP($R836,TAXONOMY!$A$1:$H$959,2,FALSE))","v":""}]
[null,null,null,null,null,null,null,null,null,null,null,{"$f":"IF(ISBLANK($R837)=TRUE,\"\",VLOOKUP($R837,TAXONOMY!$A$1:$G$959,7,FALSE))","v":""},{"$f":"IF(ISBLANK($R837)=TRUE,\"\",VLOOKUP($R837,TAXONOMY!$A$1:$G$959,6,FALSE))","v":""},{"$f":"IF(ISBLANK($R837)=TRUE,\"\",VLOOKUP($R837,TAXONOMY!$A$1:$G$959,5,FALSE))","v":""},{"$f":"IF(ISBLANK($R837)=TRUE,\"\",VLOOKUP($R837,TAXONOMY!$A$1:$G$959,4,FALSE))","v":""},{"$f":"IF(ISBLANK($R837)=TRUE,\"\",VLOOKUP($R837,TAXONOMY!$A$1:$G$959,3,FALSE))","v":""},{"$f":"IF(ISBLANK($R837)=TRUE,\"\",VLOOKUP($R837,TAXONOMY!$A$1:$H$959,2,FALSE))","v":""}]
[null,null,null,null,null,null,null,null,null,null,null,{"$f":"IF(ISBLANK($R838)=TRUE,\"\",VLOOKUP($R838,TAXONOMY!$A$1:$G$959,7,FALSE))","v":""},{"$f":"IF(ISBLANK($R838)=TRUE,\"\",VLOOKUP($R838,TAXONOMY!$A$1:$G$959,6,FALSE))","v":""},{"$f":"IF(ISBLANK($R838)=TRUE,\"\",VLOOKUP($R838,TAXONOMY!$A$1:$G$959,5,FALSE))","v":""},{"$f":"IF(ISBLANK($R838)=TRUE,\"\",VLOOKUP($R838,TAXONOMY!$A$1:$G$959,4,FALSE))","v":""},{"$f":"IF(ISBLANK($R838)=TRUE,\"\",VLOOKUP($R838,TAXONOMY!$A$1:$G$959,3,FALSE))","v":""},{"$f":"IF(ISBLANK($R838)=TRUE,\"\",VLOOKUP($R838,TAXONOMY!$A$1:$H$959,2,FALSE))","v":""}]
[null,null,null,null,null,null,null,null,null,null,null,{"$f":"IF(ISBLANK($R839)=TRUE,\"\",VLOOKUP($R839,TAXONOMY!$A$1:$G$959,7,FALSE))","v":""},{"$f":"IF(ISBLANK($R839)=TRUE,\"\",VLOOKUP($R839,TAXONOMY!$A$1:$G$959,6,FALSE))","v":""},{"$f":"IF(ISBLANK($R839)=TRUE,\"\",VLOOKUP($R839,TAXONOMY!$A$1:$G$959,5,FALSE))","v":""},{"$f":"IF(ISBLANK($R839)=TRUE,\"\",VLOOKUP($R839,TAXONOMY!$A$1:$G$959,4,FALSE))","v":""},{"$f":"IF(ISBLANK($R839)=TRUE,\"\",VLOOKUP($R839,TAXONOMY!$A$1:$G$959,3,FALSE))","v":""},{"$f":"IF(ISBLANK($R839)=TRUE,\"\",VLOOKUP($R839,TAXONOMY!$A$1:$H$959,2,FALSE))","v":""}]
[null,null,null,null,null,null,null,null,null,null,null,{"$f":"IF(ISBLANK($R840)=TRUE,\"\",VLOOKUP($R840,TAXONOMY!$A$1:$G$959,7,FALSE))","v":""},{"$f":"IF(ISBLANK($R840)=TRUE,\"\",VLOOKUP($R840,TAXONOMY!$A$1:$G$959,6,FALSE))","v":""},{"$f":"IF(ISBLANK($R840)=TRUE,\"\",VLOOKUP($R840,TAXONOMY!$A$1:$G$959,5,FALSE))","v":""},{"$f":"IF(ISBLANK($R840)=TRUE,\"\",VLOOKUP($R840,TAXONOMY!$A$1:$G$959,4,FALSE))","v":""},{"$f":"IF(ISBLANK($R840)=TRUE,\"\",VLOOKUP($R840,TAXONOMY!$A$1:$G$959,3,FALSE))","v":""},{"$f":"IF(ISBLANK($R840)=TRUE,\"\",VLOOKUP($R840,TAXONOMY!$A$1:$H$959,2,FALSE))","v":""}]
[null,null,null,null,null,null,null,null,null,null,null,{"$f":"IF(ISBLANK($R841)=TRUE,\"\",VLOOKUP($R841,TAXONOMY!$A$1:$G$959,7,FALSE))","v":""},{"$f":"IF(ISBLANK($R841)=TRUE,\"\",VLOOKUP($R841,TAXONOMY!$A$1:$G$959,6,FALSE))","v":""},{"$f":"IF(ISBLANK($R841)=TRUE,\"\",VLOOKUP($R841,TAXONOMY!$A$1:$G$959,5,FALSE))","v":""},{"$f":"IF(ISBLANK($R841)=TRUE,\"\",VLOOKUP($R841,TAXONOMY!$A$1:$G$959,4,FALSE))","v":""},{"$f":"IF(ISBLANK($R841)=TRUE,\"\",VLOOKUP($R841,TAXONOMY!$A$1:$G$959,3,FALSE))","v":""},{"$f":"IF(ISBLANK($R841)=TRUE,\"\",VLOOKUP($R841,TAXONOMY!$A$1:$H$959,2,FALSE))","v":""}]
[null,null,null,null,null,null,null,null,null,null,null,{"$f":"IF(ISBLANK($R842)=TRUE,\"\",VLOOKUP($R842,TAXONOMY!$A$1:$G$959,7,FALSE))","v":""},{"$f":"IF(ISBLANK($R842)=TRUE,\"\",VLOOKUP($R842,TAXONOMY!$A$1:$G$959,6,FALSE))","v":""},{"$f":"IF(ISBLANK($R842)=TRUE,\"\",VLOOKUP($R842,TAXONOMY!$A$1:$G$959,5,FALSE))","v":""},{"$f":"IF(ISBLANK($R842)=TRUE,\"\",VLOOKUP($R842,TAXONOMY!$A$1:$G$959,4,FALSE))","v":""},{"$f":"IF(ISBLANK($R842)=TRUE,\"\",VLOOKUP($R842,TAXONOMY!$A$1:$G$959,3,FALSE))","v":""},{"$f":"IF(ISBLANK($R842)=TRUE,\"\",VLOOKUP($R842,TAXONOMY!$A$1:$H$959,2,FALSE))","v":""}]
[null,null,null,null,null,null,null,null,null,null,null,{"$f":"IF(ISBLANK($R843)=TRUE,\"\",VLOOKUP($R843,TAXONOMY!$A$1:$G$959,7,FALSE))","v":""},{"$f":"IF(ISBLANK($R843)=TRUE,\"\",VLOOKUP($R843,TAXONOMY!$A$1:$G$959,6,FALSE))","v":""},{"$f":"IF(ISBLANK($R843)=TRUE,\"\",VLOOKUP($R843,TAXONOMY!$A$1:$G$959,5,FALSE))","v":""},{"$f":"IF(ISBLANK($R843)=TRUE,\"\",VLOOKUP($R843,TAXONOMY!$A$1:$G$959,4,FALSE))","v":""},{"$f":"IF(ISBLANK($R843)=TRUE,\"\",VLOOKUP($R843,TAXONOMY!$A$1:$G$959,3,FALSE))","v":""},{"$f":"IF(ISBLANK($R843)=TRUE,\"\",VLOOKUP($R843,TAXONOMY!$A$1:$H$959,2,FALSE))","v":""}]
[null,null,null,null,null,null,null,null,null,null,null,{"$f":"IF(ISBLANK($R844)=TRUE,\"\",VLOOKUP($R844,TAXONOMY!$A$1:$G$959,7,FALSE))","v":""},{"$f":"IF(ISBLANK($R844)=TRUE,\"\",VLOOKUP($R844,TAXONOMY!$A$1:$G$959,6,FALSE))","v":""},{"$f":"IF(ISBLANK($R844)=TRUE,\"\",VLOOKUP($R844,TAXONOMY!$A$1:$G$959,5,FALSE))","v":""},{"$f":"IF(ISBLANK($R844)=TRUE,\"\",VLOOKUP($R844,TAXONOMY!$A$1:$G$959,4,FALSE))","v":""},{"$f":"IF(ISBLANK($R844)=TRUE,\"\",VLOOKUP($R844,TAXONOMY!$A$1:$G$959,3,FALSE))","v":""},{"$f":"IF(ISBLANK($R844)=TRUE,\"\",VLOOKUP($R844,TAXONOMY!$A$1:$H$959,2,FALSE))","v":""}]
[null,null,null,null,null,null,null,null,null,null,null,{"$f":"IF(ISBLANK($R845)=TRUE,\"\",VLOOKUP($R845,TAXONOMY!$A$1:$G$959,7,FALSE))","v":""},{"$f":"IF(ISBLANK($R845)=TRUE,\"\",VLOOKUP($R845,TAXONOMY!$A$1:$G$959,6,FALSE))","v":""},{"$f":"IF(ISBLANK($R845)=TRUE,\"\",VLOOKUP($R845,TAXONOMY!$A$1:$G$959,5,FALSE))","v":""},{"$f":"IF(ISBLANK($R845)=TRUE,\"\",VLOOKUP($R845,TAXONOMY!$A$1:$G$959,4,FALSE))","v":""},{"$f":"IF(ISBLANK($R845)=TRUE,\"\",VLOOKUP($R845,TAXONOMY!$A$1:$G$959,3,FALSE))","v":""},{"$f":"IF(ISBLANK($R845)=TRUE,\"\",VLOOKUP($R845,TAXONOMY!$A$1:$H$959,2,FALSE))","v":""}]
[null,null,null,null,null,null,null,null,null,null,null,{"$f":"IF(ISBLANK($R846)=TRUE,\"\",VLOOKUP($R846,TAXONOMY!$A$1:$G$959,7,FALSE))","v":""},{"$f":"IF(ISBLANK($R846)=TRUE,\"\",VLOOKUP($R846,TAXONOMY!$A$1:$G$959,6,FALSE))","v":""},{"$f":"IF(ISBLANK($R846)=TRUE,\"\",VLOOKUP($R846,TAXONOMY!$A$1:$G$959,5,FALSE))","v":""},{"$f":"IF(ISBLANK($R846)=TRUE,\"\",VLOOKUP($R846,TAXONOMY!$A$1:$G$959,4,FALSE))","v":""},{"$f":"IF(ISBLANK($R846)=TRUE,\"\",VLOOKUP($R846,TAXONOMY!$A$1:$G$959,3,FALSE))","v":""},{"$f":"IF(ISBLANK($R846)=TRUE,\"\",VLOOKUP($R846,TAXONOMY!$A$1:$H$959,2,FALSE))","v":""}]
[null,null,null,null,null,null,null,null,null,null,null,{"$f":"IF(ISBLANK($R847)=TRUE,\"\",VLOOKUP($R847,TAXONOMY!$A$1:$G$959,7,FALSE))","v":""},{"$f":"IF(ISBLANK($R847)=TRUE,\"\",VLOOKUP($R847,TAXONOMY!$A$1:$G$959,6,FALSE))","v":""},{"$f":"IF(ISBLANK($R847)=TRUE,\"\",VLOOKUP($R847,TAXONOMY!$A$1:$G$959,5,FALSE))","v":""},{"$f":"IF(ISBLANK($R847)=TRUE,\"\",VLOOKUP($R847,TAXONOMY!$A$1:$G$959,4,FALSE))","v":""},{"$f":"IF(ISBLANK($R847)=TRUE,\"\",VLOOKUP($R847,TAXONOMY!$A$1:$G$959,3,FALSE))","v":""},{"$f":"IF(ISBLANK($R847)=TRUE,\"\",VLOOKUP($R847,TAXONOMY!$A$1:$H$959,2,FALSE))","v":""}]
[null,null,null,null,null,null,null,null,null,null,null,{"$f":"IF(ISBLANK($R848)=TRUE,\"\",VLOOKUP($R848,TAXONOMY!$A$1:$G$959,7,FALSE))","v":""},{"$f":"IF(ISBLANK($R848)=TRUE,\"\",VLOOKUP($R848,TAXONOMY!$A$1:$G$959,6,FALSE))","v":""},{"$f":"IF(ISBLANK($R848)=TRUE,\"\",VLOOKUP($R848,TAXONOMY!$A$1:$G$959,5,FALSE))","v":""},{"$f":"IF(ISBLANK($R848)=TRUE,\"\",VLOOKUP($R848,TAXONOMY!$A$1:$G$959,4,FALSE))","v":""},{"$f":"IF(ISBLANK($R848)=TRUE,\"\",VLOOKUP($R848,TAXONOMY!$A$1:$G$959,3,FALSE))","v":""},{"$f":"IF(ISBLANK($R848)=TRUE,\"\",VLOOKUP($R848,TAXONOMY!$A$1:$H$959,2,FALSE))","v":""}]
[null,null,null,null,null,null,null,null,null,null,null,{"$f":"IF(ISBLANK($R849)=TRUE,\"\",VLOOKUP($R849,TAXONOMY!$A$1:$G$959,7,FALSE))","v":""},{"$f":"IF(ISBLANK($R849)=TRUE,\"\",VLOOKUP($R849,TAXONOMY!$A$1:$G$959,6,FALSE))","v":""},{"$f":"IF(ISBLANK($R849)=TRUE,\"\",VLOOKUP($R849,TAXONOMY!$A$1:$G$959,5,FALSE))","v":""},{"$f":"IF(ISBLANK($R849)=TRUE,\"\",VLOOKUP($R849,TAXONOMY!$A$1:$G$959,4,FALSE))","v":""},{"$f":"IF(ISBLANK($R849)=TRUE,\"\",VLOOKUP($R849,TAXONOMY!$A$1:$G$959,3,FALSE))","v":""},{"$f":"IF(ISBLANK($R849)=TRUE,\"\",VLOOKUP($R849,TAXONOMY!$A$1:$H$959,2,FALSE))","v":""}]
[null,null,null,null,null,null,null,null,null,null,null,{"$f":"IF(ISBLANK($R850)=TRUE,\"\",VLOOKUP($R850,TAXONOMY!$A$1:$G$959,7,FALSE))","v":""},{"$f":"IF(ISBLANK($R850)=TRUE,\"\",VLOOKUP($R850,TAXONOMY!$A$1:$G$959,6,FALSE))","v":""},{"$f":"IF(ISBLANK($R850)=TRUE,\"\",VLOOKUP($R850,TAXONOMY!$A$1:$G$959,5,FALSE))","v":""},{"$f":"IF(ISBLANK($R850)=TRUE,\"\",VLOOKUP($R850,TAXONOMY!$A$1:$G$959,4,FALSE))","v":""},{"$f":"IF(ISBLANK($R850)=TRUE,\"\",VLOOKUP($R850,TAXONOMY!$A$1:$G$959,3,FALSE))","v":""},{"$f":"IF(ISBLANK($R850)=TRUE,\"\",VLOOKUP($R850,TAXONOMY!$A$1:$H$959,2,FALSE))","v":""}]
[null,null,null,null,null,null,null,null,null,null,null,{"$f":"IF(ISBLANK($R851)=TRUE,\"\",VLOOKUP($R851,TAXONOMY!$A$1:$G$959,7,FALSE))","v":""},{"$f":"IF(ISBLANK($R851)=TRUE,\"\",VLOOKUP($R851,TAXONOMY!$A$1:$G$959,6,FALSE))","v":""},{"$f":"IF(ISBLANK($R851)=TRUE,\"\",VLOOKUP($R851,TAXONOMY!$A$1:$G$959,5,FALSE))","v":""},{"$f":"IF(ISBLANK($R851)=TRUE,\"\",VLOOKUP($R851,TAXONOMY!$A$1:$G$959,4,FALSE))","v":""},{"$f":"IF(ISBLANK($R851)=TRUE,\"\",VLOOKUP($R851,TAXONOMY!$A$1:$G$959,3,FALSE))","v":""},{"$f":"IF(ISBLANK($R851)=TRUE,\"\",VLOOKUP($R851,TAXONOMY!$A$1:$H$959,2,FALSE))","v":""}]
[null,null,null,null,null,null,null,null,null,null,null,{"$f":"IF(ISBLANK($R852)=TRUE,\"\",VLOOKUP($R852,TAXONOMY!$A$1:$G$959,7,FALSE))","v":""},{"$f":"IF(ISBLANK($R852)=TRUE,\"\",VLOOKUP($R852,TAXONOMY!$A$1:$G$959,6,FALSE))","v":""},{"$f":"IF(ISBLANK($R852)=TRUE,\"\",VLOOKUP($R852,TAXONOMY!$A$1:$G$959,5,FALSE))","v":""},{"$f":"IF(ISBLANK($R852)=TRUE,\"\",VLOOKUP($R852,TAXONOMY!$A$1:$G$959,4,FALSE))","v":""},{"$f":"IF(ISBLANK($R852)=TRUE,\"\",VLOOKUP($R852,TAXONOMY!$A$1:$G$959,3,FALSE))","v":""},{"$f":"IF(ISBLANK($R852)=TRUE,\"\",VLOOKUP($R852,TAXONOMY!$A$1:$H$959,2,FALSE))","v":""}]
[null,null,null,null,null,null,null,null,null,null,null,{"$f":"IF(ISBLANK($R853)=TRUE,\"\",VLOOKUP($R853,TAXONOMY!$A$1:$G$959,7,FALSE))","v":""},{"$f":"IF(ISBLANK($R853)=TRUE,\"\",VLOOKUP($R853,TAXONOMY!$A$1:$G$959,6,FALSE))","v":""},{"$f":"IF(ISBLANK($R853)=TRUE,\"\",VLOOKUP($R853,TAXONOMY!$A$1:$G$959,5,FALSE))","v":""},{"$f":"IF(ISBLANK($R853)=TRUE,\"\",VLOOKUP($R853,TAXONOMY!$A$1:$G$959,4,FALSE))","v":""},{"$f":"IF(ISBLANK($R853)=TRUE,\"\",VLOOKUP($R853,TAXONOMY!$A$1:$G$959,3,FALSE))","v":""},{"$f":"IF(ISBLANK($R853)=TRUE,\"\",VLOOKUP($R853,TAXONOMY!$A$1:$H$959,2,FALSE))","v":""}]
[null,null,null,null,null,null,null,null,null,null,null,{"$f":"IF(ISBLANK($R854)=TRUE,\"\",VLOOKUP($R854,TAXONOMY!$A$1:$G$959,7,FALSE))","v":""},{"$f":"IF(ISBLANK($R854)=TRUE,\"\",VLOOKUP($R854,TAXONOMY!$A$1:$G$959,6,FALSE))","v":""},{"$f":"IF(ISBLANK($R854)=TRUE,\"\",VLOOKUP($R854,TAXONOMY!$A$1:$G$959,5,FALSE))","v":""},{"$f":"IF(ISBLANK($R854)=TRUE,\"\",VLOOKUP($R854,TAXONOMY!$A$1:$G$959,4,FALSE))","v":""},{"$f":"IF(ISBLANK($R854)=TRUE,\"\",VLOOKUP($R854,TAXONOMY!$A$1:$G$959,3,FALSE))","v":""},{"$f":"IF(ISBLANK($R854)=TRUE,\"\",VLOOKUP($R854,TAXONOMY!$A$1:$H$959,2,FALSE))","v":""}]
[null,null,null,null,null,null,null,null,null,null,null,{"$f":"IF(ISBLANK($R855)=TRUE,\"\",VLOOKUP($R855,TAXONOMY!$A$1:$G$959,7,FALSE))","v":""},{"$f":"IF(ISBLANK($R855)=TRUE,\"\",VLOOKUP($R855,TAXONOMY!$A$1:$G$959,6,FALSE))","v":""},{"$f":"IF(ISBLANK($R855)=TRUE,\"\",VLOOKUP($R855,TAXONOMY!$A$1:$G$959,5,FALSE))","v":""},{"$f":"IF(ISBLANK($R855)=TRUE,\"\",VLOOKUP($R855,TAXONOMY!$A$1:$G$959,4,FALSE))","v":""},{"$f":"IF(ISBLANK($R855)=TRUE,\"\",VLOOKUP($R855,TAXONOMY!$A$1:$G$959,3,FALSE))","v":""},{"$f":"IF(ISBLANK($R855)=TRUE,\"\",VLOOKUP($R855,TAXONOMY!$A$1:$H$959,2,FALSE))","v":""}]
[null,null,null,null,null,null,null,null,null,null,null,{"$f":"IF(ISBLANK($R856)=TRUE,\"\",VLOOKUP($R856,TAXONOMY!$A$1:$G$959,7,FALSE))","v":""},{"$f":"IF(ISBLANK($R856)=TRUE,\"\",VLOOKUP($R856,TAXONOMY!$A$1:$G$959,6,FALSE))","v":""},{"$f":"IF(ISBLANK($R856)=TRUE,\"\",VLOOKUP($R856,TAXONOMY!$A$1:$G$959,5,FALSE))","v":""},{"$f":"IF(ISBLANK($R856)=TRUE,\"\",VLOOKUP($R856,TAXONOMY!$A$1:$G$959,4,FALSE))","v":""},{"$f":"IF(ISBLANK($R856)=TRUE,\"\",VLOOKUP($R856,TAXONOMY!$A$1:$G$959,3,FALSE))","v":""},{"$f":"IF(ISBLANK($R856)=TRUE,\"\",VLOOKUP($R856,TAXONOMY!$A$1:$H$959,2,FALSE))","v":""}]
[null,null,null,null,null,null,null,null,null,null,null,{"$f":"IF(ISBLANK($R857)=TRUE,\"\",VLOOKUP($R857,TAXONOMY!$A$1:$G$959,7,FALSE))","v":""},{"$f":"IF(ISBLANK($R857)=TRUE,\"\",VLOOKUP($R857,TAXONOMY!$A$1:$G$959,6,FALSE))","v":""},{"$f":"IF(ISBLANK($R857)=TRUE,\"\",VLOOKUP($R857,TAXONOMY!$A$1:$G$959,5,FALSE))","v":""},{"$f":"IF(ISBLANK($R857)=TRUE,\"\",VLOOKUP($R857,TAXONOMY!$A$1:$G$959,4,FALSE))","v":""},{"$f":"IF(ISBLANK($R857)=TRUE,\"\",VLOOKUP($R857,TAXONOMY!$A$1:$G$959,3,FALSE))","v":""},{"$f":"IF(ISBLANK($R857)=TRUE,\"\",VLOOKUP($R857,TAXONOMY!$A$1:$H$959,2,FALSE))","v":""}]
[null,null,null,null,null,null,null,null,null,null,null,{"$f":"IF(ISBLANK($R858)=TRUE,\"\",VLOOKUP($R858,TAXONOMY!$A$1:$G$959,7,FALSE))","v":""},{"$f":"IF(ISBLANK($R858)=TRUE,\"\",VLOOKUP($R858,TAXONOMY!$A$1:$G$959,6,FALSE))","v":""},{"$f":"IF(ISBLANK($R858)=TRUE,\"\",VLOOKUP($R858,TAXONOMY!$A$1:$G$959,5,FALSE))","v":""},{"$f":"IF(ISBLANK($R858)=TRUE,\"\",VLOOKUP($R858,TAXONOMY!$A$1:$G$959,4,FALSE))","v":""},{"$f":"IF(ISBLANK($R858)=TRUE,\"\",VLOOKUP($R858,TAXONOMY!$A$1:$G$959,3,FALSE))","v":""},{"$f":"IF(ISBLANK($R858)=TRUE,\"\",VLOOKUP($R858,TAXONOMY!$A$1:$H$959,2,FALSE))","v":""}]
[null,null,null,null,null,null,null,null,null,null,null,{"$f":"IF(ISBLANK($R859)=TRUE,\"\",VLOOKUP($R859,TAXONOMY!$A$1:$G$959,7,FALSE))","v":""},{"$f":"IF(ISBLANK($R859)=TRUE,\"\",VLOOKUP($R859,TAXONOMY!$A$1:$G$959,6,FALSE))","v":""},{"$f":"IF(ISBLANK($R859)=TRUE,\"\",VLOOKUP($R859,TAXONOMY!$A$1:$G$959,5,FALSE))","v":""},{"$f":"IF(ISBLANK($R859)=TRUE,\"\",VLOOKUP($R859,TAXONOMY!$A$1:$G$959,4,FALSE))","v":""},{"$f":"IF(ISBLANK($R859)=TRUE,\"\",VLOOKUP($R859,TAXONOMY!$A$1:$G$959,3,FALSE))","v":""},{"$f":"IF(ISBLANK($R859)=TRUE,\"\",VLOOKUP($R859,TAXONOMY!$A$1:$H$959,2,FALSE))","v":""}]
[null,null,null,null,null,null,null,null,null,null,null,{"$f":"IF(ISBLANK($R860)=TRUE,\"\",VLOOKUP($R860,TAXONOMY!$A$1:$G$959,7,FALSE))","v":""},{"$f":"IF(ISBLANK($R860)=TRUE,\"\",VLOOKUP($R860,TAXONOMY!$A$1:$G$959,6,FALSE))","v":""},{"$f":"IF(ISBLANK($R860)=TRUE,\"\",VLOOKUP($R860,TAXONOMY!$A$1:$G$959,5,FALSE))","v":""},{"$f":"IF(ISBLANK($R860)=TRUE,\"\",VLOOKUP($R860,TAXONOMY!$A$1:$G$959,4,FALSE))","v":""},{"$f":"IF(ISBLANK($R860)=TRUE,\"\",VLOOKUP($R860,TAXONOMY!$A$1:$G$959,3,FALSE))","v":""},{"$f":"IF(ISBLANK($R860)=TRUE,\"\",VLOOKUP($R860,TAXONOMY!$A$1:$H$959,2,FALSE))","v":""}]
[null,null,null,null,null,null,null,null,null,null,null,{"$f":"IF(ISBLANK($R861)=TRUE,\"\",VLOOKUP($R861,TAXONOMY!$A$1:$G$959,7,FALSE))","v":""},{"$f":"IF(ISBLANK($R861)=TRUE,\"\",VLOOKUP($R861,TAXONOMY!$A$1:$G$959,6,FALSE))","v":""},{"$f":"IF(ISBLANK($R861)=TRUE,\"\",VLOOKUP($R861,TAXONOMY!$A$1:$G$959,5,FALSE))","v":""},{"$f":"IF(ISBLANK($R861)=TRUE,\"\",VLOOKUP($R861,TAXONOMY!$A$1:$G$959,4,FALSE))","v":""},{"$f":"IF(ISBLANK($R861)=TRUE,\"\",VLOOKUP($R861,TAXONOMY!$A$1:$G$959,3,FALSE))","v":""},{"$f":"IF(ISBLANK($R861)=TRUE,\"\",VLOOKUP($R861,TAXONOMY!$A$1:$H$959,2,FALSE))","v":""}]
[null,null,null,null,null,null,null,null,null,null,null,{"$f":"IF(ISBLANK($R862)=TRUE,\"\",VLOOKUP($R862,TAXONOMY!$A$1:$G$959,7,FALSE))","v":""},{"$f":"IF(ISBLANK($R862)=TRUE,\"\",VLOOKUP($R862,TAXONOMY!$A$1:$G$959,6,FALSE))","v":""},{"$f":"IF(ISBLANK($R862)=TRUE,\"\",VLOOKUP($R862,TAXONOMY!$A$1:$G$959,5,FALSE))","v":""},{"$f":"IF(ISBLANK($R862)=TRUE,\"\",VLOOKUP($R862,TAXONOMY!$A$1:$G$959,4,FALSE))","v":""},{"$f":"IF(ISBLANK($R862)=TRUE,\"\",VLOOKUP($R862,TAXONOMY!$A$1:$G$959,3,FALSE))","v":""},{"$f":"IF(ISBLANK($R862)=TRUE,\"\",VLOOKUP($R862,TAXONOMY!$A$1:$H$959,2,FALSE))","v":""}]
[null,null,null,null,null,null,null,null,null,null,null,{"$f":"IF(ISBLANK($R863)=TRUE,\"\",VLOOKUP($R863,TAXONOMY!$A$1:$G$959,7,FALSE))","v":""},{"$f":"IF(ISBLANK($R863)=TRUE,\"\",VLOOKUP($R863,TAXONOMY!$A$1:$G$959,6,FALSE))","v":""},{"$f":"IF(ISBLANK($R863)=TRUE,\"\",VLOOKUP($R863,TAXONOMY!$A$1:$G$959,5,FALSE))","v":""},{"$f":"IF(ISBLANK($R863)=TRUE,\"\",VLOOKUP($R863,TAXONOMY!$A$1:$G$959,4,FALSE))","v":""},{"$f":"IF(ISBLANK($R863)=TRUE,\"\",VLOOKUP($R863,TAXONOMY!$A$1:$G$959,3,FALSE))","v":""},{"$f":"IF(ISBLANK($R863)=TRUE,\"\",VLOOKUP($R863,TAXONOMY!$A$1:$H$959,2,FALSE))","v":""}]
[null,null,null,null,null,null,null,null,null,null,null,{"$f":"IF(ISBLANK($R864)=TRUE,\"\",VLOOKUP($R864,TAXONOMY!$A$1:$G$959,7,FALSE))","v":""},{"$f":"IF(ISBLANK($R864)=TRUE,\"\",VLOOKUP($R864,TAXONOMY!$A$1:$G$959,6,FALSE))","v":""},{"$f":"IF(ISBLANK($R864)=TRUE,\"\",VLOOKUP($R864,TAXONOMY!$A$1:$G$959,5,FALSE))","v":""},{"$f":"IF(ISBLANK($R864)=TRUE,\"\",VLOOKUP($R864,TAXONOMY!$A$1:$G$959,4,FALSE))","v":""},{"$f":"IF(ISBLANK($R864)=TRUE,\"\",VLOOKUP($R864,TAXONOMY!$A$1:$G$959,3,FALSE))","v":""},{"$f":"IF(ISBLANK($R864)=TRUE,\"\",VLOOKUP($R864,TAXONOMY!$A$1:$H$959,2,FALSE))","v":""}]
[null,null,null,null,null,null,null,null,null,null,null,{"$f":"IF(ISBLANK($R865)=TRUE,\"\",VLOOKUP($R865,TAXONOMY!$A$1:$G$959,7,FALSE))","v":""},{"$f":"IF(ISBLANK($R865)=TRUE,\"\",VLOOKUP($R865,TAXONOMY!$A$1:$G$959,6,FALSE))","v":""},{"$f":"IF(ISBLANK($R865)=TRUE,\"\",VLOOKUP($R865,TAXONOMY!$A$1:$G$959,5,FALSE))","v":""},{"$f":"IF(ISBLANK($R865)=TRUE,\"\",VLOOKUP($R865,TAXONOMY!$A$1:$G$959,4,FALSE))","v":""},{"$f":"IF(ISBLANK($R865)=TRUE,\"\",VLOOKUP($R865,TAXONOMY!$A$1:$G$959,3,FALSE))","v":""},{"$f":"IF(ISBLANK($R865)=TRUE,\"\",VLOOKUP($R865,TAXONOMY!$A$1:$H$959,2,FALSE))","v":""}]
[null,null,null,null,null,null,null,null,null,null,null,{"$f":"IF(ISBLANK($R866)=TRUE,\"\",VLOOKUP($R866,TAXONOMY!$A$1:$G$959,7,FALSE))","v":""},{"$f":"IF(ISBLANK($R866)=TRUE,\"\",VLOOKUP($R866,TAXONOMY!$A$1:$G$959,6,FALSE))","v":""},{"$f":"IF(ISBLANK($R866)=TRUE,\"\",VLOOKUP($R866,TAXONOMY!$A$1:$G$959,5,FALSE))","v":""},{"$f":"IF(ISBLANK($R866)=TRUE,\"\",VLOOKUP($R866,TAXONOMY!$A$1:$G$959,4,FALSE))","v":""},{"$f":"IF(ISBLANK($R866)=TRUE,\"\",VLOOKUP($R866,TAXONOMY!$A$1:$G$959,3,FALSE))","v":""},{"$f":"IF(ISBLANK($R866)=TRUE,\"\",VLOOKUP($R866,TAXONOMY!$A$1:$H$959,2,FALSE))","v":""}]
[null,null,null,null,null,null,null,null,null,null,null,{"$f":"IF(ISBLANK($R867)=TRUE,\"\",VLOOKUP($R867,TAXONOMY!$A$1:$G$959,7,FALSE))","v":""},{"$f":"IF(ISBLANK($R867)=TRUE,\"\",VLOOKUP($R867,TAXONOMY!$A$1:$G$959,6,FALSE))","v":""},{"$f":"IF(ISBLANK($R867)=TRUE,\"\",VLOOKUP($R867,TAXONOMY!$A$1:$G$959,5,FALSE))","v":""},{"$f":"IF(ISBLANK($R867)=TRUE,\"\",VLOOKUP($R867,TAXONOMY!$A$1:$G$959,4,FALSE))","v":""},{"$f":"IF(ISBLANK($R867)=TRUE,\"\",VLOOKUP($R867,TAXONOMY!$A$1:$G$959,3,FALSE))","v":""},{"$f":"IF(ISBLANK($R867)=TRUE,\"\",VLOOKUP($R867,TAXONOMY!$A$1:$H$959,2,FALSE))","v":""}]
[null,null,null,null,null,null,null,null,null,null,null,{"$f":"IF(ISBLANK($R868)=TRUE,\"\",VLOOKUP($R868,TAXONOMY!$A$1:$G$959,7,FALSE))","v":""},{"$f":"IF(ISBLANK($R868)=TRUE,\"\",VLOOKUP($R868,TAXONOMY!$A$1:$G$959,6,FALSE))","v":""},{"$f":"IF(ISBLANK($R868)=TRUE,\"\",VLOOKUP($R868,TAXONOMY!$A$1:$G$959,5,FALSE))","v":""},{"$f":"IF(ISBLANK($R868)=TRUE,\"\",VLOOKUP($R868,TAXONOMY!$A$1:$G$959,4,FALSE))","v":""},{"$f":"IF(ISBLANK($R868)=TRUE,\"\",VLOOKUP($R868,TAXONOMY!$A$1:$G$959,3,FALSE))","v":""},{"$f":"IF(ISBLANK($R868)=TRUE,\"\",VLOOKUP($R868,TAXONOMY!$A$1:$H$959,2,FALSE))","v":""}]
[null,null,null,null,null,null,null,null,null,null,null,{"$f":"IF(ISBLANK($R869)=TRUE,\"\",VLOOKUP($R869,TAXONOMY!$A$1:$G$959,7,FALSE))","v":""},{"$f":"IF(ISBLANK($R869)=TRUE,\"\",VLOOKUP($R869,TAXONOMY!$A$1:$G$959,6,FALSE))","v":""},{"$f":"IF(ISBLANK($R869)=TRUE,\"\",VLOOKUP($R869,TAXONOMY!$A$1:$G$959,5,FALSE))","v":""},{"$f":"IF(ISBLANK($R869)=TRUE,\"\",VLOOKUP($R869,TAXONOMY!$A$1:$G$959,4,FALSE))","v":""},{"$f":"IF(ISBLANK($R869)=TRUE,\"\",VLOOKUP($R869,TAXONOMY!$A$1:$G$959,3,FALSE))","v":""},{"$f":"IF(ISBLANK($R869)=TRUE,\"\",VLOOKUP($R869,TAXONOMY!$A$1:$H$959,2,FALSE))","v":""}]
[null,null,null,null,null,null,null,null,null,null,null,{"$f":"IF(ISBLANK($R870)=TRUE,\"\",VLOOKUP($R870,TAXONOMY!$A$1:$G$959,7,FALSE))","v":""},{"$f":"IF(ISBLANK($R870)=TRUE,\"\",VLOOKUP($R870,TAXONOMY!$A$1:$G$959,6,FALSE))","v":""},{"$f":"IF(ISBLANK($R870)=TRUE,\"\",VLOOKUP($R870,TAXONOMY!$A$1:$G$959,5,FALSE))","v":""},{"$f":"IF(ISBLANK($R870)=TRUE,\"\",VLOOKUP($R870,TAXONOMY!$A$1:$G$959,4,FALSE))","v":""},{"$f":"IF(ISBLANK($R870)=TRUE,\"\",VLOOKUP($R870,TAXONOMY!$A$1:$G$959,3,FALSE))","v":""},{"$f":"IF(ISBLANK($R870)=TRUE,\"\",VLOOKUP($R870,TAXONOMY!$A$1:$H$959,2,FALSE))","v":""}]
[null,null,null,null,null,null,null,null,null,null,null,{"$f":"IF(ISBLANK($R871)=TRUE,\"\",VLOOKUP($R871,TAXONOMY!$A$1:$G$959,7,FALSE))","v":""},{"$f":"IF(ISBLANK($R871)=TRUE,\"\",VLOOKUP($R871,TAXONOMY!$A$1:$G$959,6,FALSE))","v":""},{"$f":"IF(ISBLANK($R871)=TRUE,\"\",VLOOKUP($R871,TAXONOMY!$A$1:$G$959,5,FALSE))","v":""},{"$f":"IF(ISBLANK($R871)=TRUE,\"\",VLOOKUP($R871,TAXONOMY!$A$1:$G$959,4,FALSE))","v":""},{"$f":"IF(ISBLANK($R871)=TRUE,\"\",VLOOKUP($R871,TAXONOMY!$A$1:$G$959,3,FALSE))","v":""},{"$f":"IF(ISBLANK($R871)=TRUE,\"\",VLOOKUP($R871,TAXONOMY!$A$1:$H$959,2,FALSE))","v":""}]
[null,null,null,null,null,null,null,null,null,null,null,{"$f":"IF(ISBLANK($R872)=TRUE,\"\",VLOOKUP($R872,TAXONOMY!$A$1:$G$959,7,FALSE))","v":""},{"$f":"IF(ISBLANK($R872)=TRUE,\"\",VLOOKUP($R872,TAXONOMY!$A$1:$G$959,6,FALSE))","v":""},{"$f":"IF(ISBLANK($R872)=TRUE,\"\",VLOOKUP($R872,TAXONOMY!$A$1:$G$959,5,FALSE))","v":""},{"$f":"IF(ISBLANK($R872)=TRUE,\"\",VLOOKUP($R872,TAXONOMY!$A$1:$G$959,4,FALSE))","v":""},{"$f":"IF(ISBLANK($R872)=TRUE,\"\",VLOOKUP($R872,TAXONOMY!$A$1:$G$959,3,FALSE))","v":""},{"$f":"IF(ISBLANK($R872)=TRUE,\"\",VLOOKUP($R872,TAXONOMY!$A$1:$H$959,2,FALSE))","v":""}]
[null,null,null,null,null,null,null,null,null,null,null,{"$f":"IF(ISBLANK($R873)=TRUE,\"\",VLOOKUP($R873,TAXONOMY!$A$1:$G$959,7,FALSE))","v":""},{"$f":"IF(ISBLANK($R873)=TRUE,\"\",VLOOKUP($R873,TAXONOMY!$A$1:$G$959,6,FALSE))","v":""},{"$f":"IF(ISBLANK($R873)=TRUE,\"\",VLOOKUP($R873,TAXONOMY!$A$1:$G$959,5,FALSE))","v":""},{"$f":"IF(ISBLANK($R873)=TRUE,\"\",VLOOKUP($R873,TAXONOMY!$A$1:$G$959,4,FALSE))","v":""},{"$f":"IF(ISBLANK($R873)=TRUE,\"\",VLOOKUP($R873,TAXONOMY!$A$1:$G$959,3,FALSE))","v":""},{"$f":"IF(ISBLANK($R873)=TRUE,\"\",VLOOKUP($R873,TAXONOMY!$A$1:$H$959,2,FALSE))","v":""}]
[null,null,null,null,null,null,null,null,null,null,null,{"$f":"IF(ISBLANK($R874)=TRUE,\"\",VLOOKUP($R874,TAXONOMY!$A$1:$G$959,7,FALSE))","v":""},{"$f":"IF(ISBLANK($R874)=TRUE,\"\",VLOOKUP($R874,TAXONOMY!$A$1:$G$959,6,FALSE))","v":""},{"$f":"IF(ISBLANK($R874)=TRUE,\"\",VLOOKUP($R874,TAXONOMY!$A$1:$G$959,5,FALSE))","v":""},{"$f":"IF(ISBLANK($R874)=TRUE,\"\",VLOOKUP($R874,TAXONOMY!$A$1:$G$959,4,FALSE))","v":""},{"$f":"IF(ISBLANK($R874)=TRUE,\"\",VLOOKUP($R874,TAXONOMY!$A$1:$G$959,3,FALSE))","v":""},{"$f":"IF(ISBLANK($R874)=TRUE,\"\",VLOOKUP($R874,TAXONOMY!$A$1:$H$959,2,FALSE))","v":""}]
[null,null,null,null,null,null,null,null,null,null,null,{"$f":"IF(ISBLANK($R875)=TRUE,\"\",VLOOKUP($R875,TAXONOMY!$A$1:$G$959,7,FALSE))","v":""},{"$f":"IF(ISBLANK($R875)=TRUE,\"\",VLOOKUP($R875,TAXONOMY!$A$1:$G$959,6,FALSE))","v":""},{"$f":"IF(ISBLANK($R875)=TRUE,\"\",VLOOKUP($R875,TAXONOMY!$A$1:$G$959,5,FALSE))","v":""},{"$f":"IF(ISBLANK($R875)=TRUE,\"\",VLOOKUP($R875,TAXONOMY!$A$1:$G$959,4,FALSE))","v":""},{"$f":"IF(ISBLANK($R875)=TRUE,\"\",VLOOKUP($R875,TAXONOMY!$A$1:$G$959,3,FALSE))","v":""},{"$f":"IF(ISBLANK($R875)=TRUE,\"\",VLOOKUP($R875,TAXONOMY!$A$1:$H$959,2,FALSE))","v":""}]
[null,null,null,null,null,null,null,null,null,null,null,{"$f":"IF(ISBLANK($R876)=TRUE,\"\",VLOOKUP($R876,TAXONOMY!$A$1:$G$959,7,FALSE))","v":""},{"$f":"IF(ISBLANK($R876)=TRUE,\"\",VLOOKUP($R876,TAXONOMY!$A$1:$G$959,6,FALSE))","v":""},{"$f":"IF(ISBLANK($R876)=TRUE,\"\",VLOOKUP($R876,TAXONOMY!$A$1:$G$959,5,FALSE))","v":""},{"$f":"IF(ISBLANK($R876)=TRUE,\"\",VLOOKUP($R876,TAXONOMY!$A$1:$G$959,4,FALSE))","v":""},{"$f":"IF(ISBLANK($R876)=TRUE,\"\",VLOOKUP($R876,TAXONOMY!$A$1:$G$959,3,FALSE))","v":""},{"$f":"IF(ISBLANK($R876)=TRUE,\"\",VLOOKUP($R876,TAXONOMY!$A$1:$H$959,2,FALSE))","v":""}]
[null,null,null,null,null,null,null,null,null,null,null,{"$f":"IF(ISBLANK($R877)=TRUE,\"\",VLOOKUP($R877,TAXONOMY!$A$1:$G$959,7,FALSE))","v":""},{"$f":"IF(ISBLANK($R877)=TRUE,\"\",VLOOKUP($R877,TAXONOMY!$A$1:$G$959,6,FALSE))","v":""},{"$f":"IF(ISBLANK($R877)=TRUE,\"\",VLOOKUP($R877,TAXONOMY!$A$1:$G$959,5,FALSE))","v":""},{"$f":"IF(ISBLANK($R877)=TRUE,\"\",VLOOKUP($R877,TAXONOMY!$A$1:$G$959,4,FALSE))","v":""},{"$f":"IF(ISBLANK($R877)=TRUE,\"\",VLOOKUP($R877,TAXONOMY!$A$1:$G$959,3,FALSE))","v":""},{"$f":"IF(ISBLANK($R877)=TRUE,\"\",VLOOKUP($R877,TAXONOMY!$A$1:$H$959,2,FALSE))","v":""}]
[null,null,null,null,null,null,null,null,null,null,null,{"$f":"IF(ISBLANK($R878)=TRUE,\"\",VLOOKUP($R878,TAXONOMY!$A$1:$G$959,7,FALSE))","v":""},{"$f":"IF(ISBLANK($R878)=TRUE,\"\",VLOOKUP($R878,TAXONOMY!$A$1:$G$959,6,FALSE))","v":""},{"$f":"IF(ISBLANK($R878)=TRUE,\"\",VLOOKUP($R878,TAXONOMY!$A$1:$G$959,5,FALSE))","v":""},{"$f":"IF(ISBLANK($R878)=TRUE,\"\",VLOOKUP($R878,TAXONOMY!$A$1:$G$959,4,FALSE))","v":""},{"$f":"IF(ISBLANK($R878)=TRUE,\"\",VLOOKUP($R878,TAXONOMY!$A$1:$G$959,3,FALSE))","v":""},{"$f":"IF(ISBLANK($R878)=TRUE,\"\",VLOOKUP($R878,TAXONOMY!$A$1:$H$959,2,FALSE))","v":""}]
[null,null,null,null,null,null,null,null,null,null,null,{"$f":"IF(ISBLANK($R879)=TRUE,\"\",VLOOKUP($R879,TAXONOMY!$A$1:$G$959,7,FALSE))","v":""},{"$f":"IF(ISBLANK($R879)=TRUE,\"\",VLOOKUP($R879,TAXONOMY!$A$1:$G$959,6,FALSE))","v":""},{"$f":"IF(ISBLANK($R879)=TRUE,\"\",VLOOKUP($R879,TAXONOMY!$A$1:$G$959,5,FALSE))","v":""},{"$f":"IF(ISBLANK($R879)=TRUE,\"\",VLOOKUP($R879,TAXONOMY!$A$1:$G$959,4,FALSE))","v":""},{"$f":"IF(ISBLANK($R879)=TRUE,\"\",VLOOKUP($R879,TAXONOMY!$A$1:$G$959,3,FALSE))","v":""},{"$f":"IF(ISBLANK($R879)=TRUE,\"\",VLOOKUP($R879,TAXONOMY!$A$1:$H$959,2,FALSE))","v":""}]
[null,null,null,null,null,null,null,null,null,null,null,{"$f":"IF(ISBLANK($R880)=TRUE,\"\",VLOOKUP($R880,TAXONOMY!$A$1:$G$959,7,FALSE))","v":""},{"$f":"IF(ISBLANK($R880)=TRUE,\"\",VLOOKUP($R880,TAXONOMY!$A$1:$G$959,6,FALSE))","v":""},{"$f":"IF(ISBLANK($R880)=TRUE,\"\",VLOOKUP($R880,TAXONOMY!$A$1:$G$959,5,FALSE))","v":""},{"$f":"IF(ISBLANK($R880)=TRUE,\"\",VLOOKUP($R880,TAXONOMY!$A$1:$G$959,4,FALSE))","v":""},{"$f":"IF(ISBLANK($R880)=TRUE,\"\",VLOOKUP($R880,TAXONOMY!$A$1:$G$959,3,FALSE))","v":""},{"$f":"IF(ISBLANK($R880)=TRUE,\"\",VLOOKUP($R880,TAXONOMY!$A$1:$H$959,2,FALSE))","v":""}]
[null,null,null,null,null,null,null,null,null,null,null,{"$f":"IF(ISBLANK($R881)=TRUE,\"\",VLOOKUP($R881,TAXONOMY!$A$1:$G$959,7,FALSE))","v":""},{"$f":"IF(ISBLANK($R881)=TRUE,\"\",VLOOKUP($R881,TAXONOMY!$A$1:$G$959,6,FALSE))","v":""},{"$f":"IF(ISBLANK($R881)=TRUE,\"\",VLOOKUP($R881,TAXONOMY!$A$1:$G$959,5,FALSE))","v":""},{"$f":"IF(ISBLANK($R881)=TRUE,\"\",VLOOKUP($R881,TAXONOMY!$A$1:$G$959,4,FALSE))","v":""},{"$f":"IF(ISBLANK($R881)=TRUE,\"\",VLOOKUP($R881,TAXONOMY!$A$1:$G$959,3,FALSE))","v":""},{"$f":"IF(ISBLANK($R881)=TRUE,\"\",VLOOKUP($R881,TAXONOMY!$A$1:$H$959,2,FALSE))","v":""}]
[null,null,null,null,null,null,null,null,null,null,null,{"$f":"IF(ISBLANK($R882)=TRUE,\"\",VLOOKUP($R882,TAXONOMY!$A$1:$G$959,7,FALSE))","v":""},{"$f":"IF(ISBLANK($R882)=TRUE,\"\",VLOOKUP($R882,TAXONOMY!$A$1:$G$959,6,FALSE))","v":""},{"$f":"IF(ISBLANK($R882)=TRUE,\"\",VLOOKUP($R882,TAXONOMY!$A$1:$G$959,5,FALSE))","v":""},{"$f":"IF(ISBLANK($R882)=TRUE,\"\",VLOOKUP($R882,TAXONOMY!$A$1:$G$959,4,FALSE))","v":""},{"$f":"IF(ISBLANK($R882)=TRUE,\"\",VLOOKUP($R882,TAXONOMY!$A$1:$G$959,3,FALSE))","v":""},{"$f":"IF(ISBLANK($R882)=TRUE,\"\",VLOOKUP($R882,TAXONOMY!$A$1:$H$959,2,FALSE))","v":""}]
[null,null,null,null,null,null,null,null,null,null,null,{"$f":"IF(ISBLANK($R883)=TRUE,\"\",VLOOKUP($R883,TAXONOMY!$A$1:$G$959,7,FALSE))","v":""},{"$f":"IF(ISBLANK($R883)=TRUE,\"\",VLOOKUP($R883,TAXONOMY!$A$1:$G$959,6,FALSE))","v":""},{"$f":"IF(ISBLANK($R883)=TRUE,\"\",VLOOKUP($R883,TAXONOMY!$A$1:$G$959,5,FALSE))","v":""},{"$f":"IF(ISBLANK($R883)=TRUE,\"\",VLOOKUP($R883,TAXONOMY!$A$1:$G$959,4,FALSE))","v":""},{"$f":"IF(ISBLANK($R883)=TRUE,\"\",VLOOKUP($R883,TAXONOMY!$A$1:$G$959,3,FALSE))","v":""},{"$f":"IF(ISBLANK($R883)=TRUE,\"\",VLOOKUP($R883,TAXONOMY!$A$1:$H$959,2,FALSE))","v":""}]
[null,null,null,null,null,null,null,null,null,null,null,{"$f":"IF(ISBLANK($R884)=TRUE,\"\",VLOOKUP($R884,TAXONOMY!$A$1:$G$959,7,FALSE))","v":""},{"$f":"IF(ISBLANK($R884)=TRUE,\"\",VLOOKUP($R884,TAXONOMY!$A$1:$G$959,6,FALSE))","v":""},{"$f":"IF(ISBLANK($R884)=TRUE,\"\",VLOOKUP($R884,TAXONOMY!$A$1:$G$959,5,FALSE))","v":""},{"$f":"IF(ISBLANK($R884)=TRUE,\"\",VLOOKUP($R884,TAXONOMY!$A$1:$G$959,4,FALSE))","v":""},{"$f":"IF(ISBLANK($R884)=TRUE,\"\",VLOOKUP($R884,TAXONOMY!$A$1:$G$959,3,FALSE))","v":""},{"$f":"IF(ISBLANK($R884)=TRUE,\"\",VLOOKUP($R884,TAXONOMY!$A$1:$H$959,2,FALSE))","v":""}]
[null,null,null,null,null,null,null,null,null,null,null,{"$f":"IF(ISBLANK($R885)=TRUE,\"\",VLOOKUP($R885,TAXONOMY!$A$1:$G$959,7,FALSE))","v":""},{"$f":"IF(ISBLANK($R885)=TRUE,\"\",VLOOKUP($R885,TAXONOMY!$A$1:$G$959,6,FALSE))","v":""},{"$f":"IF(ISBLANK($R885)=TRUE,\"\",VLOOKUP($R885,TAXONOMY!$A$1:$G$959,5,FALSE))","v":""},{"$f":"IF(ISBLANK($R885)=TRUE,\"\",VLOOKUP($R885,TAXONOMY!$A$1:$G$959,4,FALSE))","v":""},{"$f":"IF(ISBLANK($R885)=TRUE,\"\",VLOOKUP($R885,TAXONOMY!$A$1:$G$959,3,FALSE))","v":""},{"$f":"IF(ISBLANK($R885)=TRUE,\"\",VLOOKUP($R885,TAXONOMY!$A$1:$H$959,2,FALSE))","v":""}]
[null,null,null,null,null,null,null,null,null,null,null,{"$f":"IF(ISBLANK($R886)=TRUE,\"\",VLOOKUP($R886,TAXONOMY!$A$1:$G$959,7,FALSE))","v":""},{"$f":"IF(ISBLANK($R886)=TRUE,\"\",VLOOKUP($R886,TAXONOMY!$A$1:$G$959,6,FALSE))","v":""},{"$f":"IF(ISBLANK($R886)=TRUE,\"\",VLOOKUP($R886,TAXONOMY!$A$1:$G$959,5,FALSE))","v":""},{"$f":"IF(ISBLANK($R886)=TRUE,\"\",VLOOKUP($R886,TAXONOMY!$A$1:$G$959,4,FALSE))","v":""},{"$f":"IF(ISBLANK($R886)=TRUE,\"\",VLOOKUP($R886,TAXONOMY!$A$1:$G$959,3,FALSE))","v":""},{"$f":"IF(ISBLANK($R886)=TRUE,\"\",VLOOKUP($R886,TAXONOMY!$A$1:$H$959,2,FALSE))","v":""}]
[null,null,null,null,null,null,null,null,null,null,null,{"$f":"IF(ISBLANK($R887)=TRUE,\"\",VLOOKUP($R887,TAXONOMY!$A$1:$G$959,7,FALSE))","v":""},{"$f":"IF(ISBLANK($R887)=TRUE,\"\",VLOOKUP($R887,TAXONOMY!$A$1:$G$959,6,FALSE))","v":""},{"$f":"IF(ISBLANK($R887)=TRUE,\"\",VLOOKUP($R887,TAXONOMY!$A$1:$G$959,5,FALSE))","v":""},{"$f":"IF(ISBLANK($R887)=TRUE,\"\",VLOOKUP($R887,TAXONOMY!$A$1:$G$959,4,FALSE))","v":""},{"$f":"IF(ISBLANK($R887)=TRUE,\"\",VLOOKUP($R887,TAXONOMY!$A$1:$G$959,3,FALSE))","v":""},{"$f":"IF(ISBLANK($R887)=TRUE,\"\",VLOOKUP($R887,TAXONOMY!$A$1:$H$959,2,FALSE))","v":""}]
[null,null,null,null,null,null,null,null,null,null,null,{"$f":"IF(ISBLANK($R888)=TRUE,\"\",VLOOKUP($R888,TAXONOMY!$A$1:$G$959,7,FALSE))","v":""},{"$f":"IF(ISBLANK($R888)=TRUE,\"\",VLOOKUP($R888,TAXONOMY!$A$1:$G$959,6,FALSE))","v":""},{"$f":"IF(ISBLANK($R888)=TRUE,\"\",VLOOKUP($R888,TAXONOMY!$A$1:$G$959,5,FALSE))","v":""},{"$f":"IF(ISBLANK($R888)=TRUE,\"\",VLOOKUP($R888,TAXONOMY!$A$1:$G$959,4,FALSE))","v":""},{"$f":"IF(ISBLANK($R888)=TRUE,\"\",VLOOKUP($R888,TAXONOMY!$A$1:$G$959,3,FALSE))","v":""},{"$f":"IF(ISBLANK($R888)=TRUE,\"\",VLOOKUP($R888,TAXONOMY!$A$1:$H$959,2,FALSE))","v":""}]
[null,null,null,null,null,null,null,null,null,null,null,{"$f":"IF(ISBLANK($R889)=TRUE,\"\",VLOOKUP($R889,TAXONOMY!$A$1:$G$959,7,FALSE))","v":""},{"$f":"IF(ISBLANK($R889)=TRUE,\"\",VLOOKUP($R889,TAXONOMY!$A$1:$G$959,6,FALSE))","v":""},{"$f":"IF(ISBLANK($R889)=TRUE,\"\",VLOOKUP($R889,TAXONOMY!$A$1:$G$959,5,FALSE))","v":""},{"$f":"IF(ISBLANK($R889)=TRUE,\"\",VLOOKUP($R889,TAXONOMY!$A$1:$G$959,4,FALSE))","v":""},{"$f":"IF(ISBLANK($R889)=TRUE,\"\",VLOOKUP($R889,TAXONOMY!$A$1:$G$959,3,FALSE))","v":""},{"$f":"IF(ISBLANK($R889)=TRUE,\"\",VLOOKUP($R889,TAXONOMY!$A$1:$H$959,2,FALSE))","v":""}]
[null,null,null,null,null,null,null,null,null,null,null,{"$f":"IF(ISBLANK($R890)=TRUE,\"\",VLOOKUP($R890,TAXONOMY!$A$1:$G$959,7,FALSE))","v":""},{"$f":"IF(ISBLANK($R890)=TRUE,\"\",VLOOKUP($R890,TAXONOMY!$A$1:$G$959,6,FALSE))","v":""},{"$f":"IF(ISBLANK($R890)=TRUE,\"\",VLOOKUP($R890,TAXONOMY!$A$1:$G$959,5,FALSE))","v":""},{"$f":"IF(ISBLANK($R890)=TRUE,\"\",VLOOKUP($R890,TAXONOMY!$A$1:$G$959,4,FALSE))","v":""},{"$f":"IF(ISBLANK($R890)=TRUE,\"\",VLOOKUP($R890,TAXONOMY!$A$1:$G$959,3,FALSE))","v":""},{"$f":"IF(ISBLANK($R890)=TRUE,\"\",VLOOKUP($R890,TAXONOMY!$A$1:$H$959,2,FALSE))","v":""}]
[null,null,null,null,null,null,null,null,null,null,null,{"$f":"IF(ISBLANK($R891)=TRUE,\"\",VLOOKUP($R891,TAXONOMY!$A$1:$G$959,7,FALSE))","v":""},{"$f":"IF(ISBLANK($R891)=TRUE,\"\",VLOOKUP($R891,TAXONOMY!$A$1:$G$959,6,FALSE))","v":""},{"$f":"IF(ISBLANK($R891)=TRUE,\"\",VLOOKUP($R891,TAXONOMY!$A$1:$G$959,5,FALSE))","v":""},{"$f":"IF(ISBLANK($R891)=TRUE,\"\",VLOOKUP($R891,TAXONOMY!$A$1:$G$959,4,FALSE))","v":""},{"$f":"IF(ISBLANK($R891)=TRUE,\"\",VLOOKUP($R891,TAXONOMY!$A$1:$G$959,3,FALSE))","v":""},{"$f":"IF(ISBLANK($R891)=TRUE,\"\",VLOOKUP($R891,TAXONOMY!$A$1:$H$959,2,FALSE))","v":""}]
[null,null,null,null,null,null,null,null,null,null,null,{"$f":"IF(ISBLANK($R892)=TRUE,\"\",VLOOKUP($R892,TAXONOMY!$A$1:$G$959,7,FALSE))","v":""},{"$f":"IF(ISBLANK($R892)=TRUE,\"\",VLOOKUP($R892,TAXONOMY!$A$1:$G$959,6,FALSE))","v":""},{"$f":"IF(ISBLANK($R892)=TRUE,\"\",VLOOKUP($R892,TAXONOMY!$A$1:$G$959,5,FALSE))","v":""},{"$f":"IF(ISBLANK($R892)=TRUE,\"\",VLOOKUP($R892,TAXONOMY!$A$1:$G$959,4,FALSE))","v":""},{"$f":"IF(ISBLANK($R892)=TRUE,\"\",VLOOKUP($R892,TAXONOMY!$A$1:$G$959,3,FALSE))","v":""},{"$f":"IF(ISBLANK($R892)=TRUE,\"\",VLOOKUP($R892,TAXONOMY!$A$1:$H$959,2,FALSE))","v":""}]
[null,null,null,null,null,null,null,null,null,null,null,{"$f":"IF(ISBLANK($R893)=TRUE,\"\",VLOOKUP($R893,TAXONOMY!$A$1:$G$959,7,FALSE))","v":""},{"$f":"IF(ISBLANK($R893)=TRUE,\"\",VLOOKUP($R893,TAXONOMY!$A$1:$G$959,6,FALSE))","v":""},{"$f":"IF(ISBLANK($R893)=TRUE,\"\",VLOOKUP($R893,TAXONOMY!$A$1:$G$959,5,FALSE))","v":""},{"$f":"IF(ISBLANK($R893)=TRUE,\"\",VLOOKUP($R893,TAXONOMY!$A$1:$G$959,4,FALSE))","v":""},{"$f":"IF(ISBLANK($R893)=TRUE,\"\",VLOOKUP($R893,TAXONOMY!$A$1:$G$959,3,FALSE))","v":""},{"$f":"IF(ISBLANK($R893)=TRUE,\"\",VLOOKUP($R893,TAXONOMY!$A$1:$H$959,2,FALSE))","v":""}]
[null,null,null,null,null,null,null,null,null,null,null,{"$f":"IF(ISBLANK($R894)=TRUE,\"\",VLOOKUP($R894,TAXONOMY!$A$1:$G$959,7,FALSE))","v":""},{"$f":"IF(ISBLANK($R894)=TRUE,\"\",VLOOKUP($R894,TAXONOMY!$A$1:$G$959,6,FALSE))","v":""},{"$f":"IF(ISBLANK($R894)=TRUE,\"\",VLOOKUP($R894,TAXONOMY!$A$1:$G$959,5,FALSE))","v":""},{"$f":"IF(ISBLANK($R894)=TRUE,\"\",VLOOKUP($R894,TAXONOMY!$A$1:$G$959,4,FALSE))","v":""},{"$f":"IF(ISBLANK($R894)=TRUE,\"\",VLOOKUP($R894,TAXONOMY!$A$1:$G$959,3,FALSE))","v":""},{"$f":"IF(ISBLANK($R894)=TRUE,\"\",VLOOKUP($R894,TAXONOMY!$A$1:$H$959,2,FALSE))","v":""}]
[null,null,null,null,null,null,null,null,null,null,null,{"$f":"IF(ISBLANK($R895)=TRUE,\"\",VLOOKUP($R895,TAXONOMY!$A$1:$G$959,7,FALSE))","v":""},{"$f":"IF(ISBLANK($R895)=TRUE,\"\",VLOOKUP($R895,TAXONOMY!$A$1:$G$959,6,FALSE))","v":""},{"$f":"IF(ISBLANK($R895)=TRUE,\"\",VLOOKUP($R895,TAXONOMY!$A$1:$G$959,5,FALSE))","v":""},{"$f":"IF(ISBLANK($R895)=TRUE,\"\",VLOOKUP($R895,TAXONOMY!$A$1:$G$959,4,FALSE))","v":""},{"$f":"IF(ISBLANK($R895)=TRUE,\"\",VLOOKUP($R895,TAXONOMY!$A$1:$G$959,3,FALSE))","v":""},{"$f":"IF(ISBLANK($R895)=TRUE,\"\",VLOOKUP($R895,TAXONOMY!$A$1:$H$959,2,FALSE))","v":""}]
[null,null,null,null,null,null,null,null,null,null,null,{"$f":"IF(ISBLANK($R896)=TRUE,\"\",VLOOKUP($R896,TAXONOMY!$A$1:$G$959,7,FALSE))","v":""},{"$f":"IF(ISBLANK($R896)=TRUE,\"\",VLOOKUP($R896,TAXONOMY!$A$1:$G$959,6,FALSE))","v":""},{"$f":"IF(ISBLANK($R896)=TRUE,\"\",VLOOKUP($R896,TAXONOMY!$A$1:$G$959,5,FALSE))","v":""},{"$f":"IF(ISBLANK($R896)=TRUE,\"\",VLOOKUP($R896,TAXONOMY!$A$1:$G$959,4,FALSE))","v":""},{"$f":"IF(ISBLANK($R896)=TRUE,\"\",VLOOKUP($R896,TAXONOMY!$A$1:$G$959,3,FALSE))","v":""},{"$f":"IF(ISBLANK($R896)=TRUE,\"\",VLOOKUP($R896,TAXONOMY!$A$1:$H$959,2,FALSE))","v":""}]
[null,null,null,null,null,null,null,null,null,null,null,{"$f":"IF(ISBLANK($R897)=TRUE,\"\",VLOOKUP($R897,TAXONOMY!$A$1:$G$959,7,FALSE))","v":""},{"$f":"IF(ISBLANK($R897)=TRUE,\"\",VLOOKUP($R897,TAXONOMY!$A$1:$G$959,6,FALSE))","v":""},{"$f":"IF(ISBLANK($R897)=TRUE,\"\",VLOOKUP($R897,TAXONOMY!$A$1:$G$959,5,FALSE))","v":""},{"$f":"IF(ISBLANK($R897)=TRUE,\"\",VLOOKUP($R897,TAXONOMY!$A$1:$G$959,4,FALSE))","v":""},{"$f":"IF(ISBLANK($R897)=TRUE,\"\",VLOOKUP($R897,TAXONOMY!$A$1:$G$959,3,FALSE))","v":""},{"$f":"IF(ISBLANK($R897)=TRUE,\"\",VLOOKUP($R897,TAXONOMY!$A$1:$H$959,2,FALSE))","v":""}]
[null,null,null,null,null,null,null,null,null,null,null,{"$f":"IF(ISBLANK($R898)=TRUE,\"\",VLOOKUP($R898,TAXONOMY!$A$1:$G$959,7,FALSE))","v":""},{"$f":"IF(ISBLANK($R898)=TRUE,\"\",VLOOKUP($R898,TAXONOMY!$A$1:$G$959,6,FALSE))","v":""},{"$f":"IF(ISBLANK($R898)=TRUE,\"\",VLOOKUP($R898,TAXONOMY!$A$1:$G$959,5,FALSE))","v":""},{"$f":"IF(ISBLANK($R898)=TRUE,\"\",VLOOKUP($R898,TAXONOMY!$A$1:$G$959,4,FALSE))","v":""},{"$f":"IF(ISBLANK($R898)=TRUE,\"\",VLOOKUP($R898,TAXONOMY!$A$1:$G$959,3,FALSE))","v":""},{"$f":"IF(ISBLANK($R898)=TRUE,\"\",VLOOKUP($R898,TAXONOMY!$A$1:$H$959,2,FALSE))","v":""}]
[null,null,null,null,null,null,null,null,null,null,null,{"$f":"IF(ISBLANK($R899)=TRUE,\"\",VLOOKUP($R899,TAXONOMY!$A$1:$G$959,7,FALSE))","v":""},{"$f":"IF(ISBLANK($R899)=TRUE,\"\",VLOOKUP($R899,TAXONOMY!$A$1:$G$959,6,FALSE))","v":""},{"$f":"IF(ISBLANK($R899)=TRUE,\"\",VLOOKUP($R899,TAXONOMY!$A$1:$G$959,5,FALSE))","v":""},{"$f":"IF(ISBLANK($R899)=TRUE,\"\",VLOOKUP($R899,TAXONOMY!$A$1:$G$959,4,FALSE))","v":""},{"$f":"IF(ISBLANK($R899)=TRUE,\"\",VLOOKUP($R899,TAXONOMY!$A$1:$G$959,3,FALSE))","v":""},{"$f":"IF(ISBLANK($R899)=TRUE,\"\",VLOOKUP($R899,TAXONOMY!$A$1:$H$959,2,FALSE))","v":""}]
[null,null,null,null,null,null,null,null,null,null,null,{"$f":"IF(ISBLANK($R900)=TRUE,\"\",VLOOKUP($R900,TAXONOMY!$A$1:$G$959,7,FALSE))","v":""},{"$f":"IF(ISBLANK($R900)=TRUE,\"\",VLOOKUP($R900,TAXONOMY!$A$1:$G$959,6,FALSE))","v":""},{"$f":"IF(ISBLANK($R900)=TRUE,\"\",VLOOKUP($R900,TAXONOMY!$A$1:$G$959,5,FALSE))","v":""},{"$f":"IF(ISBLANK($R900)=TRUE,\"\",VLOOKUP($R900,TAXONOMY!$A$1:$G$959,4,FALSE))","v":""},{"$f":"IF(ISBLANK($R900)=TRUE,\"\",VLOOKUP($R900,TAXONOMY!$A$1:$G$959,3,FALSE))","v":""},{"$f":"IF(ISBLANK($R900)=TRUE,\"\",VLOOKUP($R900,TAXONOMY!$A$1:$H$959,2,FALSE))","v":""}]
[null,null,null,null,null,null,null,null,null,null,null,{"$f":"IF(ISBLANK($R901)=TRUE,\"\",VLOOKUP($R901,TAXONOMY!$A$1:$G$959,7,FALSE))","v":""},{"$f":"IF(ISBLANK($R901)=TRUE,\"\",VLOOKUP($R901,TAXONOMY!$A$1:$G$959,6,FALSE))","v":""},{"$f":"IF(ISBLANK($R901)=TRUE,\"\",VLOOKUP($R901,TAXONOMY!$A$1:$G$959,5,FALSE))","v":""},{"$f":"IF(ISBLANK($R901)=TRUE,\"\",VLOOKUP($R901,TAXONOMY!$A$1:$G$959,4,FALSE))","v":""},{"$f":"IF(ISBLANK($R901)=TRUE,\"\",VLOOKUP($R901,TAXONOMY!$A$1:$G$959,3,FALSE))","v":""},{"$f":"IF(ISBLANK($R901)=TRUE,\"\",VLOOKUP($R901,TAXONOMY!$A$1:$H$959,2,FALSE))","v":""}]
[null,null,null,null,null,null,null,null,null,null,null,{"$f":"IF(ISBLANK($R902)=TRUE,\"\",VLOOKUP($R902,TAXONOMY!$A$1:$G$959,7,FALSE))","v":""},{"$f":"IF(ISBLANK($R902)=TRUE,\"\",VLOOKUP($R902,TAXONOMY!$A$1:$G$959,6,FALSE))","v":""},{"$f":"IF(ISBLANK($R902)=TRUE,\"\",VLOOKUP($R902,TAXONOMY!$A$1:$G$959,5,FALSE))","v":""},{"$f":"IF(ISBLANK($R902)=TRUE,\"\",VLOOKUP($R902,TAXONOMY!$A$1:$G$959,4,FALSE))","v":""},{"$f":"IF(ISBLANK($R902)=TRUE,\"\",VLOOKUP($R902,TAXONOMY!$A$1:$G$959,3,FALSE))","v":""},{"$f":"IF(ISBLANK($R902)=TRUE,\"\",VLOOKUP($R902,TAXONOMY!$A$1:$H$959,2,FALSE))","v":""}]
[null,null,null,null,null,null,null,null,null,null,null,{"$f":"IF(ISBLANK($R903)=TRUE,\"\",VLOOKUP($R903,TAXONOMY!$A$1:$G$959,7,FALSE))","v":""},{"$f":"IF(ISBLANK($R903)=TRUE,\"\",VLOOKUP($R903,TAXONOMY!$A$1:$G$959,6,FALSE))","v":""},{"$f":"IF(ISBLANK($R903)=TRUE,\"\",VLOOKUP($R903,TAXONOMY!$A$1:$G$959,5,FALSE))","v":""},{"$f":"IF(ISBLANK($R903)=TRUE,\"\",VLOOKUP($R903,TAXONOMY!$A$1:$G$959,4,FALSE))","v":""},{"$f":"IF(ISBLANK($R903)=TRUE,\"\",VLOOKUP($R903,TAXONOMY!$A$1:$G$959,3,FALSE))","v":""},{"$f":"IF(ISBLANK($R903)=TRUE,\"\",VLOOKUP($R903,TAXONOMY!$A$1:$H$959,2,FALSE))","v":""}]
[null,null,null,null,null,null,null,null,null,null,null,{"$f":"IF(ISBLANK($R904)=TRUE,\"\",VLOOKUP($R904,TAXONOMY!$A$1:$G$959,7,FALSE))","v":""},{"$f":"IF(ISBLANK($R904)=TRUE,\"\",VLOOKUP($R904,TAXONOMY!$A$1:$G$959,6,FALSE))","v":""},{"$f":"IF(ISBLANK($R904)=TRUE,\"\",VLOOKUP($R904,TAXONOMY!$A$1:$G$959,5,FALSE))","v":""},{"$f":"IF(ISBLANK($R904)=TRUE,\"\",VLOOKUP($R904,TAXONOMY!$A$1:$G$959,4,FALSE))","v":""},{"$f":"IF(ISBLANK($R904)=TRUE,\"\",VLOOKUP($R904,TAXONOMY!$A$1:$G$959,3,FALSE))","v":""},{"$f":"IF(ISBLANK($R904)=TRUE,\"\",VLOOKUP($R904,TAXONOMY!$A$1:$H$959,2,FALSE))","v":""}]
[null,null,null,null,null,null,null,null,null,null,null,{"$f":"IF(ISBLANK($R905)=TRUE,\"\",VLOOKUP($R905,TAXONOMY!$A$1:$G$959,7,FALSE))","v":""},{"$f":"IF(ISBLANK($R905)=TRUE,\"\",VLOOKUP($R905,TAXONOMY!$A$1:$G$959,6,FALSE))","v":""},{"$f":"IF(ISBLANK($R905)=TRUE,\"\",VLOOKUP($R905,TAXONOMY!$A$1:$G$959,5,FALSE))","v":""},{"$f":"IF(ISBLANK($R905)=TRUE,\"\",VLOOKUP($R905,TAXONOMY!$A$1:$G$959,4,FALSE))","v":""},{"$f":"IF(ISBLANK($R905)=TRUE,\"\",VLOOKUP($R905,TAXONOMY!$A$1:$G$959,3,FALSE))","v":""},{"$f":"IF(ISBLANK($R905)=TRUE,\"\",VLOOKUP($R905,TAXONOMY!$A$1:$H$959,2,FALSE))","v":""}]
[null,null,null,null,null,null,null,null,null,null,null,{"$f":"IF(ISBLANK($R906)=TRUE,\"\",VLOOKUP($R906,TAXONOMY!$A$1:$G$959,7,FALSE))","v":""},{"$f":"IF(ISBLANK($R906)=TRUE,\"\",VLOOKUP($R906,TAXONOMY!$A$1:$G$959,6,FALSE))","v":""},{"$f":"IF(ISBLANK($R906)=TRUE,\"\",VLOOKUP($R906,TAXONOMY!$A$1:$G$959,5,FALSE))","v":""},{"$f":"IF(ISBLANK($R906)=TRUE,\"\",VLOOKUP($R906,TAXONOMY!$A$1:$G$959,4,FALSE))","v":""},{"$f":"IF(ISBLANK($R906)=TRUE,\"\",VLOOKUP($R906,TAXONOMY!$A$1:$G$959,3,FALSE))","v":""},{"$f":"IF(ISBLANK($R906)=TRUE,\"\",VLOOKUP($R906,TAXONOMY!$A$1:$H$959,2,FALSE))","v":""}]
[null,null,null,null,null,null,null,null,null,null,null,{"$f":"IF(ISBLANK($R907)=TRUE,\"\",VLOOKUP($R907,TAXONOMY!$A$1:$G$959,7,FALSE))","v":""},{"$f":"IF(ISBLANK($R907)=TRUE,\"\",VLOOKUP($R907,TAXONOMY!$A$1:$G$959,6,FALSE))","v":""},{"$f":"IF(ISBLANK($R907)=TRUE,\"\",VLOOKUP($R907,TAXONOMY!$A$1:$G$959,5,FALSE))","v":""},{"$f":"IF(ISBLANK($R907)=TRUE,\"\",VLOOKUP($R907,TAXONOMY!$A$1:$G$959,4,FALSE))","v":""},{"$f":"IF(ISBLANK($R907)=TRUE,\"\",VLOOKUP($R907,TAXONOMY!$A$1:$G$959,3,FALSE))","v":""},{"$f":"IF(ISBLANK($R907)=TRUE,\"\",VLOOKUP($R907,TAXONOMY!$A$1:$H$959,2,FALSE))","v":""}]
[null,null,null,null,null,null,null,null,null,null,null,{"$f":"IF(ISBLANK($R908)=TRUE,\"\",VLOOKUP($R908,TAXONOMY!$A$1:$G$959,7,FALSE))","v":""},{"$f":"IF(ISBLANK($R908)=TRUE,\"\",VLOOKUP($R908,TAXONOMY!$A$1:$G$959,6,FALSE))","v":""},{"$f":"IF(ISBLANK($R908)=TRUE,\"\",VLOOKUP($R908,TAXONOMY!$A$1:$G$959,5,FALSE))","v":""},{"$f":"IF(ISBLANK($R908)=TRUE,\"\",VLOOKUP($R908,TAXONOMY!$A$1:$G$959,4,FALSE))","v":""},{"$f":"IF(ISBLANK($R908)=TRUE,\"\",VLOOKUP($R908,TAXONOMY!$A$1:$G$959,3,FALSE))","v":""},{"$f":"IF(ISBLANK($R908)=TRUE,\"\",VLOOKUP($R908,TAXONOMY!$A$1:$H$959,2,FALSE))","v":""}]
[null,null,null,null,null,null,null,null,null,null,null,{"$f":"IF(ISBLANK($R909)=TRUE,\"\",VLOOKUP($R909,TAXONOMY!$A$1:$G$959,7,FALSE))","v":""},{"$f":"IF(ISBLANK($R909)=TRUE,\"\",VLOOKUP($R909,TAXONOMY!$A$1:$G$959,6,FALSE))","v":""},{"$f":"IF(ISBLANK($R909)=TRUE,\"\",VLOOKUP($R909,TAXONOMY!$A$1:$G$959,5,FALSE))","v":""},{"$f":"IF(ISBLANK($R909)=TRUE,\"\",VLOOKUP($R909,TAXONOMY!$A$1:$G$959,4,FALSE))","v":""},{"$f":"IF(ISBLANK($R909)=TRUE,\"\",VLOOKUP($R909,TAXONOMY!$A$1:$G$959,3,FALSE))","v":""},{"$f":"IF(ISBLANK($R909)=TRUE,\"\",VLOOKUP($R909,TAXONOMY!$A$1:$H$959,2,FALSE))","v":""}]
[null,null,null,null,null,null,null,null,null,null,null,{"$f":"IF(ISBLANK($R910)=TRUE,\"\",VLOOKUP($R910,TAXONOMY!$A$1:$G$959,7,FALSE))","v":""},{"$f":"IF(ISBLANK($R910)=TRUE,\"\",VLOOKUP($R910,TAXONOMY!$A$1:$G$959,6,FALSE))","v":""},{"$f":"IF(ISBLANK($R910)=TRUE,\"\",VLOOKUP($R910,TAXONOMY!$A$1:$G$959,5,FALSE))","v":""},{"$f":"IF(ISBLANK($R910)=TRUE,\"\",VLOOKUP($R910,TAXONOMY!$A$1:$G$959,4,FALSE))","v":""},{"$f":"IF(ISBLANK($R910)=TRUE,\"\",VLOOKUP($R910,TAXONOMY!$A$1:$G$959,3,FALSE))","v":""},{"$f":"IF(ISBLANK($R910)=TRUE,\"\",VLOOKUP($R910,TAXONOMY!$A$1:$H$959,2,FALSE))","v":""}]
[null,null,null,null,null,null,null,null,null,null,null,{"$f":"IF(ISBLANK($R911)=TRUE,\"\",VLOOKUP($R911,TAXONOMY!$A$1:$G$959,7,FALSE))","v":""},{"$f":"IF(ISBLANK($R911)=TRUE,\"\",VLOOKUP($R911,TAXONOMY!$A$1:$G$959,6,FALSE))","v":""},{"$f":"IF(ISBLANK($R911)=TRUE,\"\",VLOOKUP($R911,TAXONOMY!$A$1:$G$959,5,FALSE))","v":""},{"$f":"IF(ISBLANK($R911)=TRUE,\"\",VLOOKUP($R911,TAXONOMY!$A$1:$G$959,4,FALSE))","v":""},{"$f":"IF(ISBLANK($R911)=TRUE,\"\",VLOOKUP($R911,TAXONOMY!$A$1:$G$959,3,FALSE))","v":""},{"$f":"IF(ISBLANK($R911)=TRUE,\"\",VLOOKUP($R911,TAXONOMY!$A$1:$H$959,2,FALSE))","v":""}]
[null,null,null,null,null,null,null,null,null,null,null,{"$f":"IF(ISBLANK($R912)=TRUE,\"\",VLOOKUP($R912,TAXONOMY!$A$1:$G$959,7,FALSE))","v":""},{"$f":"IF(ISBLANK($R912)=TRUE,\"\",VLOOKUP($R912,TAXONOMY!$A$1:$G$959,6,FALSE))","v":""},{"$f":"IF(ISBLANK($R912)=TRUE,\"\",VLOOKUP($R912,TAXONOMY!$A$1:$G$959,5,FALSE))","v":""},{"$f":"IF(ISBLANK($R912)=TRUE,\"\",VLOOKUP($R912,TAXONOMY!$A$1:$G$959,4,FALSE))","v":""},{"$f":"IF(ISBLANK($R912)=TRUE,\"\",VLOOKUP($R912,TAXONOMY!$A$1:$G$959,3,FALSE))","v":""},{"$f":"IF(ISBLANK($R912)=TRUE,\"\",VLOOKUP($R912,TAXONOMY!$A$1:$H$959,2,FALSE))","v":""}]
[null,null,null,null,null,null,null,null,null,null,null,{"$f":"IF(ISBLANK($R913)=TRUE,\"\",VLOOKUP($R913,TAXONOMY!$A$1:$G$959,7,FALSE))","v":""},{"$f":"IF(ISBLANK($R913)=TRUE,\"\",VLOOKUP($R913,TAXONOMY!$A$1:$G$959,6,FALSE))","v":""},{"$f":"IF(ISBLANK($R913)=TRUE,\"\",VLOOKUP($R913,TAXONOMY!$A$1:$G$959,5,FALSE))","v":""},{"$f":"IF(ISBLANK($R913)=TRUE,\"\",VLOOKUP($R913,TAXONOMY!$A$1:$G$959,4,FALSE))","v":""},{"$f":"IF(ISBLANK($R913)=TRUE,\"\",VLOOKUP($R913,TAXONOMY!$A$1:$G$959,3,FALSE))","v":""},{"$f":"IF(ISBLANK($R913)=TRUE,\"\",VLOOKUP($R913,TAXONOMY!$A$1:$H$959,2,FALSE))","v":""}]
[null,null,null,null,null,null,null,null,null,null,null,{"$f":"IF(ISBLANK($R914)=TRUE,\"\",VLOOKUP($R914,TAXONOMY!$A$1:$G$959,7,FALSE))","v":""},{"$f":"IF(ISBLANK($R914)=TRUE,\"\",VLOOKUP($R914,TAXONOMY!$A$1:$G$959,6,FALSE))","v":""},{"$f":"IF(ISBLANK($R914)=TRUE,\"\",VLOOKUP($R914,TAXONOMY!$A$1:$G$959,5,FALSE))","v":""},{"$f":"IF(ISBLANK($R914)=TRUE,\"\",VLOOKUP($R914,TAXONOMY!$A$1:$G$959,4,FALSE))","v":""},{"$f":"IF(ISBLANK($R914)=TRUE,\"\",VLOOKUP($R914,TAXONOMY!$A$1:$G$959,3,FALSE))","v":""},{"$f":"IF(ISBLANK($R914)=TRUE,\"\",VLOOKUP($R914,TAXONOMY!$A$1:$H$959,2,FALSE))","v":""}]
[null,null,null,null,null,null,null,null,null,null,null,{"$f":"IF(ISBLANK($R915)=TRUE,\"\",VLOOKUP($R915,TAXONOMY!$A$1:$G$959,7,FALSE))","v":""},{"$f":"IF(ISBLANK($R915)=TRUE,\"\",VLOOKUP($R915,TAXONOMY!$A$1:$G$959,6,FALSE))","v":""},{"$f":"IF(ISBLANK($R915)=TRUE,\"\",VLOOKUP($R915,TAXONOMY!$A$1:$G$959,5,FALSE))","v":""},{"$f":"IF(ISBLANK($R915)=TRUE,\"\",VLOOKUP($R915,TAXONOMY!$A$1:$G$959,4,FALSE))","v":""},{"$f":"IF(ISBLANK($R915)=TRUE,\"\",VLOOKUP($R915,TAXONOMY!$A$1:$G$959,3,FALSE))","v":""},{"$f":"IF(ISBLANK($R915)=TRUE,\"\",VLOOKUP($R915,TAXONOMY!$A$1:$H$959,2,FALSE))","v":""}]
[null,null,null,null,null,null,null,null,null,null,null,{"$f":"IF(ISBLANK($R916)=TRUE,\"\",VLOOKUP($R916,TAXONOMY!$A$1:$G$959,7,FALSE))","v":""},{"$f":"IF(ISBLANK($R916)=TRUE,\"\",VLOOKUP($R916,TAXONOMY!$A$1:$G$959,6,FALSE))","v":""},{"$f":"IF(ISBLANK($R916)=TRUE,\"\",VLOOKUP($R916,TAXONOMY!$A$1:$G$959,5,FALSE))","v":""},{"$f":"IF(ISBLANK($R916)=TRUE,\"\",VLOOKUP($R916,TAXONOMY!$A$1:$G$959,4,FALSE))","v":""},{"$f":"IF(ISBLANK($R916)=TRUE,\"\",VLOOKUP($R916,TAXONOMY!$A$1:$G$959,3,FALSE))","v":""},{"$f":"IF(ISBLANK($R916)=TRUE,\"\",VLOOKUP($R916,TAXONOMY!$A$1:$H$959,2,FALSE))","v":""}]
[null,null,null,null,null,null,null,null,null,null,null,{"$f":"IF(ISBLANK($R917)=TRUE,\"\",VLOOKUP($R917,TAXONOMY!$A$1:$G$959,7,FALSE))","v":""},{"$f":"IF(ISBLANK($R917)=TRUE,\"\",VLOOKUP($R917,TAXONOMY!$A$1:$G$959,6,FALSE))","v":""},{"$f":"IF(ISBLANK($R917)=TRUE,\"\",VLOOKUP($R917,TAXONOMY!$A$1:$G$959,5,FALSE))","v":""},{"$f":"IF(ISBLANK($R917)=TRUE,\"\",VLOOKUP($R917,TAXONOMY!$A$1:$G$959,4,FALSE))","v":""},{"$f":"IF(ISBLANK($R917)=TRUE,\"\",VLOOKUP($R917,TAXONOMY!$A$1:$G$959,3,FALSE))","v":""},{"$f":"IF(ISBLANK($R917)=TRUE,\"\",VLOOKUP($R917,TAXONOMY!$A$1:$H$959,2,FALSE))","v":""}]
[null,null,null,null,null,null,null,null,null,null,null,{"$f":"IF(ISBLANK($R918)=TRUE,\"\",VLOOKUP($R918,TAXONOMY!$A$1:$G$959,7,FALSE))","v":""},{"$f":"IF(ISBLANK($R918)=TRUE,\"\",VLOOKUP($R918,TAXONOMY!$A$1:$G$959,6,FALSE))","v":""},{"$f":"IF(ISBLANK($R918)=TRUE,\"\",VLOOKUP($R918,TAXONOMY!$A$1:$G$959,5,FALSE))","v":""},{"$f":"IF(ISBLANK($R918)=TRUE,\"\",VLOOKUP($R918,TAXONOMY!$A$1:$G$959,4,FALSE))","v":""},{"$f":"IF(ISBLANK($R918)=TRUE,\"\",VLOOKUP($R918,TAXONOMY!$A$1:$G$959,3,FALSE))","v":""},{"$f":"IF(ISBLANK($R918)=TRUE,\"\",VLOOKUP($R918,TAXONOMY!$A$1:$H$959,2,FALSE))","v":""}]
[null,null,null,null,null,null,null,null,null,null,null,{"$f":"IF(ISBLANK($R919)=TRUE,\"\",VLOOKUP($R919,TAXONOMY!$A$1:$G$959,7,FALSE))","v":""},{"$f":"IF(ISBLANK($R919)=TRUE,\"\",VLOOKUP($R919,TAXONOMY!$A$1:$G$959,6,FALSE))","v":""},{"$f":"IF(ISBLANK($R919)=TRUE,\"\",VLOOKUP($R919,TAXONOMY!$A$1:$G$959,5,FALSE))","v":""},{"$f":"IF(ISBLANK($R919)=TRUE,\"\",VLOOKUP($R919,TAXONOMY!$A$1:$G$959,4,FALSE))","v":""},{"$f":"IF(ISBLANK($R919)=TRUE,\"\",VLOOKUP($R919,TAXONOMY!$A$1:$G$959,3,FALSE))","v":""},{"$f":"IF(ISBLANK($R919)=TRUE,\"\",VLOOKUP($R919,TAXONOMY!$A$1:$H$959,2,FALSE))","v":""}]
[null,null,null,null,null,null,null,null,null,null,null,{"$f":"IF(ISBLANK($R920)=TRUE,\"\",VLOOKUP($R920,TAXONOMY!$A$1:$G$959,7,FALSE))","v":""},{"$f":"IF(ISBLANK($R920)=TRUE,\"\",VLOOKUP($R920,TAXONOMY!$A$1:$G$959,6,FALSE))","v":""},{"$f":"IF(ISBLANK($R920)=TRUE,\"\",VLOOKUP($R920,TAXONOMY!$A$1:$G$959,5,FALSE))","v":""},{"$f":"IF(ISBLANK($R920)=TRUE,\"\",VLOOKUP($R920,TAXONOMY!$A$1:$G$959,4,FALSE))","v":""},{"$f":"IF(ISBLANK($R920)=TRUE,\"\",VLOOKUP($R920,TAXONOMY!$A$1:$G$959,3,FALSE))","v":""},{"$f":"IF(ISBLANK($R920)=TRUE,\"\",VLOOKUP($R920,TAXONOMY!$A$1:$H$959,2,FALSE))","v":""}]
[null,null,null,null,null,null,null,null,null,null,null,{"$f":"IF(ISBLANK($R921)=TRUE,\"\",VLOOKUP($R921,TAXONOMY!$A$1:$G$959,7,FALSE))","v":""},{"$f":"IF(ISBLANK($R921)=TRUE,\"\",VLOOKUP($R921,TAXONOMY!$A$1:$G$959,6,FALSE))","v":""},{"$f":"IF(ISBLANK($R921)=TRUE,\"\",VLOOKUP($R921,TAXONOMY!$A$1:$G$959,5,FALSE))","v":""},{"$f":"IF(ISBLANK($R921)=TRUE,\"\",VLOOKUP($R921,TAXONOMY!$A$1:$G$959,4,FALSE))","v":""},{"$f":"IF(ISBLANK($R921)=TRUE,\"\",VLOOKUP($R921,TAXONOMY!$A$1:$G$959,3,FALSE))","v":""},{"$f":"IF(ISBLANK($R921)=TRUE,\"\",VLOOKUP($R921,TAXONOMY!$A$1:$H$959,2,FALSE))","v":""}]
[null,null,null,null,null,null,null,null,null,null,null,{"$f":"IF(ISBLANK($R922)=TRUE,\"\",VLOOKUP($R922,TAXONOMY!$A$1:$G$959,7,FALSE))","v":""},{"$f":"IF(ISBLANK($R922)=TRUE,\"\",VLOOKUP($R922,TAXONOMY!$A$1:$G$959,6,FALSE))","v":""},{"$f":"IF(ISBLANK($R922)=TRUE,\"\",VLOOKUP($R922,TAXONOMY!$A$1:$G$959,5,FALSE))","v":""},{"$f":"IF(ISBLANK($R922)=TRUE,\"\",VLOOKUP($R922,TAXONOMY!$A$1:$G$959,4,FALSE))","v":""},{"$f":"IF(ISBLANK($R922)=TRUE,\"\",VLOOKUP($R922,TAXONOMY!$A$1:$G$959,3,FALSE))","v":""},{"$f":"IF(ISBLANK($R922)=TRUE,\"\",VLOOKUP($R922,TAXONOMY!$A$1:$H$959,2,FALSE))","v":""}]
[null,null,null,null,null,null,null,null,null,null,null,{"$f":"IF(ISBLANK($R923)=TRUE,\"\",VLOOKUP($R923,TAXONOMY!$A$1:$G$959,7,FALSE))","v":""},{"$f":"IF(ISBLANK($R923)=TRUE,\"\",VLOOKUP($R923,TAXONOMY!$A$1:$G$959,6,FALSE))","v":""},{"$f":"IF(ISBLANK($R923)=TRUE,\"\",VLOOKUP($R923,TAXONOMY!$A$1:$G$959,5,FALSE))","v":""},{"$f":"IF(ISBLANK($R923)=TRUE,\"\",VLOOKUP($R923,TAXONOMY!$A$1:$G$959,4,FALSE))","v":""},{"$f":"IF(ISBLANK($R923)=TRUE,\"\",VLOOKUP($R923,TAXONOMY!$A$1:$G$959,3,FALSE))","v":""},{"$f":"IF(ISBLANK($R923)=TRUE,\"\",VLOOKUP($R923,TAXONOMY!$A$1:$H$959,2,FALSE))","v":""}]
[null,null,null,null,null,null,null,null,null,null,null,{"$f":"IF(ISBLANK($R924)=TRUE,\"\",VLOOKUP($R924,TAXONOMY!$A$1:$G$959,7,FALSE))","v":""},{"$f":"IF(ISBLANK($R924)=TRUE,\"\",VLOOKUP($R924,TAXONOMY!$A$1:$G$959,6,FALSE))","v":""},{"$f":"IF(ISBLANK($R924)=TRUE,\"\",VLOOKUP($R924,TAXONOMY!$A$1:$G$959,5,FALSE))","v":""},{"$f":"IF(ISBLANK($R924)=TRUE,\"\",VLOOKUP($R924,TAXONOMY!$A$1:$G$959,4,FALSE))","v":""},{"$f":"IF(ISBLANK($R924)=TRUE,\"\",VLOOKUP($R924,TAXONOMY!$A$1:$G$959,3,FALSE))","v":""},{"$f":"IF(ISBLANK($R924)=TRUE,\"\",VLOOKUP($R924,TAXONOMY!$A$1:$H$959,2,FALSE))","v":""}]
[null,null,null,null,null,null,null,null,null,null,null,{"$f":"IF(ISBLANK($R925)=TRUE,\"\",VLOOKUP($R925,TAXONOMY!$A$1:$G$959,7,FALSE))","v":""},{"$f":"IF(ISBLANK($R925)=TRUE,\"\",VLOOKUP($R925,TAXONOMY!$A$1:$G$959,6,FALSE))","v":""},{"$f":"IF(ISBLANK($R925)=TRUE,\"\",VLOOKUP($R925,TAXONOMY!$A$1:$G$959,5,FALSE))","v":""},{"$f":"IF(ISBLANK($R925)=TRUE,\"\",VLOOKUP($R925,TAXONOMY!$A$1:$G$959,4,FALSE))","v":""},{"$f":"IF(ISBLANK($R925)=TRUE,\"\",VLOOKUP($R925,TAXONOMY!$A$1:$G$959,3,FALSE))","v":""},{"$f":"IF(ISBLANK($R925)=TRUE,\"\",VLOOKUP($R925,TAXONOMY!$A$1:$H$959,2,FALSE))","v":""}]
[null,null,null,null,null,null,null,null,null,null,null,{"$f":"IF(ISBLANK($R926)=TRUE,\"\",VLOOKUP($R926,TAXONOMY!$A$1:$G$959,7,FALSE))","v":""},{"$f":"IF(ISBLANK($R926)=TRUE,\"\",VLOOKUP($R926,TAXONOMY!$A$1:$G$959,6,FALSE))","v":""},{"$f":"IF(ISBLANK($R926)=TRUE,\"\",VLOOKUP($R926,TAXONOMY!$A$1:$G$959,5,FALSE))","v":""},{"$f":"IF(ISBLANK($R926)=TRUE,\"\",VLOOKUP($R926,TAXONOMY!$A$1:$G$959,4,FALSE))","v":""},{"$f":"IF(ISBLANK($R926)=TRUE,\"\",VLOOKUP($R926,TAXONOMY!$A$1:$G$959,3,FALSE))","v":""},{"$f":"IF(ISBLANK($R926)=TRUE,\"\",VLOOKUP($R926,TAXONOMY!$A$1:$H$959,2,FALSE))","v":""}]
[null,null,null,null,null,null,null,null,null,null,null,{"$f":"IF(ISBLANK($R927)=TRUE,\"\",VLOOKUP($R927,TAXONOMY!$A$1:$G$959,7,FALSE))","v":""},{"$f":"IF(ISBLANK($R927)=TRUE,\"\",VLOOKUP($R927,TAXONOMY!$A$1:$G$959,6,FALSE))","v":""},{"$f":"IF(ISBLANK($R927)=TRUE,\"\",VLOOKUP($R927,TAXONOMY!$A$1:$G$959,5,FALSE))","v":""},{"$f":"IF(ISBLANK($R927)=TRUE,\"\",VLOOKUP($R927,TAXONOMY!$A$1:$G$959,4,FALSE))","v":""},{"$f":"IF(ISBLANK($R927)=TRUE,\"\",VLOOKUP($R927,TAXONOMY!$A$1:$G$959,3,FALSE))","v":""},{"$f":"IF(ISBLANK($R927)=TRUE,\"\",VLOOKUP($R927,TAXONOMY!$A$1:$H$959,2,FALSE))","v":""}]
[null,null,null,null,null,null,null,null,null,null,null,{"$f":"IF(ISBLANK($R928)=TRUE,\"\",VLOOKUP($R928,TAXONOMY!$A$1:$G$959,7,FALSE))","v":""},{"$f":"IF(ISBLANK($R928)=TRUE,\"\",VLOOKUP($R928,TAXONOMY!$A$1:$G$959,6,FALSE))","v":""},{"$f":"IF(ISBLANK($R928)=TRUE,\"\",VLOOKUP($R928,TAXONOMY!$A$1:$G$959,5,FALSE))","v":""},{"$f":"IF(ISBLANK($R928)=TRUE,\"\",VLOOKUP($R928,TAXONOMY!$A$1:$G$959,4,FALSE))","v":""},{"$f":"IF(ISBLANK($R928)=TRUE,\"\",VLOOKUP($R928,TAXONOMY!$A$1:$G$959,3,FALSE))","v":""},{"$f":"IF(ISBLANK($R928)=TRUE,\"\",VLOOKUP($R928,TAXONOMY!$A$1:$H$959,2,FALSE))","v":""}]
[null,null,null,null,null,null,null,null,null,null,null,{"$f":"IF(ISBLANK($R929)=TRUE,\"\",VLOOKUP($R929,TAXONOMY!$A$1:$G$959,7,FALSE))","v":""},{"$f":"IF(ISBLANK($R929)=TRUE,\"\",VLOOKUP($R929,TAXONOMY!$A$1:$G$959,6,FALSE))","v":""},{"$f":"IF(ISBLANK($R929)=TRUE,\"\",VLOOKUP($R929,TAXONOMY!$A$1:$G$959,5,FALSE))","v":""},{"$f":"IF(ISBLANK($R929)=TRUE,\"\",VLOOKUP($R929,TAXONOMY!$A$1:$G$959,4,FALSE))","v":""},{"$f":"IF(ISBLANK($R929)=TRUE,\"\",VLOOKUP($R929,TAXONOMY!$A$1:$G$959,3,FALSE))","v":""},{"$f":"IF(ISBLANK($R929)=TRUE,\"\",VLOOKUP($R929,TAXONOMY!$A$1:$H$959,2,FALSE))","v":""}]
[null,null,null,null,null,null,null,null,null,null,null,{"$f":"IF(ISBLANK($R930)=TRUE,\"\",VLOOKUP($R930,TAXONOMY!$A$1:$G$959,7,FALSE))","v":""},{"$f":"IF(ISBLANK($R930)=TRUE,\"\",VLOOKUP($R930,TAXONOMY!$A$1:$G$959,6,FALSE))","v":""},{"$f":"IF(ISBLANK($R930)=TRUE,\"\",VLOOKUP($R930,TAXONOMY!$A$1:$G$959,5,FALSE))","v":""},{"$f":"IF(ISBLANK($R930)=TRUE,\"\",VLOOKUP($R930,TAXONOMY!$A$1:$G$959,4,FALSE))","v":""},{"$f":"IF(ISBLANK($R930)=TRUE,\"\",VLOOKUP($R930,TAXONOMY!$A$1:$G$959,3,FALSE))","v":""},{"$f":"IF(ISBLANK($R930)=TRUE,\"\",VLOOKUP($R930,TAXONOMY!$A$1:$H$959,2,FALSE))","v":""}]
[null,null,null,null,null,null,null,null,null,null,null,{"$f":"IF(ISBLANK($R931)=TRUE,\"\",VLOOKUP($R931,TAXONOMY!$A$1:$G$959,7,FALSE))","v":""},{"$f":"IF(ISBLANK($R931)=TRUE,\"\",VLOOKUP($R931,TAXONOMY!$A$1:$G$959,6,FALSE))","v":""},{"$f":"IF(ISBLANK($R931)=TRUE,\"\",VLOOKUP($R931,TAXONOMY!$A$1:$G$959,5,FALSE))","v":""},{"$f":"IF(ISBLANK($R931)=TRUE,\"\",VLOOKUP($R931,TAXONOMY!$A$1:$G$959,4,FALSE))","v":""},{"$f":"IF(ISBLANK($R931)=TRUE,\"\",VLOOKUP($R931,TAXONOMY!$A$1:$G$959,3,FALSE))","v":""},{"$f":"IF(ISBLANK($R931)=TRUE,\"\",VLOOKUP($R931,TAXONOMY!$A$1:$H$959,2,FALSE))","v":""}]
[null,null,null,null,null,null,null,null,null,null,null,{"$f":"IF(ISBLANK($R932)=TRUE,\"\",VLOOKUP($R932,TAXONOMY!$A$1:$G$959,7,FALSE))","v":""},{"$f":"IF(ISBLANK($R932)=TRUE,\"\",VLOOKUP($R932,TAXONOMY!$A$1:$G$959,6,FALSE))","v":""},{"$f":"IF(ISBLANK($R932)=TRUE,\"\",VLOOKUP($R932,TAXONOMY!$A$1:$G$959,5,FALSE))","v":""},{"$f":"IF(ISBLANK($R932)=TRUE,\"\",VLOOKUP($R932,TAXONOMY!$A$1:$G$959,4,FALSE))","v":""},{"$f":"IF(ISBLANK($R932)=TRUE,\"\",VLOOKUP($R932,TAXONOMY!$A$1:$G$959,3,FALSE))","v":""},{"$f":"IF(ISBLANK($R932)=TRUE,\"\",VLOOKUP($R932,TAXONOMY!$A$1:$H$959,2,FALSE))","v":""}]
[null,null,null,null,null,null,null,null,null,null,null,{"$f":"IF(ISBLANK($R933)=TRUE,\"\",VLOOKUP($R933,TAXONOMY!$A$1:$G$959,7,FALSE))","v":""},{"$f":"IF(ISBLANK($R933)=TRUE,\"\",VLOOKUP($R933,TAXONOMY!$A$1:$G$959,6,FALSE))","v":""},{"$f":"IF(ISBLANK($R933)=TRUE,\"\",VLOOKUP($R933,TAXONOMY!$A$1:$G$959,5,FALSE))","v":""},{"$f":"IF(ISBLANK($R933)=TRUE,\"\",VLOOKUP($R933,TAXONOMY!$A$1:$G$959,4,FALSE))","v":""},{"$f":"IF(ISBLANK($R933)=TRUE,\"\",VLOOKUP($R933,TAXONOMY!$A$1:$G$959,3,FALSE))","v":""},{"$f":"IF(ISBLANK($R933)=TRUE,\"\",VLOOKUP($R933,TAXONOMY!$A$1:$H$959,2,FALSE))","v":""}]
[null,null,null,null,null,null,null,null,null,null,null,{"$f":"IF(ISBLANK($R934)=TRUE,\"\",VLOOKUP($R934,TAXONOMY!$A$1:$G$959,7,FALSE))","v":""},{"$f":"IF(ISBLANK($R934)=TRUE,\"\",VLOOKUP($R934,TAXONOMY!$A$1:$G$959,6,FALSE))","v":""},{"$f":"IF(ISBLANK($R934)=TRUE,\"\",VLOOKUP($R934,TAXONOMY!$A$1:$G$959,5,FALSE))","v":""},{"$f":"IF(ISBLANK($R934)=TRUE,\"\",VLOOKUP($R934,TAXONOMY!$A$1:$G$959,4,FALSE))","v":""},{"$f":"IF(ISBLANK($R934)=TRUE,\"\",VLOOKUP($R934,TAXONOMY!$A$1:$G$959,3,FALSE))","v":""},{"$f":"IF(ISBLANK($R934)=TRUE,\"\",VLOOKUP($R934,TAXONOMY!$A$1:$H$959,2,FALSE))","v":""}]
[null,null,null,null,null,null,null,null,null,null,null,{"$f":"IF(ISBLANK($R935)=TRUE,\"\",VLOOKUP($R935,TAXONOMY!$A$1:$G$959,7,FALSE))","v":""},{"$f":"IF(ISBLANK($R935)=TRUE,\"\",VLOOKUP($R935,TAXONOMY!$A$1:$G$959,6,FALSE))","v":""},{"$f":"IF(ISBLANK($R935)=TRUE,\"\",VLOOKUP($R935,TAXONOMY!$A$1:$G$959,5,FALSE))","v":""},{"$f":"IF(ISBLANK($R935)=TRUE,\"\",VLOOKUP($R935,TAXONOMY!$A$1:$G$959,4,FALSE))","v":""},{"$f":"IF(ISBLANK($R935)=TRUE,\"\",VLOOKUP($R935,TAXONOMY!$A$1:$G$959,3,FALSE))","v":""},{"$f":"IF(ISBLANK($R935)=TRUE,\"\",VLOOKUP($R935,TAXONOMY!$A$1:$H$959,2,FALSE))","v":""}]
[null,null,null,null,null,null,null,null,null,null,null,{"$f":"IF(ISBLANK($R936)=TRUE,\"\",VLOOKUP($R936,TAXONOMY!$A$1:$G$959,7,FALSE))","v":""},{"$f":"IF(ISBLANK($R936)=TRUE,\"\",VLOOKUP($R936,TAXONOMY!$A$1:$G$959,6,FALSE))","v":""},{"$f":"IF(ISBLANK($R936)=TRUE,\"\",VLOOKUP($R936,TAXONOMY!$A$1:$G$959,5,FALSE))","v":""},{"$f":"IF(ISBLANK($R936)=TRUE,\"\",VLOOKUP($R936,TAXONOMY!$A$1:$G$959,4,FALSE))","v":""},{"$f":"IF(ISBLANK($R936)=TRUE,\"\",VLOOKUP($R936,TAXONOMY!$A$1:$G$959,3,FALSE))","v":""},{"$f":"IF(ISBLANK($R936)=TRUE,\"\",VLOOKUP($R936,TAXONOMY!$A$1:$H$959,2,FALSE))","v":""}]
[null,null,null,null,null,null,null,null,null,null,null,{"$f":"IF(ISBLANK($R937)=TRUE,\"\",VLOOKUP($R937,TAXONOMY!$A$1:$G$959,7,FALSE))","v":""},{"$f":"IF(ISBLANK($R937)=TRUE,\"\",VLOOKUP($R937,TAXONOMY!$A$1:$G$959,6,FALSE))","v":""},{"$f":"IF(ISBLANK($R937)=TRUE,\"\",VLOOKUP($R937,TAXONOMY!$A$1:$G$959,5,FALSE))","v":""},{"$f":"IF(ISBLANK($R937)=TRUE,\"\",VLOOKUP($R937,TAXONOMY!$A$1:$G$959,4,FALSE))","v":""},{"$f":"IF(ISBLANK($R937)=TRUE,\"\",VLOOKUP($R937,TAXONOMY!$A$1:$G$959,3,FALSE))","v":""},{"$f":"IF(ISBLANK($R937)=TRUE,\"\",VLOOKUP($R937,TAXONOMY!$A$1:$H$959,2,FALSE))","v":""}]
[null,null,null,null,null,null,null,null,null,null,null,{"$f":"IF(ISBLANK($R938)=TRUE,\"\",VLOOKUP($R938,TAXONOMY!$A$1:$G$959,7,FALSE))","v":""},{"$f":"IF(ISBLANK($R938)=TRUE,\"\",VLOOKUP($R938,TAXONOMY!$A$1:$G$959,6,FALSE))","v":""},{"$f":"IF(ISBLANK($R938)=TRUE,\"\",VLOOKUP($R938,TAXONOMY!$A$1:$G$959,5,FALSE))","v":""},{"$f":"IF(ISBLANK($R938)=TRUE,\"\",VLOOKUP($R938,TAXONOMY!$A$1:$G$959,4,FALSE))","v":""},{"$f":"IF(ISBLANK($R938)=TRUE,\"\",VLOOKUP($R938,TAXONOMY!$A$1:$G$959,3,FALSE))","v":""},{"$f":"IF(ISBLANK($R938)=TRUE,\"\",VLOOKUP($R938,TAXONOMY!$A$1:$H$959,2,FALSE))","v":""}]
[null,null,null,null,null,null,null,null,null,null,null,{"$f":"IF(ISBLANK($R939)=TRUE,\"\",VLOOKUP($R939,TAXONOMY!$A$1:$G$959,7,FALSE))","v":""},{"$f":"IF(ISBLANK($R939)=TRUE,\"\",VLOOKUP($R939,TAXONOMY!$A$1:$G$959,6,FALSE))","v":""},{"$f":"IF(ISBLANK($R939)=TRUE,\"\",VLOOKUP($R939,TAXONOMY!$A$1:$G$959,5,FALSE))","v":""},{"$f":"IF(ISBLANK($R939)=TRUE,\"\",VLOOKUP($R939,TAXONOMY!$A$1:$G$959,4,FALSE))","v":""},{"$f":"IF(ISBLANK($R939)=TRUE,\"\",VLOOKUP($R939,TAXONOMY!$A$1:$G$959,3,FALSE))","v":""},{"$f":"IF(ISBLANK($R939)=TRUE,\"\",VLOOKUP($R939,TAXONOMY!$A$1:$H$959,2,FALSE))","v":""}]
[null,null,null,null,null,null,null,null,null,null,null,{"$f":"IF(ISBLANK($R940)=TRUE,\"\",VLOOKUP($R940,TAXONOMY!$A$1:$G$959,7,FALSE))","v":""},{"$f":"IF(ISBLANK($R940)=TRUE,\"\",VLOOKUP($R940,TAXONOMY!$A$1:$G$959,6,FALSE))","v":""},{"$f":"IF(ISBLANK($R940)=TRUE,\"\",VLOOKUP($R940,TAXONOMY!$A$1:$G$959,5,FALSE))","v":""},{"$f":"IF(ISBLANK($R940)=TRUE,\"\",VLOOKUP($R940,TAXONOMY!$A$1:$G$959,4,FALSE))","v":""},{"$f":"IF(ISBLANK($R940)=TRUE,\"\",VLOOKUP($R940,TAXONOMY!$A$1:$G$959,3,FALSE))","v":""},{"$f":"IF(ISBLANK($R940)=TRUE,\"\",VLOOKUP($R940,TAXONOMY!$A$1:$H$959,2,FALSE))","v":""}]
[null,null,null,null,null,null,null,null,null,null,null,{"$f":"IF(ISBLANK($R941)=TRUE,\"\",VLOOKUP($R941,TAXONOMY!$A$1:$G$959,7,FALSE))","v":""},{"$f":"IF(ISBLANK($R941)=TRUE,\"\",VLOOKUP($R941,TAXONOMY!$A$1:$G$959,6,FALSE))","v":""},{"$f":"IF(ISBLANK($R941)=TRUE,\"\",VLOOKUP($R941,TAXONOMY!$A$1:$G$959,5,FALSE))","v":""},{"$f":"IF(ISBLANK($R941)=TRUE,\"\",VLOOKUP($R941,TAXONOMY!$A$1:$G$959,4,FALSE))","v":""},{"$f":"IF(ISBLANK($R941)=TRUE,\"\",VLOOKUP($R941,TAXONOMY!$A$1:$G$959,3,FALSE))","v":""},{"$f":"IF(ISBLANK($R941)=TRUE,\"\",VLOOKUP($R941,TAXONOMY!$A$1:$H$959,2,FALSE))","v":""}]
[null,null,null,null,null,null,null,null,null,null,null,{"$f":"IF(ISBLANK($R942)=TRUE,\"\",VLOOKUP($R942,TAXONOMY!$A$1:$G$959,7,FALSE))","v":""},{"$f":"IF(ISBLANK($R942)=TRUE,\"\",VLOOKUP($R942,TAXONOMY!$A$1:$G$959,6,FALSE))","v":""},{"$f":"IF(ISBLANK($R942)=TRUE,\"\",VLOOKUP($R942,TAXONOMY!$A$1:$G$959,5,FALSE))","v":""},{"$f":"IF(ISBLANK($R942)=TRUE,\"\",VLOOKUP($R942,TAXONOMY!$A$1:$G$959,4,FALSE))","v":""},{"$f":"IF(ISBLANK($R942)=TRUE,\"\",VLOOKUP($R942,TAXONOMY!$A$1:$G$959,3,FALSE))","v":""},{"$f":"IF(ISBLANK($R942)=TRUE,\"\",VLOOKUP($R942,TAXONOMY!$A$1:$H$959,2,FALSE))","v":""}]
[null,null,null,null,null,null,null,null,null,null,null,{"$f":"IF(ISBLANK($R943)=TRUE,\"\",VLOOKUP($R943,TAXONOMY!$A$1:$G$959,7,FALSE))","v":""},{"$f":"IF(ISBLANK($R943)=TRUE,\"\",VLOOKUP($R943,TAXONOMY!$A$1:$G$959,6,FALSE))","v":""},{"$f":"IF(ISBLANK($R943)=TRUE,\"\",VLOOKUP($R943,TAXONOMY!$A$1:$G$959,5,FALSE))","v":""},{"$f":"IF(ISBLANK($R943)=TRUE,\"\",VLOOKUP($R943,TAXONOMY!$A$1:$G$959,4,FALSE))","v":""},{"$f":"IF(ISBLANK($R943)=TRUE,\"\",VLOOKUP($R943,TAXONOMY!$A$1:$G$959,3,FALSE))","v":""},{"$f":"IF(ISBLANK($R943)=TRUE,\"\",VLOOKUP($R943,TAXONOMY!$A$1:$H$959,2,FALSE))","v":""}]
[null,null,null,null,null,null,null,null,null,null,null,{"$f":"IF(ISBLANK($R944)=TRUE,\"\",VLOOKUP($R944,TAXONOMY!$A$1:$G$959,7,FALSE))","v":""},{"$f":"IF(ISBLANK($R944)=TRUE,\"\",VLOOKUP($R944,TAXONOMY!$A$1:$G$959,6,FALSE))","v":""},{"$f":"IF(ISBLANK($R944)=TRUE,\"\",VLOOKUP($R944,TAXONOMY!$A$1:$G$959,5,FALSE))","v":""},{"$f":"IF(ISBLANK($R944)=TRUE,\"\",VLOOKUP($R944,TAXONOMY!$A$1:$G$959,4,FALSE))","v":""},{"$f":"IF(ISBLANK($R944)=TRUE,\"\",VLOOKUP($R944,TAXONOMY!$A$1:$G$959,3,FALSE))","v":""},{"$f":"IF(ISBLANK($R944)=TRUE,\"\",VLOOKUP($R944,TAXONOMY!$A$1:$H$959,2,FALSE))","v":""}]
[null,null,null,null,null,null,null,null,null,null,null,{"$f":"IF(ISBLANK($R945)=TRUE,\"\",VLOOKUP($R945,TAXONOMY!$A$1:$G$959,7,FALSE))","v":""},{"$f":"IF(ISBLANK($R945)=TRUE,\"\",VLOOKUP($R945,TAXONOMY!$A$1:$G$959,6,FALSE))","v":""},{"$f":"IF(ISBLANK($R945)=TRUE,\"\",VLOOKUP($R945,TAXONOMY!$A$1:$G$959,5,FALSE))","v":""},{"$f":"IF(ISBLANK($R945)=TRUE,\"\",VLOOKUP($R945,TAXONOMY!$A$1:$G$959,4,FALSE))","v":""},{"$f":"IF(ISBLANK($R945)=TRUE,\"\",VLOOKUP($R945,TAXONOMY!$A$1:$G$959,3,FALSE))","v":""},{"$f":"IF(ISBLANK($R945)=TRUE,\"\",VLOOKUP($R945,TAXONOMY!$A$1:$H$959,2,FALSE))","v":""}]
[null,null,null,null,null,null,null,null,null,null,null,{"$f":"IF(ISBLANK($R946)=TRUE,\"\",VLOOKUP($R946,TAXONOMY!$A$1:$G$959,7,FALSE))","v":""},{"$f":"IF(ISBLANK($R946)=TRUE,\"\",VLOOKUP($R946,TAXONOMY!$A$1:$G$959,6,FALSE))","v":""},{"$f":"IF(ISBLANK($R946)=TRUE,\"\",VLOOKUP($R946,TAXONOMY!$A$1:$G$959,5,FALSE))","v":""},{"$f":"IF(ISBLANK($R946)=TRUE,\"\",VLOOKUP($R946,TAXONOMY!$A$1:$G$959,4,FALSE))","v":""},{"$f":"IF(ISBLANK($R946)=TRUE,\"\",VLOOKUP($R946,TAXONOMY!$A$1:$G$959,3,FALSE))","v":""},{"$f":"IF(ISBLANK($R946)=TRUE,\"\",VLOOKUP($R946,TAXONOMY!$A$1:$H$959,2,FALSE))","v":""}]
[null,null,null,null,null,null,null,null,null,null,null,{"$f":"IF(ISBLANK($R947)=TRUE,\"\",VLOOKUP($R947,TAXONOMY!$A$1:$G$959,7,FALSE))","v":""},{"$f":"IF(ISBLANK($R947)=TRUE,\"\",VLOOKUP($R947,TAXONOMY!$A$1:$G$959,6,FALSE))","v":""},{"$f":"IF(ISBLANK($R947)=TRUE,\"\",VLOOKUP($R947,TAXONOMY!$A$1:$G$959,5,FALSE))","v":""},{"$f":"IF(ISBLANK($R947)=TRUE,\"\",VLOOKUP($R947,TAXONOMY!$A$1:$G$959,4,FALSE))","v":""},{"$f":"IF(ISBLANK($R947)=TRUE,\"\",VLOOKUP($R947,TAXONOMY!$A$1:$G$959,3,FALSE))","v":""},{"$f":"IF(ISBLANK($R947)=TRUE,\"\",VLOOKUP($R947,TAXONOMY!$A$1:$H$959,2,FALSE))","v":""}]
[null,null,null,null,null,null,null,null,null,null,null,{"$f":"IF(ISBLANK($R948)=TRUE,\"\",VLOOKUP($R948,TAXONOMY!$A$1:$G$959,7,FALSE))","v":""},{"$f":"IF(ISBLANK($R948)=TRUE,\"\",VLOOKUP($R948,TAXONOMY!$A$1:$G$959,6,FALSE))","v":""},{"$f":"IF(ISBLANK($R948)=TRUE,\"\",VLOOKUP($R948,TAXONOMY!$A$1:$G$959,5,FALSE))","v":""},{"$f":"IF(ISBLANK($R948)=TRUE,\"\",VLOOKUP($R948,TAXONOMY!$A$1:$G$959,4,FALSE))","v":""},{"$f":"IF(ISBLANK($R948)=TRUE,\"\",VLOOKUP($R948,TAXONOMY!$A$1:$G$959,3,FALSE))","v":""},{"$f":"IF(ISBLANK($R948)=TRUE,\"\",VLOOKUP($R948,TAXONOMY!$A$1:$H$959,2,FALSE))","v":""}]
[null,null,null,null,null,null,null,null,null,null,null,{"$f":"IF(ISBLANK($R949)=TRUE,\"\",VLOOKUP($R949,TAXONOMY!$A$1:$G$959,7,FALSE))","v":""},{"$f":"IF(ISBLANK($R949)=TRUE,\"\",VLOOKUP($R949,TAXONOMY!$A$1:$G$959,6,FALSE))","v":""},{"$f":"IF(ISBLANK($R949)=TRUE,\"\",VLOOKUP($R949,TAXONOMY!$A$1:$G$959,5,FALSE))","v":""},{"$f":"IF(ISBLANK($R949)=TRUE,\"\",VLOOKUP($R949,TAXONOMY!$A$1:$G$959,4,FALSE))","v":""},{"$f":"IF(ISBLANK($R949)=TRUE,\"\",VLOOKUP($R949,TAXONOMY!$A$1:$G$959,3,FALSE))","v":""},{"$f":"IF(ISBLANK($R949)=TRUE,\"\",VLOOKUP($R949,TAXONOMY!$A$1:$H$959,2,FALSE))","v":""}]
[null,null,null,null,null,null,null,null,null,null,null,{"$f":"IF(ISBLANK($R950)=TRUE,\"\",VLOOKUP($R950,TAXONOMY!$A$1:$G$959,7,FALSE))","v":""},{"$f":"IF(ISBLANK($R950)=TRUE,\"\",VLOOKUP($R950,TAXONOMY!$A$1:$G$959,6,FALSE))","v":""},{"$f":"IF(ISBLANK($R950)=TRUE,\"\",VLOOKUP($R950,TAXONOMY!$A$1:$G$959,5,FALSE))","v":""},{"$f":"IF(ISBLANK($R950)=TRUE,\"\",VLOOKUP($R950,TAXONOMY!$A$1:$G$959,4,FALSE))","v":""},{"$f":"IF(ISBLANK($R950)=TRUE,\"\",VLOOKUP($R950,TAXONOMY!$A$1:$G$959,3,FALSE))","v":""},{"$f":"IF(ISBLANK($R950)=TRUE,\"\",VLOOKUP($R950,TAXONOMY!$A$1:$H$959,2,FALSE))","v":""}]
[null,null,null,null,null,null,null,null,null,null,null,{"$f":"IF(ISBLANK($R951)=TRUE,\"\",VLOOKUP($R951,TAXONOMY!$A$1:$G$959,7,FALSE))","v":""},{"$f":"IF(ISBLANK($R951)=TRUE,\"\",VLOOKUP($R951,TAXONOMY!$A$1:$G$959,6,FALSE))","v":""},{"$f":"IF(ISBLANK($R951)=TRUE,\"\",VLOOKUP($R951,TAXONOMY!$A$1:$G$959,5,FALSE))","v":""},{"$f":"IF(ISBLANK($R951)=TRUE,\"\",VLOOKUP($R951,TAXONOMY!$A$1:$G$959,4,FALSE))","v":""},{"$f":"IF(ISBLANK($R951)=TRUE,\"\",VLOOKUP($R951,TAXONOMY!$A$1:$G$959,3,FALSE))","v":""},{"$f":"IF(ISBLANK($R951)=TRUE,\"\",VLOOKUP($R951,TAXONOMY!$A$1:$H$959,2,FALSE))","v":""}]
[null,null,null,null,null,null,null,null,null,null,null,{"$f":"IF(ISBLANK($R952)=TRUE,\"\",VLOOKUP($R952,TAXONOMY!$A$1:$G$959,7,FALSE))","v":""},{"$f":"IF(ISBLANK($R952)=TRUE,\"\",VLOOKUP($R952,TAXONOMY!$A$1:$G$959,6,FALSE))","v":""},{"$f":"IF(ISBLANK($R952)=TRUE,\"\",VLOOKUP($R952,TAXONOMY!$A$1:$G$959,5,FALSE))","v":""},{"$f":"IF(ISBLANK($R952)=TRUE,\"\",VLOOKUP($R952,TAXONOMY!$A$1:$G$959,4,FALSE))","v":""},{"$f":"IF(ISBLANK($R952)=TRUE,\"\",VLOOKUP($R952,TAXONOMY!$A$1:$G$959,3,FALSE))","v":""},{"$f":"IF(ISBLANK($R952)=TRUE,\"\",VLOOKUP($R952,TAXONOMY!$A$1:$H$959,2,FALSE))","v":""}]
[null,null,null,null,null,null,null,null,null,null,null,{"$f":"IF(ISBLANK($R953)=TRUE,\"\",VLOOKUP($R953,TAXONOMY!$A$1:$G$959,7,FALSE))","v":""},{"$f":"IF(ISBLANK($R953)=TRUE,\"\",VLOOKUP($R953,TAXONOMY!$A$1:$G$959,6,FALSE))","v":""},{"$f":"IF(ISBLANK($R953)=TRUE,\"\",VLOOKUP($R953,TAXONOMY!$A$1:$G$959,5,FALSE))","v":""},{"$f":"IF(ISBLANK($R953)=TRUE,\"\",VLOOKUP($R953,TAXONOMY!$A$1:$G$959,4,FALSE))","v":""},{"$f":"IF(ISBLANK($R953)=TRUE,\"\",VLOOKUP($R953,TAXONOMY!$A$1:$G$959,3,FALSE))","v":""},{"$f":"IF(ISBLANK($R953)=TRUE,\"\",VLOOKUP($R953,TAXONOMY!$A$1:$H$959,2,FALSE))","v":""}]
[null,null,null,null,null,null,null,null,null,null,null,{"$f":"IF(ISBLANK($R954)=TRUE,\"\",VLOOKUP($R954,TAXONOMY!$A$1:$G$959,7,FALSE))","v":""},{"$f":"IF(ISBLANK($R954)=TRUE,\"\",VLOOKUP($R954,TAXONOMY!$A$1:$G$959,6,FALSE))","v":""},{"$f":"IF(ISBLANK($R954)=TRUE,\"\",VLOOKUP($R954,TAXONOMY!$A$1:$G$959,5,FALSE))","v":""},{"$f":"IF(ISBLANK($R954)=TRUE,\"\",VLOOKUP($R954,TAXONOMY!$A$1:$G$959,4,FALSE))","v":""},{"$f":"IF(ISBLANK($R954)=TRUE,\"\",VLOOKUP($R954,TAXONOMY!$A$1:$G$959,3,FALSE))","v":""},{"$f":"IF(ISBLANK($R954)=TRUE,\"\",VLOOKUP($R954,TAXONOMY!$A$1:$H$959,2,FALSE))","v":""}]
[null,null,null,null,null,null,null,null,null,null,null,{"$f":"IF(ISBLANK($R955)=TRUE,\"\",VLOOKUP($R955,TAXONOMY!$A$1:$G$959,7,FALSE))","v":""},{"$f":"IF(ISBLANK($R955)=TRUE,\"\",VLOOKUP($R955,TAXONOMY!$A$1:$G$959,6,FALSE))","v":""},{"$f":"IF(ISBLANK($R955)=TRUE,\"\",VLOOKUP($R955,TAXONOMY!$A$1:$G$959,5,FALSE))","v":""},{"$f":"IF(ISBLANK($R955)=TRUE,\"\",VLOOKUP($R955,TAXONOMY!$A$1:$G$959,4,FALSE))","v":""},{"$f":"IF(ISBLANK($R955)=TRUE,\"\",VLOOKUP($R955,TAXONOMY!$A$1:$G$959,3,FALSE))","v":""},{"$f":"IF(ISBLANK($R955)=TRUE,\"\",VLOOKUP($R955,TAXONOMY!$A$1:$H$959,2,FALSE))","v":""}]
[null,null,null,null,null,null,null,null,null,null,null,{"$f":"IF(ISBLANK($R956)=TRUE,\"\",VLOOKUP($R956,TAXONOMY!$A$1:$G$959,7,FALSE))","v":""},{"$f":"IF(ISBLANK($R956)=TRUE,\"\",VLOOKUP($R956,TAXONOMY!$A$1:$G$959,6,FALSE))","v":""},{"$f":"IF(ISBLANK($R956)=TRUE,\"\",VLOOKUP($R956,TAXONOMY!$A$1:$G$959,5,FALSE))","v":""},{"$f":"IF(ISBLANK($R956)=TRUE,\"\",VLOOKUP($R956,TAXONOMY!$A$1:$G$959,4,FALSE))","v":""},{"$f":"IF(ISBLANK($R956)=TRUE,\"\",VLOOKUP($R956,TAXONOMY!$A$1:$G$959,3,FALSE))","v":""},{"$f":"IF(ISBLANK($R956)=TRUE,\"\",VLOOKUP($R956,TAXONOMY!$A$1:$H$959,2,FALSE))","v":""}]
[null,null,null,null,null,null,null,null,null,null,null,{"$f":"IF(ISBLANK($R957)=TRUE,\"\",VLOOKUP($R957,TAXONOMY!$A$1:$G$959,7,FALSE))","v":""},{"$f":"IF(ISBLANK($R957)=TRUE,\"\",VLOOKUP($R957,TAXONOMY!$A$1:$G$959,6,FALSE))","v":""},{"$f":"IF(ISBLANK($R957)=TRUE,\"\",VLOOKUP($R957,TAXONOMY!$A$1:$G$959,5,FALSE))","v":""},{"$f":"IF(ISBLANK($R957)=TRUE,\"\",VLOOKUP($R957,TAXONOMY!$A$1:$G$959,4,FALSE))","v":""},{"$f":"IF(ISBLANK($R957)=TRUE,\"\",VLOOKUP($R957,TAXONOMY!$A$1:$G$959,3,FALSE))","v":""},{"$f":"IF(ISBLANK($R957)=TRUE,\"\",VLOOKUP($R957,TAXONOMY!$A$1:$H$959,2,FALSE))","v":""}]
[null,null,null,null,null,null,null,null,null,null,null,{"$f":"IF(ISBLANK($R958)=TRUE,\"\",VLOOKUP($R958,TAXONOMY!$A$1:$G$959,7,FALSE))","v":""},{"$f":"IF(ISBLANK($R958)=TRUE,\"\",VLOOKUP($R958,TAXONOMY!$A$1:$G$959,6,FALSE))","v":""},{"$f":"IF(ISBLANK($R958)=TRUE,\"\",VLOOKUP($R958,TAXONOMY!$A$1:$G$959,5,FALSE))","v":""},{"$f":"IF(ISBLANK($R958)=TRUE,\"\",VLOOKUP($R958,TAXONOMY!$A$1:$G$959,4,FALSE))","v":""},{"$f":"IF(ISBLANK($R958)=TRUE,\"\",VLOOKUP($R958,TAXONOMY!$A$1:$G$959,3,FALSE))","v":""},{"$f":"IF(ISBLANK($R958)=TRUE,\"\",VLOOKUP($R958,TAXONOMY!$A$1:$H$959,2,FALSE))","v":""}]
[null,null,null,null,null,null,null,null,null,null,null,{"$f":"IF(ISBLANK($R959)=TRUE,\"\",VLOOKUP($R959,TAXONOMY!$A$1:$G$959,7,FALSE))","v":""},{"$f":"IF(ISBLANK($R959)=TRUE,\"\",VLOOKUP($R959,TAXONOMY!$A$1:$G$959,6,FALSE))","v":""},{"$f":"IF(ISBLANK($R959)=TRUE,\"\",VLOOKUP($R959,TAXONOMY!$A$1:$G$959,5,FALSE))","v":""},{"$f":"IF(ISBLANK($R959)=TRUE,\"\",VLOOKUP($R959,TAXONOMY!$A$1:$G$959,4,FALSE))","v":""},{"$f":"IF(ISBLANK($R959)=TRUE,\"\",VLOOKUP($R959,TAXONOMY!$A$1:$G$959,3,FALSE))","v":""},{"$f":"IF(ISBLANK($R959)=TRUE,\"\",VLOOKUP($R959,TAXONOMY!$A$1:$H$959,2,FALSE))","v":""}]
[null,null,null,null,null,null,null,null,null,null,null,{"$f":"IF(ISBLANK($R960)=TRUE,\"\",VLOOKUP($R960,TAXONOMY!$A$1:$G$959,7,FALSE))","v":""},{"$f":"IF(ISBLANK($R960)=TRUE,\"\",VLOOKUP($R960,TAXONOMY!$A$1:$G$959,6,FALSE))","v":""},{"$f":"IF(ISBLANK($R960)=TRUE,\"\",VLOOKUP($R960,TAXONOMY!$A$1:$G$959,5,FALSE))","v":""},{"$f":"IF(ISBLANK($R960)=TRUE,\"\",VLOOKUP($R960,TAXONOMY!$A$1:$G$959,4,FALSE))","v":""},{"$f":"IF(ISBLANK($R960)=TRUE,\"\",VLOOKUP($R960,TAXONOMY!$A$1:$G$959,3,FALSE))","v":""},{"$f":"IF(ISBLANK($R960)=TRUE,\"\",VLOOKUP($R960,TAXONOMY!$A$1:$H$959,2,FALSE))","v":""}]
[null,null,null,null,null,null,null,null,null,null,null,{"$f":"IF(ISBLANK($R961)=TRUE,\"\",VLOOKUP($R961,TAXONOMY!$A$1:$G$959,7,FALSE))","v":""},{"$f":"IF(ISBLANK($R961)=TRUE,\"\",VLOOKUP($R961,TAXONOMY!$A$1:$G$959,6,FALSE))","v":""},{"$f":"IF(ISBLANK($R961)=TRUE,\"\",VLOOKUP($R961,TAXONOMY!$A$1:$G$959,5,FALSE))","v":""},{"$f":"IF(ISBLANK($R961)=TRUE,\"\",VLOOKUP($R961,TAXONOMY!$A$1:$G$959,4,FALSE))","v":""},{"$f":"IF(ISBLANK($R961)=TRUE,\"\",VLOOKUP($R961,TAXONOMY!$A$1:$G$959,3,FALSE))","v":""},{"$f":"IF(ISBLANK($R961)=TRUE,\"\",VLOOKUP($R961,TAXONOMY!$A$1:$H$959,2,FALSE))","v":""}]
[null,null,null,null,null,null,null,null,null,null,null,{"$f":"IF(ISBLANK($R962)=TRUE,\"\",VLOOKUP($R962,TAXONOMY!$A$1:$G$959,7,FALSE))","v":""},{"$f":"IF(ISBLANK($R962)=TRUE,\"\",VLOOKUP($R962,TAXONOMY!$A$1:$G$959,6,FALSE))","v":""},{"$f":"IF(ISBLANK($R962)=TRUE,\"\",VLOOKUP($R962,TAXONOMY!$A$1:$G$959,5,FALSE))","v":""},{"$f":"IF(ISBLANK($R962)=TRUE,\"\",VLOOKUP($R962,TAXONOMY!$A$1:$G$959,4,FALSE))","v":""},{"$f":"IF(ISBLANK($R962)=TRUE,\"\",VLOOKUP($R962,TAXONOMY!$A$1:$G$959,3,FALSE))","v":""},{"$f":"IF(ISBLANK($R962)=TRUE,\"\",VLOOKUP($R962,TAXONOMY!$A$1:$H$959,2,FALSE))","v":""}]
[null,null,null,null,null,null,null,null,null,null,null,{"$f":"IF(ISBLANK($R963)=TRUE,\"\",VLOOKUP($R963,TAXONOMY!$A$1:$G$959,7,FALSE))","v":""},{"$f":"IF(ISBLANK($R963)=TRUE,\"\",VLOOKUP($R963,TAXONOMY!$A$1:$G$959,6,FALSE))","v":""},{"$f":"IF(ISBLANK($R963)=TRUE,\"\",VLOOKUP($R963,TAXONOMY!$A$1:$G$959,5,FALSE))","v":""},{"$f":"IF(ISBLANK($R963)=TRUE,\"\",VLOOKUP($R963,TAXONOMY!$A$1:$G$959,4,FALSE))","v":""},{"$f":"IF(ISBLANK($R963)=TRUE,\"\",VLOOKUP($R963,TAXONOMY!$A$1:$G$959,3,FALSE))","v":""},{"$f":"IF(ISBLANK($R963)=TRUE,\"\",VLOOKUP($R963,TAXONOMY!$A$1:$H$959,2,FALSE))","v":""}]
[null,null,null,null,null,null,null,null,null,null,null,{"$f":"IF(ISBLANK($R964)=TRUE,\"\",VLOOKUP($R964,TAXONOMY!$A$1:$G$959,7,FALSE))","v":""},{"$f":"IF(ISBLANK($R964)=TRUE,\"\",VLOOKUP($R964,TAXONOMY!$A$1:$G$959,6,FALSE))","v":""},{"$f":"IF(ISBLANK($R964)=TRUE,\"\",VLOOKUP($R964,TAXONOMY!$A$1:$G$959,5,FALSE))","v":""},{"$f":"IF(ISBLANK($R964)=TRUE,\"\",VLOOKUP($R964,TAXONOMY!$A$1:$G$959,4,FALSE))","v":""},{"$f":"IF(ISBLANK($R964)=TRUE,\"\",VLOOKUP($R964,TAXONOMY!$A$1:$G$959,3,FALSE))","v":""},{"$f":"IF(ISBLANK($R964)=TRUE,\"\",VLOOKUP($R964,TAXONOMY!$A$1:$H$959,2,FALSE))","v":""}]
[null,null,null,null,null,null,null,null,null,null,null,{"$f":"IF(ISBLANK($R965)=TRUE,\"\",VLOOKUP($R965,TAXONOMY!$A$1:$G$959,7,FALSE))","v":""},{"$f":"IF(ISBLANK($R965)=TRUE,\"\",VLOOKUP($R965,TAXONOMY!$A$1:$G$959,6,FALSE))","v":""},{"$f":"IF(ISBLANK($R965)=TRUE,\"\",VLOOKUP($R965,TAXONOMY!$A$1:$G$959,5,FALSE))","v":""},{"$f":"IF(ISBLANK($R965)=TRUE,\"\",VLOOKUP($R965,TAXONOMY!$A$1:$G$959,4,FALSE))","v":""},{"$f":"IF(ISBLANK($R965)=TRUE,\"\",VLOOKUP($R965,TAXONOMY!$A$1:$G$959,3,FALSE))","v":""},{"$f":"IF(ISBLANK($R965)=TRUE,\"\",VLOOKUP($R965,TAXONOMY!$A$1:$H$959,2,FALSE))","v":""}]
[null,null,null,null,null,null,null,null,null,null,null,{"$f":"IF(ISBLANK($R966)=TRUE,\"\",VLOOKUP($R966,TAXONOMY!$A$1:$G$959,7,FALSE))","v":""},{"$f":"IF(ISBLANK($R966)=TRUE,\"\",VLOOKUP($R966,TAXONOMY!$A$1:$G$959,6,FALSE))","v":""},{"$f":"IF(ISBLANK($R966)=TRUE,\"\",VLOOKUP($R966,TAXONOMY!$A$1:$G$959,5,FALSE))","v":""},{"$f":"IF(ISBLANK($R966)=TRUE,\"\",VLOOKUP($R966,TAXONOMY!$A$1:$G$959,4,FALSE))","v":""},{"$f":"IF(ISBLANK($R966)=TRUE,\"\",VLOOKUP($R966,TAXONOMY!$A$1:$G$959,3,FALSE))","v":""},{"$f":"IF(ISBLANK($R966)=TRUE,\"\",VLOOKUP($R966,TAXONOMY!$A$1:$H$959,2,FALSE))","v":""}]
[null,null,null,null,null,null,null,null,null,null,null,{"$f":"IF(ISBLANK($R967)=TRUE,\"\",VLOOKUP($R967,TAXONOMY!$A$1:$G$959,7,FALSE))","v":""},{"$f":"IF(ISBLANK($R967)=TRUE,\"\",VLOOKUP($R967,TAXONOMY!$A$1:$G$959,6,FALSE))","v":""},{"$f":"IF(ISBLANK($R967)=TRUE,\"\",VLOOKUP($R967,TAXONOMY!$A$1:$G$959,5,FALSE))","v":""},{"$f":"IF(ISBLANK($R967)=TRUE,\"\",VLOOKUP($R967,TAXONOMY!$A$1:$G$959,4,FALSE))","v":""},{"$f":"IF(ISBLANK($R967)=TRUE,\"\",VLOOKUP($R967,TAXONOMY!$A$1:$G$959,3,FALSE))","v":""},{"$f":"IF(ISBLANK($R967)=TRUE,\"\",VLOOKUP($R967,TAXONOMY!$A$1:$H$959,2,FALSE))","v":""}]
[null,null,null,null,null,null,null,null,null,null,null,{"$f":"IF(ISBLANK($R968)=TRUE,\"\",VLOOKUP($R968,TAXONOMY!$A$1:$G$959,7,FALSE))","v":""},{"$f":"IF(ISBLANK($R968)=TRUE,\"\",VLOOKUP($R968,TAXONOMY!$A$1:$G$959,6,FALSE))","v":""},{"$f":"IF(ISBLANK($R968)=TRUE,\"\",VLOOKUP($R968,TAXONOMY!$A$1:$G$959,5,FALSE))","v":""},{"$f":"IF(ISBLANK($R968)=TRUE,\"\",VLOOKUP($R968,TAXONOMY!$A$1:$G$959,4,FALSE))","v":""},{"$f":"IF(ISBLANK($R968)=TRUE,\"\",VLOOKUP($R968,TAXONOMY!$A$1:$G$959,3,FALSE))","v":""},{"$f":"IF(ISBLANK($R968)=TRUE,\"\",VLOOKUP($R968,TAXONOMY!$A$1:$H$959,2,FALSE))","v":""}]
[null,null,null,null,null,null,null,null,null,null,null,{"$f":"IF(ISBLANK($R969)=TRUE,\"\",VLOOKUP($R969,TAXONOMY!$A$1:$G$959,7,FALSE))","v":""},{"$f":"IF(ISBLANK($R969)=TRUE,\"\",VLOOKUP($R969,TAXONOMY!$A$1:$G$959,6,FALSE))","v":""},{"$f":"IF(ISBLANK($R969)=TRUE,\"\",VLOOKUP($R969,TAXONOMY!$A$1:$G$959,5,FALSE))","v":""},{"$f":"IF(ISBLANK($R969)=TRUE,\"\",VLOOKUP($R969,TAXONOMY!$A$1:$G$959,4,FALSE))","v":""},{"$f":"IF(ISBLANK($R969)=TRUE,\"\",VLOOKUP($R969,TAXONOMY!$A$1:$G$959,3,FALSE))","v":""},{"$f":"IF(ISBLANK($R969)=TRUE,\"\",VLOOKUP($R969,TAXONOMY!$A$1:$H$959,2,FALSE))","v":""}]
[null,null,null,null,null,null,null,null,null,null,null,{"$f":"IF(ISBLANK($R970)=TRUE,\"\",VLOOKUP($R970,TAXONOMY!$A$1:$G$959,7,FALSE))","v":""},{"$f":"IF(ISBLANK($R970)=TRUE,\"\",VLOOKUP($R970,TAXONOMY!$A$1:$G$959,6,FALSE))","v":""},{"$f":"IF(ISBLANK($R970)=TRUE,\"\",VLOOKUP($R970,TAXONOMY!$A$1:$G$959,5,FALSE))","v":""},{"$f":"IF(ISBLANK($R970)=TRUE,\"\",VLOOKUP($R970,TAXONOMY!$A$1:$G$959,4,FALSE))","v":""},{"$f":"IF(ISBLANK($R970)=TRUE,\"\",VLOOKUP($R970,TAXONOMY!$A$1:$G$959,3,FALSE))","v":""},{"$f":"IF(ISBLANK($R970)=TRUE,\"\",VLOOKUP($R970,TAXONOMY!$A$1:$H$959,2,FALSE))","v":""}]
[null,null,null,null,null,null,null,null,null,null,null,{"$f":"IF(ISBLANK($R971)=TRUE,\"\",VLOOKUP($R971,TAXONOMY!$A$1:$G$959,7,FALSE))","v":""},{"$f":"IF(ISBLANK($R971)=TRUE,\"\",VLOOKUP($R971,TAXONOMY!$A$1:$G$959,6,FALSE))","v":""},{"$f":"IF(ISBLANK($R971)=TRUE,\"\",VLOOKUP($R971,TAXONOMY!$A$1:$G$959,5,FALSE))","v":""},{"$f":"IF(ISBLANK($R971)=TRUE,\"\",VLOOKUP($R971,TAXONOMY!$A$1:$G$959,4,FALSE))","v":""},{"$f":"IF(ISBLANK($R971)=TRUE,\"\",VLOOKUP($R971,TAXONOMY!$A$1:$G$959,3,FALSE))","v":""},{"$f":"IF(ISBLANK($R971)=TRUE,\"\",VLOOKUP($R971,TAXONOMY!$A$1:$H$959,2,FALSE))","v":""}]
[null,null,null,null,null,null,null,null,null,null,null,{"$f":"IF(ISBLANK($R972)=TRUE,\"\",VLOOKUP($R972,TAXONOMY!$A$1:$G$959,7,FALSE))","v":""},{"$f":"IF(ISBLANK($R972)=TRUE,\"\",VLOOKUP($R972,TAXONOMY!$A$1:$G$959,6,FALSE))","v":""},{"$f":"IF(ISBLANK($R972)=TRUE,\"\",VLOOKUP($R972,TAXONOMY!$A$1:$G$959,5,FALSE))","v":""},{"$f":"IF(ISBLANK($R972)=TRUE,\"\",VLOOKUP($R972,TAXONOMY!$A$1:$G$959,4,FALSE))","v":""},{"$f":"IF(ISBLANK($R972)=TRUE,\"\",VLOOKUP($R972,TAXONOMY!$A$1:$G$959,3,FALSE))","v":""},{"$f":"IF(ISBLANK($R972)=TRUE,\"\",VLOOKUP($R972,TAXONOMY!$A$1:$H$959,2,FALSE))","v":""}]
[null,null,null,null,null,null,null,null,null,null,null,{"$f":"IF(ISBLANK($R973)=TRUE,\"\",VLOOKUP($R973,TAXONOMY!$A$1:$G$959,7,FALSE))","v":""},{"$f":"IF(ISBLANK($R973)=TRUE,\"\",VLOOKUP($R973,TAXONOMY!$A$1:$G$959,6,FALSE))","v":""},{"$f":"IF(ISBLANK($R973)=TRUE,\"\",VLOOKUP($R973,TAXONOMY!$A$1:$G$959,5,FALSE))","v":""},{"$f":"IF(ISBLANK($R973)=TRUE,\"\",VLOOKUP($R973,TAXONOMY!$A$1:$G$959,4,FALSE))","v":""},{"$f":"IF(ISBLANK($R973)=TRUE,\"\",VLOOKUP($R973,TAXONOMY!$A$1:$G$959,3,FALSE))","v":""},{"$f":"IF(ISBLANK($R973)=TRUE,\"\",VLOOKUP($R973,TAXONOMY!$A$1:$H$959,2,FALSE))","v":""}]
[null,null,null,null,null,null,null,null,null,null,null,{"$f":"IF(ISBLANK($R974)=TRUE,\"\",VLOOKUP($R974,TAXONOMY!$A$1:$G$959,7,FALSE))","v":""},{"$f":"IF(ISBLANK($R974)=TRUE,\"\",VLOOKUP($R974,TAXONOMY!$A$1:$G$959,6,FALSE))","v":""},{"$f":"IF(ISBLANK($R974)=TRUE,\"\",VLOOKUP($R974,TAXONOMY!$A$1:$G$959,5,FALSE))","v":""},{"$f":"IF(ISBLANK($R974)=TRUE,\"\",VLOOKUP($R974,TAXONOMY!$A$1:$G$959,4,FALSE))","v":""},{"$f":"IF(ISBLANK($R974)=TRUE,\"\",VLOOKUP($R974,TAXONOMY!$A$1:$G$959,3,FALSE))","v":""},{"$f":"IF(ISBLANK($R974)=TRUE,\"\",VLOOKUP($R974,TAXONOMY!$A$1:$H$959,2,FALSE))","v":""}]
[null,null,null,null,null,null,null,null,null,null,null,{"$f":"IF(ISBLANK($R975)=TRUE,\"\",VLOOKUP($R975,TAXONOMY!$A$1:$G$959,7,FALSE))","v":""},{"$f":"IF(ISBLANK($R975)=TRUE,\"\",VLOOKUP($R975,TAXONOMY!$A$1:$G$959,6,FALSE))","v":""},{"$f":"IF(ISBLANK($R975)=TRUE,\"\",VLOOKUP($R975,TAXONOMY!$A$1:$G$959,5,FALSE))","v":""},{"$f":"IF(ISBLANK($R975)=TRUE,\"\",VLOOKUP($R975,TAXONOMY!$A$1:$G$959,4,FALSE))","v":""},{"$f":"IF(ISBLANK($R975)=TRUE,\"\",VLOOKUP($R975,TAXONOMY!$A$1:$G$959,3,FALSE))","v":""},{"$f":"IF(ISBLANK($R975)=TRUE,\"\",VLOOKUP($R975,TAXONOMY!$A$1:$H$959,2,FALSE))","v":""}]
[null,null,null,null,null,null,null,null,null,null,null,{"$f":"IF(ISBLANK($R976)=TRUE,\"\",VLOOKUP($R976,TAXONOMY!$A$1:$G$959,7,FALSE))","v":""},{"$f":"IF(ISBLANK($R976)=TRUE,\"\",VLOOKUP($R976,TAXONOMY!$A$1:$G$959,6,FALSE))","v":""},{"$f":"IF(ISBLANK($R976)=TRUE,\"\",VLOOKUP($R976,TAXONOMY!$A$1:$G$959,5,FALSE))","v":""},{"$f":"IF(ISBLANK($R976)=TRUE,\"\",VLOOKUP($R976,TAXONOMY!$A$1:$G$959,4,FALSE))","v":""},{"$f":"IF(ISBLANK($R976)=TRUE,\"\",VLOOKUP($R976,TAXONOMY!$A$1:$G$959,3,FALSE))","v":""},{"$f":"IF(ISBLANK($R976)=TRUE,\"\",VLOOKUP($R976,TAXONOMY!$A$1:$H$959,2,FALSE))","v":""}]
[null,null,null,null,null,null,null,null,null,null,null,{"$f":"IF(ISBLANK($R977)=TRUE,\"\",VLOOKUP($R977,TAXONOMY!$A$1:$G$959,7,FALSE))","v":""},{"$f":"IF(ISBLANK($R977)=TRUE,\"\",VLOOKUP($R977,TAXONOMY!$A$1:$G$959,6,FALSE))","v":""},{"$f":"IF(ISBLANK($R977)=TRUE,\"\",VLOOKUP($R977,TAXONOMY!$A$1:$G$959,5,FALSE))","v":""},{"$f":"IF(ISBLANK($R977)=TRUE,\"\",VLOOKUP($R977,TAXONOMY!$A$1:$G$959,4,FALSE))","v":""},{"$f":"IF(ISBLANK($R977)=TRUE,\"\",VLOOKUP($R977,TAXONOMY!$A$1:$G$959,3,FALSE))","v":""},{"$f":"IF(ISBLANK($R977)=TRUE,\"\",VLOOKUP($R977,TAXONOMY!$A$1:$H$959,2,FALSE))","v":""}]
[null,null,null,null,null,null,null,null,null,null,null,{"$f":"IF(ISBLANK($R978)=TRUE,\"\",VLOOKUP($R978,TAXONOMY!$A$1:$G$959,7,FALSE))","v":""},{"$f":"IF(ISBLANK($R978)=TRUE,\"\",VLOOKUP($R978,TAXONOMY!$A$1:$G$959,6,FALSE))","v":""},{"$f":"IF(ISBLANK($R978)=TRUE,\"\",VLOOKUP($R978,TAXONOMY!$A$1:$G$959,5,FALSE))","v":""},{"$f":"IF(ISBLANK($R978)=TRUE,\"\",VLOOKUP($R978,TAXONOMY!$A$1:$G$959,4,FALSE))","v":""},{"$f":"IF(ISBLANK($R978)=TRUE,\"\",VLOOKUP($R978,TAXONOMY!$A$1:$G$959,3,FALSE))","v":""},{"$f":"IF(ISBLANK($R978)=TRUE,\"\",VLOOKUP($R978,TAXONOMY!$A$1:$H$959,2,FALSE))","v":""}]
[null,null,null,null,null,null,null,null,null,null,null,{"$f":"IF(ISBLANK($R979)=TRUE,\"\",VLOOKUP($R979,TAXONOMY!$A$1:$G$959,7,FALSE))","v":""},{"$f":"IF(ISBLANK($R979)=TRUE,\"\",VLOOKUP($R979,TAXONOMY!$A$1:$G$959,6,FALSE))","v":""},{"$f":"IF(ISBLANK($R979)=TRUE,\"\",VLOOKUP($R979,TAXONOMY!$A$1:$G$959,5,FALSE))","v":""},{"$f":"IF(ISBLANK($R979)=TRUE,\"\",VLOOKUP($R979,TAXONOMY!$A$1:$G$959,4,FALSE))","v":""},{"$f":"IF(ISBLANK($R979)=TRUE,\"\",VLOOKUP($R979,TAXONOMY!$A$1:$G$959,3,FALSE))","v":""},{"$f":"IF(ISBLANK($R979)=TRUE,\"\",VLOOKUP($R979,TAXONOMY!$A$1:$H$959,2,FALSE))","v":""}]
[null,null,null,null,null,null,null,null,null,null,null,{"$f":"IF(ISBLANK($R980)=TRUE,\"\",VLOOKUP($R980,TAXONOMY!$A$1:$G$959,7,FALSE))","v":""},{"$f":"IF(ISBLANK($R980)=TRUE,\"\",VLOOKUP($R980,TAXONOMY!$A$1:$G$959,6,FALSE))","v":""},{"$f":"IF(ISBLANK($R980)=TRUE,\"\",VLOOKUP($R980,TAXONOMY!$A$1:$G$959,5,FALSE))","v":""},{"$f":"IF(ISBLANK($R980)=TRUE,\"\",VLOOKUP($R980,TAXONOMY!$A$1:$G$959,4,FALSE))","v":""},{"$f":"IF(ISBLANK($R980)=TRUE,\"\",VLOOKUP($R980,TAXONOMY!$A$1:$G$959,3,FALSE))","v":""},{"$f":"IF(ISBLANK($R980)=TRUE,\"\",VLOOKUP($R980,TAXONOMY!$A$1:$H$959,2,FALSE))","v":""}]
[null,null,null,null,null,null,null,null,null,null,null,{"$f":"IF(ISBLANK($R981)=TRUE,\"\",VLOOKUP($R981,TAXONOMY!$A$1:$G$959,7,FALSE))","v":""},{"$f":"IF(ISBLANK($R981)=TRUE,\"\",VLOOKUP($R981,TAXONOMY!$A$1:$G$959,6,FALSE))","v":""},{"$f":"IF(ISBLANK($R981)=TRUE,\"\",VLOOKUP($R981,TAXONOMY!$A$1:$G$959,5,FALSE))","v":""},{"$f":"IF(ISBLANK($R981)=TRUE,\"\",VLOOKUP($R981,TAXONOMY!$A$1:$G$959,4,FALSE))","v":""},{"$f":"IF(ISBLANK($R981)=TRUE,\"\",VLOOKUP($R981,TAXONOMY!$A$1:$G$959,3,FALSE))","v":""},{"$f":"IF(ISBLANK($R981)=TRUE,\"\",VLOOKUP($R981,TAXONOMY!$A$1:$H$959,2,FALSE))","v":""}]
[null,null,null,null,null,null,null,null,null,null,null,{"$f":"IF(ISBLANK($R982)=TRUE,\"\",VLOOKUP($R982,TAXONOMY!$A$1:$G$959,7,FALSE))","v":""},{"$f":"IF(ISBLANK($R982)=TRUE,\"\",VLOOKUP($R982,TAXONOMY!$A$1:$G$959,6,FALSE))","v":""},{"$f":"IF(ISBLANK($R982)=TRUE,\"\",VLOOKUP($R982,TAXONOMY!$A$1:$G$959,5,FALSE))","v":""},{"$f":"IF(ISBLANK($R982)=TRUE,\"\",VLOOKUP($R982,TAXONOMY!$A$1:$G$959,4,FALSE))","v":""},{"$f":"IF(ISBLANK($R982)=TRUE,\"\",VLOOKUP($R982,TAXONOMY!$A$1:$G$959,3,FALSE))","v":""},{"$f":"IF(ISBLANK($R982)=TRUE,\"\",VLOOKUP($R982,TAXONOMY!$A$1:$H$959,2,FALSE))","v":""}]
[null,null,null,null,null,null,null,null,null,null,null,{"$f":"IF(ISBLANK($R983)=TRUE,\"\",VLOOKUP($R983,TAXONOMY!$A$1:$G$959,7,FALSE))","v":""},{"$f":"IF(ISBLANK($R983)=TRUE,\"\",VLOOKUP($R983,TAXONOMY!$A$1:$G$959,6,FALSE))","v":""},{"$f":"IF(ISBLANK($R983)=TRUE,\"\",VLOOKUP($R983,TAXONOMY!$A$1:$G$959,5,FALSE))","v":""},{"$f":"IF(ISBLANK($R983)=TRUE,\"\",VLOOKUP($R983,TAXONOMY!$A$1:$G$959,4,FALSE))","v":""},{"$f":"IF(ISBLANK($R983)=TRUE,\"\",VLOOKUP($R983,TAXONOMY!$A$1:$G$959,3,FALSE))","v":""},{"$f":"IF(ISBLANK($R983)=TRUE,\"\",VLOOKUP($R983,TAXONOMY!$A$1:$H$959,2,FALSE))","v":""}]
[null,null,null,null,null,null,null,null,null,null,null,{"$f":"IF(ISBLANK($R984)=TRUE,\"\",VLOOKUP($R984,TAXONOMY!$A$1:$G$959,7,FALSE))","v":""},{"$f":"IF(ISBLANK($R984)=TRUE,\"\",VLOOKUP($R984,TAXONOMY!$A$1:$G$959,6,FALSE))","v":""},{"$f":"IF(ISBLANK($R984)=TRUE,\"\",VLOOKUP($R984,TAXONOMY!$A$1:$G$959,5,FALSE))","v":""},{"$f":"IF(ISBLANK($R984)=TRUE,\"\",VLOOKUP($R984,TAXONOMY!$A$1:$G$959,4,FALSE))","v":""},{"$f":"IF(ISBLANK($R984)=TRUE,\"\",VLOOKUP($R984,TAXONOMY!$A$1:$G$959,3,FALSE))","v":""},{"$f":"IF(ISBLANK($R984)=TRUE,\"\",VLOOKUP($R984,TAXONOMY!$A$1:$H$959,2,FALSE))","v":""}]
[null,null,null,null,null,null,null,null,null,null,null,{"$f":"IF(ISBLANK($R985)=TRUE,\"\",VLOOKUP($R985,TAXONOMY!$A$1:$G$959,7,FALSE))","v":""},{"$f":"IF(ISBLANK($R985)=TRUE,\"\",VLOOKUP($R985,TAXONOMY!$A$1:$G$959,6,FALSE))","v":""},{"$f":"IF(ISBLANK($R985)=TRUE,\"\",VLOOKUP($R985,TAXONOMY!$A$1:$G$959,5,FALSE))","v":""},{"$f":"IF(ISBLANK($R985)=TRUE,\"\",VLOOKUP($R985,TAXONOMY!$A$1:$G$959,4,FALSE))","v":""},{"$f":"IF(ISBLANK($R985)=TRUE,\"\",VLOOKUP($R985,TAXONOMY!$A$1:$G$959,3,FALSE))","v":""},{"$f":"IF(ISBLANK($R985)=TRUE,\"\",VLOOKUP($R985,TAXONOMY!$A$1:$H$959,2,FALSE))","v":""}]
[null,null,null,null,null,null,null,null,null,null,null,{"$f":"IF(ISBLANK($R986)=TRUE,\"\",VLOOKUP($R986,TAXONOMY!$A$1:$G$959,7,FALSE))","v":""},{"$f":"IF(ISBLANK($R986)=TRUE,\"\",VLOOKUP($R986,TAXONOMY!$A$1:$G$959,6,FALSE))","v":""},{"$f":"IF(ISBLANK($R986)=TRUE,\"\",VLOOKUP($R986,TAXONOMY!$A$1:$G$959,5,FALSE))","v":""},{"$f":"IF(ISBLANK($R986)=TRUE,\"\",VLOOKUP($R986,TAXONOMY!$A$1:$G$959,4,FALSE))","v":""},{"$f":"IF(ISBLANK($R986)=TRUE,\"\",VLOOKUP($R986,TAXONOMY!$A$1:$G$959,3,FALSE))","v":""},{"$f":"IF(ISBLANK($R986)=TRUE,\"\",VLOOKUP($R986,TAXONOMY!$A$1:$H$959,2,FALSE))","v":""}]
[null,null,null,null,null,null,null,null,null,null,null,{"$f":"IF(ISBLANK($R987)=TRUE,\"\",VLOOKUP($R987,TAXONOMY!$A$1:$G$959,7,FALSE))","v":""},{"$f":"IF(ISBLANK($R987)=TRUE,\"\",VLOOKUP($R987,TAXONOMY!$A$1:$G$959,6,FALSE))","v":""},{"$f":"IF(ISBLANK($R987)=TRUE,\"\",VLOOKUP($R987,TAXONOMY!$A$1:$G$959,5,FALSE))","v":""},{"$f":"IF(ISBLANK($R987)=TRUE,\"\",VLOOKUP($R987,TAXONOMY!$A$1:$G$959,4,FALSE))","v":""},{"$f":"IF(ISBLANK($R987)=TRUE,\"\",VLOOKUP($R987,TAXONOMY!$A$1:$G$959,3,FALSE))","v":""},{"$f":"IF(ISBLANK($R987)=TRUE,\"\",VLOOKUP($R987,TAXONOMY!$A$1:$H$959,2,FALSE))","v":""}]
[null,null,null,null,null,null,null,null,null,null,null,{"$f":"IF(ISBLANK($R988)=TRUE,\"\",VLOOKUP($R988,TAXONOMY!$A$1:$G$959,7,FALSE))","v":""},{"$f":"IF(ISBLANK($R988)=TRUE,\"\",VLOOKUP($R988,TAXONOMY!$A$1:$G$959,6,FALSE))","v":""},{"$f":"IF(ISBLANK($R988)=TRUE,\"\",VLOOKUP($R988,TAXONOMY!$A$1:$G$959,5,FALSE))","v":""},{"$f":"IF(ISBLANK($R988)=TRUE,\"\",VLOOKUP($R988,TAXONOMY!$A$1:$G$959,4,FALSE))","v":""},{"$f":"IF(ISBLANK($R988)=TRUE,\"\",VLOOKUP($R988,TAXONOMY!$A$1:$G$959,3,FALSE))","v":""},{"$f":"IF(ISBLANK($R988)=TRUE,\"\",VLOOKUP($R988,TAXONOMY!$A$1:$H$959,2,FALSE))","v":""}]
[null,null,null,null,null,null,null,null,null,null,null,{"$f":"IF(ISBLANK($R989)=TRUE,\"\",VLOOKUP($R989,TAXONOMY!$A$1:$G$959,7,FALSE))","v":""},{"$f":"IF(ISBLANK($R989)=TRUE,\"\",VLOOKUP($R989,TAXONOMY!$A$1:$G$959,6,FALSE))","v":""},{"$f":"IF(ISBLANK($R989)=TRUE,\"\",VLOOKUP($R989,TAXONOMY!$A$1:$G$959,5,FALSE))","v":""},{"$f":"IF(ISBLANK($R989)=TRUE,\"\",VLOOKUP($R989,TAXONOMY!$A$1:$G$959,4,FALSE))","v":""},{"$f":"IF(ISBLANK($R989)=TRUE,\"\",VLOOKUP($R989,TAXONOMY!$A$1:$G$959,3,FALSE))","v":""},{"$f":"IF(ISBLANK($R989)=TRUE,\"\",VLOOKUP($R989,TAXONOMY!$A$1:$H$959,2,FALSE))","v":""}]
[null,null,null,null,null,null,null,null,null,null,null,{"$f":"IF(ISBLANK($R990)=TRUE,\"\",VLOOKUP($R990,TAXONOMY!$A$1:$G$959,7,FALSE))","v":""},{"$f":"IF(ISBLANK($R990)=TRUE,\"\",VLOOKUP($R990,TAXONOMY!$A$1:$G$959,6,FALSE))","v":""},{"$f":"IF(ISBLANK($R990)=TRUE,\"\",VLOOKUP($R990,TAXONOMY!$A$1:$G$959,5,FALSE))","v":""},{"$f":"IF(ISBLANK($R990)=TRUE,\"\",VLOOKUP($R990,TAXONOMY!$A$1:$G$959,4,FALSE))","v":""},{"$f":"IF(ISBLANK($R990)=TRUE,\"\",VLOOKUP($R990,TAXONOMY!$A$1:$G$959,3,FALSE))","v":""},{"$f":"IF(ISBLANK($R990)=TRUE,\"\",VLOOKUP($R990,TAXONOMY!$A$1:$H$959,2,FALSE))","v":""}]
[null,null,null,null,null,null,null,null,null,null,null,{"$f":"IF(ISBLANK($R991)=TRUE,\"\",VLOOKUP($R991,TAXONOMY!$A$1:$G$959,7,FALSE))","v":""},{"$f":"IF(ISBLANK($R991)=TRUE,\"\",VLOOKUP($R991,TAXONOMY!$A$1:$G$959,6,FALSE))","v":""},{"$f":"IF(ISBLANK($R991)=TRUE,\"\",VLOOKUP($R991,TAXONOMY!$A$1:$G$959,5,FALSE))","v":""},{"$f":"IF(ISBLANK($R991)=TRUE,\"\",VLOOKUP($R991,TAXONOMY!$A$1:$G$959,4,FALSE))","v":""},{"$f":"IF(ISBLANK($R991)=TRUE,\"\",VLOOKUP($R991,TAXONOMY!$A$1:$G$959,3,FALSE))","v":""},{"$f":"IF(ISBLANK($R991)=TRUE,\"\",VLOOKUP($R991,TAXONOMY!$A$1:$H$959,2,FALSE))","v":""}]
[null,null,null,null,null,null,null,null,null,null,null,{"$f":"IF(ISBLANK($R992)=TRUE,\"\",VLOOKUP($R992,TAXONOMY!$A$1:$G$959,7,FALSE))","v":""},{"$f":"IF(ISBLANK($R992)=TRUE,\"\",VLOOKUP($R992,TAXONOMY!$A$1:$G$959,6,FALSE))","v":""},{"$f":"IF(ISBLANK($R992)=TRUE,\"\",VLOOKUP($R992,TAXONOMY!$A$1:$G$959,5,FALSE))","v":""},{"$f":"IF(ISBLANK($R992)=TRUE,\"\",VLOOKUP($R992,TAXONOMY!$A$1:$G$959,4,FALSE))","v":""},{"$f":"IF(ISBLANK($R992)=TRUE,\"\",VLOOKUP($R992,TAXONOMY!$A$1:$G$959,3,FALSE))","v":""},{"$f":"IF(ISBLANK($R992)=TRUE,\"\",VLOOKUP($R992,TAXONOMY!$A$1:$H$959,2,FALSE))","v":""}]
[null,null,null,null,null,null,null,null,null,null,null,{"$f":"IF(ISBLANK($R993)=TRUE,\"\",VLOOKUP($R993,TAXONOMY!$A$1:$G$959,7,FALSE))","v":""},{"$f":"IF(ISBLANK($R993)=TRUE,\"\",VLOOKUP($R993,TAXONOMY!$A$1:$G$959,6,FALSE))","v":""},{"$f":"IF(ISBLANK($R993)=TRUE,\"\",VLOOKUP($R993,TAXONOMY!$A$1:$G$959,5,FALSE))","v":""},{"$f":"IF(ISBLANK($R993)=TRUE,\"\",VLOOKUP($R993,TAXONOMY!$A$1:$G$959,4,FALSE))","v":""},{"$f":"IF(ISBLANK($R993)=TRUE,\"\",VLOOKUP($R993,TAXONOMY!$A$1:$G$959,3,FALSE))","v":""},{"$f":"IF(ISBLANK($R993)=TRUE,\"\",VLOOKUP($R993,TAXONOMY!$A$1:$H$959,2,FALSE))","v":""}]
[null,null,null,null,null,null,null,null,null,null,null,{"$f":"IF(ISBLANK($R994)=TRUE,\"\",VLOOKUP($R994,TAXONOMY!$A$1:$G$959,7,FALSE))","v":""},{"$f":"IF(ISBLANK($R994)=TRUE,\"\",VLOOKUP($R994,TAXONOMY!$A$1:$G$959,6,FALSE))","v":""},{"$f":"IF(ISBLANK($R994)=TRUE,\"\",VLOOKUP($R994,TAXONOMY!$A$1:$G$959,5,FALSE))","v":""},{"$f":"IF(ISBLANK($R994)=TRUE,\"\",VLOOKUP($R994,TAXONOMY!$A$1:$G$959,4,FALSE))","v":""},{"$f":"IF(ISBLANK($R994)=TRUE,\"\",VLOOKUP($R994,TAXONOMY!$A$1:$G$959,3,FALSE))","v":""},{"$f":"IF(ISBLANK($R994)=TRUE,\"\",VLOOKUP($R994,TAXONOMY!$A$1:$H$959,2,FALSE))","v":""}]
[null,null,null,null,null,null,null,null,null,null,null,{"$f":"IF(ISBLANK($R995)=TRUE,\"\",VLOOKUP($R995,TAXONOMY!$A$1:$G$959,7,FALSE))","v":""},{"$f":"IF(ISBLANK($R995)=TRUE,\"\",VLOOKUP($R995,TAXONOMY!$A$1:$G$959,6,FALSE))","v":""},{"$f":"IF(ISBLANK($R995)=TRUE,\"\",VLOOKUP($R995,TAXONOMY!$A$1:$G$959,5,FALSE))","v":""},{"$f":"IF(ISBLANK($R995)=TRUE,\"\",VLOOKUP($R995,TAXONOMY!$A$1:$G$959,4,FALSE))","v":""},{"$f":"IF(ISBLANK($R995)=TRUE,\"\",VLOOKUP($R995,TAXONOMY!$A$1:$G$959,3,FALSE))","v":""},{"$f":"IF(ISBLANK($R995)=TRUE,\"\",VLOOKUP($R995,TAXONOMY!$A$1:$H$959,2,FALSE))","v":""}]
[null,null,null,null,null,null,null,null,null,null,null,{"$f":"IF(ISBLANK($R996)=TRUE,\"\",VLOOKUP($R996,TAXONOMY!$A$1:$G$959,7,FALSE))","v":""},{"$f":"IF(ISBLANK($R996)=TRUE,\"\",VLOOKUP($R996,TAXONOMY!$A$1:$G$959,6,FALSE))","v":""},{"$f":"IF(ISBLANK($R996)=TRUE,\"\",VLOOKUP($R996,TAXONOMY!$A$1:$G$959,5,FALSE))","v":""},{"$f":"IF(ISBLANK($R996)=TRUE,\"\",VLOOKUP($R996,TAXONOMY!$A$1:$G$959,4,FALSE))","v":""},{"$f":"IF(ISBLANK($R996)=TRUE,\"\",VLOOKUP($R996,TAXONOMY!$A$1:$G$959,3,FALSE))","v":""},{"$f":"IF(ISBLANK($R996)=TRUE,\"\",VLOOKUP($R996,TAXONOMY!$A$1:$H$959,2,FALSE))","v":""}]
[null,null,null,null,null,null,null,null,null,null,null,{"$f":"IF(ISBLANK($R997)=TRUE,\"\",VLOOKUP($R997,TAXONOMY!$A$1:$G$959,7,FALSE))","v":""},{"$f":"IF(ISBLANK($R997)=TRUE,\"\",VLOOKUP($R997,TAXONOMY!$A$1:$G$959,6,FALSE))","v":""},{"$f":"IF(ISBLANK($R997)=TRUE,\"\",VLOOKUP($R997,TAXONOMY!$A$1:$G$959,5,FALSE))","v":""},{"$f":"IF(ISBLANK($R997)=TRUE,\"\",VLOOKUP($R997,TAXONOMY!$A$1:$G$959,4,FALSE))","v":""},{"$f":"IF(ISBLANK($R997)=TRUE,\"\",VLOOKUP($R997,TAXONOMY!$A$1:$G$959,3,FALSE))","v":""},{"$f":"IF(ISBLANK($R997)=TRUE,\"\",VLOOKUP($R997,TAXONOMY!$A$1:$H$959,2,FALSE))","v":""}]
[null,null,null,null,null,null,null,null,null,null,null,{"$f":"IF(ISBLANK($R998)=TRUE,\"\",VLOOKUP($R998,TAXONOMY!$A$1:$G$959,7,FALSE))","v":""},{"$f":"IF(ISBLANK($R998)=TRUE,\"\",VLOOKUP($R998,TAXONOMY!$A$1:$G$959,6,FALSE))","v":""},{"$f":"IF(ISBLANK($R998)=TRUE,\"\",VLOOKUP($R998,TAXONOMY!$A$1:$G$959,5,FALSE))","v":""},{"$f":"IF(ISBLANK($R998)=TRUE,\"\",VLOOKUP($R998,TAXONOMY!$A$1:$G$959,4,FALSE))","v":""},{"$f":"IF(ISBLANK($R998)=TRUE,\"\",VLOOKUP($R998,TAXONOMY!$A$1:$G$959,3,FALSE))","v":""},{"$f":"IF(ISBLANK($R998)=TRUE,\"\",VLOOKUP($R998,TAXONOMY!$A$1:$H$959,2,FALSE))","v":""}]
[null,null,null,null,null,null,null,null,null,null,null,{"$f":"IF(ISBLANK($R999)=TRUE,\"\",VLOOKUP($R999,TAXONOMY!$A$1:$G$959,7,FALSE))","v":""},{"$f":"IF(ISBLANK($R999)=TRUE,\"\",VLOOKUP($R999,TAXONOMY!$A$1:$G$959,6,FALSE))","v":""},{"$f":"IF(ISBLANK($R999)=TRUE,\"\",VLOOKUP($R999,TAXONOMY!$A$1:$G$959,5,FALSE))","v":""},{"$f":"IF(ISBLANK($R999)=TRUE,\"\",VLOOKUP($R999,TAXONOMY!$A$1:$G$959,4,FALSE))","v":""},{"$f":"IF(ISBLANK($R999)=TRUE,\"\",VLOOKUP($R999,TAXONOMY!$A$1:$G$959,3,FALSE))","v":""},{"$f":"IF(ISBLANK($R999)=TRUE,\"\",VLOOKUP($R999,TAXONOMY!$A$1:$H$959,2,FALSE))","v":""}]
[null,null,null,null,null,null,null,null,null,null,null,{"$f":"IF(ISBLANK($R1000)=TRUE,\"\",VLOOKUP($R1000,TAXONOMY!$A$1:$G$959,7,FALSE))","v":""},{"$f":"IF(ISBLANK($R1000)=TRUE,\"\",VLOOKUP($R1000,TAXONOMY!$A$1:$G$959,6,FALSE))","v":""},{"$f":"IF(ISBLANK($R1000)=TRUE,\"\",VLOOKUP($R1000,TAXONOMY!$A$1:$G$959,5,FALSE))","v":""},{"$f":"IF(ISBLANK($R1000)=TRUE,\"\",VLOOKUP($R1000,TAXONOMY!$A$1:$G$959,4,FALSE))","v":""},{"$f":"IF(ISBLANK($R1000)=TRUE,\"\",VLOOKUP($R1000,TAXONOMY!$A$1:$G$959,3,FALSE))","v":""},{"$f":"IF(ISBLANK($R1000)=TRUE,\"\",VLOOKUP($R1000,TAXONOMY!$A$1:$H$959,2,FALSE))","v":""}]
[null,null,null,null,null,null,null,null,null,null,null,{"$f":"IF(ISBLANK($R1001)=TRUE,\"\",VLOOKUP($R1001,TAXONOMY!$A$1:$G$959,7,FALSE))","v":""},{"$f":"IF(ISBLANK($R1001)=TRUE,\"\",VLOOKUP($R1001,TAXONOMY!$A$1:$G$959,6,FALSE))","v":""},{"$f":"IF(ISBLANK($R1001)=TRUE,\"\",VLOOKUP($R1001,TAXONOMY!$A$1:$G$959,5,FALSE))","v":""},{"$f":"IF(ISBLANK($R1001)=TRUE,\"\",VLOOKUP($R1001,TAXONOMY!$A$1:$G$959,4,FALSE))","v":""},{"$f":"IF(ISBLANK($R1001)=TRUE,\"\",VLOOKUP($R1001,TAXONOMY!$A$1:$G$959,3,FALSE))","v":""},{"$f":"IF(ISBLANK($R1001)=TRUE,\"\",VLOOKUP($R1001,TAXONOMY!$A$1:$H$959,2,FALSE))","v":""}]
[null,null,null,null,null,null,null,null,null,null,null,{"$f":"IF(ISBLANK($R1002)=TRUE,\"\",VLOOKUP($R1002,TAXONOMY!$A$1:$G$959,7,FALSE))","v":""},{"$f":"IF(ISBLANK($R1002)=TRUE,\"\",VLOOKUP($R1002,TAXONOMY!$A$1:$G$959,6,FALSE))","v":""},{"$f":"IF(ISBLANK($R1002)=TRUE,\"\",VLOOKUP($R1002,TAXONOMY!$A$1:$G$959,5,FALSE))","v":""},{"$f":"IF(ISBLANK($R1002)=TRUE,\"\",VLOOKUP($R1002,TAXONOMY!$A$1:$G$959,4,FALSE))","v":""},{"$f":"IF(ISBLANK($R1002)=TRUE,\"\",VLOOKUP($R1002,TAXONOMY!$A$1:$G$959,3,FALSE))","v":""},{"$f":"IF(ISBLANK($R1002)=TRUE,\"\",VLOOKUP($R1002,TAXONOMY!$A$1:$H$959,2,FALSE))","v":""}]
[null,null,null,null,null,null,null,null,null,null,null,{"$f":"IF(ISBLANK($R1003)=TRUE,\"\",VLOOKUP($R1003,TAXONOMY!$A$1:$G$959,7,FALSE))","v":""},{"$f":"IF(ISBLANK($R1003)=TRUE,\"\",VLOOKUP($R1003,TAXONOMY!$A$1:$G$959,6,FALSE))","v":""},{"$f":"IF(ISBLANK($R1003)=TRUE,\"\",VLOOKUP($R1003,TAXONOMY!$A$1:$G$959,5,FALSE))","v":""},{"$f":"IF(ISBLANK($R1003)=TRUE,\"\",VLOOKUP($R1003,TAXONOMY!$A$1:$G$959,4,FALSE))","v":""},{"$f":"IF(ISBLANK($R1003)=TRUE,\"\",VLOOKUP($R1003,TAXONOMY!$A$1:$G$959,3,FALSE))","v":""},{"$f":"IF(ISBLANK($R1003)=TRUE,\"\",VLOOKUP($R1003,TAXONOMY!$A$1:$H$959,2,FALSE))","v":""}]
[null,null,null,null,null,null,null,null,null,null,null,{"$f":"IF(ISBLANK($R1004)=TRUE,\"\",VLOOKUP($R1004,TAXONOMY!$A$1:$G$959,7,FALSE))","v":""},{"$f":"IF(ISBLANK($R1004)=TRUE,\"\",VLOOKUP($R1004,TAXONOMY!$A$1:$G$959,6,FALSE))","v":""},{"$f":"IF(ISBLANK($R1004)=TRUE,\"\",VLOOKUP($R1004,TAXONOMY!$A$1:$G$959,5,FALSE))","v":""},{"$f":"IF(ISBLANK($R1004)=TRUE,\"\",VLOOKUP($R1004,TAXONOMY!$A$1:$G$959,4,FALSE))","v":""},{"$f":"IF(ISBLANK($R1004)=TRUE,\"\",VLOOKUP($R1004,TAXONOMY!$A$1:$G$959,3,FALSE))","v":""},{"$f":"IF(ISBLANK($R1004)=TRUE,\"\",VLOOKUP($R1004,TAXONOMY!$A$1:$H$959,2,FALSE))","v":""}]
[null,null,null,null,null,null,null,null,null,null,null,{"$f":"IF(ISBLANK($R1005)=TRUE,\"\",VLOOKUP($R1005,TAXONOMY!$A$1:$G$959,7,FALSE))","v":""},{"$f":"IF(ISBLANK($R1005)=TRUE,\"\",VLOOKUP($R1005,TAXONOMY!$A$1:$G$959,6,FALSE))","v":""},{"$f":"IF(ISBLANK($R1005)=TRUE,\"\",VLOOKUP($R1005,TAXONOMY!$A$1:$G$959,5,FALSE))","v":""},{"$f":"IF(ISBLANK($R1005)=TRUE,\"\",VLOOKUP($R1005,TAXONOMY!$A$1:$G$959,4,FALSE))","v":""},{"$f":"IF(ISBLANK($R1005)=TRUE,\"\",VLOOKUP($R1005,TAXONOMY!$A$1:$G$959,3,FALSE))","v":""},{"$f":"IF(ISBLANK($R1005)=TRUE,\"\",VLOOKUP($R1005,TAXONOMY!$A$1:$H$959,2,FALSE))","v":""}]
[null,null,null,null,null,null,null,null,null,null,null,{"$f":"IF(ISBLANK($R1006)=TRUE,\"\",VLOOKUP($R1006,TAXONOMY!$A$1:$G$959,7,FALSE))","v":""},{"$f":"IF(ISBLANK($R1006)=TRUE,\"\",VLOOKUP($R1006,TAXONOMY!$A$1:$G$959,6,FALSE))","v":""},{"$f":"IF(ISBLANK($R1006)=TRUE,\"\",VLOOKUP($R1006,TAXONOMY!$A$1:$G$959,5,FALSE))","v":""},{"$f":"IF(ISBLANK($R1006)=TRUE,\"\",VLOOKUP($R1006,TAXONOMY!$A$1:$G$959,4,FALSE))","v":""},{"$f":"IF(ISBLANK($R1006)=TRUE,\"\",VLOOKUP($R1006,TAXONOMY!$A$1:$G$959,3,FALSE))","v":""},{"$f":"IF(ISBLANK($R1006)=TRUE,\"\",VLOOKUP($R1006,TAXONOMY!$A$1:$H$959,2,FALSE))","v":""}]
[null,null,null,null,null,null,null,null,null,null,null,{"$f":"IF(ISBLANK($R1007)=TRUE,\"\",VLOOKUP($R1007,TAXONOMY!$A$1:$G$959,7,FALSE))","v":""},{"$f":"IF(ISBLANK($R1007)=TRUE,\"\",VLOOKUP($R1007,TAXONOMY!$A$1:$G$959,6,FALSE))","v":""},{"$f":"IF(ISBLANK($R1007)=TRUE,\"\",VLOOKUP($R1007,TAXONOMY!$A$1:$G$959,5,FALSE))","v":""},{"$f":"IF(ISBLANK($R1007)=TRUE,\"\",VLOOKUP($R1007,TAXONOMY!$A$1:$G$959,4,FALSE))","v":""},{"$f":"IF(ISBLANK($R1007)=TRUE,\"\",VLOOKUP($R1007,TAXONOMY!$A$1:$G$959,3,FALSE))","v":""},{"$f":"IF(ISBLANK($R1007)=TRUE,\"\",VLOOKUP($R1007,TAXONOMY!$A$1:$H$959,2,FALSE))","v":""}]
[null,null,null,null,null,null,null,null,null,null,null,{"$f":"IF(ISBLANK($R1008)=TRUE,\"\",VLOOKUP($R1008,TAXONOMY!$A$1:$G$959,7,FALSE))","v":""},{"$f":"IF(ISBLANK($R1008)=TRUE,\"\",VLOOKUP($R1008,TAXONOMY!$A$1:$G$959,6,FALSE))","v":""},{"$f":"IF(ISBLANK($R1008)=TRUE,\"\",VLOOKUP($R1008,TAXONOMY!$A$1:$G$959,5,FALSE))","v":""},{"$f":"IF(ISBLANK($R1008)=TRUE,\"\",VLOOKUP($R1008,TAXONOMY!$A$1:$G$959,4,FALSE))","v":""},{"$f":"IF(ISBLANK($R1008)=TRUE,\"\",VLOOKUP($R1008,TAXONOMY!$A$1:$G$959,3,FALSE))","v":""},{"$f":"IF(ISBLANK($R1008)=TRUE,\"\",VLOOKUP($R1008,TAXONOMY!$A$1:$H$959,2,FALSE))","v":""}]
[null,null,null,null,null,null,null,null,null,null,null,{"$f":"IF(ISBLANK($R1009)=TRUE,\"\",VLOOKUP($R1009,TAXONOMY!$A$1:$G$959,7,FALSE))","v":""},{"$f":"IF(ISBLANK($R1009)=TRUE,\"\",VLOOKUP($R1009,TAXONOMY!$A$1:$G$959,6,FALSE))","v":""},{"$f":"IF(ISBLANK($R1009)=TRUE,\"\",VLOOKUP($R1009,TAXONOMY!$A$1:$G$959,5,FALSE))","v":""},{"$f":"IF(ISBLANK($R1009)=TRUE,\"\",VLOOKUP($R1009,TAXONOMY!$A$1:$G$959,4,FALSE))","v":""},{"$f":"IF(ISBLANK($R1009)=TRUE,\"\",VLOOKUP($R1009,TAXONOMY!$A$1:$G$959,3,FALSE))","v":""},{"$f":"IF(ISBLANK($R1009)=TRUE,\"\",VLOOKUP($R1009,TAXONOMY!$A$1:$H$959,2,FALSE))","v":""}]
[null,null,null,null,null,null,null,null,null,null,null,{"$f":"IF(ISBLANK($R1010)=TRUE,\"\",VLOOKUP($R1010,TAXONOMY!$A$1:$G$959,7,FALSE))","v":""},{"$f":"IF(ISBLANK($R1010)=TRUE,\"\",VLOOKUP($R1010,TAXONOMY!$A$1:$G$959,6,FALSE))","v":""},{"$f":"IF(ISBLANK($R1010)=TRUE,\"\",VLOOKUP($R1010,TAXONOMY!$A$1:$G$959,5,FALSE))","v":""},{"$f":"IF(ISBLANK($R1010)=TRUE,\"\",VLOOKUP($R1010,TAXONOMY!$A$1:$G$959,4,FALSE))","v":""},{"$f":"IF(ISBLANK($R1010)=TRUE,\"\",VLOOKUP($R1010,TAXONOMY!$A$1:$G$959,3,FALSE))","v":""},{"$f":"IF(ISBLANK($R1010)=TRUE,\"\",VLOOKUP($R1010,TAXONOMY!$A$1:$H$959,2,FALSE))","v":""}]
[null,null,null,null,null,null,null,null,null,null,null,{"$f":"IF(ISBLANK($R1011)=TRUE,\"\",VLOOKUP($R1011,TAXONOMY!$A$1:$G$959,7,FALSE))","v":""},{"$f":"IF(ISBLANK($R1011)=TRUE,\"\",VLOOKUP($R1011,TAXONOMY!$A$1:$G$959,6,FALSE))","v":""},{"$f":"IF(ISBLANK($R1011)=TRUE,\"\",VLOOKUP($R1011,TAXONOMY!$A$1:$G$959,5,FALSE))","v":""},{"$f":"IF(ISBLANK($R1011)=TRUE,\"\",VLOOKUP($R1011,TAXONOMY!$A$1:$G$959,4,FALSE))","v":""},{"$f":"IF(ISBLANK($R1011)=TRUE,\"\",VLOOKUP($R1011,TAXONOMY!$A$1:$G$959,3,FALSE))","v":""},{"$f":"IF(ISBLANK($R1011)=TRUE,\"\",VLOOKUP($R1011,TAXONOMY!$A$1:$H$959,2,FALSE))","v":""}]
[null,null,null,null,null,null,null,null,null,null,null,{"$f":"IF(ISBLANK($R1012)=TRUE,\"\",VLOOKUP($R1012,TAXONOMY!$A$1:$G$959,7,FALSE))","v":""},{"$f":"IF(ISBLANK($R1012)=TRUE,\"\",VLOOKUP($R1012,TAXONOMY!$A$1:$G$959,6,FALSE))","v":""},{"$f":"IF(ISBLANK($R1012)=TRUE,\"\",VLOOKUP($R1012,TAXONOMY!$A$1:$G$959,5,FALSE))","v":""},{"$f":"IF(ISBLANK($R1012)=TRUE,\"\",VLOOKUP($R1012,TAXONOMY!$A$1:$G$959,4,FALSE))","v":""},{"$f":"IF(ISBLANK($R1012)=TRUE,\"\",VLOOKUP($R1012,TAXONOMY!$A$1:$G$959,3,FALSE))","v":""},{"$f":"IF(ISBLANK($R1012)=TRUE,\"\",VLOOKUP($R1012,TAXONOMY!$A$1:$H$959,2,FALSE))","v":""}]
[null,null,null,null,null,null,null,null,null,null,null,{"$f":"IF(ISBLANK($R1013)=TRUE,\"\",VLOOKUP($R1013,TAXONOMY!$A$1:$G$959,7,FALSE))","v":""},{"$f":"IF(ISBLANK($R1013)=TRUE,\"\",VLOOKUP($R1013,TAXONOMY!$A$1:$G$959,6,FALSE))","v":""},{"$f":"IF(ISBLANK($R1013)=TRUE,\"\",VLOOKUP($R1013,TAXONOMY!$A$1:$G$959,5,FALSE))","v":""},{"$f":"IF(ISBLANK($R1013)=TRUE,\"\",VLOOKUP($R1013,TAXONOMY!$A$1:$G$959,4,FALSE))","v":""},{"$f":"IF(ISBLANK($R1013)=TRUE,\"\",VLOOKUP($R1013,TAXONOMY!$A$1:$G$959,3,FALSE))","v":""},{"$f":"IF(ISBLANK($R1013)=TRUE,\"\",VLOOKUP($R1013,TAXONOMY!$A$1:$H$959,2,FALSE))","v":""}]
[null,null,null,null,null,null,null,null,null,null,null,{"$f":"IF(ISBLANK($R1014)=TRUE,\"\",VLOOKUP($R1014,TAXONOMY!$A$1:$G$959,7,FALSE))","v":""},{"$f":"IF(ISBLANK($R1014)=TRUE,\"\",VLOOKUP($R1014,TAXONOMY!$A$1:$G$959,6,FALSE))","v":""},{"$f":"IF(ISBLANK($R1014)=TRUE,\"\",VLOOKUP($R1014,TAXONOMY!$A$1:$G$959,5,FALSE))","v":""},{"$f":"IF(ISBLANK($R1014)=TRUE,\"\",VLOOKUP($R1014,TAXONOMY!$A$1:$G$959,4,FALSE))","v":""},{"$f":"IF(ISBLANK($R1014)=TRUE,\"\",VLOOKUP($R1014,TAXONOMY!$A$1:$G$959,3,FALSE))","v":""},{"$f":"IF(ISBLANK($R1014)=TRUE,\"\",VLOOKUP($R1014,TAXONOMY!$A$1:$H$959,2,FALSE))","v":""}]
[null,null,null,null,null,null,null,null,null,null,null,{"$f":"IF(ISBLANK($R1015)=TRUE,\"\",VLOOKUP($R1015,TAXONOMY!$A$1:$G$959,7,FALSE))","v":""},{"$f":"IF(ISBLANK($R1015)=TRUE,\"\",VLOOKUP($R1015,TAXONOMY!$A$1:$G$959,6,FALSE))","v":""},{"$f":"IF(ISBLANK($R1015)=TRUE,\"\",VLOOKUP($R1015,TAXONOMY!$A$1:$G$959,5,FALSE))","v":""},{"$f":"IF(ISBLANK($R1015)=TRUE,\"\",VLOOKUP($R1015,TAXONOMY!$A$1:$G$959,4,FALSE))","v":""},{"$f":"IF(ISBLANK($R1015)=TRUE,\"\",VLOOKUP($R1015,TAXONOMY!$A$1:$G$959,3,FALSE))","v":""},{"$f":"IF(ISBLANK($R1015)=TRUE,\"\",VLOOKUP($R1015,TAXONOMY!$A$1:$H$959,2,FALSE))","v":""}]
[null,null,null,null,null,null,null,null,null,null,null,{"$f":"IF(ISBLANK($R1016)=TRUE,\"\",VLOOKUP($R1016,TAXONOMY!$A$1:$G$959,7,FALSE))","v":""},{"$f":"IF(ISBLANK($R1016)=TRUE,\"\",VLOOKUP($R1016,TAXONOMY!$A$1:$G$959,6,FALSE))","v":""},{"$f":"IF(ISBLANK($R1016)=TRUE,\"\",VLOOKUP($R1016,TAXONOMY!$A$1:$G$959,5,FALSE))","v":""},{"$f":"IF(ISBLANK($R1016)=TRUE,\"\",VLOOKUP($R1016,TAXONOMY!$A$1:$G$959,4,FALSE))","v":""},{"$f":"IF(ISBLANK($R1016)=TRUE,\"\",VLOOKUP($R1016,TAXONOMY!$A$1:$G$959,3,FALSE))","v":""},{"$f":"IF(ISBLANK($R1016)=TRUE,\"\",VLOOKUP($R1016,TAXONOMY!$A$1:$H$959,2,FALSE))","v":""}]
[null,null,null,null,null,null,null,null,null,null,null,{"$f":"IF(ISBLANK($R1017)=TRUE,\"\",VLOOKUP($R1017,TAXONOMY!$A$1:$G$959,7,FALSE))","v":""},{"$f":"IF(ISBLANK($R1017)=TRUE,\"\",VLOOKUP($R1017,TAXONOMY!$A$1:$G$959,6,FALSE))","v":""},{"$f":"IF(ISBLANK($R1017)=TRUE,\"\",VLOOKUP($R1017,TAXONOMY!$A$1:$G$959,5,FALSE))","v":""},{"$f":"IF(ISBLANK($R1017)=TRUE,\"\",VLOOKUP($R1017,TAXONOMY!$A$1:$G$959,4,FALSE))","v":""},{"$f":"IF(ISBLANK($R1017)=TRUE,\"\",VLOOKUP($R1017,TAXONOMY!$A$1:$G$959,3,FALSE))","v":""},{"$f":"IF(ISBLANK($R1017)=TRUE,\"\",VLOOKUP($R1017,TAXONOMY!$A$1:$H$959,2,FALSE))","v":""}]
[null,null,null,null,null,null,null,null,null,null,null,{"$f":"IF(ISBLANK($R1018)=TRUE,\"\",VLOOKUP($R1018,TAXONOMY!$A$1:$G$959,7,FALSE))","v":""},{"$f":"IF(ISBLANK($R1018)=TRUE,\"\",VLOOKUP($R1018,TAXONOMY!$A$1:$G$959,6,FALSE))","v":""},{"$f":"IF(ISBLANK($R1018)=TRUE,\"\",VLOOKUP($R1018,TAXONOMY!$A$1:$G$959,5,FALSE))","v":""},{"$f":"IF(ISBLANK($R1018)=TRUE,\"\",VLOOKUP($R1018,TAXONOMY!$A$1:$G$959,4,FALSE))","v":""},{"$f":"IF(ISBLANK($R1018)=TRUE,\"\",VLOOKUP($R1018,TAXONOMY!$A$1:$G$959,3,FALSE))","v":""},{"$f":"IF(ISBLANK($R1018)=TRUE,\"\",VLOOKUP($R1018,TAXONOMY!$A$1:$H$959,2,FALSE))","v":""}]
[null,null,null,null,null,null,null,null,null,null,null,{"$f":"IF(ISBLANK($R1019)=TRUE,\"\",VLOOKUP($R1019,TAXONOMY!$A$1:$G$959,7,FALSE))","v":""},{"$f":"IF(ISBLANK($R1019)=TRUE,\"\",VLOOKUP($R1019,TAXONOMY!$A$1:$G$959,6,FALSE))","v":""},{"$f":"IF(ISBLANK($R1019)=TRUE,\"\",VLOOKUP($R1019,TAXONOMY!$A$1:$G$959,5,FALSE))","v":""},{"$f":"IF(ISBLANK($R1019)=TRUE,\"\",VLOOKUP($R1019,TAXONOMY!$A$1:$G$959,4,FALSE))","v":""},{"$f":"IF(ISBLANK($R1019)=TRUE,\"\",VLOOKUP($R1019,TAXONOMY!$A$1:$G$959,3,FALSE))","v":""},{"$f":"IF(ISBLANK($R1019)=TRUE,\"\",VLOOKUP($R1019,TAXONOMY!$A$1:$H$959,2,FALSE))","v":""}]
[null,null,null,null,null,null,null,null,null,null,null,{"$f":"IF(ISBLANK($R1020)=TRUE,\"\",VLOOKUP($R1020,TAXONOMY!$A$1:$G$959,7,FALSE))","v":""},{"$f":"IF(ISBLANK($R1020)=TRUE,\"\",VLOOKUP($R1020,TAXONOMY!$A$1:$G$959,6,FALSE))","v":""},{"$f":"IF(ISBLANK($R1020)=TRUE,\"\",VLOOKUP($R1020,TAXONOMY!$A$1:$G$959,5,FALSE))","v":""},{"$f":"IF(ISBLANK($R1020)=TRUE,\"\",VLOOKUP($R1020,TAXONOMY!$A$1:$G$959,4,FALSE))","v":""},{"$f":"IF(ISBLANK($R1020)=TRUE,\"\",VLOOKUP($R1020,TAXONOMY!$A$1:$G$959,3,FALSE))","v":""},{"$f":"IF(ISBLANK($R1020)=TRUE,\"\",VLOOKUP($R1020,TAXONOMY!$A$1:$H$959,2,FALSE))","v":""}]
[null,null,null,null,null,null,null,null,null,null,null,{"$f":"IF(ISBLANK($R1021)=TRUE,\"\",VLOOKUP($R1021,TAXONOMY!$A$1:$G$959,7,FALSE))","v":""},{"$f":"IF(ISBLANK($R1021)=TRUE,\"\",VLOOKUP($R1021,TAXONOMY!$A$1:$G$959,6,FALSE))","v":""},{"$f":"IF(ISBLANK($R1021)=TRUE,\"\",VLOOKUP($R1021,TAXONOMY!$A$1:$G$959,5,FALSE))","v":""},{"$f":"IF(ISBLANK($R1021)=TRUE,\"\",VLOOKUP($R1021,TAXONOMY!$A$1:$G$959,4,FALSE))","v":""},{"$f":"IF(ISBLANK($R1021)=TRUE,\"\",VLOOKUP($R1021,TAXONOMY!$A$1:$G$959,3,FALSE))","v":""},{"$f":"IF(ISBLANK($R1021)=TRUE,\"\",VLOOKUP($R1021,TAXONOMY!$A$1:$H$959,2,FALSE))","v":""}]
[null,null,null,null,null,null,null,null,null,null,null,{"$f":"IF(ISBLANK($R1022)=TRUE,\"\",VLOOKUP($R1022,TAXONOMY!$A$1:$G$959,7,FALSE))","v":""},{"$f":"IF(ISBLANK($R1022)=TRUE,\"\",VLOOKUP($R1022,TAXONOMY!$A$1:$G$959,6,FALSE))","v":""},{"$f":"IF(ISBLANK($R1022)=TRUE,\"\",VLOOKUP($R1022,TAXONOMY!$A$1:$G$959,5,FALSE))","v":""},{"$f":"IF(ISBLANK($R1022)=TRUE,\"\",VLOOKUP($R1022,TAXONOMY!$A$1:$G$959,4,FALSE))","v":""},{"$f":"IF(ISBLANK($R1022)=TRUE,\"\",VLOOKUP($R1022,TAXONOMY!$A$1:$G$959,3,FALSE))","v":""},{"$f":"IF(ISBLANK($R1022)=TRUE,\"\",VLOOKUP($R1022,TAXONOMY!$A$1:$H$959,2,FALSE))","v":""}]
[null,null,null,null,null,null,null,null,null,null,null,{"$f":"IF(ISBLANK($R1023)=TRUE,\"\",VLOOKUP($R1023,TAXONOMY!$A$1:$G$959,7,FALSE))","v":""},{"$f":"IF(ISBLANK($R1023)=TRUE,\"\",VLOOKUP($R1023,TAXONOMY!$A$1:$G$959,6,FALSE))","v":""},{"$f":"IF(ISBLANK($R1023)=TRUE,\"\",VLOOKUP($R1023,TAXONOMY!$A$1:$G$959,5,FALSE))","v":""},{"$f":"IF(ISBLANK($R1023)=TRUE,\"\",VLOOKUP($R1023,TAXONOMY!$A$1:$G$959,4,FALSE))","v":""},{"$f":"IF(ISBLANK($R1023)=TRUE,\"\",VLOOKUP($R1023,TAXONOMY!$A$1:$G$959,3,FALSE))","v":""},{"$f":"IF(ISBLANK($R1023)=TRUE,\"\",VLOOKUP($R1023,TAXONOMY!$A$1:$H$959,2,FALSE))","v":""}]
[null,null,null,null,null,null,null,null,null,null,null,{"$f":"IF(ISBLANK($R1024)=TRUE,\"\",VLOOKUP($R1024,TAXONOMY!$A$1:$G$959,7,FALSE))","v":""},{"$f":"IF(ISBLANK($R1024)=TRUE,\"\",VLOOKUP($R1024,TAXONOMY!$A$1:$G$959,6,FALSE))","v":""},{"$f":"IF(ISBLANK($R1024)=TRUE,\"\",VLOOKUP($R1024,TAXONOMY!$A$1:$G$959,5,FALSE))","v":""},{"$f":"IF(ISBLANK($R1024)=TRUE,\"\",VLOOKUP($R1024,TAXONOMY!$A$1:$G$959,4,FALSE))","v":""},{"$f":"IF(ISBLANK($R1024)=TRUE,\"\",VLOOKUP($R1024,TAXONOMY!$A$1:$G$959,3,FALSE))","v":""},{"$f":"IF(ISBLANK($R1024)=TRUE,\"\",VLOOKUP($R1024,TAXONOMY!$A$1:$H$959,2,FALSE))","v":""}]
[null,null,null,null,null,null,null,null,null,null,null,{"$f":"IF(ISBLANK($R1025)=TRUE,\"\",VLOOKUP($R1025,TAXONOMY!$A$1:$G$959,7,FALSE))","v":""},{"$f":"IF(ISBLANK($R1025)=TRUE,\"\",VLOOKUP($R1025,TAXONOMY!$A$1:$G$959,6,FALSE))","v":""},{"$f":"IF(ISBLANK($R1025)=TRUE,\"\",VLOOKUP($R1025,TAXONOMY!$A$1:$G$959,5,FALSE))","v":""},{"$f":"IF(ISBLANK($R1025)=TRUE,\"\",VLOOKUP($R1025,TAXONOMY!$A$1:$G$959,4,FALSE))","v":""},{"$f":"IF(ISBLANK($R1025)=TRUE,\"\",VLOOKUP($R1025,TAXONOMY!$A$1:$G$959,3,FALSE))","v":""},{"$f":"IF(ISBLANK($R1025)=TRUE,\"\",VLOOKUP($R1025,TAXONOMY!$A$1:$H$959,2,FALSE))","v":""}]
[null,null,null,null,null,null,null,null,null,null,null,{"$f":"IF(ISBLANK($R1026)=TRUE,\"\",VLOOKUP($R1026,TAXONOMY!$A$1:$G$959,7,FALSE))","v":""},{"$f":"IF(ISBLANK($R1026)=TRUE,\"\",VLOOKUP($R1026,TAXONOMY!$A$1:$G$959,6,FALSE))","v":""},{"$f":"IF(ISBLANK($R1026)=TRUE,\"\",VLOOKUP($R1026,TAXONOMY!$A$1:$G$959,5,FALSE))","v":""},{"$f":"IF(ISBLANK($R1026)=TRUE,\"\",VLOOKUP($R1026,TAXONOMY!$A$1:$G$959,4,FALSE))","v":""},{"$f":"IF(ISBLANK($R1026)=TRUE,\"\",VLOOKUP($R1026,TAXONOMY!$A$1:$G$959,3,FALSE))","v":""},{"$f":"IF(ISBLANK($R1026)=TRUE,\"\",VLOOKUP($R1026,TAXONOMY!$A$1:$H$959,2,FALSE))","v":""}]
[null,null,null,null,null,null,null,null,null,null,null,{"$f":"IF(ISBLANK($R1027)=TRUE,\"\",VLOOKUP($R1027,TAXONOMY!$A$1:$G$959,7,FALSE))","v":""},{"$f":"IF(ISBLANK($R1027)=TRUE,\"\",VLOOKUP($R1027,TAXONOMY!$A$1:$G$959,6,FALSE))","v":""},{"$f":"IF(ISBLANK($R1027)=TRUE,\"\",VLOOKUP($R1027,TAXONOMY!$A$1:$G$959,5,FALSE))","v":""},{"$f":"IF(ISBLANK($R1027)=TRUE,\"\",VLOOKUP($R1027,TAXONOMY!$A$1:$G$959,4,FALSE))","v":""},{"$f":"IF(ISBLANK($R1027)=TRUE,\"\",VLOOKUP($R1027,TAXONOMY!$A$1:$G$959,3,FALSE))","v":""},{"$f":"IF(ISBLANK($R1027)=TRUE,\"\",VLOOKUP($R1027,TAXONOMY!$A$1:$H$959,2,FALSE))","v":""}]
[null,null,null,null,null,null,null,null,null,null,null,{"$f":"IF(ISBLANK($R1028)=TRUE,\"\",VLOOKUP($R1028,TAXONOMY!$A$1:$G$959,7,FALSE))","v":""},{"$f":"IF(ISBLANK($R1028)=TRUE,\"\",VLOOKUP($R1028,TAXONOMY!$A$1:$G$959,6,FALSE))","v":""},{"$f":"IF(ISBLANK($R1028)=TRUE,\"\",VLOOKUP($R1028,TAXONOMY!$A$1:$G$959,5,FALSE))","v":""},{"$f":"IF(ISBLANK($R1028)=TRUE,\"\",VLOOKUP($R1028,TAXONOMY!$A$1:$G$959,4,FALSE))","v":""},{"$f":"IF(ISBLANK($R1028)=TRUE,\"\",VLOOKUP($R1028,TAXONOMY!$A$1:$G$959,3,FALSE))","v":""},{"$f":"IF(ISBLANK($R1028)=TRUE,\"\",VLOOKUP($R1028,TAXONOMY!$A$1:$H$959,2,FALSE))","v":""}]
[null,null,null,null,null,null,null,null,null,null,null,{"$f":"IF(ISBLANK($R1029)=TRUE,\"\",VLOOKUP($R1029,TAXONOMY!$A$1:$G$959,7,FALSE))","v":""},{"$f":"IF(ISBLANK($R1029)=TRUE,\"\",VLOOKUP($R1029,TAXONOMY!$A$1:$G$959,6,FALSE))","v":""},{"$f":"IF(ISBLANK($R1029)=TRUE,\"\",VLOOKUP($R1029,TAXONOMY!$A$1:$G$959,5,FALSE))","v":""},{"$f":"IF(ISBLANK($R1029)=TRUE,\"\",VLOOKUP($R1029,TAXONOMY!$A$1:$G$959,4,FALSE))","v":""},{"$f":"IF(ISBLANK($R1029)=TRUE,\"\",VLOOKUP($R1029,TAXONOMY!$A$1:$G$959,3,FALSE))","v":""},{"$f":"IF(ISBLANK($R1029)=TRUE,\"\",VLOOKUP($R1029,TAXONOMY!$A$1:$H$959,2,FALSE))","v":""}]
[null,null,null,null,null,null,null,null,null,null,null,{"$f":"IF(ISBLANK($R1030)=TRUE,\"\",VLOOKUP($R1030,TAXONOMY!$A$1:$G$959,7,FALSE))","v":""},{"$f":"IF(ISBLANK($R1030)=TRUE,\"\",VLOOKUP($R1030,TAXONOMY!$A$1:$G$959,6,FALSE))","v":""},{"$f":"IF(ISBLANK($R1030)=TRUE,\"\",VLOOKUP($R1030,TAXONOMY!$A$1:$G$959,5,FALSE))","v":""},{"$f":"IF(ISBLANK($R1030)=TRUE,\"\",VLOOKUP($R1030,TAXONOMY!$A$1:$G$959,4,FALSE))","v":""},{"$f":"IF(ISBLANK($R1030)=TRUE,\"\",VLOOKUP($R1030,TAXONOMY!$A$1:$G$959,3,FALSE))","v":""},{"$f":"IF(ISBLANK($R1030)=TRUE,\"\",VLOOKUP($R1030,TAXONOMY!$A$1:$H$959,2,FALSE))","v":""}]
[null,null,null,null,null,null,null,null,null,null,null,{"$f":"IF(ISBLANK($R1031)=TRUE,\"\",VLOOKUP($R1031,TAXONOMY!$A$1:$G$959,7,FALSE))","v":""},{"$f":"IF(ISBLANK($R1031)=TRUE,\"\",VLOOKUP($R1031,TAXONOMY!$A$1:$G$959,6,FALSE))","v":""},{"$f":"IF(ISBLANK($R1031)=TRUE,\"\",VLOOKUP($R1031,TAXONOMY!$A$1:$G$959,5,FALSE))","v":""},{"$f":"IF(ISBLANK($R1031)=TRUE,\"\",VLOOKUP($R1031,TAXONOMY!$A$1:$G$959,4,FALSE))","v":""},{"$f":"IF(ISBLANK($R1031)=TRUE,\"\",VLOOKUP($R1031,TAXONOMY!$A$1:$G$959,3,FALSE))","v":""},{"$f":"IF(ISBLANK($R1031)=TRUE,\"\",VLOOKUP($R1031,TAXONOMY!$A$1:$H$959,2,FALSE))","v":""}]
[null,null,null,null,null,null,null,null,null,null,null,{"$f":"IF(ISBLANK($R1032)=TRUE,\"\",VLOOKUP($R1032,TAXONOMY!$A$1:$G$959,7,FALSE))","v":""},{"$f":"IF(ISBLANK($R1032)=TRUE,\"\",VLOOKUP($R1032,TAXONOMY!$A$1:$G$959,6,FALSE))","v":""},{"$f":"IF(ISBLANK($R1032)=TRUE,\"\",VLOOKUP($R1032,TAXONOMY!$A$1:$G$959,5,FALSE))","v":""},{"$f":"IF(ISBLANK($R1032)=TRUE,\"\",VLOOKUP($R1032,TAXONOMY!$A$1:$G$959,4,FALSE))","v":""},{"$f":"IF(ISBLANK($R1032)=TRUE,\"\",VLOOKUP($R1032,TAXONOMY!$A$1:$G$959,3,FALSE))","v":""},{"$f":"IF(ISBLANK($R1032)=TRUE,\"\",VLOOKUP($R1032,TAXONOMY!$A$1:$H$959,2,FALSE))","v":""}]
[null,null,null,null,null,null,null,null,null,null,null,{"$f":"IF(ISBLANK($R1033)=TRUE,\"\",VLOOKUP($R1033,TAXONOMY!$A$1:$G$959,7,FALSE))","v":""},{"$f":"IF(ISBLANK($R1033)=TRUE,\"\",VLOOKUP($R1033,TAXONOMY!$A$1:$G$959,6,FALSE))","v":""},{"$f":"IF(ISBLANK($R1033)=TRUE,\"\",VLOOKUP($R1033,TAXONOMY!$A$1:$G$959,5,FALSE))","v":""},{"$f":"IF(ISBLANK($R1033)=TRUE,\"\",VLOOKUP($R1033,TAXONOMY!$A$1:$G$959,4,FALSE))","v":""},{"$f":"IF(ISBLANK($R1033)=TRUE,\"\",VLOOKUP($R1033,TAXONOMY!$A$1:$G$959,3,FALSE))","v":""},{"$f":"IF(ISBLANK($R1033)=TRUE,\"\",VLOOKUP($R1033,TAXONOMY!$A$1:$H$959,2,FALSE))","v":""}]
[null,null,null,null,null,null,null,null,null,null,null,{"$f":"IF(ISBLANK($R1034)=TRUE,\"\",VLOOKUP($R1034,TAXONOMY!$A$1:$G$959,7,FALSE))","v":""},{"$f":"IF(ISBLANK($R1034)=TRUE,\"\",VLOOKUP($R1034,TAXONOMY!$A$1:$G$959,6,FALSE))","v":""},{"$f":"IF(ISBLANK($R1034)=TRUE,\"\",VLOOKUP($R1034,TAXONOMY!$A$1:$G$959,5,FALSE))","v":""},{"$f":"IF(ISBLANK($R1034)=TRUE,\"\",VLOOKUP($R1034,TAXONOMY!$A$1:$G$959,4,FALSE))","v":""},{"$f":"IF(ISBLANK($R1034)=TRUE,\"\",VLOOKUP($R1034,TAXONOMY!$A$1:$G$959,3,FALSE))","v":""},{"$f":"IF(ISBLANK($R1034)=TRUE,\"\",VLOOKUP($R1034,TAXONOMY!$A$1:$H$959,2,FALSE))","v":""}]
[null,null,null,null,null,null,null,null,null,null,null,{"$f":"IF(ISBLANK($R1035)=TRUE,\"\",VLOOKUP($R1035,TAXONOMY!$A$1:$G$959,7,FALSE))","v":""},{"$f":"IF(ISBLANK($R1035)=TRUE,\"\",VLOOKUP($R1035,TAXONOMY!$A$1:$G$959,6,FALSE))","v":""},{"$f":"IF(ISBLANK($R1035)=TRUE,\"\",VLOOKUP($R1035,TAXONOMY!$A$1:$G$959,5,FALSE))","v":""},{"$f":"IF(ISBLANK($R1035)=TRUE,\"\",VLOOKUP($R1035,TAXONOMY!$A$1:$G$959,4,FALSE))","v":""},{"$f":"IF(ISBLANK($R1035)=TRUE,\"\",VLOOKUP($R1035,TAXONOMY!$A$1:$G$959,3,FALSE))","v":""},{"$f":"IF(ISBLANK($R1035)=TRUE,\"\",VLOOKUP($R1035,TAXONOMY!$A$1:$H$959,2,FALSE))","v":""}]
[null,null,null,null,null,null,null,null,null,null,null,{"$f":"IF(ISBLANK($R1036)=TRUE,\"\",VLOOKUP($R1036,TAXONOMY!$A$1:$G$959,7,FALSE))","v":""},{"$f":"IF(ISBLANK($R1036)=TRUE,\"\",VLOOKUP($R1036,TAXONOMY!$A$1:$G$959,6,FALSE))","v":""},{"$f":"IF(ISBLANK($R1036)=TRUE,\"\",VLOOKUP($R1036,TAXONOMY!$A$1:$G$959,5,FALSE))","v":""},{"$f":"IF(ISBLANK($R1036)=TRUE,\"\",VLOOKUP($R1036,TAXONOMY!$A$1:$G$959,4,FALSE))","v":""},{"$f":"IF(ISBLANK($R1036)=TRUE,\"\",VLOOKUP($R1036,TAXONOMY!$A$1:$G$959,3,FALSE))","v":""},{"$f":"IF(ISBLANK($R1036)=TRUE,\"\",VLOOKUP($R1036,TAXONOMY!$A$1:$H$959,2,FALSE))","v":""}]
[null,null,null,null,null,null,null,null,null,null,null,{"$f":"IF(ISBLANK($R1037)=TRUE,\"\",VLOOKUP($R1037,TAXONOMY!$A$1:$G$959,7,FALSE))","v":""},{"$f":"IF(ISBLANK($R1037)=TRUE,\"\",VLOOKUP($R1037,TAXONOMY!$A$1:$G$959,6,FALSE))","v":""},{"$f":"IF(ISBLANK($R1037)=TRUE,\"\",VLOOKUP($R1037,TAXONOMY!$A$1:$G$959,5,FALSE))","v":""},{"$f":"IF(ISBLANK($R1037)=TRUE,\"\",VLOOKUP($R1037,TAXONOMY!$A$1:$G$959,4,FALSE))","v":""},{"$f":"IF(ISBLANK($R1037)=TRUE,\"\",VLOOKUP($R1037,TAXONOMY!$A$1:$G$959,3,FALSE))","v":""},{"$f":"IF(ISBLANK($R1037)=TRUE,\"\",VLOOKUP($R1037,TAXONOMY!$A$1:$H$959,2,FALSE))","v":""}]
[null,null,null,null,null,null,null,null,null,null,null,{"$f":"IF(ISBLANK($R1038)=TRUE,\"\",VLOOKUP($R1038,TAXONOMY!$A$1:$G$959,7,FALSE))","v":""},{"$f":"IF(ISBLANK($R1038)=TRUE,\"\",VLOOKUP($R1038,TAXONOMY!$A$1:$G$959,6,FALSE))","v":""},{"$f":"IF(ISBLANK($R1038)=TRUE,\"\",VLOOKUP($R1038,TAXONOMY!$A$1:$G$959,5,FALSE))","v":""},{"$f":"IF(ISBLANK($R1038)=TRUE,\"\",VLOOKUP($R1038,TAXONOMY!$A$1:$G$959,4,FALSE))","v":""},{"$f":"IF(ISBLANK($R1038)=TRUE,\"\",VLOOKUP($R1038,TAXONOMY!$A$1:$G$959,3,FALSE))","v":""},{"$f":"IF(ISBLANK($R1038)=TRUE,\"\",VLOOKUP($R1038,TAXONOMY!$A$1:$H$959,2,FALSE))","v":""}]
[null,null,null,null,null,null,null,null,null,null,null,{"$f":"IF(ISBLANK($R1039)=TRUE,\"\",VLOOKUP($R1039,TAXONOMY!$A$1:$G$959,7,FALSE))","v":""},{"$f":"IF(ISBLANK($R1039)=TRUE,\"\",VLOOKUP($R1039,TAXONOMY!$A$1:$G$959,6,FALSE))","v":""},{"$f":"IF(ISBLANK($R1039)=TRUE,\"\",VLOOKUP($R1039,TAXONOMY!$A$1:$G$959,5,FALSE))","v":""},{"$f":"IF(ISBLANK($R1039)=TRUE,\"\",VLOOKUP($R1039,TAXONOMY!$A$1:$G$959,4,FALSE))","v":""},{"$f":"IF(ISBLANK($R1039)=TRUE,\"\",VLOOKUP($R1039,TAXONOMY!$A$1:$G$959,3,FALSE))","v":""},{"$f":"IF(ISBLANK($R1039)=TRUE,\"\",VLOOKUP($R1039,TAXONOMY!$A$1:$H$959,2,FALSE))","v":""}]
[null,null,null,null,null,null,null,null,null,null,null,{"$f":"IF(ISBLANK($R1040)=TRUE,\"\",VLOOKUP($R1040,TAXONOMY!$A$1:$G$959,7,FALSE))","v":""},{"$f":"IF(ISBLANK($R1040)=TRUE,\"\",VLOOKUP($R1040,TAXONOMY!$A$1:$G$959,6,FALSE))","v":""},{"$f":"IF(ISBLANK($R1040)=TRUE,\"\",VLOOKUP($R1040,TAXONOMY!$A$1:$G$959,5,FALSE))","v":""},{"$f":"IF(ISBLANK($R1040)=TRUE,\"\",VLOOKUP($R1040,TAXONOMY!$A$1:$G$959,4,FALSE))","v":""},{"$f":"IF(ISBLANK($R1040)=TRUE,\"\",VLOOKUP($R1040,TAXONOMY!$A$1:$G$959,3,FALSE))","v":""},{"$f":"IF(ISBLANK($R1040)=TRUE,\"\",VLOOKUP($R1040,TAXONOMY!$A$1:$H$959,2,FALSE))","v":""}]
[null,null,null,null,null,null,null,null,null,null,null,{"$f":"IF(ISBLANK($R1041)=TRUE,\"\",VLOOKUP($R1041,TAXONOMY!$A$1:$G$959,7,FALSE))","v":""},{"$f":"IF(ISBLANK($R1041)=TRUE,\"\",VLOOKUP($R1041,TAXONOMY!$A$1:$G$959,6,FALSE))","v":""},{"$f":"IF(ISBLANK($R1041)=TRUE,\"\",VLOOKUP($R1041,TAXONOMY!$A$1:$G$959,5,FALSE))","v":""},{"$f":"IF(ISBLANK($R1041)=TRUE,\"\",VLOOKUP($R1041,TAXONOMY!$A$1:$G$959,4,FALSE))","v":""},{"$f":"IF(ISBLANK($R1041)=TRUE,\"\",VLOOKUP($R1041,TAXONOMY!$A$1:$G$959,3,FALSE))","v":""},{"$f":"IF(ISBLANK($R1041)=TRUE,\"\",VLOOKUP($R1041,TAXONOMY!$A$1:$H$959,2,FALSE))","v":""}]
[null,null,null,null,null,null,null,null,null,null,null,{"$f":"IF(ISBLANK($R1042)=TRUE,\"\",VLOOKUP($R1042,TAXONOMY!$A$1:$G$959,7,FALSE))","v":""},{"$f":"IF(ISBLANK($R1042)=TRUE,\"\",VLOOKUP($R1042,TAXONOMY!$A$1:$G$959,6,FALSE))","v":""},{"$f":"IF(ISBLANK($R1042)=TRUE,\"\",VLOOKUP($R1042,TAXONOMY!$A$1:$G$959,5,FALSE))","v":""},{"$f":"IF(ISBLANK($R1042)=TRUE,\"\",VLOOKUP($R1042,TAXONOMY!$A$1:$G$959,4,FALSE))","v":""},{"$f":"IF(ISBLANK($R1042)=TRUE,\"\",VLOOKUP($R1042,TAXONOMY!$A$1:$G$959,3,FALSE))","v":""},{"$f":"IF(ISBLANK($R1042)=TRUE,\"\",VLOOKUP($R1042,TAXONOMY!$A$1:$H$959,2,FALSE))","v":""}]
[null,null,null,null,null,null,null,null,null,null,null,{"$f":"IF(ISBLANK($R1043)=TRUE,\"\",VLOOKUP($R1043,TAXONOMY!$A$1:$G$959,7,FALSE))","v":""},{"$f":"IF(ISBLANK($R1043)=TRUE,\"\",VLOOKUP($R1043,TAXONOMY!$A$1:$G$959,6,FALSE))","v":""},{"$f":"IF(ISBLANK($R1043)=TRUE,\"\",VLOOKUP($R1043,TAXONOMY!$A$1:$G$959,5,FALSE))","v":""},{"$f":"IF(ISBLANK($R1043)=TRUE,\"\",VLOOKUP($R1043,TAXONOMY!$A$1:$G$959,4,FALSE))","v":""},{"$f":"IF(ISBLANK($R1043)=TRUE,\"\",VLOOKUP($R1043,TAXONOMY!$A$1:$G$959,3,FALSE))","v":""},{"$f":"IF(ISBLANK($R1043)=TRUE,\"\",VLOOKUP($R1043,TAXONOMY!$A$1:$H$959,2,FALSE))","v":""}]
[null,null,null,null,null,null,null,null,null,null,null,{"$f":"IF(ISBLANK($R1044)=TRUE,\"\",VLOOKUP($R1044,TAXONOMY!$A$1:$G$959,7,FALSE))","v":""},{"$f":"IF(ISBLANK($R1044)=TRUE,\"\",VLOOKUP($R1044,TAXONOMY!$A$1:$G$959,6,FALSE))","v":""},{"$f":"IF(ISBLANK($R1044)=TRUE,\"\",VLOOKUP($R1044,TAXONOMY!$A$1:$G$959,5,FALSE))","v":""},{"$f":"IF(ISBLANK($R1044)=TRUE,\"\",VLOOKUP($R1044,TAXONOMY!$A$1:$G$959,4,FALSE))","v":""},{"$f":"IF(ISBLANK($R1044)=TRUE,\"\",VLOOKUP($R1044,TAXONOMY!$A$1:$G$959,3,FALSE))","v":""},{"$f":"IF(ISBLANK($R1044)=TRUE,\"\",VLOOKUP($R1044,TAXONOMY!$A$1:$H$959,2,FALSE))","v":""}]
[null,null,null,null,null,null,null,null,null,null,null,{"$f":"IF(ISBLANK($R1045)=TRUE,\"\",VLOOKUP($R1045,TAXONOMY!$A$1:$G$959,7,FALSE))","v":""},{"$f":"IF(ISBLANK($R1045)=TRUE,\"\",VLOOKUP($R1045,TAXONOMY!$A$1:$G$959,6,FALSE))","v":""},{"$f":"IF(ISBLANK($R1045)=TRUE,\"\",VLOOKUP($R1045,TAXONOMY!$A$1:$G$959,5,FALSE))","v":""},{"$f":"IF(ISBLANK($R1045)=TRUE,\"\",VLOOKUP($R1045,TAXONOMY!$A$1:$G$959,4,FALSE))","v":""},{"$f":"IF(ISBLANK($R1045)=TRUE,\"\",VLOOKUP($R1045,TAXONOMY!$A$1:$G$959,3,FALSE))","v":""},{"$f":"IF(ISBLANK($R1045)=TRUE,\"\",VLOOKUP($R1045,TAXONOMY!$A$1:$H$959,2,FALSE))","v":""}]
[null,null,null,null,null,null,null,null,null,null,null,{"$f":"IF(ISBLANK($R1046)=TRUE,\"\",VLOOKUP($R1046,TAXONOMY!$A$1:$G$959,7,FALSE))","v":""},{"$f":"IF(ISBLANK($R1046)=TRUE,\"\",VLOOKUP($R1046,TAXONOMY!$A$1:$G$959,6,FALSE))","v":""},{"$f":"IF(ISBLANK($R1046)=TRUE,\"\",VLOOKUP($R1046,TAXONOMY!$A$1:$G$959,5,FALSE))","v":""},{"$f":"IF(ISBLANK($R1046)=TRUE,\"\",VLOOKUP($R1046,TAXONOMY!$A$1:$G$959,4,FALSE))","v":""},{"$f":"IF(ISBLANK($R1046)=TRUE,\"\",VLOOKUP($R1046,TAXONOMY!$A$1:$G$959,3,FALSE))","v":""},{"$f":"IF(ISBLANK($R1046)=TRUE,\"\",VLOOKUP($R1046,TAXONOMY!$A$1:$H$959,2,FALSE))","v":""}]
[null,null,null,null,null,null,null,null,null,null,null,{"$f":"IF(ISBLANK($R1047)=TRUE,\"\",VLOOKUP($R1047,TAXONOMY!$A$1:$G$959,7,FALSE))","v":""},{"$f":"IF(ISBLANK($R1047)=TRUE,\"\",VLOOKUP($R1047,TAXONOMY!$A$1:$G$959,6,FALSE))","v":""},{"$f":"IF(ISBLANK($R1047)=TRUE,\"\",VLOOKUP($R1047,TAXONOMY!$A$1:$G$959,5,FALSE))","v":""},{"$f":"IF(ISBLANK($R1047)=TRUE,\"\",VLOOKUP($R1047,TAXONOMY!$A$1:$G$959,4,FALSE))","v":""},{"$f":"IF(ISBLANK($R1047)=TRUE,\"\",VLOOKUP($R1047,TAXONOMY!$A$1:$G$959,3,FALSE))","v":""},{"$f":"IF(ISBLANK($R1047)=TRUE,\"\",VLOOKUP($R1047,TAXONOMY!$A$1:$H$959,2,FALSE))","v":""}]
[null,null,null,null,null,null,null,null,null,null,null,{"$f":"IF(ISBLANK($R1048)=TRUE,\"\",VLOOKUP($R1048,TAXONOMY!$A$1:$G$959,7,FALSE))","v":""},{"$f":"IF(ISBLANK($R1048)=TRUE,\"\",VLOOKUP($R1048,TAXONOMY!$A$1:$G$959,6,FALSE))","v":""},{"$f":"IF(ISBLANK($R1048)=TRUE,\"\",VLOOKUP($R1048,TAXONOMY!$A$1:$G$959,5,FALSE))","v":""},{"$f":"IF(ISBLANK($R1048)=TRUE,\"\",VLOOKUP($R1048,TAXONOMY!$A$1:$G$959,4,FALSE))","v":""},{"$f":"IF(ISBLANK($R1048)=TRUE,\"\",VLOOKUP($R1048,TAXONOMY!$A$1:$G$959,3,FALSE))","v":""},{"$f":"IF(ISBLANK($R1048)=TRUE,\"\",VLOOKUP($R1048,TAXONOMY!$A$1:$H$959,2,FALSE))","v":""}]
[null,null,null,null,null,null,null,null,null,null,null,{"$f":"IF(ISBLANK($R1049)=TRUE,\"\",VLOOKUP($R1049,TAXONOMY!$A$1:$G$959,7,FALSE))","v":""},{"$f":"IF(ISBLANK($R1049)=TRUE,\"\",VLOOKUP($R1049,TAXONOMY!$A$1:$G$959,6,FALSE))","v":""},{"$f":"IF(ISBLANK($R1049)=TRUE,\"\",VLOOKUP($R1049,TAXONOMY!$A$1:$G$959,5,FALSE))","v":""},{"$f":"IF(ISBLANK($R1049)=TRUE,\"\",VLOOKUP($R1049,TAXONOMY!$A$1:$G$959,4,FALSE))","v":""},{"$f":"IF(ISBLANK($R1049)=TRUE,\"\",VLOOKUP($R1049,TAXONOMY!$A$1:$G$959,3,FALSE))","v":""},{"$f":"IF(ISBLANK($R1049)=TRUE,\"\",VLOOKUP($R1049,TAXONOMY!$A$1:$H$959,2,FALSE))","v":""}]
[null,null,null,null,null,null,null,null,null,null,null,{"$f":"IF(ISBLANK($R1050)=TRUE,\"\",VLOOKUP($R1050,TAXONOMY!$A$1:$G$959,7,FALSE))","v":""},{"$f":"IF(ISBLANK($R1050)=TRUE,\"\",VLOOKUP($R1050,TAXONOMY!$A$1:$G$959,6,FALSE))","v":""},{"$f":"IF(ISBLANK($R1050)=TRUE,\"\",VLOOKUP($R1050,TAXONOMY!$A$1:$G$959,5,FALSE))","v":""},{"$f":"IF(ISBLANK($R1050)=TRUE,\"\",VLOOKUP($R1050,TAXONOMY!$A$1:$G$959,4,FALSE))","v":""},{"$f":"IF(ISBLANK($R1050)=TRUE,\"\",VLOOKUP($R1050,TAXONOMY!$A$1:$G$959,3,FALSE))","v":""},{"$f":"IF(ISBLANK($R1050)=TRUE,\"\",VLOOKUP($R1050,TAXONOMY!$A$1:$H$959,2,FALSE))","v":""}]
[null,null,null,null,null,null,null,null,null,null,null,{"$f":"IF(ISBLANK($R1051)=TRUE,\"\",VLOOKUP($R1051,TAXONOMY!$A$1:$G$959,7,FALSE))","v":""},{"$f":"IF(ISBLANK($R1051)=TRUE,\"\",VLOOKUP($R1051,TAXONOMY!$A$1:$G$959,6,FALSE))","v":""},{"$f":"IF(ISBLANK($R1051)=TRUE,\"\",VLOOKUP($R1051,TAXONOMY!$A$1:$G$959,5,FALSE))","v":""},{"$f":"IF(ISBLANK($R1051)=TRUE,\"\",VLOOKUP($R1051,TAXONOMY!$A$1:$G$959,4,FALSE))","v":""},{"$f":"IF(ISBLANK($R1051)=TRUE,\"\",VLOOKUP($R1051,TAXONOMY!$A$1:$G$959,3,FALSE))","v":""},{"$f":"IF(ISBLANK($R1051)=TRUE,\"\",VLOOKUP($R1051,TAXONOMY!$A$1:$H$959,2,FALSE))","v":""}]
[null,null,null,null,null,null,null,null,null,null,null,{"$f":"IF(ISBLANK($R1052)=TRUE,\"\",VLOOKUP($R1052,TAXONOMY!$A$1:$G$959,7,FALSE))","v":""},{"$f":"IF(ISBLANK($R1052)=TRUE,\"\",VLOOKUP($R1052,TAXONOMY!$A$1:$G$959,6,FALSE))","v":""},{"$f":"IF(ISBLANK($R1052)=TRUE,\"\",VLOOKUP($R1052,TAXONOMY!$A$1:$G$959,5,FALSE))","v":""},{"$f":"IF(ISBLANK($R1052)=TRUE,\"\",VLOOKUP($R1052,TAXONOMY!$A$1:$G$959,4,FALSE))","v":""},{"$f":"IF(ISBLANK($R1052)=TRUE,\"\",VLOOKUP($R1052,TAXONOMY!$A$1:$G$959,3,FALSE))","v":""},{"$f":"IF(ISBLANK($R1052)=TRUE,\"\",VLOOKUP($R1052,TAXONOMY!$A$1:$H$959,2,FALSE))","v":""}]
[null,null,null,null,null,null,null,null,null,null,null,{"$f":"IF(ISBLANK($R1053)=TRUE,\"\",VLOOKUP($R1053,TAXONOMY!$A$1:$G$959,7,FALSE))","v":""},{"$f":"IF(ISBLANK($R1053)=TRUE,\"\",VLOOKUP($R1053,TAXONOMY!$A$1:$G$959,6,FALSE))","v":""},{"$f":"IF(ISBLANK($R1053)=TRUE,\"\",VLOOKUP($R1053,TAXONOMY!$A$1:$G$959,5,FALSE))","v":""},{"$f":"IF(ISBLANK($R1053)=TRUE,\"\",VLOOKUP($R1053,TAXONOMY!$A$1:$G$959,4,FALSE))","v":""},{"$f":"IF(ISBLANK($R1053)=TRUE,\"\",VLOOKUP($R1053,TAXONOMY!$A$1:$G$959,3,FALSE))","v":""},{"$f":"IF(ISBLANK($R1053)=TRUE,\"\",VLOOKUP($R1053,TAXONOMY!$A$1:$H$959,2,FALSE))","v":""}]
[null,null,null,null,null,null,null,null,null,null,null,{"$f":"IF(ISBLANK($R1054)=TRUE,\"\",VLOOKUP($R1054,TAXONOMY!$A$1:$G$959,7,FALSE))","v":""},{"$f":"IF(ISBLANK($R1054)=TRUE,\"\",VLOOKUP($R1054,TAXONOMY!$A$1:$G$959,6,FALSE))","v":""},{"$f":"IF(ISBLANK($R1054)=TRUE,\"\",VLOOKUP($R1054,TAXONOMY!$A$1:$G$959,5,FALSE))","v":""},{"$f":"IF(ISBLANK($R1054)=TRUE,\"\",VLOOKUP($R1054,TAXONOMY!$A$1:$G$959,4,FALSE))","v":""},{"$f":"IF(ISBLANK($R1054)=TRUE,\"\",VLOOKUP($R1054,TAXONOMY!$A$1:$G$959,3,FALSE))","v":""},{"$f":"IF(ISBLANK($R1054)=TRUE,\"\",VLOOKUP($R1054,TAXONOMY!$A$1:$H$959,2,FALSE))","v":""}]
[null,null,null,null,null,null,null,null,null,null,null,{"$f":"IF(ISBLANK($R1055)=TRUE,\"\",VLOOKUP($R1055,TAXONOMY!$A$1:$G$959,7,FALSE))","v":""},{"$f":"IF(ISBLANK($R1055)=TRUE,\"\",VLOOKUP($R1055,TAXONOMY!$A$1:$G$959,6,FALSE))","v":""},{"$f":"IF(ISBLANK($R1055)=TRUE,\"\",VLOOKUP($R1055,TAXONOMY!$A$1:$G$959,5,FALSE))","v":""},{"$f":"IF(ISBLANK($R1055)=TRUE,\"\",VLOOKUP($R1055,TAXONOMY!$A$1:$G$959,4,FALSE))","v":""},{"$f":"IF(ISBLANK($R1055)=TRUE,\"\",VLOOKUP($R1055,TAXONOMY!$A$1:$G$959,3,FALSE))","v":""},{"$f":"IF(ISBLANK($R1055)=TRUE,\"\",VLOOKUP($R1055,TAXONOMY!$A$1:$H$959,2,FALSE))","v":""}]
[null,null,null,null,null,null,null,null,null,null,null,{"$f":"IF(ISBLANK($R1056)=TRUE,\"\",VLOOKUP($R1056,TAXONOMY!$A$1:$G$959,7,FALSE))","v":""},{"$f":"IF(ISBLANK($R1056)=TRUE,\"\",VLOOKUP($R1056,TAXONOMY!$A$1:$G$959,6,FALSE))","v":""},{"$f":"IF(ISBLANK($R1056)=TRUE,\"\",VLOOKUP($R1056,TAXONOMY!$A$1:$G$959,5,FALSE))","v":""},{"$f":"IF(ISBLANK($R1056)=TRUE,\"\",VLOOKUP($R1056,TAXONOMY!$A$1:$G$959,4,FALSE))","v":""},{"$f":"IF(ISBLANK($R1056)=TRUE,\"\",VLOOKUP($R1056,TAXONOMY!$A$1:$G$959,3,FALSE))","v":""},{"$f":"IF(ISBLANK($R1056)=TRUE,\"\",VLOOKUP($R1056,TAXONOMY!$A$1:$H$959,2,FALSE))","v":""}]
[null,null,null,null,null,null,null,null,null,null,null,{"$f":"IF(ISBLANK($R1057)=TRUE,\"\",VLOOKUP($R1057,TAXONOMY!$A$1:$G$959,7,FALSE))","v":""},{"$f":"IF(ISBLANK($R1057)=TRUE,\"\",VLOOKUP($R1057,TAXONOMY!$A$1:$G$959,6,FALSE))","v":""},{"$f":"IF(ISBLANK($R1057)=TRUE,\"\",VLOOKUP($R1057,TAXONOMY!$A$1:$G$959,5,FALSE))","v":""},{"$f":"IF(ISBLANK($R1057)=TRUE,\"\",VLOOKUP($R1057,TAXONOMY!$A$1:$G$959,4,FALSE))","v":""},{"$f":"IF(ISBLANK($R1057)=TRUE,\"\",VLOOKUP($R1057,TAXONOMY!$A$1:$G$959,3,FALSE))","v":""},{"$f":"IF(ISBLANK($R1057)=TRUE,\"\",VLOOKUP($R1057,TAXONOMY!$A$1:$H$959,2,FALSE))","v":""}]
[null,null,null,null,null,null,null,null,null,null,null,{"$f":"IF(ISBLANK($R1058)=TRUE,\"\",VLOOKUP($R1058,TAXONOMY!$A$1:$G$959,7,FALSE))","v":""},{"$f":"IF(ISBLANK($R1058)=TRUE,\"\",VLOOKUP($R1058,TAXONOMY!$A$1:$G$959,6,FALSE))","v":""},{"$f":"IF(ISBLANK($R1058)=TRUE,\"\",VLOOKUP($R1058,TAXONOMY!$A$1:$G$959,5,FALSE))","v":""},{"$f":"IF(ISBLANK($R1058)=TRUE,\"\",VLOOKUP($R1058,TAXONOMY!$A$1:$G$959,4,FALSE))","v":""},{"$f":"IF(ISBLANK($R1058)=TRUE,\"\",VLOOKUP($R1058,TAXONOMY!$A$1:$G$959,3,FALSE))","v":""},{"$f":"IF(ISBLANK($R1058)=TRUE,\"\",VLOOKUP($R1058,TAXONOMY!$A$1:$H$959,2,FALSE))","v":""}]
[null,null,null,null,null,null,null,null,null,null,null,{"$f":"IF(ISBLANK($R1059)=TRUE,\"\",VLOOKUP($R1059,TAXONOMY!$A$1:$G$959,7,FALSE))","v":""},{"$f":"IF(ISBLANK($R1059)=TRUE,\"\",VLOOKUP($R1059,TAXONOMY!$A$1:$G$959,6,FALSE))","v":""},{"$f":"IF(ISBLANK($R1059)=TRUE,\"\",VLOOKUP($R1059,TAXONOMY!$A$1:$G$959,5,FALSE))","v":""},{"$f":"IF(ISBLANK($R1059)=TRUE,\"\",VLOOKUP($R1059,TAXONOMY!$A$1:$G$959,4,FALSE))","v":""},{"$f":"IF(ISBLANK($R1059)=TRUE,\"\",VLOOKUP($R1059,TAXONOMY!$A$1:$G$959,3,FALSE))","v":""},{"$f":"IF(ISBLANK($R1059)=TRUE,\"\",VLOOKUP($R1059,TAXONOMY!$A$1:$H$959,2,FALSE))","v":""}]
[null,null,null,null,null,null,null,null,null,null,null,{"$f":"IF(ISBLANK($R1060)=TRUE,\"\",VLOOKUP($R1060,TAXONOMY!$A$1:$G$959,7,FALSE))","v":""},{"$f":"IF(ISBLANK($R1060)=TRUE,\"\",VLOOKUP($R1060,TAXONOMY!$A$1:$G$959,6,FALSE))","v":""},{"$f":"IF(ISBLANK($R1060)=TRUE,\"\",VLOOKUP($R1060,TAXONOMY!$A$1:$G$959,5,FALSE))","v":""},{"$f":"IF(ISBLANK($R1060)=TRUE,\"\",VLOOKUP($R1060,TAXONOMY!$A$1:$G$959,4,FALSE))","v":""},{"$f":"IF(ISBLANK($R1060)=TRUE,\"\",VLOOKUP($R1060,TAXONOMY!$A$1:$G$959,3,FALSE))","v":""},{"$f":"IF(ISBLANK($R1060)=TRUE,\"\",VLOOKUP($R1060,TAXONOMY!$A$1:$H$959,2,FALSE))","v":""}]
[null,null,null,null,null,null,null,null,null,null,null,{"$f":"IF(ISBLANK($R1061)=TRUE,\"\",VLOOKUP($R1061,TAXONOMY!$A$1:$G$959,7,FALSE))","v":""},{"$f":"IF(ISBLANK($R1061)=TRUE,\"\",VLOOKUP($R1061,TAXONOMY!$A$1:$G$959,6,FALSE))","v":""},{"$f":"IF(ISBLANK($R1061)=TRUE,\"\",VLOOKUP($R1061,TAXONOMY!$A$1:$G$959,5,FALSE))","v":""},{"$f":"IF(ISBLANK($R1061)=TRUE,\"\",VLOOKUP($R1061,TAXONOMY!$A$1:$G$959,4,FALSE))","v":""},{"$f":"IF(ISBLANK($R1061)=TRUE,\"\",VLOOKUP($R1061,TAXONOMY!$A$1:$G$959,3,FALSE))","v":""},{"$f":"IF(ISBLANK($R1061)=TRUE,\"\",VLOOKUP($R1061,TAXONOMY!$A$1:$H$959,2,FALSE))","v":""}]
[null,null,null,null,null,null,null,null,null,null,null,{"$f":"IF(ISBLANK($R1062)=TRUE,\"\",VLOOKUP($R1062,TAXONOMY!$A$1:$G$959,7,FALSE))","v":""},{"$f":"IF(ISBLANK($R1062)=TRUE,\"\",VLOOKUP($R1062,TAXONOMY!$A$1:$G$959,6,FALSE))","v":""},{"$f":"IF(ISBLANK($R1062)=TRUE,\"\",VLOOKUP($R1062,TAXONOMY!$A$1:$G$959,5,FALSE))","v":""},{"$f":"IF(ISBLANK($R1062)=TRUE,\"\",VLOOKUP($R1062,TAXONOMY!$A$1:$G$959,4,FALSE))","v":""},{"$f":"IF(ISBLANK($R1062)=TRUE,\"\",VLOOKUP($R1062,TAXONOMY!$A$1:$G$959,3,FALSE))","v":""},{"$f":"IF(ISBLANK($R1062)=TRUE,\"\",VLOOKUP($R1062,TAXONOMY!$A$1:$H$959,2,FALSE))","v":""}]
[null,null,null,null,null,null,null,null,null,null,null,{"$f":"IF(ISBLANK($R1063)=TRUE,\"\",VLOOKUP($R1063,TAXONOMY!$A$1:$G$959,7,FALSE))","v":""},{"$f":"IF(ISBLANK($R1063)=TRUE,\"\",VLOOKUP($R1063,TAXONOMY!$A$1:$G$959,6,FALSE))","v":""},{"$f":"IF(ISBLANK($R1063)=TRUE,\"\",VLOOKUP($R1063,TAXONOMY!$A$1:$G$959,5,FALSE))","v":""},{"$f":"IF(ISBLANK($R1063)=TRUE,\"\",VLOOKUP($R1063,TAXONOMY!$A$1:$G$959,4,FALSE))","v":""},{"$f":"IF(ISBLANK($R1063)=TRUE,\"\",VLOOKUP($R1063,TAXONOMY!$A$1:$G$959,3,FALSE))","v":""},{"$f":"IF(ISBLANK($R1063)=TRUE,\"\",VLOOKUP($R1063,TAXONOMY!$A$1:$H$959,2,FALSE))","v":""}]
[null,null,null,null,null,null,null,null,null,null,null,{"$f":"IF(ISBLANK($R1064)=TRUE,\"\",VLOOKUP($R1064,TAXONOMY!$A$1:$G$959,7,FALSE))","v":""},{"$f":"IF(ISBLANK($R1064)=TRUE,\"\",VLOOKUP($R1064,TAXONOMY!$A$1:$G$959,6,FALSE))","v":""},{"$f":"IF(ISBLANK($R1064)=TRUE,\"\",VLOOKUP($R1064,TAXONOMY!$A$1:$G$959,5,FALSE))","v":""},{"$f":"IF(ISBLANK($R1064)=TRUE,\"\",VLOOKUP($R1064,TAXONOMY!$A$1:$G$959,4,FALSE))","v":""},{"$f":"IF(ISBLANK($R1064)=TRUE,\"\",VLOOKUP($R1064,TAXONOMY!$A$1:$G$959,3,FALSE))","v":""},{"$f":"IF(ISBLANK($R1064)=TRUE,\"\",VLOOKUP($R1064,TAXONOMY!$A$1:$H$959,2,FALSE))","v":""}]
[null,null,null,null,null,null,null,null,null,null,null,{"$f":"IF(ISBLANK($R1065)=TRUE,\"\",VLOOKUP($R1065,TAXONOMY!$A$1:$G$959,7,FALSE))","v":""},{"$f":"IF(ISBLANK($R1065)=TRUE,\"\",VLOOKUP($R1065,TAXONOMY!$A$1:$G$959,6,FALSE))","v":""},{"$f":"IF(ISBLANK($R1065)=TRUE,\"\",VLOOKUP($R1065,TAXONOMY!$A$1:$G$959,5,FALSE))","v":""},{"$f":"IF(ISBLANK($R1065)=TRUE,\"\",VLOOKUP($R1065,TAXONOMY!$A$1:$G$959,4,FALSE))","v":""},{"$f":"IF(ISBLANK($R1065)=TRUE,\"\",VLOOKUP($R1065,TAXONOMY!$A$1:$G$959,3,FALSE))","v":""},{"$f":"IF(ISBLANK($R1065)=TRUE,\"\",VLOOKUP($R1065,TAXONOMY!$A$1:$H$959,2,FALSE))","v":""}]
[null,null,null,null,null,null,null,null,null,null,null,{"$f":"IF(ISBLANK($R1066)=TRUE,\"\",VLOOKUP($R1066,TAXONOMY!$A$1:$G$959,7,FALSE))","v":""},{"$f":"IF(ISBLANK($R1066)=TRUE,\"\",VLOOKUP($R1066,TAXONOMY!$A$1:$G$959,6,FALSE))","v":""},{"$f":"IF(ISBLANK($R1066)=TRUE,\"\",VLOOKUP($R1066,TAXONOMY!$A$1:$G$959,5,FALSE))","v":""},{"$f":"IF(ISBLANK($R1066)=TRUE,\"\",VLOOKUP($R1066,TAXONOMY!$A$1:$G$959,4,FALSE))","v":""},{"$f":"IF(ISBLANK($R1066)=TRUE,\"\",VLOOKUP($R1066,TAXONOMY!$A$1:$G$959,3,FALSE))","v":""},{"$f":"IF(ISBLANK($R1066)=TRUE,\"\",VLOOKUP($R1066,TAXONOMY!$A$1:$H$959,2,FALSE))","v":""}]
[null,null,null,null,null,null,null,null,null,null,null,{"$f":"IF(ISBLANK($R1067)=TRUE,\"\",VLOOKUP($R1067,TAXONOMY!$A$1:$G$959,7,FALSE))","v":""},{"$f":"IF(ISBLANK($R1067)=TRUE,\"\",VLOOKUP($R1067,TAXONOMY!$A$1:$G$959,6,FALSE))","v":""},{"$f":"IF(ISBLANK($R1067)=TRUE,\"\",VLOOKUP($R1067,TAXONOMY!$A$1:$G$959,5,FALSE))","v":""},{"$f":"IF(ISBLANK($R1067)=TRUE,\"\",VLOOKUP($R1067,TAXONOMY!$A$1:$G$959,4,FALSE))","v":""},{"$f":"IF(ISBLANK($R1067)=TRUE,\"\",VLOOKUP($R1067,TAXONOMY!$A$1:$G$959,3,FALSE))","v":""},{"$f":"IF(ISBLANK($R1067)=TRUE,\"\",VLOOKUP($R1067,TAXONOMY!$A$1:$H$959,2,FALSE))","v":""}]
[null,null,null,null,null,null,null,null,null,null,null,{"$f":"IF(ISBLANK($R1068)=TRUE,\"\",VLOOKUP($R1068,TAXONOMY!$A$1:$G$959,7,FALSE))","v":""},{"$f":"IF(ISBLANK($R1068)=TRUE,\"\",VLOOKUP($R1068,TAXONOMY!$A$1:$G$959,6,FALSE))","v":""},{"$f":"IF(ISBLANK($R1068)=TRUE,\"\",VLOOKUP($R1068,TAXONOMY!$A$1:$G$959,5,FALSE))","v":""},{"$f":"IF(ISBLANK($R1068)=TRUE,\"\",VLOOKUP($R1068,TAXONOMY!$A$1:$G$959,4,FALSE))","v":""},{"$f":"IF(ISBLANK($R1068)=TRUE,\"\",VLOOKUP($R1068,TAXONOMY!$A$1:$G$959,3,FALSE))","v":""},{"$f":"IF(ISBLANK($R1068)=TRUE,\"\",VLOOKUP($R1068,TAXONOMY!$A$1:$H$959,2,FALSE))","v":""}]
[null,null,null,null,null,null,null,null,null,null,null,{"$f":"IF(ISBLANK($R1069)=TRUE,\"\",VLOOKUP($R1069,TAXONOMY!$A$1:$G$959,7,FALSE))","v":""},{"$f":"IF(ISBLANK($R1069)=TRUE,\"\",VLOOKUP($R1069,TAXONOMY!$A$1:$G$959,6,FALSE))","v":""},{"$f":"IF(ISBLANK($R1069)=TRUE,\"\",VLOOKUP($R1069,TAXONOMY!$A$1:$G$959,5,FALSE))","v":""},{"$f":"IF(ISBLANK($R1069)=TRUE,\"\",VLOOKUP($R1069,TAXONOMY!$A$1:$G$959,4,FALSE))","v":""},{"$f":"IF(ISBLANK($R1069)=TRUE,\"\",VLOOKUP($R1069,TAXONOMY!$A$1:$G$959,3,FALSE))","v":""},{"$f":"IF(ISBLANK($R1069)=TRUE,\"\",VLOOKUP($R1069,TAXONOMY!$A$1:$H$959,2,FALSE))","v":""}]
[null,null,null,null,null,null,null,null,null,null,null,{"$f":"IF(ISBLANK($R1070)=TRUE,\"\",VLOOKUP($R1070,TAXONOMY!$A$1:$G$959,7,FALSE))","v":""},{"$f":"IF(ISBLANK($R1070)=TRUE,\"\",VLOOKUP($R1070,TAXONOMY!$A$1:$G$959,6,FALSE))","v":""},{"$f":"IF(ISBLANK($R1070)=TRUE,\"\",VLOOKUP($R1070,TAXONOMY!$A$1:$G$959,5,FALSE))","v":""},{"$f":"IF(ISBLANK($R1070)=TRUE,\"\",VLOOKUP($R1070,TAXONOMY!$A$1:$G$959,4,FALSE))","v":""},{"$f":"IF(ISBLANK($R1070)=TRUE,\"\",VLOOKUP($R1070,TAXONOMY!$A$1:$G$959,3,FALSE))","v":""},{"$f":"IF(ISBLANK($R1070)=TRUE,\"\",VLOOKUP($R1070,TAXONOMY!$A$1:$H$959,2,FALSE))","v":""}]
[null,null,null,null,null,null,null,null,null,null,null,{"$f":"IF(ISBLANK($R1071)=TRUE,\"\",VLOOKUP($R1071,TAXONOMY!$A$1:$G$959,7,FALSE))","v":""},{"$f":"IF(ISBLANK($R1071)=TRUE,\"\",VLOOKUP($R1071,TAXONOMY!$A$1:$G$959,6,FALSE))","v":""},{"$f":"IF(ISBLANK($R1071)=TRUE,\"\",VLOOKUP($R1071,TAXONOMY!$A$1:$G$959,5,FALSE))","v":""},{"$f":"IF(ISBLANK($R1071)=TRUE,\"\",VLOOKUP($R1071,TAXONOMY!$A$1:$G$959,4,FALSE))","v":""},{"$f":"IF(ISBLANK($R1071)=TRUE,\"\",VLOOKUP($R1071,TAXONOMY!$A$1:$G$959,3,FALSE))","v":""},{"$f":"IF(ISBLANK($R1071)=TRUE,\"\",VLOOKUP($R1071,TAXONOMY!$A$1:$H$959,2,FALSE))","v":""}]
[null,null,null,null,null,null,null,null,null,null,null,{"$f":"IF(ISBLANK($R1072)=TRUE,\"\",VLOOKUP($R1072,TAXONOMY!$A$1:$G$959,7,FALSE))","v":""},{"$f":"IF(ISBLANK($R1072)=TRUE,\"\",VLOOKUP($R1072,TAXONOMY!$A$1:$G$959,6,FALSE))","v":""},{"$f":"IF(ISBLANK($R1072)=TRUE,\"\",VLOOKUP($R1072,TAXONOMY!$A$1:$G$959,5,FALSE))","v":""},{"$f":"IF(ISBLANK($R1072)=TRUE,\"\",VLOOKUP($R1072,TAXONOMY!$A$1:$G$959,4,FALSE))","v":""},{"$f":"IF(ISBLANK($R1072)=TRUE,\"\",VLOOKUP($R1072,TAXONOMY!$A$1:$G$959,3,FALSE))","v":""},{"$f":"IF(ISBLANK($R1072)=TRUE,\"\",VLOOKUP($R1072,TAXONOMY!$A$1:$H$959,2,FALSE))","v":""}]
[null,null,null,null,null,null,null,null,null,null,null,{"$f":"IF(ISBLANK($R1073)=TRUE,\"\",VLOOKUP($R1073,TAXONOMY!$A$1:$G$959,7,FALSE))","v":""},{"$f":"IF(ISBLANK($R1073)=TRUE,\"\",VLOOKUP($R1073,TAXONOMY!$A$1:$G$959,6,FALSE))","v":""},{"$f":"IF(ISBLANK($R1073)=TRUE,\"\",VLOOKUP($R1073,TAXONOMY!$A$1:$G$959,5,FALSE))","v":""},{"$f":"IF(ISBLANK($R1073)=TRUE,\"\",VLOOKUP($R1073,TAXONOMY!$A$1:$G$959,4,FALSE))","v":""},{"$f":"IF(ISBLANK($R1073)=TRUE,\"\",VLOOKUP($R1073,TAXONOMY!$A$1:$G$959,3,FALSE))","v":""},{"$f":"IF(ISBLANK($R1073)=TRUE,\"\",VLOOKUP($R1073,TAXONOMY!$A$1:$H$959,2,FALSE))","v":""}]
[null,null,null,null,null,null,null,null,null,null,null,{"$f":"IF(ISBLANK($R1074)=TRUE,\"\",VLOOKUP($R1074,TAXONOMY!$A$1:$G$959,7,FALSE))","v":""},{"$f":"IF(ISBLANK($R1074)=TRUE,\"\",VLOOKUP($R1074,TAXONOMY!$A$1:$G$959,6,FALSE))","v":""},{"$f":"IF(ISBLANK($R1074)=TRUE,\"\",VLOOKUP($R1074,TAXONOMY!$A$1:$G$959,5,FALSE))","v":""},{"$f":"IF(ISBLANK($R1074)=TRUE,\"\",VLOOKUP($R1074,TAXONOMY!$A$1:$G$959,4,FALSE))","v":""},{"$f":"IF(ISBLANK($R1074)=TRUE,\"\",VLOOKUP($R1074,TAXONOMY!$A$1:$G$959,3,FALSE))","v":""},{"$f":"IF(ISBLANK($R1074)=TRUE,\"\",VLOOKUP($R1074,TAXONOMY!$A$1:$H$959,2,FALSE))","v":""}]
[null,null,null,null,null,null,null,null,null,null,null,{"$f":"IF(ISBLANK($R1075)=TRUE,\"\",VLOOKUP($R1075,TAXONOMY!$A$1:$G$959,7,FALSE))","v":""},{"$f":"IF(ISBLANK($R1075)=TRUE,\"\",VLOOKUP($R1075,TAXONOMY!$A$1:$G$959,6,FALSE))","v":""},{"$f":"IF(ISBLANK($R1075)=TRUE,\"\",VLOOKUP($R1075,TAXONOMY!$A$1:$G$959,5,FALSE))","v":""},{"$f":"IF(ISBLANK($R1075)=TRUE,\"\",VLOOKUP($R1075,TAXONOMY!$A$1:$G$959,4,FALSE))","v":""},{"$f":"IF(ISBLANK($R1075)=TRUE,\"\",VLOOKUP($R1075,TAXONOMY!$A$1:$G$959,3,FALSE))","v":""},{"$f":"IF(ISBLANK($R1075)=TRUE,\"\",VLOOKUP($R1075,TAXONOMY!$A$1:$H$959,2,FALSE))","v":""}]
[null,null,null,null,null,null,null,null,null,null,null,{"$f":"IF(ISBLANK($R1076)=TRUE,\"\",VLOOKUP($R1076,TAXONOMY!$A$1:$G$959,7,FALSE))","v":""},{"$f":"IF(ISBLANK($R1076)=TRUE,\"\",VLOOKUP($R1076,TAXONOMY!$A$1:$G$959,6,FALSE))","v":""},{"$f":"IF(ISBLANK($R1076)=TRUE,\"\",VLOOKUP($R1076,TAXONOMY!$A$1:$G$959,5,FALSE))","v":""},{"$f":"IF(ISBLANK($R1076)=TRUE,\"\",VLOOKUP($R1076,TAXONOMY!$A$1:$G$959,4,FALSE))","v":""},{"$f":"IF(ISBLANK($R1076)=TRUE,\"\",VLOOKUP($R1076,TAXONOMY!$A$1:$G$959,3,FALSE))","v":""},{"$f":"IF(ISBLANK($R1076)=TRUE,\"\",VLOOKUP($R1076,TAXONOMY!$A$1:$H$959,2,FALSE))","v":""}]
[null,null,null,null,null,null,null,null,null,null,null,{"$f":"IF(ISBLANK($R1077)=TRUE,\"\",VLOOKUP($R1077,TAXONOMY!$A$1:$G$959,7,FALSE))","v":""},{"$f":"IF(ISBLANK($R1077)=TRUE,\"\",VLOOKUP($R1077,TAXONOMY!$A$1:$G$959,6,FALSE))","v":""},{"$f":"IF(ISBLANK($R1077)=TRUE,\"\",VLOOKUP($R1077,TAXONOMY!$A$1:$G$959,5,FALSE))","v":""},{"$f":"IF(ISBLANK($R1077)=TRUE,\"\",VLOOKUP($R1077,TAXONOMY!$A$1:$G$959,4,FALSE))","v":""},{"$f":"IF(ISBLANK($R1077)=TRUE,\"\",VLOOKUP($R1077,TAXONOMY!$A$1:$G$959,3,FALSE))","v":""},{"$f":"IF(ISBLANK($R1077)=TRUE,\"\",VLOOKUP($R1077,TAXONOMY!$A$1:$H$959,2,FALSE))","v":""}]
[null,null,null,null,null,null,null,null,null,null,null,{"$f":"IF(ISBLANK($R1078)=TRUE,\"\",VLOOKUP($R1078,TAXONOMY!$A$1:$G$959,7,FALSE))","v":""},{"$f":"IF(ISBLANK($R1078)=TRUE,\"\",VLOOKUP($R1078,TAXONOMY!$A$1:$G$959,6,FALSE))","v":""},{"$f":"IF(ISBLANK($R1078)=TRUE,\"\",VLOOKUP($R1078,TAXONOMY!$A$1:$G$959,5,FALSE))","v":""},{"$f":"IF(ISBLANK($R1078)=TRUE,\"\",VLOOKUP($R1078,TAXONOMY!$A$1:$G$959,4,FALSE))","v":""},{"$f":"IF(ISBLANK($R1078)=TRUE,\"\",VLOOKUP($R1078,TAXONOMY!$A$1:$G$959,3,FALSE))","v":""},{"$f":"IF(ISBLANK($R1078)=TRUE,\"\",VLOOKUP($R1078,TAXONOMY!$A$1:$H$959,2,FALSE))","v":""}]
[null,null,null,null,null,null,null,null,null,null,null,{"$f":"IF(ISBLANK($R1079)=TRUE,\"\",VLOOKUP($R1079,TAXONOMY!$A$1:$G$959,7,FALSE))","v":""},{"$f":"IF(ISBLANK($R1079)=TRUE,\"\",VLOOKUP($R1079,TAXONOMY!$A$1:$G$959,6,FALSE))","v":""},{"$f":"IF(ISBLANK($R1079)=TRUE,\"\",VLOOKUP($R1079,TAXONOMY!$A$1:$G$959,5,FALSE))","v":""},{"$f":"IF(ISBLANK($R1079)=TRUE,\"\",VLOOKUP($R1079,TAXONOMY!$A$1:$G$959,4,FALSE))","v":""},{"$f":"IF(ISBLANK($R1079)=TRUE,\"\",VLOOKUP($R1079,TAXONOMY!$A$1:$G$959,3,FALSE))","v":""},{"$f":"IF(ISBLANK($R1079)=TRUE,\"\",VLOOKUP($R1079,TAXONOMY!$A$1:$H$959,2,FALSE))","v":""}]
[null,null,null,null,null,null,null,null,null,null,null,{"$f":"IF(ISBLANK($R1080)=TRUE,\"\",VLOOKUP($R1080,TAXONOMY!$A$1:$G$959,7,FALSE))","v":""},{"$f":"IF(ISBLANK($R1080)=TRUE,\"\",VLOOKUP($R1080,TAXONOMY!$A$1:$G$959,6,FALSE))","v":""},{"$f":"IF(ISBLANK($R1080)=TRUE,\"\",VLOOKUP($R1080,TAXONOMY!$A$1:$G$959,5,FALSE))","v":""},{"$f":"IF(ISBLANK($R1080)=TRUE,\"\",VLOOKUP($R1080,TAXONOMY!$A$1:$G$959,4,FALSE))","v":""},{"$f":"IF(ISBLANK($R1080)=TRUE,\"\",VLOOKUP($R1080,TAXONOMY!$A$1:$G$959,3,FALSE))","v":""},{"$f":"IF(ISBLANK($R1080)=TRUE,\"\",VLOOKUP($R1080,TAXONOMY!$A$1:$H$959,2,FALSE))","v":""}]
[null,null,null,null,null,null,null,null,null,null,null,{"$f":"IF(ISBLANK($R1081)=TRUE,\"\",VLOOKUP($R1081,TAXONOMY!$A$1:$G$959,7,FALSE))","v":""},{"$f":"IF(ISBLANK($R1081)=TRUE,\"\",VLOOKUP($R1081,TAXONOMY!$A$1:$G$959,6,FALSE))","v":""},{"$f":"IF(ISBLANK($R1081)=TRUE,\"\",VLOOKUP($R1081,TAXONOMY!$A$1:$G$959,5,FALSE))","v":""},{"$f":"IF(ISBLANK($R1081)=TRUE,\"\",VLOOKUP($R1081,TAXONOMY!$A$1:$G$959,4,FALSE))","v":""},{"$f":"IF(ISBLANK($R1081)=TRUE,\"\",VLOOKUP($R1081,TAXONOMY!$A$1:$G$959,3,FALSE))","v":""},{"$f":"IF(ISBLANK($R1081)=TRUE,\"\",VLOOKUP($R1081,TAXONOMY!$A$1:$H$959,2,FALSE))","v":""}]
[null,null,null,null,null,null,null,null,null,null,null,{"$f":"IF(ISBLANK($R1082)=TRUE,\"\",VLOOKUP($R1082,TAXONOMY!$A$1:$G$959,7,FALSE))","v":""},{"$f":"IF(ISBLANK($R1082)=TRUE,\"\",VLOOKUP($R1082,TAXONOMY!$A$1:$G$959,6,FALSE))","v":""},{"$f":"IF(ISBLANK($R1082)=TRUE,\"\",VLOOKUP($R1082,TAXONOMY!$A$1:$G$959,5,FALSE))","v":""},{"$f":"IF(ISBLANK($R1082)=TRUE,\"\",VLOOKUP($R1082,TAXONOMY!$A$1:$G$959,4,FALSE))","v":""},{"$f":"IF(ISBLANK($R1082)=TRUE,\"\",VLOOKUP($R1082,TAXONOMY!$A$1:$G$959,3,FALSE))","v":""},{"$f":"IF(ISBLANK($R1082)=TRUE,\"\",VLOOKUP($R1082,TAXONOMY!$A$1:$H$959,2,FALSE))","v":""}]
[null,null,null,null,null,null,null,null,null,null,null,{"$f":"IF(ISBLANK($R1083)=TRUE,\"\",VLOOKUP($R1083,TAXONOMY!$A$1:$G$959,7,FALSE))","v":""},{"$f":"IF(ISBLANK($R1083)=TRUE,\"\",VLOOKUP($R1083,TAXONOMY!$A$1:$G$959,6,FALSE))","v":""},{"$f":"IF(ISBLANK($R1083)=TRUE,\"\",VLOOKUP($R1083,TAXONOMY!$A$1:$G$959,5,FALSE))","v":""},{"$f":"IF(ISBLANK($R1083)=TRUE,\"\",VLOOKUP($R1083,TAXONOMY!$A$1:$G$959,4,FALSE))","v":""},{"$f":"IF(ISBLANK($R1083)=TRUE,\"\",VLOOKUP($R1083,TAXONOMY!$A$1:$G$959,3,FALSE))","v":""},{"$f":"IF(ISBLANK($R1083)=TRUE,\"\",VLOOKUP($R1083,TAXONOMY!$A$1:$H$959,2,FALSE))","v":""}]
[null,null,null,null,null,null,null,null,null,null,null,{"$f":"IF(ISBLANK($R1084)=TRUE,\"\",VLOOKUP($R1084,TAXONOMY!$A$1:$G$959,7,FALSE))","v":""},{"$f":"IF(ISBLANK($R1084)=TRUE,\"\",VLOOKUP($R1084,TAXONOMY!$A$1:$G$959,6,FALSE))","v":""},{"$f":"IF(ISBLANK($R1084)=TRUE,\"\",VLOOKUP($R1084,TAXONOMY!$A$1:$G$959,5,FALSE))","v":""},{"$f":"IF(ISBLANK($R1084)=TRUE,\"\",VLOOKUP($R1084,TAXONOMY!$A$1:$G$959,4,FALSE))","v":""},{"$f":"IF(ISBLANK($R1084)=TRUE,\"\",VLOOKUP($R1084,TAXONOMY!$A$1:$G$959,3,FALSE))","v":""},{"$f":"IF(ISBLANK($R1084)=TRUE,\"\",VLOOKUP($R1084,TAXONOMY!$A$1:$H$959,2,FALSE))","v":""}]
[null,null,null,null,null,null,null,null,null,null,null,{"$f":"IF(ISBLANK($R1085)=TRUE,\"\",VLOOKUP($R1085,TAXONOMY!$A$1:$G$959,7,FALSE))","v":""},{"$f":"IF(ISBLANK($R1085)=TRUE,\"\",VLOOKUP($R1085,TAXONOMY!$A$1:$G$959,6,FALSE))","v":""},{"$f":"IF(ISBLANK($R1085)=TRUE,\"\",VLOOKUP($R1085,TAXONOMY!$A$1:$G$959,5,FALSE))","v":""},{"$f":"IF(ISBLANK($R1085)=TRUE,\"\",VLOOKUP($R1085,TAXONOMY!$A$1:$G$959,4,FALSE))","v":""},{"$f":"IF(ISBLANK($R1085)=TRUE,\"\",VLOOKUP($R1085,TAXONOMY!$A$1:$G$959,3,FALSE))","v":""},{"$f":"IF(ISBLANK($R1085)=TRUE,\"\",VLOOKUP($R1085,TAXONOMY!$A$1:$H$959,2,FALSE))","v":""}]
[null,null,null,null,null,null,null,null,null,null,null,{"$f":"IF(ISBLANK($R1086)=TRUE,\"\",VLOOKUP($R1086,TAXONOMY!$A$1:$G$959,7,FALSE))","v":""},{"$f":"IF(ISBLANK($R1086)=TRUE,\"\",VLOOKUP($R1086,TAXONOMY!$A$1:$G$959,6,FALSE))","v":""},{"$f":"IF(ISBLANK($R1086)=TRUE,\"\",VLOOKUP($R1086,TAXONOMY!$A$1:$G$959,5,FALSE))","v":""},{"$f":"IF(ISBLANK($R1086)=TRUE,\"\",VLOOKUP($R1086,TAXONOMY!$A$1:$G$959,4,FALSE))","v":""},{"$f":"IF(ISBLANK($R1086)=TRUE,\"\",VLOOKUP($R1086,TAXONOMY!$A$1:$G$959,3,FALSE))","v":""},{"$f":"IF(ISBLANK($R1086)=TRUE,\"\",VLOOKUP($R1086,TAXONOMY!$A$1:$H$959,2,FALSE))","v":""}]
[null,null,null,null,null,null,null,null,null,null,null,{"$f":"IF(ISBLANK($R1087)=TRUE,\"\",VLOOKUP($R1087,TAXONOMY!$A$1:$G$959,7,FALSE))","v":""},{"$f":"IF(ISBLANK($R1087)=TRUE,\"\",VLOOKUP($R1087,TAXONOMY!$A$1:$G$959,6,FALSE))","v":""},{"$f":"IF(ISBLANK($R1087)=TRUE,\"\",VLOOKUP($R1087,TAXONOMY!$A$1:$G$959,5,FALSE))","v":""},{"$f":"IF(ISBLANK($R1087)=TRUE,\"\",VLOOKUP($R1087,TAXONOMY!$A$1:$G$959,4,FALSE))","v":""},{"$f":"IF(ISBLANK($R1087)=TRUE,\"\",VLOOKUP($R1087,TAXONOMY!$A$1:$G$959,3,FALSE))","v":""},{"$f":"IF(ISBLANK($R1087)=TRUE,\"\",VLOOKUP($R1087,TAXONOMY!$A$1:$H$959,2,FALSE))","v":""}]
[null,null,null,null,null,null,null,null,null,null,null,{"$f":"IF(ISBLANK($R1088)=TRUE,\"\",VLOOKUP($R1088,TAXONOMY!$A$1:$G$959,7,FALSE))","v":""},{"$f":"IF(ISBLANK($R1088)=TRUE,\"\",VLOOKUP($R1088,TAXONOMY!$A$1:$G$959,6,FALSE))","v":""},{"$f":"IF(ISBLANK($R1088)=TRUE,\"\",VLOOKUP($R1088,TAXONOMY!$A$1:$G$959,5,FALSE))","v":""},{"$f":"IF(ISBLANK($R1088)=TRUE,\"\",VLOOKUP($R1088,TAXONOMY!$A$1:$G$959,4,FALSE))","v":""},{"$f":"IF(ISBLANK($R1088)=TRUE,\"\",VLOOKUP($R1088,TAXONOMY!$A$1:$G$959,3,FALSE))","v":""},{"$f":"IF(ISBLANK($R1088)=TRUE,\"\",VLOOKUP($R1088,TAXONOMY!$A$1:$H$959,2,FALSE))","v":""}]
[null,null,null,null,null,null,null,null,null,null,null,{"$f":"IF(ISBLANK($R1089)=TRUE,\"\",VLOOKUP($R1089,TAXONOMY!$A$1:$G$959,7,FALSE))","v":""},{"$f":"IF(ISBLANK($R1089)=TRUE,\"\",VLOOKUP($R1089,TAXONOMY!$A$1:$G$959,6,FALSE))","v":""},{"$f":"IF(ISBLANK($R1089)=TRUE,\"\",VLOOKUP($R1089,TAXONOMY!$A$1:$G$959,5,FALSE))","v":""},{"$f":"IF(ISBLANK($R1089)=TRUE,\"\",VLOOKUP($R1089,TAXONOMY!$A$1:$G$959,4,FALSE))","v":""},{"$f":"IF(ISBLANK($R1089)=TRUE,\"\",VLOOKUP($R1089,TAXONOMY!$A$1:$G$959,3,FALSE))","v":""},{"$f":"IF(ISBLANK($R1089)=TRUE,\"\",VLOOKUP($R1089,TAXONOMY!$A$1:$H$959,2,FALSE))","v":""}]
[null,null,null,null,null,null,null,null,null,null,null,{"$f":"IF(ISBLANK($R1090)=TRUE,\"\",VLOOKUP($R1090,TAXONOMY!$A$1:$G$959,7,FALSE))","v":""},{"$f":"IF(ISBLANK($R1090)=TRUE,\"\",VLOOKUP($R1090,TAXONOMY!$A$1:$G$959,6,FALSE))","v":""},{"$f":"IF(ISBLANK($R1090)=TRUE,\"\",VLOOKUP($R1090,TAXONOMY!$A$1:$G$959,5,FALSE))","v":""},{"$f":"IF(ISBLANK($R1090)=TRUE,\"\",VLOOKUP($R1090,TAXONOMY!$A$1:$G$959,4,FALSE))","v":""},{"$f":"IF(ISBLANK($R1090)=TRUE,\"\",VLOOKUP($R1090,TAXONOMY!$A$1:$G$959,3,FALSE))","v":""},{"$f":"IF(ISBLANK($R1090)=TRUE,\"\",VLOOKUP($R1090,TAXONOMY!$A$1:$H$959,2,FALSE))","v":""}]
[null,null,null,null,null,null,null,null,null,null,null,{"$f":"IF(ISBLANK($R1091)=TRUE,\"\",VLOOKUP($R1091,TAXONOMY!$A$1:$G$959,7,FALSE))","v":""},{"$f":"IF(ISBLANK($R1091)=TRUE,\"\",VLOOKUP($R1091,TAXONOMY!$A$1:$G$959,6,FALSE))","v":""},{"$f":"IF(ISBLANK($R1091)=TRUE,\"\",VLOOKUP($R1091,TAXONOMY!$A$1:$G$959,5,FALSE))","v":""},{"$f":"IF(ISBLANK($R1091)=TRUE,\"\",VLOOKUP($R1091,TAXONOMY!$A$1:$G$959,4,FALSE))","v":""},{"$f":"IF(ISBLANK($R1091)=TRUE,\"\",VLOOKUP($R1091,TAXONOMY!$A$1:$G$959,3,FALSE))","v":""},{"$f":"IF(ISBLANK($R1091)=TRUE,\"\",VLOOKUP($R1091,TAXONOMY!$A$1:$H$959,2,FALSE))","v":""}]
[null,null,null,null,null,null,null,null,null,null,null,{"$f":"IF(ISBLANK($R1092)=TRUE,\"\",VLOOKUP($R1092,TAXONOMY!$A$1:$G$959,7,FALSE))","v":""},{"$f":"IF(ISBLANK($R1092)=TRUE,\"\",VLOOKUP($R1092,TAXONOMY!$A$1:$G$959,6,FALSE))","v":""},{"$f":"IF(ISBLANK($R1092)=TRUE,\"\",VLOOKUP($R1092,TAXONOMY!$A$1:$G$959,5,FALSE))","v":""},{"$f":"IF(ISBLANK($R1092)=TRUE,\"\",VLOOKUP($R1092,TAXONOMY!$A$1:$G$959,4,FALSE))","v":""},{"$f":"IF(ISBLANK($R1092)=TRUE,\"\",VLOOKUP($R1092,TAXONOMY!$A$1:$G$959,3,FALSE))","v":""},{"$f":"IF(ISBLANK($R1092)=TRUE,\"\",VLOOKUP($R1092,TAXONOMY!$A$1:$H$959,2,FALSE))","v":""}]
[null,null,null,null,null,null,null,null,null,null,null,{"$f":"IF(ISBLANK($R1093)=TRUE,\"\",VLOOKUP($R1093,TAXONOMY!$A$1:$G$959,7,FALSE))","v":""},{"$f":"IF(ISBLANK($R1093)=TRUE,\"\",VLOOKUP($R1093,TAXONOMY!$A$1:$G$959,6,FALSE))","v":""},{"$f":"IF(ISBLANK($R1093)=TRUE,\"\",VLOOKUP($R1093,TAXONOMY!$A$1:$G$959,5,FALSE))","v":""},{"$f":"IF(ISBLANK($R1093)=TRUE,\"\",VLOOKUP($R1093,TAXONOMY!$A$1:$G$959,4,FALSE))","v":""},{"$f":"IF(ISBLANK($R1093)=TRUE,\"\",VLOOKUP($R1093,TAXONOMY!$A$1:$G$959,3,FALSE))","v":""},{"$f":"IF(ISBLANK($R1093)=TRUE,\"\",VLOOKUP($R1093,TAXONOMY!$A$1:$H$959,2,FALSE))","v":""}]
[null,null,null,null,null,null,null,null,null,null,null,{"$f":"IF(ISBLANK($R1094)=TRUE,\"\",VLOOKUP($R1094,TAXONOMY!$A$1:$G$959,7,FALSE))","v":""},{"$f":"IF(ISBLANK($R1094)=TRUE,\"\",VLOOKUP($R1094,TAXONOMY!$A$1:$G$959,6,FALSE))","v":""},{"$f":"IF(ISBLANK($R1094)=TRUE,\"\",VLOOKUP($R1094,TAXONOMY!$A$1:$G$959,5,FALSE))","v":""},{"$f":"IF(ISBLANK($R1094)=TRUE,\"\",VLOOKUP($R1094,TAXONOMY!$A$1:$G$959,4,FALSE))","v":""},{"$f":"IF(ISBLANK($R1094)=TRUE,\"\",VLOOKUP($R1094,TAXONOMY!$A$1:$G$959,3,FALSE))","v":""},{"$f":"IF(ISBLANK($R1094)=TRUE,\"\",VLOOKUP($R1094,TAXONOMY!$A$1:$H$959,2,FALSE))","v":""}]
[null,null,null,null,null,null,null,null,null,null,null,{"$f":"IF(ISBLANK($R1095)=TRUE,\"\",VLOOKUP($R1095,TAXONOMY!$A$1:$G$959,7,FALSE))","v":""},{"$f":"IF(ISBLANK($R1095)=TRUE,\"\",VLOOKUP($R1095,TAXONOMY!$A$1:$G$959,6,FALSE))","v":""},{"$f":"IF(ISBLANK($R1095)=TRUE,\"\",VLOOKUP($R1095,TAXONOMY!$A$1:$G$959,5,FALSE))","v":""},{"$f":"IF(ISBLANK($R1095)=TRUE,\"\",VLOOKUP($R1095,TAXONOMY!$A$1:$G$959,4,FALSE))","v":""},{"$f":"IF(ISBLANK($R1095)=TRUE,\"\",VLOOKUP($R1095,TAXONOMY!$A$1:$G$959,3,FALSE))","v":""},{"$f":"IF(ISBLANK($R1095)=TRUE,\"\",VLOOKUP($R1095,TAXONOMY!$A$1:$H$959,2,FALSE))","v":""}]
[null,null,null,null,null,null,null,null,null,null,null,{"$f":"IF(ISBLANK($R1096)=TRUE,\"\",VLOOKUP($R1096,TAXONOMY!$A$1:$G$959,7,FALSE))","v":""},{"$f":"IF(ISBLANK($R1096)=TRUE,\"\",VLOOKUP($R1096,TAXONOMY!$A$1:$G$959,6,FALSE))","v":""},{"$f":"IF(ISBLANK($R1096)=TRUE,\"\",VLOOKUP($R1096,TAXONOMY!$A$1:$G$959,5,FALSE))","v":""},{"$f":"IF(ISBLANK($R1096)=TRUE,\"\",VLOOKUP($R1096,TAXONOMY!$A$1:$G$959,4,FALSE))","v":""},{"$f":"IF(ISBLANK($R1096)=TRUE,\"\",VLOOKUP($R1096,TAXONOMY!$A$1:$G$959,3,FALSE))","v":""},{"$f":"IF(ISBLANK($R1096)=TRUE,\"\",VLOOKUP($R1096,TAXONOMY!$A$1:$H$959,2,FALSE))","v":""}]
[null,null,null,null,null,null,null,null,null,null,null,{"$f":"IF(ISBLANK($R1097)=TRUE,\"\",VLOOKUP($R1097,TAXONOMY!$A$1:$G$959,7,FALSE))","v":""},{"$f":"IF(ISBLANK($R1097)=TRUE,\"\",VLOOKUP($R1097,TAXONOMY!$A$1:$G$959,6,FALSE))","v":""},{"$f":"IF(ISBLANK($R1097)=TRUE,\"\",VLOOKUP($R1097,TAXONOMY!$A$1:$G$959,5,FALSE))","v":""},{"$f":"IF(ISBLANK($R1097)=TRUE,\"\",VLOOKUP($R1097,TAXONOMY!$A$1:$G$959,4,FALSE))","v":""},{"$f":"IF(ISBLANK($R1097)=TRUE,\"\",VLOOKUP($R1097,TAXONOMY!$A$1:$G$959,3,FALSE))","v":""},{"$f":"IF(ISBLANK($R1097)=TRUE,\"\",VLOOKUP($R1097,TAXONOMY!$A$1:$H$959,2,FALSE))","v":""}]
[null,null,null,null,null,null,null,null,null,null,null,{"$f":"IF(ISBLANK($R1098)=TRUE,\"\",VLOOKUP($R1098,TAXONOMY!$A$1:$G$959,7,FALSE))","v":""},{"$f":"IF(ISBLANK($R1098)=TRUE,\"\",VLOOKUP($R1098,TAXONOMY!$A$1:$G$959,6,FALSE))","v":""},{"$f":"IF(ISBLANK($R1098)=TRUE,\"\",VLOOKUP($R1098,TAXONOMY!$A$1:$G$959,5,FALSE))","v":""},{"$f":"IF(ISBLANK($R1098)=TRUE,\"\",VLOOKUP($R1098,TAXONOMY!$A$1:$G$959,4,FALSE))","v":""},{"$f":"IF(ISBLANK($R1098)=TRUE,\"\",VLOOKUP($R1098,TAXONOMY!$A$1:$G$959,3,FALSE))","v":""},{"$f":"IF(ISBLANK($R1098)=TRUE,\"\",VLOOKUP($R1098,TAXONOMY!$A$1:$H$959,2,FALSE))","v":""}]
[null,null,null,null,null,null,null,null,null,null,null,{"$f":"IF(ISBLANK($R1099)=TRUE,\"\",VLOOKUP($R1099,TAXONOMY!$A$1:$G$959,7,FALSE))","v":""},{"$f":"IF(ISBLANK($R1099)=TRUE,\"\",VLOOKUP($R1099,TAXONOMY!$A$1:$G$959,6,FALSE))","v":""},{"$f":"IF(ISBLANK($R1099)=TRUE,\"\",VLOOKUP($R1099,TAXONOMY!$A$1:$G$959,5,FALSE))","v":""},{"$f":"IF(ISBLANK($R1099)=TRUE,\"\",VLOOKUP($R1099,TAXONOMY!$A$1:$G$959,4,FALSE))","v":""},{"$f":"IF(ISBLANK($R1099)=TRUE,\"\",VLOOKUP($R1099,TAXONOMY!$A$1:$G$959,3,FALSE))","v":""},{"$f":"IF(ISBLANK($R1099)=TRUE,\"\",VLOOKUP($R1099,TAXONOMY!$A$1:$H$959,2,FALSE))","v":""}]
[null,null,null,null,null,null,null,null,null,null,null,{"$f":"IF(ISBLANK($R1100)=TRUE,\"\",VLOOKUP($R1100,TAXONOMY!$A$1:$G$959,7,FALSE))","v":""},{"$f":"IF(ISBLANK($R1100)=TRUE,\"\",VLOOKUP($R1100,TAXONOMY!$A$1:$G$959,6,FALSE))","v":""},{"$f":"IF(ISBLANK($R1100)=TRUE,\"\",VLOOKUP($R1100,TAXONOMY!$A$1:$G$959,5,FALSE))","v":""},{"$f":"IF(ISBLANK($R1100)=TRUE,\"\",VLOOKUP($R1100,TAXONOMY!$A$1:$G$959,4,FALSE))","v":""},{"$f":"IF(ISBLANK($R1100)=TRUE,\"\",VLOOKUP($R1100,TAXONOMY!$A$1:$G$959,3,FALSE))","v":""},{"$f":"IF(ISBLANK($R1100)=TRUE,\"\",VLOOKUP($R1100,TAXONOMY!$A$1:$H$959,2,FALSE))","v":""}]
[null,null,null,null,null,null,null,null,null,null,null,{"$f":"IF(ISBLANK($R1101)=TRUE,\"\",VLOOKUP($R1101,TAXONOMY!$A$1:$G$959,7,FALSE))","v":""},{"$f":"IF(ISBLANK($R1101)=TRUE,\"\",VLOOKUP($R1101,TAXONOMY!$A$1:$G$959,6,FALSE))","v":""},{"$f":"IF(ISBLANK($R1101)=TRUE,\"\",VLOOKUP($R1101,TAXONOMY!$A$1:$G$959,5,FALSE))","v":""},{"$f":"IF(ISBLANK($R1101)=TRUE,\"\",VLOOKUP($R1101,TAXONOMY!$A$1:$G$959,4,FALSE))","v":""},{"$f":"IF(ISBLANK($R1101)=TRUE,\"\",VLOOKUP($R1101,TAXONOMY!$A$1:$G$959,3,FALSE))","v":""},{"$f":"IF(ISBLANK($R1101)=TRUE,\"\",VLOOKUP($R1101,TAXONOMY!$A$1:$H$959,2,FALSE))","v":""}]
[null,null,null,null,null,null,null,null,null,null,null,{"$f":"IF(ISBLANK($R1102)=TRUE,\"\",VLOOKUP($R1102,TAXONOMY!$A$1:$G$959,7,FALSE))","v":""},{"$f":"IF(ISBLANK($R1102)=TRUE,\"\",VLOOKUP($R1102,TAXONOMY!$A$1:$G$959,6,FALSE))","v":""},{"$f":"IF(ISBLANK($R1102)=TRUE,\"\",VLOOKUP($R1102,TAXONOMY!$A$1:$G$959,5,FALSE))","v":""},{"$f":"IF(ISBLANK($R1102)=TRUE,\"\",VLOOKUP($R1102,TAXONOMY!$A$1:$G$959,4,FALSE))","v":""},{"$f":"IF(ISBLANK($R1102)=TRUE,\"\",VLOOKUP($R1102,TAXONOMY!$A$1:$G$959,3,FALSE))","v":""},{"$f":"IF(ISBLANK($R1102)=TRUE,\"\",VLOOKUP($R1102,TAXONOMY!$A$1:$H$959,2,FALSE))","v":""}]
[null,null,null,null,null,null,null,null,null,null,null,{"$f":"IF(ISBLANK($R1103)=TRUE,\"\",VLOOKUP($R1103,TAXONOMY!$A$1:$G$959,7,FALSE))","v":""},{"$f":"IF(ISBLANK($R1103)=TRUE,\"\",VLOOKUP($R1103,TAXONOMY!$A$1:$G$959,6,FALSE))","v":""},{"$f":"IF(ISBLANK($R1103)=TRUE,\"\",VLOOKUP($R1103,TAXONOMY!$A$1:$G$959,5,FALSE))","v":""},{"$f":"IF(ISBLANK($R1103)=TRUE,\"\",VLOOKUP($R1103,TAXONOMY!$A$1:$G$959,4,FALSE))","v":""},{"$f":"IF(ISBLANK($R1103)=TRUE,\"\",VLOOKUP($R1103,TAXONOMY!$A$1:$G$959,3,FALSE))","v":""},{"$f":"IF(ISBLANK($R1103)=TRUE,\"\",VLOOKUP($R1103,TAXONOMY!$A$1:$H$959,2,FALSE))","v":""}]
[null,null,null,null,null,null,null,null,null,null,null,{"$f":"IF(ISBLANK($R1104)=TRUE,\"\",VLOOKUP($R1104,TAXONOMY!$A$1:$G$959,7,FALSE))","v":""},{"$f":"IF(ISBLANK($R1104)=TRUE,\"\",VLOOKUP($R1104,TAXONOMY!$A$1:$G$959,6,FALSE))","v":""},{"$f":"IF(ISBLANK($R1104)=TRUE,\"\",VLOOKUP($R1104,TAXONOMY!$A$1:$G$959,5,FALSE))","v":""},{"$f":"IF(ISBLANK($R1104)=TRUE,\"\",VLOOKUP($R1104,TAXONOMY!$A$1:$G$959,4,FALSE))","v":""},{"$f":"IF(ISBLANK($R1104)=TRUE,\"\",VLOOKUP($R1104,TAXONOMY!$A$1:$G$959,3,FALSE))","v":""},{"$f":"IF(ISBLANK($R1104)=TRUE,\"\",VLOOKUP($R1104,TAXONOMY!$A$1:$H$959,2,FALSE))","v":""}]
[null,null,null,null,null,null,null,null,null,null,null,{"$f":"IF(ISBLANK($R1105)=TRUE,\"\",VLOOKUP($R1105,TAXONOMY!$A$1:$G$959,7,FALSE))","v":""},{"$f":"IF(ISBLANK($R1105)=TRUE,\"\",VLOOKUP($R1105,TAXONOMY!$A$1:$G$959,6,FALSE))","v":""},{"$f":"IF(ISBLANK($R1105)=TRUE,\"\",VLOOKUP($R1105,TAXONOMY!$A$1:$G$959,5,FALSE))","v":""},{"$f":"IF(ISBLANK($R1105)=TRUE,\"\",VLOOKUP($R1105,TAXONOMY!$A$1:$G$959,4,FALSE))","v":""},{"$f":"IF(ISBLANK($R1105)=TRUE,\"\",VLOOKUP($R1105,TAXONOMY!$A$1:$G$959,3,FALSE))","v":""},{"$f":"IF(ISBLANK($R1105)=TRUE,\"\",VLOOKUP($R1105,TAXONOMY!$A$1:$H$959,2,FALSE))","v":""}]
[null,null,null,null,null,null,null,null,null,null,null,{"$f":"IF(ISBLANK($R1106)=TRUE,\"\",VLOOKUP($R1106,TAXONOMY!$A$1:$G$959,7,FALSE))","v":""},{"$f":"IF(ISBLANK($R1106)=TRUE,\"\",VLOOKUP($R1106,TAXONOMY!$A$1:$G$959,6,FALSE))","v":""},{"$f":"IF(ISBLANK($R1106)=TRUE,\"\",VLOOKUP($R1106,TAXONOMY!$A$1:$G$959,5,FALSE))","v":""},{"$f":"IF(ISBLANK($R1106)=TRUE,\"\",VLOOKUP($R1106,TAXONOMY!$A$1:$G$959,4,FALSE))","v":""},{"$f":"IF(ISBLANK($R1106)=TRUE,\"\",VLOOKUP($R1106,TAXONOMY!$A$1:$G$959,3,FALSE))","v":""},{"$f":"IF(ISBLANK($R1106)=TRUE,\"\",VLOOKUP($R1106,TAXONOMY!$A$1:$H$959,2,FALSE))","v":""}]
[null,null,null,null,null,null,null,null,null,null,null,{"$f":"IF(ISBLANK($R1107)=TRUE,\"\",VLOOKUP($R1107,TAXONOMY!$A$1:$G$959,7,FALSE))","v":""},{"$f":"IF(ISBLANK($R1107)=TRUE,\"\",VLOOKUP($R1107,TAXONOMY!$A$1:$G$959,6,FALSE))","v":""},{"$f":"IF(ISBLANK($R1107)=TRUE,\"\",VLOOKUP($R1107,TAXONOMY!$A$1:$G$959,5,FALSE))","v":""},{"$f":"IF(ISBLANK($R1107)=TRUE,\"\",VLOOKUP($R1107,TAXONOMY!$A$1:$G$959,4,FALSE))","v":""},{"$f":"IF(ISBLANK($R1107)=TRUE,\"\",VLOOKUP($R1107,TAXONOMY!$A$1:$G$959,3,FALSE))","v":""},{"$f":"IF(ISBLANK($R1107)=TRUE,\"\",VLOOKUP($R1107,TAXONOMY!$A$1:$H$959,2,FALSE))","v":""}]
[null,null,null,null,null,null,null,null,null,null,null,{"$f":"IF(ISBLANK($R1108)=TRUE,\"\",VLOOKUP($R1108,TAXONOMY!$A$1:$G$959,7,FALSE))","v":""},{"$f":"IF(ISBLANK($R1108)=TRUE,\"\",VLOOKUP($R1108,TAXONOMY!$A$1:$G$959,6,FALSE))","v":""},{"$f":"IF(ISBLANK($R1108)=TRUE,\"\",VLOOKUP($R1108,TAXONOMY!$A$1:$G$959,5,FALSE))","v":""},{"$f":"IF(ISBLANK($R1108)=TRUE,\"\",VLOOKUP($R1108,TAXONOMY!$A$1:$G$959,4,FALSE))","v":""},{"$f":"IF(ISBLANK($R1108)=TRUE,\"\",VLOOKUP($R1108,TAXONOMY!$A$1:$G$959,3,FALSE))","v":""},{"$f":"IF(ISBLANK($R1108)=TRUE,\"\",VLOOKUP($R1108,TAXONOMY!$A$1:$H$959,2,FALSE))","v":""}]
[null,null,null,null,null,null,null,null,null,null,null,{"$f":"IF(ISBLANK($R1109)=TRUE,\"\",VLOOKUP($R1109,TAXONOMY!$A$1:$G$959,7,FALSE))","v":""},{"$f":"IF(ISBLANK($R1109)=TRUE,\"\",VLOOKUP($R1109,TAXONOMY!$A$1:$G$959,6,FALSE))","v":""},{"$f":"IF(ISBLANK($R1109)=TRUE,\"\",VLOOKUP($R1109,TAXONOMY!$A$1:$G$959,5,FALSE))","v":""},{"$f":"IF(ISBLANK($R1109)=TRUE,\"\",VLOOKUP($R1109,TAXONOMY!$A$1:$G$959,4,FALSE))","v":""},{"$f":"IF(ISBLANK($R1109)=TRUE,\"\",VLOOKUP($R1109,TAXONOMY!$A$1:$G$959,3,FALSE))","v":""},{"$f":"IF(ISBLANK($R1109)=TRUE,\"\",VLOOKUP($R1109,TAXONOMY!$A$1:$H$959,2,FALSE))","v":""}]
[null,null,null,null,null,null,null,null,null,null,null,{"$f":"IF(ISBLANK($R1110)=TRUE,\"\",VLOOKUP($R1110,TAXONOMY!$A$1:$G$959,7,FALSE))","v":""},{"$f":"IF(ISBLANK($R1110)=TRUE,\"\",VLOOKUP($R1110,TAXONOMY!$A$1:$G$959,6,FALSE))","v":""},{"$f":"IF(ISBLANK($R1110)=TRUE,\"\",VLOOKUP($R1110,TAXONOMY!$A$1:$G$959,5,FALSE))","v":""},{"$f":"IF(ISBLANK($R1110)=TRUE,\"\",VLOOKUP($R1110,TAXONOMY!$A$1:$G$959,4,FALSE))","v":""},{"$f":"IF(ISBLANK($R1110)=TRUE,\"\",VLOOKUP($R1110,TAXONOMY!$A$1:$G$959,3,FALSE))","v":""},{"$f":"IF(ISBLANK($R1110)=TRUE,\"\",VLOOKUP($R1110,TAXONOMY!$A$1:$H$959,2,FALSE))","v":""}]
[null,null,null,null,null,null,null,null,null,null,null,{"$f":"IF(ISBLANK($R1111)=TRUE,\"\",VLOOKUP($R1111,TAXONOMY!$A$1:$G$959,7,FALSE))","v":""},{"$f":"IF(ISBLANK($R1111)=TRUE,\"\",VLOOKUP($R1111,TAXONOMY!$A$1:$G$959,6,FALSE))","v":""},{"$f":"IF(ISBLANK($R1111)=TRUE,\"\",VLOOKUP($R1111,TAXONOMY!$A$1:$G$959,5,FALSE))","v":""},{"$f":"IF(ISBLANK($R1111)=TRUE,\"\",VLOOKUP($R1111,TAXONOMY!$A$1:$G$959,4,FALSE))","v":""},{"$f":"IF(ISBLANK($R1111)=TRUE,\"\",VLOOKUP($R1111,TAXONOMY!$A$1:$G$959,3,FALSE))","v":""},{"$f":"IF(ISBLANK($R1111)=TRUE,\"\",VLOOKUP($R1111,TAXONOMY!$A$1:$H$959,2,FALSE))","v":""}]
[null,null,null,null,null,null,null,null,null,null,null,{"$f":"IF(ISBLANK($R1112)=TRUE,\"\",VLOOKUP($R1112,TAXONOMY!$A$1:$G$959,7,FALSE))","v":""},{"$f":"IF(ISBLANK($R1112)=TRUE,\"\",VLOOKUP($R1112,TAXONOMY!$A$1:$G$959,6,FALSE))","v":""},{"$f":"IF(ISBLANK($R1112)=TRUE,\"\",VLOOKUP($R1112,TAXONOMY!$A$1:$G$959,5,FALSE))","v":""},{"$f":"IF(ISBLANK($R1112)=TRUE,\"\",VLOOKUP($R1112,TAXONOMY!$A$1:$G$959,4,FALSE))","v":""},{"$f":"IF(ISBLANK($R1112)=TRUE,\"\",VLOOKUP($R1112,TAXONOMY!$A$1:$G$959,3,FALSE))","v":""},{"$f":"IF(ISBLANK($R1112)=TRUE,\"\",VLOOKUP($R1112,TAXONOMY!$A$1:$H$959,2,FALSE))","v":""}]
[null,null,null,null,null,null,null,null,null,null,null,{"$f":"IF(ISBLANK($R1113)=TRUE,\"\",VLOOKUP($R1113,TAXONOMY!$A$1:$G$959,7,FALSE))","v":""},{"$f":"IF(ISBLANK($R1113)=TRUE,\"\",VLOOKUP($R1113,TAXONOMY!$A$1:$G$959,6,FALSE))","v":""},{"$f":"IF(ISBLANK($R1113)=TRUE,\"\",VLOOKUP($R1113,TAXONOMY!$A$1:$G$959,5,FALSE))","v":""},{"$f":"IF(ISBLANK($R1113)=TRUE,\"\",VLOOKUP($R1113,TAXONOMY!$A$1:$G$959,4,FALSE))","v":""},{"$f":"IF(ISBLANK($R1113)=TRUE,\"\",VLOOKUP($R1113,TAXONOMY!$A$1:$G$959,3,FALSE))","v":""},{"$f":"IF(ISBLANK($R1113)=TRUE,\"\",VLOOKUP($R1113,TAXONOMY!$A$1:$H$959,2,FALSE))","v":""}]
[null,null,null,null,null,null,null,null,null,null,null,{"$f":"IF(ISBLANK($R1114)=TRUE,\"\",VLOOKUP($R1114,TAXONOMY!$A$1:$G$959,7,FALSE))","v":""},{"$f":"IF(ISBLANK($R1114)=TRUE,\"\",VLOOKUP($R1114,TAXONOMY!$A$1:$G$959,6,FALSE))","v":""},{"$f":"IF(ISBLANK($R1114)=TRUE,\"\",VLOOKUP($R1114,TAXONOMY!$A$1:$G$959,5,FALSE))","v":""},{"$f":"IF(ISBLANK($R1114)=TRUE,\"\",VLOOKUP($R1114,TAXONOMY!$A$1:$G$959,4,FALSE))","v":""},{"$f":"IF(ISBLANK($R1114)=TRUE,\"\",VLOOKUP($R1114,TAXONOMY!$A$1:$G$959,3,FALSE))","v":""},{"$f":"IF(ISBLANK($R1114)=TRUE,\"\",VLOOKUP($R1114,TAXONOMY!$A$1:$H$959,2,FALSE))","v":""}]
[null,null,null,null,null,null,null,null,null,null,null,{"$f":"IF(ISBLANK($R1115)=TRUE,\"\",VLOOKUP($R1115,TAXONOMY!$A$1:$G$959,7,FALSE))","v":""},{"$f":"IF(ISBLANK($R1115)=TRUE,\"\",VLOOKUP($R1115,TAXONOMY!$A$1:$G$959,6,FALSE))","v":""},{"$f":"IF(ISBLANK($R1115)=TRUE,\"\",VLOOKUP($R1115,TAXONOMY!$A$1:$G$959,5,FALSE))","v":""},{"$f":"IF(ISBLANK($R1115)=TRUE,\"\",VLOOKUP($R1115,TAXONOMY!$A$1:$G$959,4,FALSE))","v":""},{"$f":"IF(ISBLANK($R1115)=TRUE,\"\",VLOOKUP($R1115,TAXONOMY!$A$1:$G$959,3,FALSE))","v":""},{"$f":"IF(ISBLANK($R1115)=TRUE,\"\",VLOOKUP($R1115,TAXONOMY!$A$1:$H$959,2,FALSE))","v":""}]
[null,null,null,null,null,null,null,null,null,null,null,{"$f":"IF(ISBLANK($R1116)=TRUE,\"\",VLOOKUP($R1116,TAXONOMY!$A$1:$G$959,7,FALSE))","v":""},{"$f":"IF(ISBLANK($R1116)=TRUE,\"\",VLOOKUP($R1116,TAXONOMY!$A$1:$G$959,6,FALSE))","v":""},{"$f":"IF(ISBLANK($R1116)=TRUE,\"\",VLOOKUP($R1116,TAXONOMY!$A$1:$G$959,5,FALSE))","v":""},{"$f":"IF(ISBLANK($R1116)=TRUE,\"\",VLOOKUP($R1116,TAXONOMY!$A$1:$G$959,4,FALSE))","v":""},{"$f":"IF(ISBLANK($R1116)=TRUE,\"\",VLOOKUP($R1116,TAXONOMY!$A$1:$G$959,3,FALSE))","v":""},{"$f":"IF(ISBLANK($R1116)=TRUE,\"\",VLOOKUP($R1116,TAXONOMY!$A$1:$H$959,2,FALSE))","v":""}]
[null,null,null,null,null,null,null,null,null,null,null,{"$f":"IF(ISBLANK($R1117)=TRUE,\"\",VLOOKUP($R1117,TAXONOMY!$A$1:$G$959,7,FALSE))","v":""},{"$f":"IF(ISBLANK($R1117)=TRUE,\"\",VLOOKUP($R1117,TAXONOMY!$A$1:$G$959,6,FALSE))","v":""},{"$f":"IF(ISBLANK($R1117)=TRUE,\"\",VLOOKUP($R1117,TAXONOMY!$A$1:$G$959,5,FALSE))","v":""},{"$f":"IF(ISBLANK($R1117)=TRUE,\"\",VLOOKUP($R1117,TAXONOMY!$A$1:$G$959,4,FALSE))","v":""},{"$f":"IF(ISBLANK($R1117)=TRUE,\"\",VLOOKUP($R1117,TAXONOMY!$A$1:$G$959,3,FALSE))","v":""},{"$f":"IF(ISBLANK($R1117)=TRUE,\"\",VLOOKUP($R1117,TAXONOMY!$A$1:$H$959,2,FALSE))","v":""}]
[null,null,null,null,null,null,null,null,null,null,null,{"$f":"IF(ISBLANK($R1118)=TRUE,\"\",VLOOKUP($R1118,TAXONOMY!$A$1:$G$959,7,FALSE))","v":""},{"$f":"IF(ISBLANK($R1118)=TRUE,\"\",VLOOKUP($R1118,TAXONOMY!$A$1:$G$959,6,FALSE))","v":""},{"$f":"IF(ISBLANK($R1118)=TRUE,\"\",VLOOKUP($R1118,TAXONOMY!$A$1:$G$959,5,FALSE))","v":""},{"$f":"IF(ISBLANK($R1118)=TRUE,\"\",VLOOKUP($R1118,TAXONOMY!$A$1:$G$959,4,FALSE))","v":""},{"$f":"IF(ISBLANK($R1118)=TRUE,\"\",VLOOKUP($R1118,TAXONOMY!$A$1:$G$959,3,FALSE))","v":""},{"$f":"IF(ISBLANK($R1118)=TRUE,\"\",VLOOKUP($R1118,TAXONOMY!$A$1:$H$959,2,FALSE))","v":""}]
[null,null,null,null,null,null,null,null,null,null,null,{"$f":"IF(ISBLANK($R1119)=TRUE,\"\",VLOOKUP($R1119,TAXONOMY!$A$1:$G$959,7,FALSE))","v":""},{"$f":"IF(ISBLANK($R1119)=TRUE,\"\",VLOOKUP($R1119,TAXONOMY!$A$1:$G$959,6,FALSE))","v":""},{"$f":"IF(ISBLANK($R1119)=TRUE,\"\",VLOOKUP($R1119,TAXONOMY!$A$1:$G$959,5,FALSE))","v":""},{"$f":"IF(ISBLANK($R1119)=TRUE,\"\",VLOOKUP($R1119,TAXONOMY!$A$1:$G$959,4,FALSE))","v":""},{"$f":"IF(ISBLANK($R1119)=TRUE,\"\",VLOOKUP($R1119,TAXONOMY!$A$1:$G$959,3,FALSE))","v":""},{"$f":"IF(ISBLANK($R1119)=TRUE,\"\",VLOOKUP($R1119,TAXONOMY!$A$1:$H$959,2,FALSE))","v":""}]
[null,null,null,null,null,null,null,null,null,null,null,{"$f":"IF(ISBLANK($R1120)=TRUE,\"\",VLOOKUP($R1120,TAXONOMY!$A$1:$G$959,7,FALSE))","v":""},{"$f":"IF(ISBLANK($R1120)=TRUE,\"\",VLOOKUP($R1120,TAXONOMY!$A$1:$G$959,6,FALSE))","v":""},{"$f":"IF(ISBLANK($R1120)=TRUE,\"\",VLOOKUP($R1120,TAXONOMY!$A$1:$G$959,5,FALSE))","v":""},{"$f":"IF(ISBLANK($R1120)=TRUE,\"\",VLOOKUP($R1120,TAXONOMY!$A$1:$G$959,4,FALSE))","v":""},{"$f":"IF(ISBLANK($R1120)=TRUE,\"\",VLOOKUP($R1120,TAXONOMY!$A$1:$G$959,3,FALSE))","v":""},{"$f":"IF(ISBLANK($R1120)=TRUE,\"\",VLOOKUP($R1120,TAXONOMY!$A$1:$H$959,2,FALSE))","v":""}]
[null,null,null,null,null,null,null,null,null,null,null,{"$f":"IF(ISBLANK($R1121)=TRUE,\"\",VLOOKUP($R1121,TAXONOMY!$A$1:$G$959,7,FALSE))","v":""},{"$f":"IF(ISBLANK($R1121)=TRUE,\"\",VLOOKUP($R1121,TAXONOMY!$A$1:$G$959,6,FALSE))","v":""},{"$f":"IF(ISBLANK($R1121)=TRUE,\"\",VLOOKUP($R1121,TAXONOMY!$A$1:$G$959,5,FALSE))","v":""},{"$f":"IF(ISBLANK($R1121)=TRUE,\"\",VLOOKUP($R1121,TAXONOMY!$A$1:$G$959,4,FALSE))","v":""},{"$f":"IF(ISBLANK($R1121)=TRUE,\"\",VLOOKUP($R1121,TAXONOMY!$A$1:$G$959,3,FALSE))","v":""},{"$f":"IF(ISBLANK($R1121)=TRUE,\"\",VLOOKUP($R1121,TAXONOMY!$A$1:$H$959,2,FALSE))","v":""}]
[null,null,null,null,null,null,null,null,null,null,null,{"$f":"IF(ISBLANK($R1122)=TRUE,\"\",VLOOKUP($R1122,TAXONOMY!$A$1:$G$959,7,FALSE))","v":""},{"$f":"IF(ISBLANK($R1122)=TRUE,\"\",VLOOKUP($R1122,TAXONOMY!$A$1:$G$959,6,FALSE))","v":""},{"$f":"IF(ISBLANK($R1122)=TRUE,\"\",VLOOKUP($R1122,TAXONOMY!$A$1:$G$959,5,FALSE))","v":""},{"$f":"IF(ISBLANK($R1122)=TRUE,\"\",VLOOKUP($R1122,TAXONOMY!$A$1:$G$959,4,FALSE))","v":""},{"$f":"IF(ISBLANK($R1122)=TRUE,\"\",VLOOKUP($R1122,TAXONOMY!$A$1:$G$959,3,FALSE))","v":""},{"$f":"IF(ISBLANK($R1122)=TRUE,\"\",VLOOKUP($R1122,TAXONOMY!$A$1:$H$959,2,FALSE))","v":""}]
[null,null,null,null,null,null,null,null,null,null,null,{"$f":"IF(ISBLANK($R1123)=TRUE,\"\",VLOOKUP($R1123,TAXONOMY!$A$1:$G$959,7,FALSE))","v":""},{"$f":"IF(ISBLANK($R1123)=TRUE,\"\",VLOOKUP($R1123,TAXONOMY!$A$1:$G$959,6,FALSE))","v":""},{"$f":"IF(ISBLANK($R1123)=TRUE,\"\",VLOOKUP($R1123,TAXONOMY!$A$1:$G$959,5,FALSE))","v":""},{"$f":"IF(ISBLANK($R1123)=TRUE,\"\",VLOOKUP($R1123,TAXONOMY!$A$1:$G$959,4,FALSE))","v":""},{"$f":"IF(ISBLANK($R1123)=TRUE,\"\",VLOOKUP($R1123,TAXONOMY!$A$1:$G$959,3,FALSE))","v":""},{"$f":"IF(ISBLANK($R1123)=TRUE,\"\",VLOOKUP($R1123,TAXONOMY!$A$1:$H$959,2,FALSE))","v":""}]
[null,null,null,null,null,null,null,null,null,null,null,{"$f":"IF(ISBLANK($R1124)=TRUE,\"\",VLOOKUP($R1124,TAXONOMY!$A$1:$G$959,7,FALSE))","v":""},{"$f":"IF(ISBLANK($R1124)=TRUE,\"\",VLOOKUP($R1124,TAXONOMY!$A$1:$G$959,6,FALSE))","v":""},{"$f":"IF(ISBLANK($R1124)=TRUE,\"\",VLOOKUP($R1124,TAXONOMY!$A$1:$G$959,5,FALSE))","v":""},{"$f":"IF(ISBLANK($R1124)=TRUE,\"\",VLOOKUP($R1124,TAXONOMY!$A$1:$G$959,4,FALSE))","v":""},{"$f":"IF(ISBLANK($R1124)=TRUE,\"\",VLOOKUP($R1124,TAXONOMY!$A$1:$G$959,3,FALSE))","v":""},{"$f":"IF(ISBLANK($R1124)=TRUE,\"\",VLOOKUP($R1124,TAXONOMY!$A$1:$H$959,2,FALSE))","v":""}]
[null,null,null,null,null,null,null,null,null,null,null,{"$f":"IF(ISBLANK($R1125)=TRUE,\"\",VLOOKUP($R1125,TAXONOMY!$A$1:$G$959,7,FALSE))","v":""},{"$f":"IF(ISBLANK($R1125)=TRUE,\"\",VLOOKUP($R1125,TAXONOMY!$A$1:$G$959,6,FALSE))","v":""},{"$f":"IF(ISBLANK($R1125)=TRUE,\"\",VLOOKUP($R1125,TAXONOMY!$A$1:$G$959,5,FALSE))","v":""},{"$f":"IF(ISBLANK($R1125)=TRUE,\"\",VLOOKUP($R1125,TAXONOMY!$A$1:$G$959,4,FALSE))","v":""},{"$f":"IF(ISBLANK($R1125)=TRUE,\"\",VLOOKUP($R1125,TAXONOMY!$A$1:$G$959,3,FALSE))","v":""},{"$f":"IF(ISBLANK($R1125)=TRUE,\"\",VLOOKUP($R1125,TAXONOMY!$A$1:$H$959,2,FALSE))","v":""}]
[null,null,null,null,null,null,null,null,null,null,null,{"$f":"IF(ISBLANK($R1126)=TRUE,\"\",VLOOKUP($R1126,TAXONOMY!$A$1:$G$959,7,FALSE))","v":""},{"$f":"IF(ISBLANK($R1126)=TRUE,\"\",VLOOKUP($R1126,TAXONOMY!$A$1:$G$959,6,FALSE))","v":""},{"$f":"IF(ISBLANK($R1126)=TRUE,\"\",VLOOKUP($R1126,TAXONOMY!$A$1:$G$959,5,FALSE))","v":""},{"$f":"IF(ISBLANK($R1126)=TRUE,\"\",VLOOKUP($R1126,TAXONOMY!$A$1:$G$959,4,FALSE))","v":""},{"$f":"IF(ISBLANK($R1126)=TRUE,\"\",VLOOKUP($R1126,TAXONOMY!$A$1:$G$959,3,FALSE))","v":""},{"$f":"IF(ISBLANK($R1126)=TRUE,\"\",VLOOKUP($R1126,TAXONOMY!$A$1:$H$959,2,FALSE))","v":""}]
[null,null,null,null,null,null,null,null,null,null,null,{"$f":"IF(ISBLANK($R1127)=TRUE,\"\",VLOOKUP($R1127,TAXONOMY!$A$1:$G$959,7,FALSE))","v":""},{"$f":"IF(ISBLANK($R1127)=TRUE,\"\",VLOOKUP($R1127,TAXONOMY!$A$1:$G$959,6,FALSE))","v":""},{"$f":"IF(ISBLANK($R1127)=TRUE,\"\",VLOOKUP($R1127,TAXONOMY!$A$1:$G$959,5,FALSE))","v":""},{"$f":"IF(ISBLANK($R1127)=TRUE,\"\",VLOOKUP($R1127,TAXONOMY!$A$1:$G$959,4,FALSE))","v":""},{"$f":"IF(ISBLANK($R1127)=TRUE,\"\",VLOOKUP($R1127,TAXONOMY!$A$1:$G$959,3,FALSE))","v":""},{"$f":"IF(ISBLANK($R1127)=TRUE,\"\",VLOOKUP($R1127,TAXONOMY!$A$1:$H$959,2,FALSE))","v":""}]
[null,null,null,null,null,null,null,null,null,null,null,{"$f":"IF(ISBLANK($R1128)=TRUE,\"\",VLOOKUP($R1128,TAXONOMY!$A$1:$G$959,7,FALSE))","v":""},{"$f":"IF(ISBLANK($R1128)=TRUE,\"\",VLOOKUP($R1128,TAXONOMY!$A$1:$G$959,6,FALSE))","v":""},{"$f":"IF(ISBLANK($R1128)=TRUE,\"\",VLOOKUP($R1128,TAXONOMY!$A$1:$G$959,5,FALSE))","v":""},{"$f":"IF(ISBLANK($R1128)=TRUE,\"\",VLOOKUP($R1128,TAXONOMY!$A$1:$G$959,4,FALSE))","v":""},{"$f":"IF(ISBLANK($R1128)=TRUE,\"\",VLOOKUP($R1128,TAXONOMY!$A$1:$G$959,3,FALSE))","v":""},{"$f":"IF(ISBLANK($R1128)=TRUE,\"\",VLOOKUP($R1128,TAXONOMY!$A$1:$H$959,2,FALSE))","v":""}]
[null,null,null,null,null,null,null,null,null,null,null,{"$f":"IF(ISBLANK($R1129)=TRUE,\"\",VLOOKUP($R1129,TAXONOMY!$A$1:$G$959,7,FALSE))","v":""},{"$f":"IF(ISBLANK($R1129)=TRUE,\"\",VLOOKUP($R1129,TAXONOMY!$A$1:$G$959,6,FALSE))","v":""},{"$f":"IF(ISBLANK($R1129)=TRUE,\"\",VLOOKUP($R1129,TAXONOMY!$A$1:$G$959,5,FALSE))","v":""},{"$f":"IF(ISBLANK($R1129)=TRUE,\"\",VLOOKUP($R1129,TAXONOMY!$A$1:$G$959,4,FALSE))","v":""},{"$f":"IF(ISBLANK($R1129)=TRUE,\"\",VLOOKUP($R1129,TAXONOMY!$A$1:$G$959,3,FALSE))","v":""},{"$f":"IF(ISBLANK($R1129)=TRUE,\"\",VLOOKUP($R1129,TAXONOMY!$A$1:$H$959,2,FALSE))","v":""}]
[null,null,null,null,null,null,null,null,null,null,null,{"$f":"IF(ISBLANK($R1130)=TRUE,\"\",VLOOKUP($R1130,TAXONOMY!$A$1:$G$959,7,FALSE))","v":""},{"$f":"IF(ISBLANK($R1130)=TRUE,\"\",VLOOKUP($R1130,TAXONOMY!$A$1:$G$959,6,FALSE))","v":""},{"$f":"IF(ISBLANK($R1130)=TRUE,\"\",VLOOKUP($R1130,TAXONOMY!$A$1:$G$959,5,FALSE))","v":""},{"$f":"IF(ISBLANK($R1130)=TRUE,\"\",VLOOKUP($R1130,TAXONOMY!$A$1:$G$959,4,FALSE))","v":""},{"$f":"IF(ISBLANK($R1130)=TRUE,\"\",VLOOKUP($R1130,TAXONOMY!$A$1:$G$959,3,FALSE))","v":""},{"$f":"IF(ISBLANK($R1130)=TRUE,\"\",VLOOKUP($R1130,TAXONOMY!$A$1:$H$959,2,FALSE))","v":""}]
[null,null,null,null,null,null,null,null,null,null,null,{"$f":"IF(ISBLANK($R1131)=TRUE,\"\",VLOOKUP($R1131,TAXONOMY!$A$1:$G$959,7,FALSE))","v":""},{"$f":"IF(ISBLANK($R1131)=TRUE,\"\",VLOOKUP($R1131,TAXONOMY!$A$1:$G$959,6,FALSE))","v":""},{"$f":"IF(ISBLANK($R1131)=TRUE,\"\",VLOOKUP($R1131,TAXONOMY!$A$1:$G$959,5,FALSE))","v":""},{"$f":"IF(ISBLANK($R1131)=TRUE,\"\",VLOOKUP($R1131,TAXONOMY!$A$1:$G$959,4,FALSE))","v":""},{"$f":"IF(ISBLANK($R1131)=TRUE,\"\",VLOOKUP($R1131,TAXONOMY!$A$1:$G$959,3,FALSE))","v":""},{"$f":"IF(ISBLANK($R1131)=TRUE,\"\",VLOOKUP($R1131,TAXONOMY!$A$1:$H$959,2,FALSE))","v":""}]
[null,null,null,null,null,null,null,null,null,null,null,{"$f":"IF(ISBLANK($R1132)=TRUE,\"\",VLOOKUP($R1132,TAXONOMY!$A$1:$G$959,7,FALSE))","v":""},{"$f":"IF(ISBLANK($R1132)=TRUE,\"\",VLOOKUP($R1132,TAXONOMY!$A$1:$G$959,6,FALSE))","v":""},{"$f":"IF(ISBLANK($R1132)=TRUE,\"\",VLOOKUP($R1132,TAXONOMY!$A$1:$G$959,5,FALSE))","v":""},{"$f":"IF(ISBLANK($R1132)=TRUE,\"\",VLOOKUP($R1132,TAXONOMY!$A$1:$G$959,4,FALSE))","v":""},{"$f":"IF(ISBLANK($R1132)=TRUE,\"\",VLOOKUP($R1132,TAXONOMY!$A$1:$G$959,3,FALSE))","v":""},{"$f":"IF(ISBLANK($R1132)=TRUE,\"\",VLOOKUP($R1132,TAXONOMY!$A$1:$H$959,2,FALSE))","v":""}]
[null,null,null,null,null,null,null,null,null,null,null,{"$f":"IF(ISBLANK($R1133)=TRUE,\"\",VLOOKUP($R1133,TAXONOMY!$A$1:$G$959,7,FALSE))","v":""},{"$f":"IF(ISBLANK($R1133)=TRUE,\"\",VLOOKUP($R1133,TAXONOMY!$A$1:$G$959,6,FALSE))","v":""},{"$f":"IF(ISBLANK($R1133)=TRUE,\"\",VLOOKUP($R1133,TAXONOMY!$A$1:$G$959,5,FALSE))","v":""},{"$f":"IF(ISBLANK($R1133)=TRUE,\"\",VLOOKUP($R1133,TAXONOMY!$A$1:$G$959,4,FALSE))","v":""},{"$f":"IF(ISBLANK($R1133)=TRUE,\"\",VLOOKUP($R1133,TAXONOMY!$A$1:$G$959,3,FALSE))","v":""},{"$f":"IF(ISBLANK($R1133)=TRUE,\"\",VLOOKUP($R1133,TAXONOMY!$A$1:$H$959,2,FALSE))","v":""}]
[null,null,null,null,null,null,null,null,null,null,null,{"$f":"IF(ISBLANK($R1134)=TRUE,\"\",VLOOKUP($R1134,TAXONOMY!$A$1:$G$959,7,FALSE))","v":""},{"$f":"IF(ISBLANK($R1134)=TRUE,\"\",VLOOKUP($R1134,TAXONOMY!$A$1:$G$959,6,FALSE))","v":""},{"$f":"IF(ISBLANK($R1134)=TRUE,\"\",VLOOKUP($R1134,TAXONOMY!$A$1:$G$959,5,FALSE))","v":""},{"$f":"IF(ISBLANK($R1134)=TRUE,\"\",VLOOKUP($R1134,TAXONOMY!$A$1:$G$959,4,FALSE))","v":""},{"$f":"IF(ISBLANK($R1134)=TRUE,\"\",VLOOKUP($R1134,TAXONOMY!$A$1:$G$959,3,FALSE))","v":""},{"$f":"IF(ISBLANK($R1134)=TRUE,\"\",VLOOKUP($R1134,TAXONOMY!$A$1:$H$959,2,FALSE))","v":""}]
[null,null,null,null,null,null,null,null,null,null,null,{"$f":"IF(ISBLANK($R1135)=TRUE,\"\",VLOOKUP($R1135,TAXONOMY!$A$1:$G$959,7,FALSE))","v":""},{"$f":"IF(ISBLANK($R1135)=TRUE,\"\",VLOOKUP($R1135,TAXONOMY!$A$1:$G$959,6,FALSE))","v":""},{"$f":"IF(ISBLANK($R1135)=TRUE,\"\",VLOOKUP($R1135,TAXONOMY!$A$1:$G$959,5,FALSE))","v":""},{"$f":"IF(ISBLANK($R1135)=TRUE,\"\",VLOOKUP($R1135,TAXONOMY!$A$1:$G$959,4,FALSE))","v":""},{"$f":"IF(ISBLANK($R1135)=TRUE,\"\",VLOOKUP($R1135,TAXONOMY!$A$1:$G$959,3,FALSE))","v":""},{"$f":"IF(ISBLANK($R1135)=TRUE,\"\",VLOOKUP($R1135,TAXONOMY!$A$1:$H$959,2,FALSE))","v":""}]
[null,null,null,null,null,null,null,null,null,null,null,{"$f":"IF(ISBLANK($R1136)=TRUE,\"\",VLOOKUP($R1136,TAXONOMY!$A$1:$G$959,7,FALSE))","v":""},{"$f":"IF(ISBLANK($R1136)=TRUE,\"\",VLOOKUP($R1136,TAXONOMY!$A$1:$G$959,6,FALSE))","v":""},{"$f":"IF(ISBLANK($R1136)=TRUE,\"\",VLOOKUP($R1136,TAXONOMY!$A$1:$G$959,5,FALSE))","v":""},{"$f":"IF(ISBLANK($R1136)=TRUE,\"\",VLOOKUP($R1136,TAXONOMY!$A$1:$G$959,4,FALSE))","v":""},{"$f":"IF(ISBLANK($R1136)=TRUE,\"\",VLOOKUP($R1136,TAXONOMY!$A$1:$G$959,3,FALSE))","v":""},{"$f":"IF(ISBLANK($R1136)=TRUE,\"\",VLOOKUP($R1136,TAXONOMY!$A$1:$H$959,2,FALSE))","v":""}]
[null,null,null,null,null,null,null,null,null,null,null,{"$f":"IF(ISBLANK($R1137)=TRUE,\"\",VLOOKUP($R1137,TAXONOMY!$A$1:$G$959,7,FALSE))","v":""},{"$f":"IF(ISBLANK($R1137)=TRUE,\"\",VLOOKUP($R1137,TAXONOMY!$A$1:$G$959,6,FALSE))","v":""},{"$f":"IF(ISBLANK($R1137)=TRUE,\"\",VLOOKUP($R1137,TAXONOMY!$A$1:$G$959,5,FALSE))","v":""},{"$f":"IF(ISBLANK($R1137)=TRUE,\"\",VLOOKUP($R1137,TAXONOMY!$A$1:$G$959,4,FALSE))","v":""},{"$f":"IF(ISBLANK($R1137)=TRUE,\"\",VLOOKUP($R1137,TAXONOMY!$A$1:$G$959,3,FALSE))","v":""},{"$f":"IF(ISBLANK($R1137)=TRUE,\"\",VLOOKUP($R1137,TAXONOMY!$A$1:$H$959,2,FALSE))","v":""}]
[null,null,null,null,null,null,null,null,null,null,null,{"$f":"IF(ISBLANK($R1138)=TRUE,\"\",VLOOKUP($R1138,TAXONOMY!$A$1:$G$959,7,FALSE))","v":""},{"$f":"IF(ISBLANK($R1138)=TRUE,\"\",VLOOKUP($R1138,TAXONOMY!$A$1:$G$959,6,FALSE))","v":""},{"$f":"IF(ISBLANK($R1138)=TRUE,\"\",VLOOKUP($R1138,TAXONOMY!$A$1:$G$959,5,FALSE))","v":""},{"$f":"IF(ISBLANK($R1138)=TRUE,\"\",VLOOKUP($R1138,TAXONOMY!$A$1:$G$959,4,FALSE))","v":""},{"$f":"IF(ISBLANK($R1138)=TRUE,\"\",VLOOKUP($R1138,TAXONOMY!$A$1:$G$959,3,FALSE))","v":""},{"$f":"IF(ISBLANK($R1138)=TRUE,\"\",VLOOKUP($R1138,TAXONOMY!$A$1:$H$959,2,FALSE))","v":""}]
[null,null,null,null,null,null,null,null,null,null,null,{"$f":"IF(ISBLANK($R1139)=TRUE,\"\",VLOOKUP($R1139,TAXONOMY!$A$1:$G$959,7,FALSE))","v":""},{"$f":"IF(ISBLANK($R1139)=TRUE,\"\",VLOOKUP($R1139,TAXONOMY!$A$1:$G$959,6,FALSE))","v":""},{"$f":"IF(ISBLANK($R1139)=TRUE,\"\",VLOOKUP($R1139,TAXONOMY!$A$1:$G$959,5,FALSE))","v":""},{"$f":"IF(ISBLANK($R1139)=TRUE,\"\",VLOOKUP($R1139,TAXONOMY!$A$1:$G$959,4,FALSE))","v":""},{"$f":"IF(ISBLANK($R1139)=TRUE,\"\",VLOOKUP($R1139,TAXONOMY!$A$1:$G$959,3,FALSE))","v":""},{"$f":"IF(ISBLANK($R1139)=TRUE,\"\",VLOOKUP($R1139,TAXONOMY!$A$1:$H$959,2,FALSE))","v":""}]
[null,null,null,null,null,null,null,null,null,null,null,{"$f":"IF(ISBLANK($R1140)=TRUE,\"\",VLOOKUP($R1140,TAXONOMY!$A$1:$G$959,7,FALSE))","v":""},{"$f":"IF(ISBLANK($R1140)=TRUE,\"\",VLOOKUP($R1140,TAXONOMY!$A$1:$G$959,6,FALSE))","v":""},{"$f":"IF(ISBLANK($R1140)=TRUE,\"\",VLOOKUP($R1140,TAXONOMY!$A$1:$G$959,5,FALSE))","v":""},{"$f":"IF(ISBLANK($R1140)=TRUE,\"\",VLOOKUP($R1140,TAXONOMY!$A$1:$G$959,4,FALSE))","v":""},{"$f":"IF(ISBLANK($R1140)=TRUE,\"\",VLOOKUP($R1140,TAXONOMY!$A$1:$G$959,3,FALSE))","v":""},{"$f":"IF(ISBLANK($R1140)=TRUE,\"\",VLOOKUP($R1140,TAXONOMY!$A$1:$H$959,2,FALSE))","v":""}]
[null,null,null,null,null,null,null,null,null,null,null,{"$f":"IF(ISBLANK($R1141)=TRUE,\"\",VLOOKUP($R1141,TAXONOMY!$A$1:$G$959,7,FALSE))","v":""},{"$f":"IF(ISBLANK($R1141)=TRUE,\"\",VLOOKUP($R1141,TAXONOMY!$A$1:$G$959,6,FALSE))","v":""},{"$f":"IF(ISBLANK($R1141)=TRUE,\"\",VLOOKUP($R1141,TAXONOMY!$A$1:$G$959,5,FALSE))","v":""},{"$f":"IF(ISBLANK($R1141)=TRUE,\"\",VLOOKUP($R1141,TAXONOMY!$A$1:$G$959,4,FALSE))","v":""},{"$f":"IF(ISBLANK($R1141)=TRUE,\"\",VLOOKUP($R1141,TAXONOMY!$A$1:$G$959,3,FALSE))","v":""},{"$f":"IF(ISBLANK($R1141)=TRUE,\"\",VLOOKUP($R1141,TAXONOMY!$A$1:$H$959,2,FALSE))","v":""}]
[null,null,null,null,null,null,null,null,null,null,null,{"$f":"IF(ISBLANK($R1142)=TRUE,\"\",VLOOKUP($R1142,TAXONOMY!$A$1:$G$959,7,FALSE))","v":""},{"$f":"IF(ISBLANK($R1142)=TRUE,\"\",VLOOKUP($R1142,TAXONOMY!$A$1:$G$959,6,FALSE))","v":""},{"$f":"IF(ISBLANK($R1142)=TRUE,\"\",VLOOKUP($R1142,TAXONOMY!$A$1:$G$959,5,FALSE))","v":""},{"$f":"IF(ISBLANK($R1142)=TRUE,\"\",VLOOKUP($R1142,TAXONOMY!$A$1:$G$959,4,FALSE))","v":""},{"$f":"IF(ISBLANK($R1142)=TRUE,\"\",VLOOKUP($R1142,TAXONOMY!$A$1:$G$959,3,FALSE))","v":""},{"$f":"IF(ISBLANK($R1142)=TRUE,\"\",VLOOKUP($R1142,TAXONOMY!$A$1:$H$959,2,FALSE))","v":""}]
[null,null,null,null,null,null,null,null,null,null,null,{"$f":"IF(ISBLANK($R1143)=TRUE,\"\",VLOOKUP($R1143,TAXONOMY!$A$1:$G$959,7,FALSE))","v":""},{"$f":"IF(ISBLANK($R1143)=TRUE,\"\",VLOOKUP($R1143,TAXONOMY!$A$1:$G$959,6,FALSE))","v":""},{"$f":"IF(ISBLANK($R1143)=TRUE,\"\",VLOOKUP($R1143,TAXONOMY!$A$1:$G$959,5,FALSE))","v":""},{"$f":"IF(ISBLANK($R1143)=TRUE,\"\",VLOOKUP($R1143,TAXONOMY!$A$1:$G$959,4,FALSE))","v":""},{"$f":"IF(ISBLANK($R1143)=TRUE,\"\",VLOOKUP($R1143,TAXONOMY!$A$1:$G$959,3,FALSE))","v":""},{"$f":"IF(ISBLANK($R1143)=TRUE,\"\",VLOOKUP($R1143,TAXONOMY!$A$1:$H$959,2,FALSE))","v":""}]
[null,null,null,null,null,null,null,null,null,null,null,{"$f":"IF(ISBLANK($R1144)=TRUE,\"\",VLOOKUP($R1144,TAXONOMY!$A$1:$G$959,7,FALSE))","v":""},{"$f":"IF(ISBLANK($R1144)=TRUE,\"\",VLOOKUP($R1144,TAXONOMY!$A$1:$G$959,6,FALSE))","v":""},{"$f":"IF(ISBLANK($R1144)=TRUE,\"\",VLOOKUP($R1144,TAXONOMY!$A$1:$G$959,5,FALSE))","v":""},{"$f":"IF(ISBLANK($R1144)=TRUE,\"\",VLOOKUP($R1144,TAXONOMY!$A$1:$G$959,4,FALSE))","v":""},{"$f":"IF(ISBLANK($R1144)=TRUE,\"\",VLOOKUP($R1144,TAXONOMY!$A$1:$G$959,3,FALSE))","v":""},{"$f":"IF(ISBLANK($R1144)=TRUE,\"\",VLOOKUP($R1144,TAXONOMY!$A$1:$H$959,2,FALSE))","v":""}]
[null,null,null,null,null,null,null,null,null,null,null,{"$f":"IF(ISBLANK($R1145)=TRUE,\"\",VLOOKUP($R1145,TAXONOMY!$A$1:$G$959,7,FALSE))","v":""},{"$f":"IF(ISBLANK($R1145)=TRUE,\"\",VLOOKUP($R1145,TAXONOMY!$A$1:$G$959,6,FALSE))","v":""},{"$f":"IF(ISBLANK($R1145)=TRUE,\"\",VLOOKUP($R1145,TAXONOMY!$A$1:$G$959,5,FALSE))","v":""},{"$f":"IF(ISBLANK($R1145)=TRUE,\"\",VLOOKUP($R1145,TAXONOMY!$A$1:$G$959,4,FALSE))","v":""},{"$f":"IF(ISBLANK($R1145)=TRUE,\"\",VLOOKUP($R1145,TAXONOMY!$A$1:$G$959,3,FALSE))","v":""},{"$f":"IF(ISBLANK($R1145)=TRUE,\"\",VLOOKUP($R1145,TAXONOMY!$A$1:$H$959,2,FALSE))","v":""}]
[null,null,null,null,null,null,null,null,null,null,null,{"$f":"IF(ISBLANK($R1146)=TRUE,\"\",VLOOKUP($R1146,TAXONOMY!$A$1:$G$959,7,FALSE))","v":""},{"$f":"IF(ISBLANK($R1146)=TRUE,\"\",VLOOKUP($R1146,TAXONOMY!$A$1:$G$959,6,FALSE))","v":""},{"$f":"IF(ISBLANK($R1146)=TRUE,\"\",VLOOKUP($R1146,TAXONOMY!$A$1:$G$959,5,FALSE))","v":""},{"$f":"IF(ISBLANK($R1146)=TRUE,\"\",VLOOKUP($R1146,TAXONOMY!$A$1:$G$959,4,FALSE))","v":""},{"$f":"IF(ISBLANK($R1146)=TRUE,\"\",VLOOKUP($R1146,TAXONOMY!$A$1:$G$959,3,FALSE))","v":""},{"$f":"IF(ISBLANK($R1146)=TRUE,\"\",VLOOKUP($R1146,TAXONOMY!$A$1:$H$959,2,FALSE))","v":""}]
[null,null,null,null,null,null,null,null,null,null,null,{"$f":"IF(ISBLANK($R1147)=TRUE,\"\",VLOOKUP($R1147,TAXONOMY!$A$1:$G$959,7,FALSE))","v":""},{"$f":"IF(ISBLANK($R1147)=TRUE,\"\",VLOOKUP($R1147,TAXONOMY!$A$1:$G$959,6,FALSE))","v":""},{"$f":"IF(ISBLANK($R1147)=TRUE,\"\",VLOOKUP($R1147,TAXONOMY!$A$1:$G$959,5,FALSE))","v":""},{"$f":"IF(ISBLANK($R1147)=TRUE,\"\",VLOOKUP($R1147,TAXONOMY!$A$1:$G$959,4,FALSE))","v":""},{"$f":"IF(ISBLANK($R1147)=TRUE,\"\",VLOOKUP($R1147,TAXONOMY!$A$1:$G$959,3,FALSE))","v":""},{"$f":"IF(ISBLANK($R1147)=TRUE,\"\",VLOOKUP($R1147,TAXONOMY!$A$1:$H$959,2,FALSE))","v":""}]
[null,null,null,null,null,null,null,null,null,null,null,{"$f":"IF(ISBLANK($R1148)=TRUE,\"\",VLOOKUP($R1148,TAXONOMY!$A$1:$G$959,7,FALSE))","v":""},{"$f":"IF(ISBLANK($R1148)=TRUE,\"\",VLOOKUP($R1148,TAXONOMY!$A$1:$G$959,6,FALSE))","v":""},{"$f":"IF(ISBLANK($R1148)=TRUE,\"\",VLOOKUP($R1148,TAXONOMY!$A$1:$G$959,5,FALSE))","v":""},{"$f":"IF(ISBLANK($R1148)=TRUE,\"\",VLOOKUP($R1148,TAXONOMY!$A$1:$G$959,4,FALSE))","v":""},{"$f":"IF(ISBLANK($R1148)=TRUE,\"\",VLOOKUP($R1148,TAXONOMY!$A$1:$G$959,3,FALSE))","v":""},{"$f":"IF(ISBLANK($R1148)=TRUE,\"\",VLOOKUP($R1148,TAXONOMY!$A$1:$H$959,2,FALSE))","v":""}]
[null,null,null,null,null,null,null,null,null,null,null,{"$f":"IF(ISBLANK($R1149)=TRUE,\"\",VLOOKUP($R1149,TAXONOMY!$A$1:$G$959,7,FALSE))","v":""},{"$f":"IF(ISBLANK($R1149)=TRUE,\"\",VLOOKUP($R1149,TAXONOMY!$A$1:$G$959,6,FALSE))","v":""},{"$f":"IF(ISBLANK($R1149)=TRUE,\"\",VLOOKUP($R1149,TAXONOMY!$A$1:$G$959,5,FALSE))","v":""},{"$f":"IF(ISBLANK($R1149)=TRUE,\"\",VLOOKUP($R1149,TAXONOMY!$A$1:$G$959,4,FALSE))","v":""},{"$f":"IF(ISBLANK($R1149)=TRUE,\"\",VLOOKUP($R1149,TAXONOMY!$A$1:$G$959,3,FALSE))","v":""},{"$f":"IF(ISBLANK($R1149)=TRUE,\"\",VLOOKUP($R1149,TAXONOMY!$A$1:$H$959,2,FALSE))","v":""}]
[null,null,null,null,null,null,null,null,null,null,null,{"$f":"IF(ISBLANK($R1150)=TRUE,\"\",VLOOKUP($R1150,TAXONOMY!$A$1:$G$959,7,FALSE))","v":""},{"$f":"IF(ISBLANK($R1150)=TRUE,\"\",VLOOKUP($R1150,TAXONOMY!$A$1:$G$959,6,FALSE))","v":""},{"$f":"IF(ISBLANK($R1150)=TRUE,\"\",VLOOKUP($R1150,TAXONOMY!$A$1:$G$959,5,FALSE))","v":""},{"$f":"IF(ISBLANK($R1150)=TRUE,\"\",VLOOKUP($R1150,TAXONOMY!$A$1:$G$959,4,FALSE))","v":""},{"$f":"IF(ISBLANK($R1150)=TRUE,\"\",VLOOKUP($R1150,TAXONOMY!$A$1:$G$959,3,FALSE))","v":""},{"$f":"IF(ISBLANK($R1150)=TRUE,\"\",VLOOKUP($R1150,TAXONOMY!$A$1:$H$959,2,FALSE))","v":""}]
[null,null,null,null,null,null,null,null,null,null,null,{"$f":"IF(ISBLANK($R1151)=TRUE,\"\",VLOOKUP($R1151,TAXONOMY!$A$1:$G$959,7,FALSE))","v":""},{"$f":"IF(ISBLANK($R1151)=TRUE,\"\",VLOOKUP($R1151,TAXONOMY!$A$1:$G$959,6,FALSE))","v":""},{"$f":"IF(ISBLANK($R1151)=TRUE,\"\",VLOOKUP($R1151,TAXONOMY!$A$1:$G$959,5,FALSE))","v":""},{"$f":"IF(ISBLANK($R1151)=TRUE,\"\",VLOOKUP($R1151,TAXONOMY!$A$1:$G$959,4,FALSE))","v":""},{"$f":"IF(ISBLANK($R1151)=TRUE,\"\",VLOOKUP($R1151,TAXONOMY!$A$1:$G$959,3,FALSE))","v":""},{"$f":"IF(ISBLANK($R1151)=TRUE,\"\",VLOOKUP($R1151,TAXONOMY!$A$1:$H$959,2,FALSE))","v":""}]
[null,null,null,null,null,null,null,null,null,null,null,{"$f":"IF(ISBLANK($R1152)=TRUE,\"\",VLOOKUP($R1152,TAXONOMY!$A$1:$G$959,7,FALSE))","v":""},{"$f":"IF(ISBLANK($R1152)=TRUE,\"\",VLOOKUP($R1152,TAXONOMY!$A$1:$G$959,6,FALSE))","v":""},{"$f":"IF(ISBLANK($R1152)=TRUE,\"\",VLOOKUP($R1152,TAXONOMY!$A$1:$G$959,5,FALSE))","v":""},{"$f":"IF(ISBLANK($R1152)=TRUE,\"\",VLOOKUP($R1152,TAXONOMY!$A$1:$G$959,4,FALSE))","v":""},{"$f":"IF(ISBLANK($R1152)=TRUE,\"\",VLOOKUP($R1152,TAXONOMY!$A$1:$G$959,3,FALSE))","v":""},{"$f":"IF(ISBLANK($R1152)=TRUE,\"\",VLOOKUP($R1152,TAXONOMY!$A$1:$H$959,2,FALSE))","v":""}]
[null,null,null,null,null,null,null,null,null,null,null,{"$f":"IF(ISBLANK($R1153)=TRUE,\"\",VLOOKUP($R1153,TAXONOMY!$A$1:$G$959,7,FALSE))","v":""},{"$f":"IF(ISBLANK($R1153)=TRUE,\"\",VLOOKUP($R1153,TAXONOMY!$A$1:$G$959,6,FALSE))","v":""},{"$f":"IF(ISBLANK($R1153)=TRUE,\"\",VLOOKUP($R1153,TAXONOMY!$A$1:$G$959,5,FALSE))","v":""},{"$f":"IF(ISBLANK($R1153)=TRUE,\"\",VLOOKUP($R1153,TAXONOMY!$A$1:$G$959,4,FALSE))","v":""},{"$f":"IF(ISBLANK($R1153)=TRUE,\"\",VLOOKUP($R1153,TAXONOMY!$A$1:$G$959,3,FALSE))","v":""},{"$f":"IF(ISBLANK($R1153)=TRUE,\"\",VLOOKUP($R1153,TAXONOMY!$A$1:$H$959,2,FALSE))","v":""}]
[null,null,null,null,null,null,null,null,null,null,null,{"$f":"IF(ISBLANK($R1154)=TRUE,\"\",VLOOKUP($R1154,TAXONOMY!$A$1:$G$959,7,FALSE))","v":""},{"$f":"IF(ISBLANK($R1154)=TRUE,\"\",VLOOKUP($R1154,TAXONOMY!$A$1:$G$959,6,FALSE))","v":""},{"$f":"IF(ISBLANK($R1154)=TRUE,\"\",VLOOKUP($R1154,TAXONOMY!$A$1:$G$959,5,FALSE))","v":""},{"$f":"IF(ISBLANK($R1154)=TRUE,\"\",VLOOKUP($R1154,TAXONOMY!$A$1:$G$959,4,FALSE))","v":""},{"$f":"IF(ISBLANK($R1154)=TRUE,\"\",VLOOKUP($R1154,TAXONOMY!$A$1:$G$959,3,FALSE))","v":""},{"$f":"IF(ISBLANK($R1154)=TRUE,\"\",VLOOKUP($R1154,TAXONOMY!$A$1:$H$959,2,FALSE))","v":""}]
[null,null,null,null,null,null,null,null,null,null,null,{"$f":"IF(ISBLANK($R1155)=TRUE,\"\",VLOOKUP($R1155,TAXONOMY!$A$1:$G$959,7,FALSE))","v":""},{"$f":"IF(ISBLANK($R1155)=TRUE,\"\",VLOOKUP($R1155,TAXONOMY!$A$1:$G$959,6,FALSE))","v":""},{"$f":"IF(ISBLANK($R1155)=TRUE,\"\",VLOOKUP($R1155,TAXONOMY!$A$1:$G$959,5,FALSE))","v":""},{"$f":"IF(ISBLANK($R1155)=TRUE,\"\",VLOOKUP($R1155,TAXONOMY!$A$1:$G$959,4,FALSE))","v":""},{"$f":"IF(ISBLANK($R1155)=TRUE,\"\",VLOOKUP($R1155,TAXONOMY!$A$1:$G$959,3,FALSE))","v":""},{"$f":"IF(ISBLANK($R1155)=TRUE,\"\",VLOOKUP($R1155,TAXONOMY!$A$1:$H$959,2,FALSE))","v":""}]
[null,null,null,null,null,null,null,null,null,null,null,{"$f":"IF(ISBLANK($R1156)=TRUE,\"\",VLOOKUP($R1156,TAXONOMY!$A$1:$G$959,7,FALSE))","v":""},{"$f":"IF(ISBLANK($R1156)=TRUE,\"\",VLOOKUP($R1156,TAXONOMY!$A$1:$G$959,6,FALSE))","v":""},{"$f":"IF(ISBLANK($R1156)=TRUE,\"\",VLOOKUP($R1156,TAXONOMY!$A$1:$G$959,5,FALSE))","v":""},{"$f":"IF(ISBLANK($R1156)=TRUE,\"\",VLOOKUP($R1156,TAXONOMY!$A$1:$G$959,4,FALSE))","v":""},{"$f":"IF(ISBLANK($R1156)=TRUE,\"\",VLOOKUP($R1156,TAXONOMY!$A$1:$G$959,3,FALSE))","v":""},{"$f":"IF(ISBLANK($R1156)=TRUE,\"\",VLOOKUP($R1156,TAXONOMY!$A$1:$H$959,2,FALSE))","v":""}]
[null,null,null,null,null,null,null,null,null,null,null,{"$f":"IF(ISBLANK($R1157)=TRUE,\"\",VLOOKUP($R1157,TAXONOMY!$A$1:$G$959,7,FALSE))","v":""},{"$f":"IF(ISBLANK($R1157)=TRUE,\"\",VLOOKUP($R1157,TAXONOMY!$A$1:$G$959,6,FALSE))","v":""},{"$f":"IF(ISBLANK($R1157)=TRUE,\"\",VLOOKUP($R1157,TAXONOMY!$A$1:$G$959,5,FALSE))","v":""},{"$f":"IF(ISBLANK($R1157)=TRUE,\"\",VLOOKUP($R1157,TAXONOMY!$A$1:$G$959,4,FALSE))","v":""},{"$f":"IF(ISBLANK($R1157)=TRUE,\"\",VLOOKUP($R1157,TAXONOMY!$A$1:$G$959,3,FALSE))","v":""},{"$f":"IF(ISBLANK($R1157)=TRUE,\"\",VLOOKUP($R1157,TAXONOMY!$A$1:$H$959,2,FALSE))","v":""}]
[null,null,null,null,null,null,null,null,null,null,null,{"$f":"IF(ISBLANK($R1158)=TRUE,\"\",VLOOKUP($R1158,TAXONOMY!$A$1:$G$959,7,FALSE))","v":""},{"$f":"IF(ISBLANK($R1158)=TRUE,\"\",VLOOKUP($R1158,TAXONOMY!$A$1:$G$959,6,FALSE))","v":""},{"$f":"IF(ISBLANK($R1158)=TRUE,\"\",VLOOKUP($R1158,TAXONOMY!$A$1:$G$959,5,FALSE))","v":""},{"$f":"IF(ISBLANK($R1158)=TRUE,\"\",VLOOKUP($R1158,TAXONOMY!$A$1:$G$959,4,FALSE))","v":""},{"$f":"IF(ISBLANK($R1158)=TRUE,\"\",VLOOKUP($R1158,TAXONOMY!$A$1:$G$959,3,FALSE))","v":""},{"$f":"IF(ISBLANK($R1158)=TRUE,\"\",VLOOKUP($R1158,TAXONOMY!$A$1:$H$959,2,FALSE))","v":""}]
[null,null,null,null,null,null,null,null,null,null,null,{"$f":"IF(ISBLANK($R1159)=TRUE,\"\",VLOOKUP($R1159,TAXONOMY!$A$1:$G$959,7,FALSE))","v":""},{"$f":"IF(ISBLANK($R1159)=TRUE,\"\",VLOOKUP($R1159,TAXONOMY!$A$1:$G$959,6,FALSE))","v":""},{"$f":"IF(ISBLANK($R1159)=TRUE,\"\",VLOOKUP($R1159,TAXONOMY!$A$1:$G$959,5,FALSE))","v":""},{"$f":"IF(ISBLANK($R1159)=TRUE,\"\",VLOOKUP($R1159,TAXONOMY!$A$1:$G$959,4,FALSE))","v":""},{"$f":"IF(ISBLANK($R1159)=TRUE,\"\",VLOOKUP($R1159,TAXONOMY!$A$1:$G$959,3,FALSE))","v":""},{"$f":"IF(ISBLANK($R1159)=TRUE,\"\",VLOOKUP($R1159,TAXONOMY!$A$1:$H$959,2,FALSE))","v":""}]
[null,null,null,null,null,null,null,null,null,null,null,{"$f":"IF(ISBLANK($R1160)=TRUE,\"\",VLOOKUP($R1160,TAXONOMY!$A$1:$G$959,7,FALSE))","v":""},{"$f":"IF(ISBLANK($R1160)=TRUE,\"\",VLOOKUP($R1160,TAXONOMY!$A$1:$G$959,6,FALSE))","v":""},{"$f":"IF(ISBLANK($R1160)=TRUE,\"\",VLOOKUP($R1160,TAXONOMY!$A$1:$G$959,5,FALSE))","v":""},{"$f":"IF(ISBLANK($R1160)=TRUE,\"\",VLOOKUP($R1160,TAXONOMY!$A$1:$G$959,4,FALSE))","v":""},{"$f":"IF(ISBLANK($R1160)=TRUE,\"\",VLOOKUP($R1160,TAXONOMY!$A$1:$G$959,3,FALSE))","v":""},{"$f":"IF(ISBLANK($R1160)=TRUE,\"\",VLOOKUP($R1160,TAXONOMY!$A$1:$H$959,2,FALSE))","v":""}]
[null,null,null,null,null,null,null,null,null,null,null,{"$f":"IF(ISBLANK($R1161)=TRUE,\"\",VLOOKUP($R1161,TAXONOMY!$A$1:$G$959,7,FALSE))","v":""},{"$f":"IF(ISBLANK($R1161)=TRUE,\"\",VLOOKUP($R1161,TAXONOMY!$A$1:$G$959,6,FALSE))","v":""},{"$f":"IF(ISBLANK($R1161)=TRUE,\"\",VLOOKUP($R1161,TAXONOMY!$A$1:$G$959,5,FALSE))","v":""},{"$f":"IF(ISBLANK($R1161)=TRUE,\"\",VLOOKUP($R1161,TAXONOMY!$A$1:$G$959,4,FALSE))","v":""},{"$f":"IF(ISBLANK($R1161)=TRUE,\"\",VLOOKUP($R1161,TAXONOMY!$A$1:$G$959,3,FALSE))","v":""},{"$f":"IF(ISBLANK($R1161)=TRUE,\"\",VLOOKUP($R1161,TAXONOMY!$A$1:$H$959,2,FALSE))","v":""}]
[null,null,null,null,null,null,null,null,null,null,null,{"$f":"IF(ISBLANK($R1162)=TRUE,\"\",VLOOKUP($R1162,TAXONOMY!$A$1:$G$959,7,FALSE))","v":""},{"$f":"IF(ISBLANK($R1162)=TRUE,\"\",VLOOKUP($R1162,TAXONOMY!$A$1:$G$959,6,FALSE))","v":""},{"$f":"IF(ISBLANK($R1162)=TRUE,\"\",VLOOKUP($R1162,TAXONOMY!$A$1:$G$959,5,FALSE))","v":""},{"$f":"IF(ISBLANK($R1162)=TRUE,\"\",VLOOKUP($R1162,TAXONOMY!$A$1:$G$959,4,FALSE))","v":""},{"$f":"IF(ISBLANK($R1162)=TRUE,\"\",VLOOKUP($R1162,TAXONOMY!$A$1:$G$959,3,FALSE))","v":""},{"$f":"IF(ISBLANK($R1162)=TRUE,\"\",VLOOKUP($R1162,TAXONOMY!$A$1:$H$959,2,FALSE))","v":""}]
[null,null,null,null,null,null,null,null,null,null,null,{"$f":"IF(ISBLANK($R1163)=TRUE,\"\",VLOOKUP($R1163,TAXONOMY!$A$1:$G$959,7,FALSE))","v":""},{"$f":"IF(ISBLANK($R1163)=TRUE,\"\",VLOOKUP($R1163,TAXONOMY!$A$1:$G$959,6,FALSE))","v":""},{"$f":"IF(ISBLANK($R1163)=TRUE,\"\",VLOOKUP($R1163,TAXONOMY!$A$1:$G$959,5,FALSE))","v":""},{"$f":"IF(ISBLANK($R1163)=TRUE,\"\",VLOOKUP($R1163,TAXONOMY!$A$1:$G$959,4,FALSE))","v":""},{"$f":"IF(ISBLANK($R1163)=TRUE,\"\",VLOOKUP($R1163,TAXONOMY!$A$1:$G$959,3,FALSE))","v":""},{"$f":"IF(ISBLANK($R1163)=TRUE,\"\",VLOOKUP($R1163,TAXONOMY!$A$1:$H$959,2,FALSE))","v":""}]
[null,null,null,null,null,null,null,null,null,null,null,{"$f":"IF(ISBLANK($R1164)=TRUE,\"\",VLOOKUP($R1164,TAXONOMY!$A$1:$G$959,7,FALSE))","v":""},{"$f":"IF(ISBLANK($R1164)=TRUE,\"\",VLOOKUP($R1164,TAXONOMY!$A$1:$G$959,6,FALSE))","v":""},{"$f":"IF(ISBLANK($R1164)=TRUE,\"\",VLOOKUP($R1164,TAXONOMY!$A$1:$G$959,5,FALSE))","v":""},{"$f":"IF(ISBLANK($R1164)=TRUE,\"\",VLOOKUP($R1164,TAXONOMY!$A$1:$G$959,4,FALSE))","v":""},{"$f":"IF(ISBLANK($R1164)=TRUE,\"\",VLOOKUP($R1164,TAXONOMY!$A$1:$G$959,3,FALSE))","v":""},{"$f":"IF(ISBLANK($R1164)=TRUE,\"\",VLOOKUP($R1164,TAXONOMY!$A$1:$H$959,2,FALSE))","v":""}]
[null,null,null,null,null,null,null,null,null,null,null,{"$f":"IF(ISBLANK($R1165)=TRUE,\"\",VLOOKUP($R1165,TAXONOMY!$A$1:$G$959,7,FALSE))","v":""},{"$f":"IF(ISBLANK($R1165)=TRUE,\"\",VLOOKUP($R1165,TAXONOMY!$A$1:$G$959,6,FALSE))","v":""},{"$f":"IF(ISBLANK($R1165)=TRUE,\"\",VLOOKUP($R1165,TAXONOMY!$A$1:$G$959,5,FALSE))","v":""},{"$f":"IF(ISBLANK($R1165)=TRUE,\"\",VLOOKUP($R1165,TAXONOMY!$A$1:$G$959,4,FALSE))","v":""},{"$f":"IF(ISBLANK($R1165)=TRUE,\"\",VLOOKUP($R1165,TAXONOMY!$A$1:$G$959,3,FALSE))","v":""},{"$f":"IF(ISBLANK($R1165)=TRUE,\"\",VLOOKUP($R1165,TAXONOMY!$A$1:$H$959,2,FALSE))","v":""}]
[null,null,null,null,null,null,null,null,null,null,null,{"$f":"IF(ISBLANK($R1166)=TRUE,\"\",VLOOKUP($R1166,TAXONOMY!$A$1:$G$959,7,FALSE))","v":""},{"$f":"IF(ISBLANK($R1166)=TRUE,\"\",VLOOKUP($R1166,TAXONOMY!$A$1:$G$959,6,FALSE))","v":""},{"$f":"IF(ISBLANK($R1166)=TRUE,\"\",VLOOKUP($R1166,TAXONOMY!$A$1:$G$959,5,FALSE))","v":""},{"$f":"IF(ISBLANK($R1166)=TRUE,\"\",VLOOKUP($R1166,TAXONOMY!$A$1:$G$959,4,FALSE))","v":""},{"$f":"IF(ISBLANK($R1166)=TRUE,\"\",VLOOKUP($R1166,TAXONOMY!$A$1:$G$959,3,FALSE))","v":""},{"$f":"IF(ISBLANK($R1166)=TRUE,\"\",VLOOKUP($R1166,TAXONOMY!$A$1:$H$959,2,FALSE))","v":""}]
[null,null,null,null,null,null,null,null,null,null,null,{"$f":"IF(ISBLANK($R1167)=TRUE,\"\",VLOOKUP($R1167,TAXONOMY!$A$1:$G$959,7,FALSE))","v":""},{"$f":"IF(ISBLANK($R1167)=TRUE,\"\",VLOOKUP($R1167,TAXONOMY!$A$1:$G$959,6,FALSE))","v":""},{"$f":"IF(ISBLANK($R1167)=TRUE,\"\",VLOOKUP($R1167,TAXONOMY!$A$1:$G$959,5,FALSE))","v":""},{"$f":"IF(ISBLANK($R1167)=TRUE,\"\",VLOOKUP($R1167,TAXONOMY!$A$1:$G$959,4,FALSE))","v":""},{"$f":"IF(ISBLANK($R1167)=TRUE,\"\",VLOOKUP($R1167,TAXONOMY!$A$1:$G$959,3,FALSE))","v":""},{"$f":"IF(ISBLANK($R1167)=TRUE,\"\",VLOOKUP($R1167,TAXONOMY!$A$1:$H$959,2,FALSE))","v":""}]
[null,null,null,null,null,null,null,null,null,null,null,{"$f":"IF(ISBLANK($R1168)=TRUE,\"\",VLOOKUP($R1168,TAXONOMY!$A$1:$G$959,7,FALSE))","v":""},{"$f":"IF(ISBLANK($R1168)=TRUE,\"\",VLOOKUP($R1168,TAXONOMY!$A$1:$G$959,6,FALSE))","v":""},{"$f":"IF(ISBLANK($R1168)=TRUE,\"\",VLOOKUP($R1168,TAXONOMY!$A$1:$G$959,5,FALSE))","v":""},{"$f":"IF(ISBLANK($R1168)=TRUE,\"\",VLOOKUP($R1168,TAXONOMY!$A$1:$G$959,4,FALSE))","v":""},{"$f":"IF(ISBLANK($R1168)=TRUE,\"\",VLOOKUP($R1168,TAXONOMY!$A$1:$G$959,3,FALSE))","v":""},{"$f":"IF(ISBLANK($R1168)=TRUE,\"\",VLOOKUP($R1168,TAXONOMY!$A$1:$H$959,2,FALSE))","v":""}]
[null,null,null,null,null,null,null,null,null,null,null,{"$f":"IF(ISBLANK($R1169)=TRUE,\"\",VLOOKUP($R1169,TAXONOMY!$A$1:$G$959,7,FALSE))","v":""},{"$f":"IF(ISBLANK($R1169)=TRUE,\"\",VLOOKUP($R1169,TAXONOMY!$A$1:$G$959,6,FALSE))","v":""},{"$f":"IF(ISBLANK($R1169)=TRUE,\"\",VLOOKUP($R1169,TAXONOMY!$A$1:$G$959,5,FALSE))","v":""},{"$f":"IF(ISBLANK($R1169)=TRUE,\"\",VLOOKUP($R1169,TAXONOMY!$A$1:$G$959,4,FALSE))","v":""},{"$f":"IF(ISBLANK($R1169)=TRUE,\"\",VLOOKUP($R1169,TAXONOMY!$A$1:$G$959,3,FALSE))","v":""},{"$f":"IF(ISBLANK($R1169)=TRUE,\"\",VLOOKUP($R1169,TAXONOMY!$A$1:$H$959,2,FALSE))","v":""}]
[null,null,null,null,null,null,null,null,null,null,null,{"$f":"IF(ISBLANK($R1170)=TRUE,\"\",VLOOKUP($R1170,TAXONOMY!$A$1:$G$959,7,FALSE))","v":""},{"$f":"IF(ISBLANK($R1170)=TRUE,\"\",VLOOKUP($R1170,TAXONOMY!$A$1:$G$959,6,FALSE))","v":""},{"$f":"IF(ISBLANK($R1170)=TRUE,\"\",VLOOKUP($R1170,TAXONOMY!$A$1:$G$959,5,FALSE))","v":""},{"$f":"IF(ISBLANK($R1170)=TRUE,\"\",VLOOKUP($R1170,TAXONOMY!$A$1:$G$959,4,FALSE))","v":""},{"$f":"IF(ISBLANK($R1170)=TRUE,\"\",VLOOKUP($R1170,TAXONOMY!$A$1:$G$959,3,FALSE))","v":""},{"$f":"IF(ISBLANK($R1170)=TRUE,\"\",VLOOKUP($R1170,TAXONOMY!$A$1:$H$959,2,FALSE))","v":""}]
[null,null,null,null,null,null,null,null,null,null,null,{"$f":"IF(ISBLANK($R1171)=TRUE,\"\",VLOOKUP($R1171,TAXONOMY!$A$1:$G$959,7,FALSE))","v":""},{"$f":"IF(ISBLANK($R1171)=TRUE,\"\",VLOOKUP($R1171,TAXONOMY!$A$1:$G$959,6,FALSE))","v":""},{"$f":"IF(ISBLANK($R1171)=TRUE,\"\",VLOOKUP($R1171,TAXONOMY!$A$1:$G$959,5,FALSE))","v":""},{"$f":"IF(ISBLANK($R1171)=TRUE,\"\",VLOOKUP($R1171,TAXONOMY!$A$1:$G$959,4,FALSE))","v":""},{"$f":"IF(ISBLANK($R1171)=TRUE,\"\",VLOOKUP($R1171,TAXONOMY!$A$1:$G$959,3,FALSE))","v":""},{"$f":"IF(ISBLANK($R1171)=TRUE,\"\",VLOOKUP($R1171,TAXONOMY!$A$1:$H$959,2,FALSE))","v":""}]
[null,null,null,null,null,null,null,null,null,null,null,{"$f":"IF(ISBLANK($R1172)=TRUE,\"\",VLOOKUP($R1172,TAXONOMY!$A$1:$G$959,7,FALSE))","v":""},{"$f":"IF(ISBLANK($R1172)=TRUE,\"\",VLOOKUP($R1172,TAXONOMY!$A$1:$G$959,6,FALSE))","v":""},{"$f":"IF(ISBLANK($R1172)=TRUE,\"\",VLOOKUP($R1172,TAXONOMY!$A$1:$G$959,5,FALSE))","v":""},{"$f":"IF(ISBLANK($R1172)=TRUE,\"\",VLOOKUP($R1172,TAXONOMY!$A$1:$G$959,4,FALSE))","v":""},{"$f":"IF(ISBLANK($R1172)=TRUE,\"\",VLOOKUP($R1172,TAXONOMY!$A$1:$G$959,3,FALSE))","v":""},{"$f":"IF(ISBLANK($R1172)=TRUE,\"\",VLOOKUP($R1172,TAXONOMY!$A$1:$H$959,2,FALSE))","v":""}]
[null,null,null,null,null,null,null,null,null,null,null,{"$f":"IF(ISBLANK($R1173)=TRUE,\"\",VLOOKUP($R1173,TAXONOMY!$A$1:$G$959,7,FALSE))","v":""},{"$f":"IF(ISBLANK($R1173)=TRUE,\"\",VLOOKUP($R1173,TAXONOMY!$A$1:$G$959,6,FALSE))","v":""},{"$f":"IF(ISBLANK($R1173)=TRUE,\"\",VLOOKUP($R1173,TAXONOMY!$A$1:$G$959,5,FALSE))","v":""},{"$f":"IF(ISBLANK($R1173)=TRUE,\"\",VLOOKUP($R1173,TAXONOMY!$A$1:$G$959,4,FALSE))","v":""},{"$f":"IF(ISBLANK($R1173)=TRUE,\"\",VLOOKUP($R1173,TAXONOMY!$A$1:$G$959,3,FALSE))","v":""},{"$f":"IF(ISBLANK($R1173)=TRUE,\"\",VLOOKUP($R1173,TAXONOMY!$A$1:$H$959,2,FALSE))","v":""}]
[null,null,null,null,null,null,null,null,null,null,null,{"$f":"IF(ISBLANK($R1174)=TRUE,\"\",VLOOKUP($R1174,TAXONOMY!$A$1:$G$959,7,FALSE))","v":""},{"$f":"IF(ISBLANK($R1174)=TRUE,\"\",VLOOKUP($R1174,TAXONOMY!$A$1:$G$959,6,FALSE))","v":""},{"$f":"IF(ISBLANK($R1174)=TRUE,\"\",VLOOKUP($R1174,TAXONOMY!$A$1:$G$959,5,FALSE))","v":""},{"$f":"IF(ISBLANK($R1174)=TRUE,\"\",VLOOKUP($R1174,TAXONOMY!$A$1:$G$959,4,FALSE))","v":""},{"$f":"IF(ISBLANK($R1174)=TRUE,\"\",VLOOKUP($R1174,TAXONOMY!$A$1:$G$959,3,FALSE))","v":""},{"$f":"IF(ISBLANK($R1174)=TRUE,\"\",VLOOKUP($R1174,TAXONOMY!$A$1:$H$959,2,FALSE))","v":""}]
[null,null,null,null,null,null,null,null,null,null,null,{"$f":"IF(ISBLANK($R1175)=TRUE,\"\",VLOOKUP($R1175,TAXONOMY!$A$1:$G$959,7,FALSE))","v":""},{"$f":"IF(ISBLANK($R1175)=TRUE,\"\",VLOOKUP($R1175,TAXONOMY!$A$1:$G$959,6,FALSE))","v":""},{"$f":"IF(ISBLANK($R1175)=TRUE,\"\",VLOOKUP($R1175,TAXONOMY!$A$1:$G$959,5,FALSE))","v":""},{"$f":"IF(ISBLANK($R1175)=TRUE,\"\",VLOOKUP($R1175,TAXONOMY!$A$1:$G$959,4,FALSE))","v":""},{"$f":"IF(ISBLANK($R1175)=TRUE,\"\",VLOOKUP($R1175,TAXONOMY!$A$1:$G$959,3,FALSE))","v":""},{"$f":"IF(ISBLANK($R1175)=TRUE,\"\",VLOOKUP($R1175,TAXONOMY!$A$1:$H$959,2,FALSE))","v":""}]
[null,null,null,null,null,null,null,null,null,null,null,{"$f":"IF(ISBLANK($R1176)=TRUE,\"\",VLOOKUP($R1176,TAXONOMY!$A$1:$G$959,7,FALSE))","v":""},{"$f":"IF(ISBLANK($R1176)=TRUE,\"\",VLOOKUP($R1176,TAXONOMY!$A$1:$G$959,6,FALSE))","v":""},{"$f":"IF(ISBLANK($R1176)=TRUE,\"\",VLOOKUP($R1176,TAXONOMY!$A$1:$G$959,5,FALSE))","v":""},{"$f":"IF(ISBLANK($R1176)=TRUE,\"\",VLOOKUP($R1176,TAXONOMY!$A$1:$G$959,4,FALSE))","v":""},{"$f":"IF(ISBLANK($R1176)=TRUE,\"\",VLOOKUP($R1176,TAXONOMY!$A$1:$G$959,3,FALSE))","v":""},{"$f":"IF(ISBLANK($R1176)=TRUE,\"\",VLOOKUP($R1176,TAXONOMY!$A$1:$H$959,2,FALSE))","v":""}]
[null,null,null,null,null,null,null,null,null,null,null,{"$f":"IF(ISBLANK($R1177)=TRUE,\"\",VLOOKUP($R1177,TAXONOMY!$A$1:$G$959,7,FALSE))","v":""},{"$f":"IF(ISBLANK($R1177)=TRUE,\"\",VLOOKUP($R1177,TAXONOMY!$A$1:$G$959,6,FALSE))","v":""},{"$f":"IF(ISBLANK($R1177)=TRUE,\"\",VLOOKUP($R1177,TAXONOMY!$A$1:$G$959,5,FALSE))","v":""},{"$f":"IF(ISBLANK($R1177)=TRUE,\"\",VLOOKUP($R1177,TAXONOMY!$A$1:$G$959,4,FALSE))","v":""},{"$f":"IF(ISBLANK($R1177)=TRUE,\"\",VLOOKUP($R1177,TAXONOMY!$A$1:$G$959,3,FALSE))","v":""},{"$f":"IF(ISBLANK($R1177)=TRUE,\"\",VLOOKUP($R1177,TAXONOMY!$A$1:$H$959,2,FALSE))","v":""}]
[null,null,null,null,null,null,null,null,null,null,null,{"$f":"IF(ISBLANK($R1178)=TRUE,\"\",VLOOKUP($R1178,TAXONOMY!$A$1:$G$959,7,FALSE))","v":""},{"$f":"IF(ISBLANK($R1178)=TRUE,\"\",VLOOKUP($R1178,TAXONOMY!$A$1:$G$959,6,FALSE))","v":""},{"$f":"IF(ISBLANK($R1178)=TRUE,\"\",VLOOKUP($R1178,TAXONOMY!$A$1:$G$959,5,FALSE))","v":""},{"$f":"IF(ISBLANK($R1178)=TRUE,\"\",VLOOKUP($R1178,TAXONOMY!$A$1:$G$959,4,FALSE))","v":""},{"$f":"IF(ISBLANK($R1178)=TRUE,\"\",VLOOKUP($R1178,TAXONOMY!$A$1:$G$959,3,FALSE))","v":""},{"$f":"IF(ISBLANK($R1178)=TRUE,\"\",VLOOKUP($R1178,TAXONOMY!$A$1:$H$959,2,FALSE))","v":""}]
[null,null,null,null,null,null,null,null,null,null,null,{"$f":"IF(ISBLANK($R1179)=TRUE,\"\",VLOOKUP($R1179,TAXONOMY!$A$1:$G$959,7,FALSE))","v":""},{"$f":"IF(ISBLANK($R1179)=TRUE,\"\",VLOOKUP($R1179,TAXONOMY!$A$1:$G$959,6,FALSE))","v":""},{"$f":"IF(ISBLANK($R1179)=TRUE,\"\",VLOOKUP($R1179,TAXONOMY!$A$1:$G$959,5,FALSE))","v":""},{"$f":"IF(ISBLANK($R1179)=TRUE,\"\",VLOOKUP($R1179,TAXONOMY!$A$1:$G$959,4,FALSE))","v":""},{"$f":"IF(ISBLANK($R1179)=TRUE,\"\",VLOOKUP($R1179,TAXONOMY!$A$1:$G$959,3,FALSE))","v":""},{"$f":"IF(ISBLANK($R1179)=TRUE,\"\",VLOOKUP($R1179,TAXONOMY!$A$1:$H$959,2,FALSE))","v":""}]
[null,null,null,null,null,null,null,null,null,null,null,{"$f":"IF(ISBLANK($R1180)=TRUE,\"\",VLOOKUP($R1180,TAXONOMY!$A$1:$G$959,7,FALSE))","v":""},{"$f":"IF(ISBLANK($R1180)=TRUE,\"\",VLOOKUP($R1180,TAXONOMY!$A$1:$G$959,6,FALSE))","v":""},{"$f":"IF(ISBLANK($R1180)=TRUE,\"\",VLOOKUP($R1180,TAXONOMY!$A$1:$G$959,5,FALSE))","v":""},{"$f":"IF(ISBLANK($R1180)=TRUE,\"\",VLOOKUP($R1180,TAXONOMY!$A$1:$G$959,4,FALSE))","v":""},{"$f":"IF(ISBLANK($R1180)=TRUE,\"\",VLOOKUP($R1180,TAXONOMY!$A$1:$G$959,3,FALSE))","v":""},{"$f":"IF(ISBLANK($R1180)=TRUE,\"\",VLOOKUP($R1180,TAXONOMY!$A$1:$H$959,2,FALSE))","v":""}]
[null,null,null,null,null,null,null,null,null,null,null,{"$f":"IF(ISBLANK($R1181)=TRUE,\"\",VLOOKUP($R1181,TAXONOMY!$A$1:$G$959,7,FALSE))","v":""},{"$f":"IF(ISBLANK($R1181)=TRUE,\"\",VLOOKUP($R1181,TAXONOMY!$A$1:$G$959,6,FALSE))","v":""},{"$f":"IF(ISBLANK($R1181)=TRUE,\"\",VLOOKUP($R1181,TAXONOMY!$A$1:$G$959,5,FALSE))","v":""},{"$f":"IF(ISBLANK($R1181)=TRUE,\"\",VLOOKUP($R1181,TAXONOMY!$A$1:$G$959,4,FALSE))","v":""},{"$f":"IF(ISBLANK($R1181)=TRUE,\"\",VLOOKUP($R1181,TAXONOMY!$A$1:$G$959,3,FALSE))","v":""},{"$f":"IF(ISBLANK($R1181)=TRUE,\"\",VLOOKUP($R1181,TAXONOMY!$A$1:$H$959,2,FALSE))","v":""}]
[null,null,null,null,null,null,null,null,null,null,null,{"$f":"IF(ISBLANK($R1182)=TRUE,\"\",VLOOKUP($R1182,TAXONOMY!$A$1:$G$959,7,FALSE))","v":""},{"$f":"IF(ISBLANK($R1182)=TRUE,\"\",VLOOKUP($R1182,TAXONOMY!$A$1:$G$959,6,FALSE))","v":""},{"$f":"IF(ISBLANK($R1182)=TRUE,\"\",VLOOKUP($R1182,TAXONOMY!$A$1:$G$959,5,FALSE))","v":""},{"$f":"IF(ISBLANK($R1182)=TRUE,\"\",VLOOKUP($R1182,TAXONOMY!$A$1:$G$959,4,FALSE))","v":""},{"$f":"IF(ISBLANK($R1182)=TRUE,\"\",VLOOKUP($R1182,TAXONOMY!$A$1:$G$959,3,FALSE))","v":""},{"$f":"IF(ISBLANK($R1182)=TRUE,\"\",VLOOKUP($R1182,TAXONOMY!$A$1:$H$959,2,FALSE))","v":""}]
[null,null,null,null,null,null,null,null,null,null,null,{"$f":"IF(ISBLANK($R1183)=TRUE,\"\",VLOOKUP($R1183,TAXONOMY!$A$1:$G$959,7,FALSE))","v":""},{"$f":"IF(ISBLANK($R1183)=TRUE,\"\",VLOOKUP($R1183,TAXONOMY!$A$1:$G$959,6,FALSE))","v":""},{"$f":"IF(ISBLANK($R1183)=TRUE,\"\",VLOOKUP($R1183,TAXONOMY!$A$1:$G$959,5,FALSE))","v":""},{"$f":"IF(ISBLANK($R1183)=TRUE,\"\",VLOOKUP($R1183,TAXONOMY!$A$1:$G$959,4,FALSE))","v":""},{"$f":"IF(ISBLANK($R1183)=TRUE,\"\",VLOOKUP($R1183,TAXONOMY!$A$1:$G$959,3,FALSE))","v":""},{"$f":"IF(ISBLANK($R1183)=TRUE,\"\",VLOOKUP($R1183,TAXONOMY!$A$1:$H$959,2,FALSE))","v":""}]
[null,null,null,null,null,null,null,null,null,null,null,{"$f":"IF(ISBLANK($R1184)=TRUE,\"\",VLOOKUP($R1184,TAXONOMY!$A$1:$G$959,7,FALSE))","v":""},{"$f":"IF(ISBLANK($R1184)=TRUE,\"\",VLOOKUP($R1184,TAXONOMY!$A$1:$G$959,6,FALSE))","v":""},{"$f":"IF(ISBLANK($R1184)=TRUE,\"\",VLOOKUP($R1184,TAXONOMY!$A$1:$G$959,5,FALSE))","v":""},{"$f":"IF(ISBLANK($R1184)=TRUE,\"\",VLOOKUP($R1184,TAXONOMY!$A$1:$G$959,4,FALSE))","v":""},{"$f":"IF(ISBLANK($R1184)=TRUE,\"\",VLOOKUP($R1184,TAXONOMY!$A$1:$G$959,3,FALSE))","v":""},{"$f":"IF(ISBLANK($R1184)=TRUE,\"\",VLOOKUP($R1184,TAXONOMY!$A$1:$H$959,2,FALSE))","v":""}]
[null,null,null,null,null,null,null,null,null,null,null,{"$f":"IF(ISBLANK($R1185)=TRUE,\"\",VLOOKUP($R1185,TAXONOMY!$A$1:$G$959,7,FALSE))","v":""},{"$f":"IF(ISBLANK($R1185)=TRUE,\"\",VLOOKUP($R1185,TAXONOMY!$A$1:$G$959,6,FALSE))","v":""},{"$f":"IF(ISBLANK($R1185)=TRUE,\"\",VLOOKUP($R1185,TAXONOMY!$A$1:$G$959,5,FALSE))","v":""},{"$f":"IF(ISBLANK($R1185)=TRUE,\"\",VLOOKUP($R1185,TAXONOMY!$A$1:$G$959,4,FALSE))","v":""},{"$f":"IF(ISBLANK($R1185)=TRUE,\"\",VLOOKUP($R1185,TAXONOMY!$A$1:$G$959,3,FALSE))","v":""},{"$f":"IF(ISBLANK($R1185)=TRUE,\"\",VLOOKUP($R1185,TAXONOMY!$A$1:$H$959,2,FALSE))","v":""}]
[null,null,null,null,null,null,null,null,null,null,null,{"$f":"IF(ISBLANK($R1186)=TRUE,\"\",VLOOKUP($R1186,TAXONOMY!$A$1:$G$959,7,FALSE))","v":""},{"$f":"IF(ISBLANK($R1186)=TRUE,\"\",VLOOKUP($R1186,TAXONOMY!$A$1:$G$959,6,FALSE))","v":""},{"$f":"IF(ISBLANK($R1186)=TRUE,\"\",VLOOKUP($R1186,TAXONOMY!$A$1:$G$959,5,FALSE))","v":""},{"$f":"IF(ISBLANK($R1186)=TRUE,\"\",VLOOKUP($R1186,TAXONOMY!$A$1:$G$959,4,FALSE))","v":""},{"$f":"IF(ISBLANK($R1186)=TRUE,\"\",VLOOKUP($R1186,TAXONOMY!$A$1:$G$959,3,FALSE))","v":""},{"$f":"IF(ISBLANK($R1186)=TRUE,\"\",VLOOKUP($R1186,TAXONOMY!$A$1:$H$959,2,FALSE))","v":""}]
[null,null,null,null,null,null,null,null,null,null,null,{"$f":"IF(ISBLANK($R1187)=TRUE,\"\",VLOOKUP($R1187,TAXONOMY!$A$1:$G$959,7,FALSE))","v":""},{"$f":"IF(ISBLANK($R1187)=TRUE,\"\",VLOOKUP($R1187,TAXONOMY!$A$1:$G$959,6,FALSE))","v":""},{"$f":"IF(ISBLANK($R1187)=TRUE,\"\",VLOOKUP($R1187,TAXONOMY!$A$1:$G$959,5,FALSE))","v":""},{"$f":"IF(ISBLANK($R1187)=TRUE,\"\",VLOOKUP($R1187,TAXONOMY!$A$1:$G$959,4,FALSE))","v":""},{"$f":"IF(ISBLANK($R1187)=TRUE,\"\",VLOOKUP($R1187,TAXONOMY!$A$1:$G$959,3,FALSE))","v":""},{"$f":"IF(ISBLANK($R1187)=TRUE,\"\",VLOOKUP($R1187,TAXONOMY!$A$1:$H$959,2,FALSE))","v":""}]
[null,null,null,null,null,null,null,null,null,null,null,{"$f":"IF(ISBLANK($R1188)=TRUE,\"\",VLOOKUP($R1188,TAXONOMY!$A$1:$G$959,7,FALSE))","v":""},{"$f":"IF(ISBLANK($R1188)=TRUE,\"\",VLOOKUP($R1188,TAXONOMY!$A$1:$G$959,6,FALSE))","v":""},{"$f":"IF(ISBLANK($R1188)=TRUE,\"\",VLOOKUP($R1188,TAXONOMY!$A$1:$G$959,5,FALSE))","v":""},{"$f":"IF(ISBLANK($R1188)=TRUE,\"\",VLOOKUP($R1188,TAXONOMY!$A$1:$G$959,4,FALSE))","v":""},{"$f":"IF(ISBLANK($R1188)=TRUE,\"\",VLOOKUP($R1188,TAXONOMY!$A$1:$G$959,3,FALSE))","v":""},{"$f":"IF(ISBLANK($R1188)=TRUE,\"\",VLOOKUP($R1188,TAXONOMY!$A$1:$H$959,2,FALSE))","v":""}]
[null,null,null,null,null,null,null,null,null,null,null,{"$f":"IF(ISBLANK($R1189)=TRUE,\"\",VLOOKUP($R1189,TAXONOMY!$A$1:$G$959,7,FALSE))","v":""},{"$f":"IF(ISBLANK($R1189)=TRUE,\"\",VLOOKUP($R1189,TAXONOMY!$A$1:$G$959,6,FALSE))","v":""},{"$f":"IF(ISBLANK($R1189)=TRUE,\"\",VLOOKUP($R1189,TAXONOMY!$A$1:$G$959,5,FALSE))","v":""},{"$f":"IF(ISBLANK($R1189)=TRUE,\"\",VLOOKUP($R1189,TAXONOMY!$A$1:$G$959,4,FALSE))","v":""},{"$f":"IF(ISBLANK($R1189)=TRUE,\"\",VLOOKUP($R1189,TAXONOMY!$A$1:$G$959,3,FALSE))","v":""},{"$f":"IF(ISBLANK($R1189)=TRUE,\"\",VLOOKUP($R1189,TAXONOMY!$A$1:$H$959,2,FALSE))","v":""}]
[null,null,null,null,null,null,null,null,null,null,null,{"$f":"IF(ISBLANK($R1190)=TRUE,\"\",VLOOKUP($R1190,TAXONOMY!$A$1:$G$959,7,FALSE))","v":""},{"$f":"IF(ISBLANK($R1190)=TRUE,\"\",VLOOKUP($R1190,TAXONOMY!$A$1:$G$959,6,FALSE))","v":""},{"$f":"IF(ISBLANK($R1190)=TRUE,\"\",VLOOKUP($R1190,TAXONOMY!$A$1:$G$959,5,FALSE))","v":""},{"$f":"IF(ISBLANK($R1190)=TRUE,\"\",VLOOKUP($R1190,TAXONOMY!$A$1:$G$959,4,FALSE))","v":""},{"$f":"IF(ISBLANK($R1190)=TRUE,\"\",VLOOKUP($R1190,TAXONOMY!$A$1:$G$959,3,FALSE))","v":""},{"$f":"IF(ISBLANK($R1190)=TRUE,\"\",VLOOKUP($R1190,TAXONOMY!$A$1:$H$959,2,FALSE))","v":""}]
[null,null,null,null,null,null,null,null,null,null,null,{"$f":"IF(ISBLANK($R1191)=TRUE,\"\",VLOOKUP($R1191,TAXONOMY!$A$1:$G$959,7,FALSE))","v":""},{"$f":"IF(ISBLANK($R1191)=TRUE,\"\",VLOOKUP($R1191,TAXONOMY!$A$1:$G$959,6,FALSE))","v":""},{"$f":"IF(ISBLANK($R1191)=TRUE,\"\",VLOOKUP($R1191,TAXONOMY!$A$1:$G$959,5,FALSE))","v":""},{"$f":"IF(ISBLANK($R1191)=TRUE,\"\",VLOOKUP($R1191,TAXONOMY!$A$1:$G$959,4,FALSE))","v":""},{"$f":"IF(ISBLANK($R1191)=TRUE,\"\",VLOOKUP($R1191,TAXONOMY!$A$1:$G$959,3,FALSE))","v":""},{"$f":"IF(ISBLANK($R1191)=TRUE,\"\",VLOOKUP($R1191,TAXONOMY!$A$1:$H$959,2,FALSE))","v":""}]
[null,null,null,null,null,null,null,null,null,null,null,{"$f":"IF(ISBLANK($R1192)=TRUE,\"\",VLOOKUP($R1192,TAXONOMY!$A$1:$G$959,7,FALSE))","v":""},{"$f":"IF(ISBLANK($R1192)=TRUE,\"\",VLOOKUP($R1192,TAXONOMY!$A$1:$G$959,6,FALSE))","v":""},{"$f":"IF(ISBLANK($R1192)=TRUE,\"\",VLOOKUP($R1192,TAXONOMY!$A$1:$G$959,5,FALSE))","v":""},{"$f":"IF(ISBLANK($R1192)=TRUE,\"\",VLOOKUP($R1192,TAXONOMY!$A$1:$G$959,4,FALSE))","v":""},{"$f":"IF(ISBLANK($R1192)=TRUE,\"\",VLOOKUP($R1192,TAXONOMY!$A$1:$G$959,3,FALSE))","v":""},{"$f":"IF(ISBLANK($R1192)=TRUE,\"\",VLOOKUP($R1192,TAXONOMY!$A$1:$H$959,2,FALSE))","v":""}]
[null,null,null,null,null,null,null,null,null,null,null,{"$f":"IF(ISBLANK($R1193)=TRUE,\"\",VLOOKUP($R1193,TAXONOMY!$A$1:$G$959,7,FALSE))","v":""},{"$f":"IF(ISBLANK($R1193)=TRUE,\"\",VLOOKUP($R1193,TAXONOMY!$A$1:$G$959,6,FALSE))","v":""},{"$f":"IF(ISBLANK($R1193)=TRUE,\"\",VLOOKUP($R1193,TAXONOMY!$A$1:$G$959,5,FALSE))","v":""},{"$f":"IF(ISBLANK($R1193)=TRUE,\"\",VLOOKUP($R1193,TAXONOMY!$A$1:$G$959,4,FALSE))","v":""},{"$f":"IF(ISBLANK($R1193)=TRUE,\"\",VLOOKUP($R1193,TAXONOMY!$A$1:$G$959,3,FALSE))","v":""},{"$f":"IF(ISBLANK($R1193)=TRUE,\"\",VLOOKUP($R1193,TAXONOMY!$A$1:$H$959,2,FALSE))","v":""}]
[null,null,null,null,null,null,null,null,null,null,null,{"$f":"IF(ISBLANK($R1194)=TRUE,\"\",VLOOKUP($R1194,TAXONOMY!$A$1:$G$959,7,FALSE))","v":""},{"$f":"IF(ISBLANK($R1194)=TRUE,\"\",VLOOKUP($R1194,TAXONOMY!$A$1:$G$959,6,FALSE))","v":""},{"$f":"IF(ISBLANK($R1194)=TRUE,\"\",VLOOKUP($R1194,TAXONOMY!$A$1:$G$959,5,FALSE))","v":""},{"$f":"IF(ISBLANK($R1194)=TRUE,\"\",VLOOKUP($R1194,TAXONOMY!$A$1:$G$959,4,FALSE))","v":""},{"$f":"IF(ISBLANK($R1194)=TRUE,\"\",VLOOKUP($R1194,TAXONOMY!$A$1:$G$959,3,FALSE))","v":""},{"$f":"IF(ISBLANK($R1194)=TRUE,\"\",VLOOKUP($R1194,TAXONOMY!$A$1:$H$959,2,FALSE))","v":""}]
[null,null,null,null,null,null,null,null,null,null,null,{"$f":"IF(ISBLANK($R1195)=TRUE,\"\",VLOOKUP($R1195,TAXONOMY!$A$1:$G$959,7,FALSE))","v":""},{"$f":"IF(ISBLANK($R1195)=TRUE,\"\",VLOOKUP($R1195,TAXONOMY!$A$1:$G$959,6,FALSE))","v":""},{"$f":"IF(ISBLANK($R1195)=TRUE,\"\",VLOOKUP($R1195,TAXONOMY!$A$1:$G$959,5,FALSE))","v":""},{"$f":"IF(ISBLANK($R1195)=TRUE,\"\",VLOOKUP($R1195,TAXONOMY!$A$1:$G$959,4,FALSE))","v":""},{"$f":"IF(ISBLANK($R1195)=TRUE,\"\",VLOOKUP($R1195,TAXONOMY!$A$1:$G$959,3,FALSE))","v":""},{"$f":"IF(ISBLANK($R1195)=TRUE,\"\",VLOOKUP($R1195,TAXONOMY!$A$1:$H$959,2,FALSE))","v":""}]
[null,null,null,null,null,null,null,null,null,null,null,{"$f":"IF(ISBLANK($R1196)=TRUE,\"\",VLOOKUP($R1196,TAXONOMY!$A$1:$G$959,7,FALSE))","v":""},{"$f":"IF(ISBLANK($R1196)=TRUE,\"\",VLOOKUP($R1196,TAXONOMY!$A$1:$G$959,6,FALSE))","v":""},{"$f":"IF(ISBLANK($R1196)=TRUE,\"\",VLOOKUP($R1196,TAXONOMY!$A$1:$G$959,5,FALSE))","v":""},{"$f":"IF(ISBLANK($R1196)=TRUE,\"\",VLOOKUP($R1196,TAXONOMY!$A$1:$G$959,4,FALSE))","v":""},{"$f":"IF(ISBLANK($R1196)=TRUE,\"\",VLOOKUP($R1196,TAXONOMY!$A$1:$G$959,3,FALSE))","v":""},{"$f":"IF(ISBLANK($R1196)=TRUE,\"\",VLOOKUP($R1196,TAXONOMY!$A$1:$H$959,2,FALSE))","v":""}]
[null,null,null,null,null,null,null,null,null,null,null,{"$f":"IF(ISBLANK($R1197)=TRUE,\"\",VLOOKUP($R1197,TAXONOMY!$A$1:$G$959,7,FALSE))","v":""},{"$f":"IF(ISBLANK($R1197)=TRUE,\"\",VLOOKUP($R1197,TAXONOMY!$A$1:$G$959,6,FALSE))","v":""},{"$f":"IF(ISBLANK($R1197)=TRUE,\"\",VLOOKUP($R1197,TAXONOMY!$A$1:$G$959,5,FALSE))","v":""},{"$f":"IF(ISBLANK($R1197)=TRUE,\"\",VLOOKUP($R1197,TAXONOMY!$A$1:$G$959,4,FALSE))","v":""},{"$f":"IF(ISBLANK($R1197)=TRUE,\"\",VLOOKUP($R1197,TAXONOMY!$A$1:$G$959,3,FALSE))","v":""},{"$f":"IF(ISBLANK($R1197)=TRUE,\"\",VLOOKUP($R1197,TAXONOMY!$A$1:$H$959,2,FALSE))","v":""}]
[null,null,null,null,null,null,null,null,null,null,null,{"$f":"IF(ISBLANK($R1198)=TRUE,\"\",VLOOKUP($R1198,TAXONOMY!$A$1:$G$959,7,FALSE))","v":""},{"$f":"IF(ISBLANK($R1198)=TRUE,\"\",VLOOKUP($R1198,TAXONOMY!$A$1:$G$959,6,FALSE))","v":""},{"$f":"IF(ISBLANK($R1198)=TRUE,\"\",VLOOKUP($R1198,TAXONOMY!$A$1:$G$959,5,FALSE))","v":""},{"$f":"IF(ISBLANK($R1198)=TRUE,\"\",VLOOKUP($R1198,TAXONOMY!$A$1:$G$959,4,FALSE))","v":""},{"$f":"IF(ISBLANK($R1198)=TRUE,\"\",VLOOKUP($R1198,TAXONOMY!$A$1:$G$959,3,FALSE))","v":""},{"$f":"IF(ISBLANK($R1198)=TRUE,\"\",VLOOKUP($R1198,TAXONOMY!$A$1:$H$959,2,FALSE))","v":""}]
[null,null,null,null,null,null,null,null,null,null,null,{"$f":"IF(ISBLANK($R1199)=TRUE,\"\",VLOOKUP($R1199,TAXONOMY!$A$1:$G$959,7,FALSE))","v":""},{"$f":"IF(ISBLANK($R1199)=TRUE,\"\",VLOOKUP($R1199,TAXONOMY!$A$1:$G$959,6,FALSE))","v":""},{"$f":"IF(ISBLANK($R1199)=TRUE,\"\",VLOOKUP($R1199,TAXONOMY!$A$1:$G$959,5,FALSE))","v":""},{"$f":"IF(ISBLANK($R1199)=TRUE,\"\",VLOOKUP($R1199,TAXONOMY!$A$1:$G$959,4,FALSE))","v":""},{"$f":"IF(ISBLANK($R1199)=TRUE,\"\",VLOOKUP($R1199,TAXONOMY!$A$1:$G$959,3,FALSE))","v":""},{"$f":"IF(ISBLANK($R1199)=TRUE,\"\",VLOOKUP($R1199,TAXONOMY!$A$1:$H$959,2,FALSE))","v":""}]
[null,null,null,null,null,null,null,null,null,null,null,{"$f":"IF(ISBLANK($R1200)=TRUE,\"\",VLOOKUP($R1200,TAXONOMY!$A$1:$G$959,7,FALSE))","v":""},{"$f":"IF(ISBLANK($R1200)=TRUE,\"\",VLOOKUP($R1200,TAXONOMY!$A$1:$G$959,6,FALSE))","v":""},{"$f":"IF(ISBLANK($R1200)=TRUE,\"\",VLOOKUP($R1200,TAXONOMY!$A$1:$G$959,5,FALSE))","v":""},{"$f":"IF(ISBLANK($R1200)=TRUE,\"\",VLOOKUP($R1200,TAXONOMY!$A$1:$G$959,4,FALSE))","v":""},{"$f":"IF(ISBLANK($R1200)=TRUE,\"\",VLOOKUP($R1200,TAXONOMY!$A$1:$G$959,3,FALSE))","v":""},{"$f":"IF(ISBLANK($R1200)=TRUE,\"\",VLOOKUP($R1200,TAXONOMY!$A$1:$H$959,2,FALSE))","v":""}]
[null,null,null,null,null,null,null,null,null,null,null,{"$f":"IF(ISBLANK($R1201)=TRUE,\"\",VLOOKUP($R1201,TAXONOMY!$A$1:$G$959,7,FALSE))","v":""},{"$f":"IF(ISBLANK($R1201)=TRUE,\"\",VLOOKUP($R1201,TAXONOMY!$A$1:$G$959,6,FALSE))","v":""},{"$f":"IF(ISBLANK($R1201)=TRUE,\"\",VLOOKUP($R1201,TAXONOMY!$A$1:$G$959,5,FALSE))","v":""},{"$f":"IF(ISBLANK($R1201)=TRUE,\"\",VLOOKUP($R1201,TAXONOMY!$A$1:$G$959,4,FALSE))","v":""},{"$f":"IF(ISBLANK($R1201)=TRUE,\"\",VLOOKUP($R1201,TAXONOMY!$A$1:$G$959,3,FALSE))","v":""},{"$f":"IF(ISBLANK($R1201)=TRUE,\"\",VLOOKUP($R1201,TAXONOMY!$A$1:$H$959,2,FALSE))","v":""}]
[null,null,null,null,null,null,null,null,null,null,null,{"$f":"IF(ISBLANK($R1202)=TRUE,\"\",VLOOKUP($R1202,TAXONOMY!$A$1:$G$959,7,FALSE))","v":""},{"$f":"IF(ISBLANK($R1202)=TRUE,\"\",VLOOKUP($R1202,TAXONOMY!$A$1:$G$959,6,FALSE))","v":""},{"$f":"IF(ISBLANK($R1202)=TRUE,\"\",VLOOKUP($R1202,TAXONOMY!$A$1:$G$959,5,FALSE))","v":""},{"$f":"IF(ISBLANK($R1202)=TRUE,\"\",VLOOKUP($R1202,TAXONOMY!$A$1:$G$959,4,FALSE))","v":""},{"$f":"IF(ISBLANK($R1202)=TRUE,\"\",VLOOKUP($R1202,TAXONOMY!$A$1:$G$959,3,FALSE))","v":""},{"$f":"IF(ISBLANK($R1202)=TRUE,\"\",VLOOKUP($R1202,TAXONOMY!$A$1:$H$959,2,FALSE))","v":""}]
[null,null,null,null,null,null,null,null,null,null,null,{"$f":"IF(ISBLANK($R1203)=TRUE,\"\",VLOOKUP($R1203,TAXONOMY!$A$1:$G$959,7,FALSE))","v":""},{"$f":"IF(ISBLANK($R1203)=TRUE,\"\",VLOOKUP($R1203,TAXONOMY!$A$1:$G$959,6,FALSE))","v":""},{"$f":"IF(ISBLANK($R1203)=TRUE,\"\",VLOOKUP($R1203,TAXONOMY!$A$1:$G$959,5,FALSE))","v":""},{"$f":"IF(ISBLANK($R1203)=TRUE,\"\",VLOOKUP($R1203,TAXONOMY!$A$1:$G$959,4,FALSE))","v":""},{"$f":"IF(ISBLANK($R1203)=TRUE,\"\",VLOOKUP($R1203,TAXONOMY!$A$1:$G$959,3,FALSE))","v":""},{"$f":"IF(ISBLANK($R1203)=TRUE,\"\",VLOOKUP($R1203,TAXONOMY!$A$1:$H$959,2,FALSE))","v":""}]
[null,null,null,null,null,null,null,null,null,null,null,{"$f":"IF(ISBLANK($R1204)=TRUE,\"\",VLOOKUP($R1204,TAXONOMY!$A$1:$G$959,7,FALSE))","v":""},{"$f":"IF(ISBLANK($R1204)=TRUE,\"\",VLOOKUP($R1204,TAXONOMY!$A$1:$G$959,6,FALSE))","v":""},{"$f":"IF(ISBLANK($R1204)=TRUE,\"\",VLOOKUP($R1204,TAXONOMY!$A$1:$G$959,5,FALSE))","v":""},{"$f":"IF(ISBLANK($R1204)=TRUE,\"\",VLOOKUP($R1204,TAXONOMY!$A$1:$G$959,4,FALSE))","v":""},{"$f":"IF(ISBLANK($R1204)=TRUE,\"\",VLOOKUP($R1204,TAXONOMY!$A$1:$G$959,3,FALSE))","v":""},{"$f":"IF(ISBLANK($R1204)=TRUE,\"\",VLOOKUP($R1204,TAXONOMY!$A$1:$H$959,2,FALSE))","v":""}]
[null,null,null,null,null,null,null,null,null,null,null,{"$f":"IF(ISBLANK($R1205)=TRUE,\"\",VLOOKUP($R1205,TAXONOMY!$A$1:$G$959,7,FALSE))","v":""},{"$f":"IF(ISBLANK($R1205)=TRUE,\"\",VLOOKUP($R1205,TAXONOMY!$A$1:$G$959,6,FALSE))","v":""},{"$f":"IF(ISBLANK($R1205)=TRUE,\"\",VLOOKUP($R1205,TAXONOMY!$A$1:$G$959,5,FALSE))","v":""},{"$f":"IF(ISBLANK($R1205)=TRUE,\"\",VLOOKUP($R1205,TAXONOMY!$A$1:$G$959,4,FALSE))","v":""},{"$f":"IF(ISBLANK($R1205)=TRUE,\"\",VLOOKUP($R1205,TAXONOMY!$A$1:$G$959,3,FALSE))","v":""},{"$f":"IF(ISBLANK($R1205)=TRUE,\"\",VLOOKUP($R1205,TAXONOMY!$A$1:$H$959,2,FALSE))","v":""}]
[null,null,null,null,null,null,null,null,null,null,null,{"$f":"IF(ISBLANK($R1206)=TRUE,\"\",VLOOKUP($R1206,TAXONOMY!$A$1:$G$959,7,FALSE))","v":""},{"$f":"IF(ISBLANK($R1206)=TRUE,\"\",VLOOKUP($R1206,TAXONOMY!$A$1:$G$959,6,FALSE))","v":""},{"$f":"IF(ISBLANK($R1206)=TRUE,\"\",VLOOKUP($R1206,TAXONOMY!$A$1:$G$959,5,FALSE))","v":""},{"$f":"IF(ISBLANK($R1206)=TRUE,\"\",VLOOKUP($R1206,TAXONOMY!$A$1:$G$959,4,FALSE))","v":""},{"$f":"IF(ISBLANK($R1206)=TRUE,\"\",VLOOKUP($R1206,TAXONOMY!$A$1:$G$959,3,FALSE))","v":""},{"$f":"IF(ISBLANK($R1206)=TRUE,\"\",VLOOKUP($R1206,TAXONOMY!$A$1:$H$959,2,FALSE))","v":""}]
[null,null,null,null,null,null,null,null,null,null,null,{"$f":"IF(ISBLANK($R1207)=TRUE,\"\",VLOOKUP($R1207,TAXONOMY!$A$1:$G$959,7,FALSE))","v":""},{"$f":"IF(ISBLANK($R1207)=TRUE,\"\",VLOOKUP($R1207,TAXONOMY!$A$1:$G$959,6,FALSE))","v":""},{"$f":"IF(ISBLANK($R1207)=TRUE,\"\",VLOOKUP($R1207,TAXONOMY!$A$1:$G$959,5,FALSE))","v":""},{"$f":"IF(ISBLANK($R1207)=TRUE,\"\",VLOOKUP($R1207,TAXONOMY!$A$1:$G$959,4,FALSE))","v":""},{"$f":"IF(ISBLANK($R1207)=TRUE,\"\",VLOOKUP($R1207,TAXONOMY!$A$1:$G$959,3,FALSE))","v":""},{"$f":"IF(ISBLANK($R1207)=TRUE,\"\",VLOOKUP($R1207,TAXONOMY!$A$1:$H$959,2,FALSE))","v":""}]
[null,null,null,null,null,null,null,null,null,null,null,{"$f":"IF(ISBLANK($R1208)=TRUE,\"\",VLOOKUP($R1208,TAXONOMY!$A$1:$G$959,7,FALSE))","v":""},{"$f":"IF(ISBLANK($R1208)=TRUE,\"\",VLOOKUP($R1208,TAXONOMY!$A$1:$G$959,6,FALSE))","v":""},{"$f":"IF(ISBLANK($R1208)=TRUE,\"\",VLOOKUP($R1208,TAXONOMY!$A$1:$G$959,5,FALSE))","v":""},{"$f":"IF(ISBLANK($R1208)=TRUE,\"\",VLOOKUP($R1208,TAXONOMY!$A$1:$G$959,4,FALSE))","v":""},{"$f":"IF(ISBLANK($R1208)=TRUE,\"\",VLOOKUP($R1208,TAXONOMY!$A$1:$G$959,3,FALSE))","v":""},{"$f":"IF(ISBLANK($R1208)=TRUE,\"\",VLOOKUP($R1208,TAXONOMY!$A$1:$H$959,2,FALSE))","v":""}]
[null,null,null,null,null,null,null,null,null,null,null,{"$f":"IF(ISBLANK($R1209)=TRUE,\"\",VLOOKUP($R1209,TAXONOMY!$A$1:$G$959,7,FALSE))","v":""},{"$f":"IF(ISBLANK($R1209)=TRUE,\"\",VLOOKUP($R1209,TAXONOMY!$A$1:$G$959,6,FALSE))","v":""},{"$f":"IF(ISBLANK($R1209)=TRUE,\"\",VLOOKUP($R1209,TAXONOMY!$A$1:$G$959,5,FALSE))","v":""},{"$f":"IF(ISBLANK($R1209)=TRUE,\"\",VLOOKUP($R1209,TAXONOMY!$A$1:$G$959,4,FALSE))","v":""},{"$f":"IF(ISBLANK($R1209)=TRUE,\"\",VLOOKUP($R1209,TAXONOMY!$A$1:$G$959,3,FALSE))","v":""},{"$f":"IF(ISBLANK($R1209)=TRUE,\"\",VLOOKUP($R1209,TAXONOMY!$A$1:$H$959,2,FALSE))","v":""}]
[null,null,null,null,null,null,null,null,null,null,null,{"$f":"IF(ISBLANK($R1210)=TRUE,\"\",VLOOKUP($R1210,TAXONOMY!$A$1:$G$959,7,FALSE))","v":""},{"$f":"IF(ISBLANK($R1210)=TRUE,\"\",VLOOKUP($R1210,TAXONOMY!$A$1:$G$959,6,FALSE))","v":""},{"$f":"IF(ISBLANK($R1210)=TRUE,\"\",VLOOKUP($R1210,TAXONOMY!$A$1:$G$959,5,FALSE))","v":""},{"$f":"IF(ISBLANK($R1210)=TRUE,\"\",VLOOKUP($R1210,TAXONOMY!$A$1:$G$959,4,FALSE))","v":""},{"$f":"IF(ISBLANK($R1210)=TRUE,\"\",VLOOKUP($R1210,TAXONOMY!$A$1:$G$959,3,FALSE))","v":""},{"$f":"IF(ISBLANK($R1210)=TRUE,\"\",VLOOKUP($R1210,TAXONOMY!$A$1:$H$959,2,FALSE))","v":""}]
[null,null,null,null,null,null,null,null,null,null,null,{"$f":"IF(ISBLANK($R1211)=TRUE,\"\",VLOOKUP($R1211,TAXONOMY!$A$1:$G$959,7,FALSE))","v":""},{"$f":"IF(ISBLANK($R1211)=TRUE,\"\",VLOOKUP($R1211,TAXONOMY!$A$1:$G$959,6,FALSE))","v":""},{"$f":"IF(ISBLANK($R1211)=TRUE,\"\",VLOOKUP($R1211,TAXONOMY!$A$1:$G$959,5,FALSE))","v":""},{"$f":"IF(ISBLANK($R1211)=TRUE,\"\",VLOOKUP($R1211,TAXONOMY!$A$1:$G$959,4,FALSE))","v":""},{"$f":"IF(ISBLANK($R1211)=TRUE,\"\",VLOOKUP($R1211,TAXONOMY!$A$1:$G$959,3,FALSE))","v":""},{"$f":"IF(ISBLANK($R1211)=TRUE,\"\",VLOOKUP($R1211,TAXONOMY!$A$1:$H$959,2,FALSE))","v":""}]
[null,null,null,null,null,null,null,null,null,null,null,{"$f":"IF(ISBLANK($R1212)=TRUE,\"\",VLOOKUP($R1212,TAXONOMY!$A$1:$G$959,7,FALSE))","v":""},{"$f":"IF(ISBLANK($R1212)=TRUE,\"\",VLOOKUP($R1212,TAXONOMY!$A$1:$G$959,6,FALSE))","v":""},{"$f":"IF(ISBLANK($R1212)=TRUE,\"\",VLOOKUP($R1212,TAXONOMY!$A$1:$G$959,5,FALSE))","v":""},{"$f":"IF(ISBLANK($R1212)=TRUE,\"\",VLOOKUP($R1212,TAXONOMY!$A$1:$G$959,4,FALSE))","v":""},{"$f":"IF(ISBLANK($R1212)=TRUE,\"\",VLOOKUP($R1212,TAXONOMY!$A$1:$G$959,3,FALSE))","v":""},{"$f":"IF(ISBLANK($R1212)=TRUE,\"\",VLOOKUP($R1212,TAXONOMY!$A$1:$H$959,2,FALSE))","v":""}]
[null,null,null,null,null,null,null,null,null,null,null,{"$f":"IF(ISBLANK($R1213)=TRUE,\"\",VLOOKUP($R1213,TAXONOMY!$A$1:$G$959,7,FALSE))","v":""},{"$f":"IF(ISBLANK($R1213)=TRUE,\"\",VLOOKUP($R1213,TAXONOMY!$A$1:$G$959,6,FALSE))","v":""},{"$f":"IF(ISBLANK($R1213)=TRUE,\"\",VLOOKUP($R1213,TAXONOMY!$A$1:$G$959,5,FALSE))","v":""},{"$f":"IF(ISBLANK($R1213)=TRUE,\"\",VLOOKUP($R1213,TAXONOMY!$A$1:$G$959,4,FALSE))","v":""},{"$f":"IF(ISBLANK($R1213)=TRUE,\"\",VLOOKUP($R1213,TAXONOMY!$A$1:$G$959,3,FALSE))","v":""},{"$f":"IF(ISBLANK($R1213)=TRUE,\"\",VLOOKUP($R1213,TAXONOMY!$A$1:$H$959,2,FALSE))","v":""}]
[null,null,null,null,null,null,null,null,null,null,null,{"$f":"IF(ISBLANK($R1214)=TRUE,\"\",VLOOKUP($R1214,TAXONOMY!$A$1:$G$959,7,FALSE))","v":""},{"$f":"IF(ISBLANK($R1214)=TRUE,\"\",VLOOKUP($R1214,TAXONOMY!$A$1:$G$959,6,FALSE))","v":""},{"$f":"IF(ISBLANK($R1214)=TRUE,\"\",VLOOKUP($R1214,TAXONOMY!$A$1:$G$959,5,FALSE))","v":""},{"$f":"IF(ISBLANK($R1214)=TRUE,\"\",VLOOKUP($R1214,TAXONOMY!$A$1:$G$959,4,FALSE))","v":""},{"$f":"IF(ISBLANK($R1214)=TRUE,\"\",VLOOKUP($R1214,TAXONOMY!$A$1:$G$959,3,FALSE))","v":""},{"$f":"IF(ISBLANK($R1214)=TRUE,\"\",VLOOKUP($R1214,TAXONOMY!$A$1:$H$959,2,FALSE))","v":""}]
[null,null,null,null,null,null,null,null,null,null,null,{"$f":"IF(ISBLANK($R1215)=TRUE,\"\",VLOOKUP($R1215,TAXONOMY!$A$1:$G$959,7,FALSE))","v":""},{"$f":"IF(ISBLANK($R1215)=TRUE,\"\",VLOOKUP($R1215,TAXONOMY!$A$1:$G$959,6,FALSE))","v":""},{"$f":"IF(ISBLANK($R1215)=TRUE,\"\",VLOOKUP($R1215,TAXONOMY!$A$1:$G$959,5,FALSE))","v":""},{"$f":"IF(ISBLANK($R1215)=TRUE,\"\",VLOOKUP($R1215,TAXONOMY!$A$1:$G$959,4,FALSE))","v":""},{"$f":"IF(ISBLANK($R1215)=TRUE,\"\",VLOOKUP($R1215,TAXONOMY!$A$1:$G$959,3,FALSE))","v":""},{"$f":"IF(ISBLANK($R1215)=TRUE,\"\",VLOOKUP($R1215,TAXONOMY!$A$1:$H$959,2,FALSE))","v":""}]
[null,null,null,null,null,null,null,null,null,null,null,{"$f":"IF(ISBLANK($R1216)=TRUE,\"\",VLOOKUP($R1216,TAXONOMY!$A$1:$G$959,7,FALSE))","v":""},{"$f":"IF(ISBLANK($R1216)=TRUE,\"\",VLOOKUP($R1216,TAXONOMY!$A$1:$G$959,6,FALSE))","v":""},{"$f":"IF(ISBLANK($R1216)=TRUE,\"\",VLOOKUP($R1216,TAXONOMY!$A$1:$G$959,5,FALSE))","v":""},{"$f":"IF(ISBLANK($R1216)=TRUE,\"\",VLOOKUP($R1216,TAXONOMY!$A$1:$G$959,4,FALSE))","v":""},{"$f":"IF(ISBLANK($R1216)=TRUE,\"\",VLOOKUP($R1216,TAXONOMY!$A$1:$G$959,3,FALSE))","v":""},{"$f":"IF(ISBLANK($R1216)=TRUE,\"\",VLOOKUP($R1216,TAXONOMY!$A$1:$H$959,2,FALSE))","v":""}]
[null,null,null,null,null,null,null,null,null,null,null,{"$f":"IF(ISBLANK($R1217)=TRUE,\"\",VLOOKUP($R1217,TAXONOMY!$A$1:$G$959,7,FALSE))","v":""},{"$f":"IF(ISBLANK($R1217)=TRUE,\"\",VLOOKUP($R1217,TAXONOMY!$A$1:$G$959,6,FALSE))","v":""},{"$f":"IF(ISBLANK($R1217)=TRUE,\"\",VLOOKUP($R1217,TAXONOMY!$A$1:$G$959,5,FALSE))","v":""},{"$f":"IF(ISBLANK($R1217)=TRUE,\"\",VLOOKUP($R1217,TAXONOMY!$A$1:$G$959,4,FALSE))","v":""},{"$f":"IF(ISBLANK($R1217)=TRUE,\"\",VLOOKUP($R1217,TAXONOMY!$A$1:$G$959,3,FALSE))","v":""},{"$f":"IF(ISBLANK($R1217)=TRUE,\"\",VLOOKUP($R1217,TAXONOMY!$A$1:$H$959,2,FALSE))","v":""}]
[null,null,null,null,null,null,null,null,null,null,null,{"$f":"IF(ISBLANK($R1218)=TRUE,\"\",VLOOKUP($R1218,TAXONOMY!$A$1:$G$959,7,FALSE))","v":""},{"$f":"IF(ISBLANK($R1218)=TRUE,\"\",VLOOKUP($R1218,TAXONOMY!$A$1:$G$959,6,FALSE))","v":""},{"$f":"IF(ISBLANK($R1218)=TRUE,\"\",VLOOKUP($R1218,TAXONOMY!$A$1:$G$959,5,FALSE))","v":""},{"$f":"IF(ISBLANK($R1218)=TRUE,\"\",VLOOKUP($R1218,TAXONOMY!$A$1:$G$959,4,FALSE))","v":""},{"$f":"IF(ISBLANK($R1218)=TRUE,\"\",VLOOKUP($R1218,TAXONOMY!$A$1:$G$959,3,FALSE))","v":""},{"$f":"IF(ISBLANK($R1218)=TRUE,\"\",VLOOKUP($R1218,TAXONOMY!$A$1:$H$959,2,FALSE))","v":""}]
[null,null,null,null,null,null,null,null,null,null,null,{"$f":"IF(ISBLANK($R1219)=TRUE,\"\",VLOOKUP($R1219,TAXONOMY!$A$1:$G$959,7,FALSE))","v":""},{"$f":"IF(ISBLANK($R1219)=TRUE,\"\",VLOOKUP($R1219,TAXONOMY!$A$1:$G$959,6,FALSE))","v":""},{"$f":"IF(ISBLANK($R1219)=TRUE,\"\",VLOOKUP($R1219,TAXONOMY!$A$1:$G$959,5,FALSE))","v":""},{"$f":"IF(ISBLANK($R1219)=TRUE,\"\",VLOOKUP($R1219,TAXONOMY!$A$1:$G$959,4,FALSE))","v":""},{"$f":"IF(ISBLANK($R1219)=TRUE,\"\",VLOOKUP($R1219,TAXONOMY!$A$1:$G$959,3,FALSE))","v":""},{"$f":"IF(ISBLANK($R1219)=TRUE,\"\",VLOOKUP($R1219,TAXONOMY!$A$1:$H$959,2,FALSE))","v":""}]
[null,null,null,null,null,null,null,null,null,null,null,{"$f":"IF(ISBLANK($R1220)=TRUE,\"\",VLOOKUP($R1220,TAXONOMY!$A$1:$G$959,7,FALSE))","v":""},{"$f":"IF(ISBLANK($R1220)=TRUE,\"\",VLOOKUP($R1220,TAXONOMY!$A$1:$G$959,6,FALSE))","v":""},{"$f":"IF(ISBLANK($R1220)=TRUE,\"\",VLOOKUP($R1220,TAXONOMY!$A$1:$G$959,5,FALSE))","v":""},{"$f":"IF(ISBLANK($R1220)=TRUE,\"\",VLOOKUP($R1220,TAXONOMY!$A$1:$G$959,4,FALSE))","v":""},{"$f":"IF(ISBLANK($R1220)=TRUE,\"\",VLOOKUP($R1220,TAXONOMY!$A$1:$G$959,3,FALSE))","v":""},{"$f":"IF(ISBLANK($R1220)=TRUE,\"\",VLOOKUP($R1220,TAXONOMY!$A$1:$H$959,2,FALSE))","v":""}]
[null,null,null,null,null,null,null,null,null,null,null,{"$f":"IF(ISBLANK($R1221)=TRUE,\"\",VLOOKUP($R1221,TAXONOMY!$A$1:$G$959,7,FALSE))","v":""},{"$f":"IF(ISBLANK($R1221)=TRUE,\"\",VLOOKUP($R1221,TAXONOMY!$A$1:$G$959,6,FALSE))","v":""},{"$f":"IF(ISBLANK($R1221)=TRUE,\"\",VLOOKUP($R1221,TAXONOMY!$A$1:$G$959,5,FALSE))","v":""},{"$f":"IF(ISBLANK($R1221)=TRUE,\"\",VLOOKUP($R1221,TAXONOMY!$A$1:$G$959,4,FALSE))","v":""},{"$f":"IF(ISBLANK($R1221)=TRUE,\"\",VLOOKUP($R1221,TAXONOMY!$A$1:$G$959,3,FALSE))","v":""},{"$f":"IF(ISBLANK($R1221)=TRUE,\"\",VLOOKUP($R1221,TAXONOMY!$A$1:$H$959,2,FALSE))","v":""}]
[null,null,null,null,null,null,null,null,null,null,null,{"$f":"IF(ISBLANK($R1222)=TRUE,\"\",VLOOKUP($R1222,TAXONOMY!$A$1:$G$959,7,FALSE))","v":""},{"$f":"IF(ISBLANK($R1222)=TRUE,\"\",VLOOKUP($R1222,TAXONOMY!$A$1:$G$959,6,FALSE))","v":""},{"$f":"IF(ISBLANK($R1222)=TRUE,\"\",VLOOKUP($R1222,TAXONOMY!$A$1:$G$959,5,FALSE))","v":""},{"$f":"IF(ISBLANK($R1222)=TRUE,\"\",VLOOKUP($R1222,TAXONOMY!$A$1:$G$959,4,FALSE))","v":""},{"$f":"IF(ISBLANK($R1222)=TRUE,\"\",VLOOKUP($R1222,TAXONOMY!$A$1:$G$959,3,FALSE))","v":""},{"$f":"IF(ISBLANK($R1222)=TRUE,\"\",VLOOKUP($R1222,TAXONOMY!$A$1:$H$959,2,FALSE))","v":""}]
[null,null,null,null,null,null,null,null,null,null,null,{"$f":"IF(ISBLANK($R1223)=TRUE,\"\",VLOOKUP($R1223,TAXONOMY!$A$1:$G$959,7,FALSE))","v":""},{"$f":"IF(ISBLANK($R1223)=TRUE,\"\",VLOOKUP($R1223,TAXONOMY!$A$1:$G$959,6,FALSE))","v":""},{"$f":"IF(ISBLANK($R1223)=TRUE,\"\",VLOOKUP($R1223,TAXONOMY!$A$1:$G$959,5,FALSE))","v":""},{"$f":"IF(ISBLANK($R1223)=TRUE,\"\",VLOOKUP($R1223,TAXONOMY!$A$1:$G$959,4,FALSE))","v":""},{"$f":"IF(ISBLANK($R1223)=TRUE,\"\",VLOOKUP($R1223,TAXONOMY!$A$1:$G$959,3,FALSE))","v":""},{"$f":"IF(ISBLANK($R1223)=TRUE,\"\",VLOOKUP($R1223,TAXONOMY!$A$1:$H$959,2,FALSE))","v":""}]
[null,null,null,null,null,null,null,null,null,null,null,{"$f":"IF(ISBLANK($R1224)=TRUE,\"\",VLOOKUP($R1224,TAXONOMY!$A$1:$G$959,7,FALSE))","v":""},{"$f":"IF(ISBLANK($R1224)=TRUE,\"\",VLOOKUP($R1224,TAXONOMY!$A$1:$G$959,6,FALSE))","v":""},{"$f":"IF(ISBLANK($R1224)=TRUE,\"\",VLOOKUP($R1224,TAXONOMY!$A$1:$G$959,5,FALSE))","v":""},{"$f":"IF(ISBLANK($R1224)=TRUE,\"\",VLOOKUP($R1224,TAXONOMY!$A$1:$G$959,4,FALSE))","v":""},{"$f":"IF(ISBLANK($R1224)=TRUE,\"\",VLOOKUP($R1224,TAXONOMY!$A$1:$G$959,3,FALSE))","v":""},{"$f":"IF(ISBLANK($R1224)=TRUE,\"\",VLOOKUP($R1224,TAXONOMY!$A$1:$H$959,2,FALSE))","v":""}]
[null,null,null,null,null,null,null,null,null,null,null,{"$f":"IF(ISBLANK($R1225)=TRUE,\"\",VLOOKUP($R1225,TAXONOMY!$A$1:$G$959,7,FALSE))","v":""},{"$f":"IF(ISBLANK($R1225)=TRUE,\"\",VLOOKUP($R1225,TAXONOMY!$A$1:$G$959,6,FALSE))","v":""},{"$f":"IF(ISBLANK($R1225)=TRUE,\"\",VLOOKUP($R1225,TAXONOMY!$A$1:$G$959,5,FALSE))","v":""},{"$f":"IF(ISBLANK($R1225)=TRUE,\"\",VLOOKUP($R1225,TAXONOMY!$A$1:$G$959,4,FALSE))","v":""},{"$f":"IF(ISBLANK($R1225)=TRUE,\"\",VLOOKUP($R1225,TAXONOMY!$A$1:$G$959,3,FALSE))","v":""},{"$f":"IF(ISBLANK($R1225)=TRUE,\"\",VLOOKUP($R1225,TAXONOMY!$A$1:$H$959,2,FALSE))","v":""}]
[null,null,null,null,null,null,null,null,null,null,null,{"$f":"IF(ISBLANK($R1226)=TRUE,\"\",VLOOKUP($R1226,TAXONOMY!$A$1:$G$959,7,FALSE))","v":""},{"$f":"IF(ISBLANK($R1226)=TRUE,\"\",VLOOKUP($R1226,TAXONOMY!$A$1:$G$959,6,FALSE))","v":""},{"$f":"IF(ISBLANK($R1226)=TRUE,\"\",VLOOKUP($R1226,TAXONOMY!$A$1:$G$959,5,FALSE))","v":""},{"$f":"IF(ISBLANK($R1226)=TRUE,\"\",VLOOKUP($R1226,TAXONOMY!$A$1:$G$959,4,FALSE))","v":""},{"$f":"IF(ISBLANK($R1226)=TRUE,\"\",VLOOKUP($R1226,TAXONOMY!$A$1:$G$959,3,FALSE))","v":""},{"$f":"IF(ISBLANK($R1226)=TRUE,\"\",VLOOKUP($R1226,TAXONOMY!$A$1:$H$959,2,FALSE))","v":""}]
[null,null,null,null,null,null,null,null,null,null,null,{"$f":"IF(ISBLANK($R1227)=TRUE,\"\",VLOOKUP($R1227,TAXONOMY!$A$1:$G$959,7,FALSE))","v":""},{"$f":"IF(ISBLANK($R1227)=TRUE,\"\",VLOOKUP($R1227,TAXONOMY!$A$1:$G$959,6,FALSE))","v":""},{"$f":"IF(ISBLANK($R1227)=TRUE,\"\",VLOOKUP($R1227,TAXONOMY!$A$1:$G$959,5,FALSE))","v":""},{"$f":"IF(ISBLANK($R1227)=TRUE,\"\",VLOOKUP($R1227,TAXONOMY!$A$1:$G$959,4,FALSE))","v":""},{"$f":"IF(ISBLANK($R1227)=TRUE,\"\",VLOOKUP($R1227,TAXONOMY!$A$1:$G$959,3,FALSE))","v":""},{"$f":"IF(ISBLANK($R1227)=TRUE,\"\",VLOOKUP($R1227,TAXONOMY!$A$1:$H$959,2,FALSE))","v":""}]
[null,null,null,null,null,null,null,null,null,null,null,{"$f":"IF(ISBLANK($R1228)=TRUE,\"\",VLOOKUP($R1228,TAXONOMY!$A$1:$G$959,7,FALSE))","v":""},{"$f":"IF(ISBLANK($R1228)=TRUE,\"\",VLOOKUP($R1228,TAXONOMY!$A$1:$G$959,6,FALSE))","v":""},{"$f":"IF(ISBLANK($R1228)=TRUE,\"\",VLOOKUP($R1228,TAXONOMY!$A$1:$G$959,5,FALSE))","v":""},{"$f":"IF(ISBLANK($R1228)=TRUE,\"\",VLOOKUP($R1228,TAXONOMY!$A$1:$G$959,4,FALSE))","v":""},{"$f":"IF(ISBLANK($R1228)=TRUE,\"\",VLOOKUP($R1228,TAXONOMY!$A$1:$G$959,3,FALSE))","v":""},{"$f":"IF(ISBLANK($R1228)=TRUE,\"\",VLOOKUP($R1228,TAXONOMY!$A$1:$H$959,2,FALSE))","v":""}]
[null,null,null,null,null,null,null,null,null,null,null,{"$f":"IF(ISBLANK($R1229)=TRUE,\"\",VLOOKUP($R1229,TAXONOMY!$A$1:$G$959,7,FALSE))","v":""},{"$f":"IF(ISBLANK($R1229)=TRUE,\"\",VLOOKUP($R1229,TAXONOMY!$A$1:$G$959,6,FALSE))","v":""},{"$f":"IF(ISBLANK($R1229)=TRUE,\"\",VLOOKUP($R1229,TAXONOMY!$A$1:$G$959,5,FALSE))","v":""},{"$f":"IF(ISBLANK($R1229)=TRUE,\"\",VLOOKUP($R1229,TAXONOMY!$A$1:$G$959,4,FALSE))","v":""},{"$f":"IF(ISBLANK($R1229)=TRUE,\"\",VLOOKUP($R1229,TAXONOMY!$A$1:$G$959,3,FALSE))","v":""},{"$f":"IF(ISBLANK($R1229)=TRUE,\"\",VLOOKUP($R1229,TAXONOMY!$A$1:$H$959,2,FALSE))","v":""}]
[null,null,null,null,null,null,null,null,null,null,null,{"$f":"IF(ISBLANK($R1230)=TRUE,\"\",VLOOKUP($R1230,TAXONOMY!$A$1:$G$959,7,FALSE))","v":""},{"$f":"IF(ISBLANK($R1230)=TRUE,\"\",VLOOKUP($R1230,TAXONOMY!$A$1:$G$959,6,FALSE))","v":""},{"$f":"IF(ISBLANK($R1230)=TRUE,\"\",VLOOKUP($R1230,TAXONOMY!$A$1:$G$959,5,FALSE))","v":""},{"$f":"IF(ISBLANK($R1230)=TRUE,\"\",VLOOKUP($R1230,TAXONOMY!$A$1:$G$959,4,FALSE))","v":""},{"$f":"IF(ISBLANK($R1230)=TRUE,\"\",VLOOKUP($R1230,TAXONOMY!$A$1:$G$959,3,FALSE))","v":""},{"$f":"IF(ISBLANK($R1230)=TRUE,\"\",VLOOKUP($R1230,TAXONOMY!$A$1:$H$959,2,FALSE))","v":""}]
[null,null,null,null,null,null,null,null,null,null,null,{"$f":"IF(ISBLANK($R1231)=TRUE,\"\",VLOOKUP($R1231,TAXONOMY!$A$1:$G$959,7,FALSE))","v":""},{"$f":"IF(ISBLANK($R1231)=TRUE,\"\",VLOOKUP($R1231,TAXONOMY!$A$1:$G$959,6,FALSE))","v":""},{"$f":"IF(ISBLANK($R1231)=TRUE,\"\",VLOOKUP($R1231,TAXONOMY!$A$1:$G$959,5,FALSE))","v":""},{"$f":"IF(ISBLANK($R1231)=TRUE,\"\",VLOOKUP($R1231,TAXONOMY!$A$1:$G$959,4,FALSE))","v":""},{"$f":"IF(ISBLANK($R1231)=TRUE,\"\",VLOOKUP($R1231,TAXONOMY!$A$1:$G$959,3,FALSE))","v":""},{"$f":"IF(ISBLANK($R1231)=TRUE,\"\",VLOOKUP($R1231,TAXONOMY!$A$1:$H$959,2,FALSE))","v":""}]
[null,null,null,null,null,null,null,null,null,null,null,{"$f":"IF(ISBLANK($R1232)=TRUE,\"\",VLOOKUP($R1232,TAXONOMY!$A$1:$G$959,7,FALSE))","v":""},{"$f":"IF(ISBLANK($R1232)=TRUE,\"\",VLOOKUP($R1232,TAXONOMY!$A$1:$G$959,6,FALSE))","v":""},{"$f":"IF(ISBLANK($R1232)=TRUE,\"\",VLOOKUP($R1232,TAXONOMY!$A$1:$G$959,5,FALSE))","v":""},{"$f":"IF(ISBLANK($R1232)=TRUE,\"\",VLOOKUP($R1232,TAXONOMY!$A$1:$G$959,4,FALSE))","v":""},{"$f":"IF(ISBLANK($R1232)=TRUE,\"\",VLOOKUP($R1232,TAXONOMY!$A$1:$G$959,3,FALSE))","v":""},{"$f":"IF(ISBLANK($R1232)=TRUE,\"\",VLOOKUP($R1232,TAXONOMY!$A$1:$H$959,2,FALSE))","v":""}]
[null,null,null,null,null,null,null,null,null,null,null,{"$f":"IF(ISBLANK($R1233)=TRUE,\"\",VLOOKUP($R1233,TAXONOMY!$A$1:$G$959,7,FALSE))","v":""},{"$f":"IF(ISBLANK($R1233)=TRUE,\"\",VLOOKUP($R1233,TAXONOMY!$A$1:$G$959,6,FALSE))","v":""},{"$f":"IF(ISBLANK($R1233)=TRUE,\"\",VLOOKUP($R1233,TAXONOMY!$A$1:$G$959,5,FALSE))","v":""},{"$f":"IF(ISBLANK($R1233)=TRUE,\"\",VLOOKUP($R1233,TAXONOMY!$A$1:$G$959,4,FALSE))","v":""},{"$f":"IF(ISBLANK($R1233)=TRUE,\"\",VLOOKUP($R1233,TAXONOMY!$A$1:$G$959,3,FALSE))","v":""},{"$f":"IF(ISBLANK($R1233)=TRUE,\"\",VLOOKUP($R1233,TAXONOMY!$A$1:$H$959,2,FALSE))","v":""}]
[null,null,null,null,null,null,null,null,null,null,null,{"$f":"IF(ISBLANK($R1234)=TRUE,\"\",VLOOKUP($R1234,TAXONOMY!$A$1:$G$959,7,FALSE))","v":""},{"$f":"IF(ISBLANK($R1234)=TRUE,\"\",VLOOKUP($R1234,TAXONOMY!$A$1:$G$959,6,FALSE))","v":""},{"$f":"IF(ISBLANK($R1234)=TRUE,\"\",VLOOKUP($R1234,TAXONOMY!$A$1:$G$959,5,FALSE))","v":""},{"$f":"IF(ISBLANK($R1234)=TRUE,\"\",VLOOKUP($R1234,TAXONOMY!$A$1:$G$959,4,FALSE))","v":""},{"$f":"IF(ISBLANK($R1234)=TRUE,\"\",VLOOKUP($R1234,TAXONOMY!$A$1:$G$959,3,FALSE))","v":""},{"$f":"IF(ISBLANK($R1234)=TRUE,\"\",VLOOKUP($R1234,TAXONOMY!$A$1:$H$959,2,FALSE))","v":""}]
[null,null,null,null,null,null,null,null,null,null,null,{"$f":"IF(ISBLANK($R1235)=TRUE,\"\",VLOOKUP($R1235,TAXONOMY!$A$1:$G$959,7,FALSE))","v":""},{"$f":"IF(ISBLANK($R1235)=TRUE,\"\",VLOOKUP($R1235,TAXONOMY!$A$1:$G$959,6,FALSE))","v":""},{"$f":"IF(ISBLANK($R1235)=TRUE,\"\",VLOOKUP($R1235,TAXONOMY!$A$1:$G$959,5,FALSE))","v":""},{"$f":"IF(ISBLANK($R1235)=TRUE,\"\",VLOOKUP($R1235,TAXONOMY!$A$1:$G$959,4,FALSE))","v":""},{"$f":"IF(ISBLANK($R1235)=TRUE,\"\",VLOOKUP($R1235,TAXONOMY!$A$1:$G$959,3,FALSE))","v":""},{"$f":"IF(ISBLANK($R1235)=TRUE,\"\",VLOOKUP($R1235,TAXONOMY!$A$1:$H$959,2,FALSE))","v":""}]
[null,null,null,null,null,null,null,null,null,null,null,{"$f":"IF(ISBLANK($R1236)=TRUE,\"\",VLOOKUP($R1236,TAXONOMY!$A$1:$G$959,7,FALSE))","v":""},{"$f":"IF(ISBLANK($R1236)=TRUE,\"\",VLOOKUP($R1236,TAXONOMY!$A$1:$G$959,6,FALSE))","v":""},{"$f":"IF(ISBLANK($R1236)=TRUE,\"\",VLOOKUP($R1236,TAXONOMY!$A$1:$G$959,5,FALSE))","v":""},{"$f":"IF(ISBLANK($R1236)=TRUE,\"\",VLOOKUP($R1236,TAXONOMY!$A$1:$G$959,4,FALSE))","v":""},{"$f":"IF(ISBLANK($R1236)=TRUE,\"\",VLOOKUP($R1236,TAXONOMY!$A$1:$G$959,3,FALSE))","v":""},{"$f":"IF(ISBLANK($R1236)=TRUE,\"\",VLOOKUP($R1236,TAXONOMY!$A$1:$H$959,2,FALSE))","v":""}]
[null,null,null,null,null,null,null,null,null,null,null,{"$f":"IF(ISBLANK($R1237)=TRUE,\"\",VLOOKUP($R1237,TAXONOMY!$A$1:$G$959,7,FALSE))","v":""},{"$f":"IF(ISBLANK($R1237)=TRUE,\"\",VLOOKUP($R1237,TAXONOMY!$A$1:$G$959,6,FALSE))","v":""},{"$f":"IF(ISBLANK($R1237)=TRUE,\"\",VLOOKUP($R1237,TAXONOMY!$A$1:$G$959,5,FALSE))","v":""},{"$f":"IF(ISBLANK($R1237)=TRUE,\"\",VLOOKUP($R1237,TAXONOMY!$A$1:$G$959,4,FALSE))","v":""},{"$f":"IF(ISBLANK($R1237)=TRUE,\"\",VLOOKUP($R1237,TAXONOMY!$A$1:$G$959,3,FALSE))","v":""},{"$f":"IF(ISBLANK($R1237)=TRUE,\"\",VLOOKUP($R1237,TAXONOMY!$A$1:$H$959,2,FALSE))","v":""}]
[null,null,null,null,null,null,null,null,null,null,null,{"$f":"IF(ISBLANK($R1238)=TRUE,\"\",VLOOKUP($R1238,TAXONOMY!$A$1:$G$959,7,FALSE))","v":""},{"$f":"IF(ISBLANK($R1238)=TRUE,\"\",VLOOKUP($R1238,TAXONOMY!$A$1:$G$959,6,FALSE))","v":""},{"$f":"IF(ISBLANK($R1238)=TRUE,\"\",VLOOKUP($R1238,TAXONOMY!$A$1:$G$959,5,FALSE))","v":""},{"$f":"IF(ISBLANK($R1238)=TRUE,\"\",VLOOKUP($R1238,TAXONOMY!$A$1:$G$959,4,FALSE))","v":""},{"$f":"IF(ISBLANK($R1238)=TRUE,\"\",VLOOKUP($R1238,TAXONOMY!$A$1:$G$959,3,FALSE))","v":""},{"$f":"IF(ISBLANK($R1238)=TRUE,\"\",VLOOKUP($R1238,TAXONOMY!$A$1:$H$959,2,FALSE))","v":""}]
[null,null,null,null,null,null,null,null,null,null,null,{"$f":"IF(ISBLANK($R1239)=TRUE,\"\",VLOOKUP($R1239,TAXONOMY!$A$1:$G$959,7,FALSE))","v":""},{"$f":"IF(ISBLANK($R1239)=TRUE,\"\",VLOOKUP($R1239,TAXONOMY!$A$1:$G$959,6,FALSE))","v":""},{"$f":"IF(ISBLANK($R1239)=TRUE,\"\",VLOOKUP($R1239,TAXONOMY!$A$1:$G$959,5,FALSE))","v":""},{"$f":"IF(ISBLANK($R1239)=TRUE,\"\",VLOOKUP($R1239,TAXONOMY!$A$1:$G$959,4,FALSE))","v":""},{"$f":"IF(ISBLANK($R1239)=TRUE,\"\",VLOOKUP($R1239,TAXONOMY!$A$1:$G$959,3,FALSE))","v":""},{"$f":"IF(ISBLANK($R1239)=TRUE,\"\",VLOOKUP($R1239,TAXONOMY!$A$1:$H$959,2,FALSE))","v":""}]
[null,null,null,null,null,null,null,null,null,null,null,{"$f":"IF(ISBLANK($R1240)=TRUE,\"\",VLOOKUP($R1240,TAXONOMY!$A$1:$G$959,7,FALSE))","v":""},{"$f":"IF(ISBLANK($R1240)=TRUE,\"\",VLOOKUP($R1240,TAXONOMY!$A$1:$G$959,6,FALSE))","v":""},{"$f":"IF(ISBLANK($R1240)=TRUE,\"\",VLOOKUP($R1240,TAXONOMY!$A$1:$G$959,5,FALSE))","v":""},{"$f":"IF(ISBLANK($R1240)=TRUE,\"\",VLOOKUP($R1240,TAXONOMY!$A$1:$G$959,4,FALSE))","v":""},{"$f":"IF(ISBLANK($R1240)=TRUE,\"\",VLOOKUP($R1240,TAXONOMY!$A$1:$G$959,3,FALSE))","v":""},{"$f":"IF(ISBLANK($R1240)=TRUE,\"\",VLOOKUP($R1240,TAXONOMY!$A$1:$H$959,2,FALSE))","v":""}]
[null,null,null,null,null,null,null,null,null,null,null,{"$f":"IF(ISBLANK($R1241)=TRUE,\"\",VLOOKUP($R1241,TAXONOMY!$A$1:$G$959,7,FALSE))","v":""},{"$f":"IF(ISBLANK($R1241)=TRUE,\"\",VLOOKUP($R1241,TAXONOMY!$A$1:$G$959,6,FALSE))","v":""},{"$f":"IF(ISBLANK($R1241)=TRUE,\"\",VLOOKUP($R1241,TAXONOMY!$A$1:$G$959,5,FALSE))","v":""},{"$f":"IF(ISBLANK($R1241)=TRUE,\"\",VLOOKUP($R1241,TAXONOMY!$A$1:$G$959,4,FALSE))","v":""},{"$f":"IF(ISBLANK($R1241)=TRUE,\"\",VLOOKUP($R1241,TAXONOMY!$A$1:$G$959,3,FALSE))","v":""},{"$f":"IF(ISBLANK($R1241)=TRUE,\"\",VLOOKUP($R1241,TAXONOMY!$A$1:$H$959,2,FALSE))","v":""}]
[null,null,null,null,null,null,null,null,null,null,null,{"$f":"IF(ISBLANK($R1242)=TRUE,\"\",VLOOKUP($R1242,TAXONOMY!$A$1:$G$959,7,FALSE))","v":""},{"$f":"IF(ISBLANK($R1242)=TRUE,\"\",VLOOKUP($R1242,TAXONOMY!$A$1:$G$959,6,FALSE))","v":""},{"$f":"IF(ISBLANK($R1242)=TRUE,\"\",VLOOKUP($R1242,TAXONOMY!$A$1:$G$959,5,FALSE))","v":""},{"$f":"IF(ISBLANK($R1242)=TRUE,\"\",VLOOKUP($R1242,TAXONOMY!$A$1:$G$959,4,FALSE))","v":""},{"$f":"IF(ISBLANK($R1242)=TRUE,\"\",VLOOKUP($R1242,TAXONOMY!$A$1:$G$959,3,FALSE))","v":""},{"$f":"IF(ISBLANK($R1242)=TRUE,\"\",VLOOKUP($R1242,TAXONOMY!$A$1:$H$959,2,FALSE))","v":""}]
[null,null,null,null,null,null,null,null,null,null,null,{"$f":"IF(ISBLANK($R1243)=TRUE,\"\",VLOOKUP($R1243,TAXONOMY!$A$1:$G$959,7,FALSE))","v":""},{"$f":"IF(ISBLANK($R1243)=TRUE,\"\",VLOOKUP($R1243,TAXONOMY!$A$1:$G$959,6,FALSE))","v":""},{"$f":"IF(ISBLANK($R1243)=TRUE,\"\",VLOOKUP($R1243,TAXONOMY!$A$1:$G$959,5,FALSE))","v":""},{"$f":"IF(ISBLANK($R1243)=TRUE,\"\",VLOOKUP($R1243,TAXONOMY!$A$1:$G$959,4,FALSE))","v":""},{"$f":"IF(ISBLANK($R1243)=TRUE,\"\",VLOOKUP($R1243,TAXONOMY!$A$1:$G$959,3,FALSE))","v":""},{"$f":"IF(ISBLANK($R1243)=TRUE,\"\",VLOOKUP($R1243,TAXONOMY!$A$1:$H$959,2,FALSE))","v":""}]
[null,null,null,null,null,null,null,null,null,null,null,{"$f":"IF(ISBLANK($R1244)=TRUE,\"\",VLOOKUP($R1244,TAXONOMY!$A$1:$G$959,7,FALSE))","v":""},{"$f":"IF(ISBLANK($R1244)=TRUE,\"\",VLOOKUP($R1244,TAXONOMY!$A$1:$G$959,6,FALSE))","v":""},{"$f":"IF(ISBLANK($R1244)=TRUE,\"\",VLOOKUP($R1244,TAXONOMY!$A$1:$G$959,5,FALSE))","v":""},{"$f":"IF(ISBLANK($R1244)=TRUE,\"\",VLOOKUP($R1244,TAXONOMY!$A$1:$G$959,4,FALSE))","v":""},{"$f":"IF(ISBLANK($R1244)=TRUE,\"\",VLOOKUP($R1244,TAXONOMY!$A$1:$G$959,3,FALSE))","v":""},{"$f":"IF(ISBLANK($R1244)=TRUE,\"\",VLOOKUP($R1244,TAXONOMY!$A$1:$H$959,2,FALSE))","v":""}]
[null,null,null,null,null,null,null,null,null,null,null,{"$f":"IF(ISBLANK($R1245)=TRUE,\"\",VLOOKUP($R1245,TAXONOMY!$A$1:$G$959,7,FALSE))","v":""},{"$f":"IF(ISBLANK($R1245)=TRUE,\"\",VLOOKUP($R1245,TAXONOMY!$A$1:$G$959,6,FALSE))","v":""},{"$f":"IF(ISBLANK($R1245)=TRUE,\"\",VLOOKUP($R1245,TAXONOMY!$A$1:$G$959,5,FALSE))","v":""},{"$f":"IF(ISBLANK($R1245)=TRUE,\"\",VLOOKUP($R1245,TAXONOMY!$A$1:$G$959,4,FALSE))","v":""},{"$f":"IF(ISBLANK($R1245)=TRUE,\"\",VLOOKUP($R1245,TAXONOMY!$A$1:$G$959,3,FALSE))","v":""},{"$f":"IF(ISBLANK($R1245)=TRUE,\"\",VLOOKUP($R1245,TAXONOMY!$A$1:$H$959,2,FALSE))","v":""}]
[null,null,null,null,null,null,null,null,null,null,null,{"$f":"IF(ISBLANK($R1246)=TRUE,\"\",VLOOKUP($R1246,TAXONOMY!$A$1:$G$959,7,FALSE))","v":""},{"$f":"IF(ISBLANK($R1246)=TRUE,\"\",VLOOKUP($R1246,TAXONOMY!$A$1:$G$959,6,FALSE))","v":""},{"$f":"IF(ISBLANK($R1246)=TRUE,\"\",VLOOKUP($R1246,TAXONOMY!$A$1:$G$959,5,FALSE))","v":""},{"$f":"IF(ISBLANK($R1246)=TRUE,\"\",VLOOKUP($R1246,TAXONOMY!$A$1:$G$959,4,FALSE))","v":""},{"$f":"IF(ISBLANK($R1246)=TRUE,\"\",VLOOKUP($R1246,TAXONOMY!$A$1:$G$959,3,FALSE))","v":""},{"$f":"IF(ISBLANK($R1246)=TRUE,\"\",VLOOKUP($R1246,TAXONOMY!$A$1:$H$959,2,FALSE))","v":""}]
[null,null,null,null,null,null,null,null,null,null,null,{"$f":"IF(ISBLANK($R1247)=TRUE,\"\",VLOOKUP($R1247,TAXONOMY!$A$1:$G$959,7,FALSE))","v":""},{"$f":"IF(ISBLANK($R1247)=TRUE,\"\",VLOOKUP($R1247,TAXONOMY!$A$1:$G$959,6,FALSE))","v":""},{"$f":"IF(ISBLANK($R1247)=TRUE,\"\",VLOOKUP($R1247,TAXONOMY!$A$1:$G$959,5,FALSE))","v":""},{"$f":"IF(ISBLANK($R1247)=TRUE,\"\",VLOOKUP($R1247,TAXONOMY!$A$1:$G$959,4,FALSE))","v":""},{"$f":"IF(ISBLANK($R1247)=TRUE,\"\",VLOOKUP($R1247,TAXONOMY!$A$1:$G$959,3,FALSE))","v":""},{"$f":"IF(ISBLANK($R1247)=TRUE,\"\",VLOOKUP($R1247,TAXONOMY!$A$1:$H$959,2,FALSE))","v":""}]
[null,null,null,null,null,null,null,null,null,null,null,{"$f":"IF(ISBLANK($R1248)=TRUE,\"\",VLOOKUP($R1248,TAXONOMY!$A$1:$G$959,7,FALSE))","v":""},{"$f":"IF(ISBLANK($R1248)=TRUE,\"\",VLOOKUP($R1248,TAXONOMY!$A$1:$G$959,6,FALSE))","v":""},{"$f":"IF(ISBLANK($R1248)=TRUE,\"\",VLOOKUP($R1248,TAXONOMY!$A$1:$G$959,5,FALSE))","v":""},{"$f":"IF(ISBLANK($R1248)=TRUE,\"\",VLOOKUP($R1248,TAXONOMY!$A$1:$G$959,4,FALSE))","v":""},{"$f":"IF(ISBLANK($R1248)=TRUE,\"\",VLOOKUP($R1248,TAXONOMY!$A$1:$G$959,3,FALSE))","v":""},{"$f":"IF(ISBLANK($R1248)=TRUE,\"\",VLOOKUP($R1248,TAXONOMY!$A$1:$H$959,2,FALSE))","v":""}]
[null,null,null,null,null,null,null,null,null,null,null,{"$f":"IF(ISBLANK($R1249)=TRUE,\"\",VLOOKUP($R1249,TAXONOMY!$A$1:$G$959,7,FALSE))","v":""},{"$f":"IF(ISBLANK($R1249)=TRUE,\"\",VLOOKUP($R1249,TAXONOMY!$A$1:$G$959,6,FALSE))","v":""},{"$f":"IF(ISBLANK($R1249)=TRUE,\"\",VLOOKUP($R1249,TAXONOMY!$A$1:$G$959,5,FALSE))","v":""},{"$f":"IF(ISBLANK($R1249)=TRUE,\"\",VLOOKUP($R1249,TAXONOMY!$A$1:$G$959,4,FALSE))","v":""},{"$f":"IF(ISBLANK($R1249)=TRUE,\"\",VLOOKUP($R1249,TAXONOMY!$A$1:$G$959,3,FALSE))","v":""},{"$f":"IF(ISBLANK($R1249)=TRUE,\"\",VLOOKUP($R1249,TAXONOMY!$A$1:$H$959,2,FALSE))","v":""}]
[null,null,null,null,null,null,null,null,null,null,null,{"$f":"IF(ISBLANK($R1250)=TRUE,\"\",VLOOKUP($R1250,TAXONOMY!$A$1:$G$959,7,FALSE))","v":""},{"$f":"IF(ISBLANK($R1250)=TRUE,\"\",VLOOKUP($R1250,TAXONOMY!$A$1:$G$959,6,FALSE))","v":""},{"$f":"IF(ISBLANK($R1250)=TRUE,\"\",VLOOKUP($R1250,TAXONOMY!$A$1:$G$959,5,FALSE))","v":""},{"$f":"IF(ISBLANK($R1250)=TRUE,\"\",VLOOKUP($R1250,TAXONOMY!$A$1:$G$959,4,FALSE))","v":""},{"$f":"IF(ISBLANK($R1250)=TRUE,\"\",VLOOKUP($R1250,TAXONOMY!$A$1:$G$959,3,FALSE))","v":""},{"$f":"IF(ISBLANK($R1250)=TRUE,\"\",VLOOKUP($R1250,TAXONOMY!$A$1:$H$959,2,FALSE))","v":""}]
[null,null,null,null,null,null,null,null,null,null,null,{"$f":"IF(ISBLANK($R1251)=TRUE,\"\",VLOOKUP($R1251,TAXONOMY!$A$1:$G$959,7,FALSE))","v":""},{"$f":"IF(ISBLANK($R1251)=TRUE,\"\",VLOOKUP($R1251,TAXONOMY!$A$1:$G$959,6,FALSE))","v":""},{"$f":"IF(ISBLANK($R1251)=TRUE,\"\",VLOOKUP($R1251,TAXONOMY!$A$1:$G$959,5,FALSE))","v":""},{"$f":"IF(ISBLANK($R1251)=TRUE,\"\",VLOOKUP($R1251,TAXONOMY!$A$1:$G$959,4,FALSE))","v":""},{"$f":"IF(ISBLANK($R1251)=TRUE,\"\",VLOOKUP($R1251,TAXONOMY!$A$1:$G$959,3,FALSE))","v":""},{"$f":"IF(ISBLANK($R1251)=TRUE,\"\",VLOOKUP($R1251,TAXONOMY!$A$1:$H$959,2,FALSE))","v":""}]
[null,null,null,null,null,null,null,null,null,null,null,{"$f":"IF(ISBLANK($R1252)=TRUE,\"\",VLOOKUP($R1252,TAXONOMY!$A$1:$G$959,7,FALSE))","v":""},{"$f":"IF(ISBLANK($R1252)=TRUE,\"\",VLOOKUP($R1252,TAXONOMY!$A$1:$G$959,6,FALSE))","v":""},{"$f":"IF(ISBLANK($R1252)=TRUE,\"\",VLOOKUP($R1252,TAXONOMY!$A$1:$G$959,5,FALSE))","v":""},{"$f":"IF(ISBLANK($R1252)=TRUE,\"\",VLOOKUP($R1252,TAXONOMY!$A$1:$G$959,4,FALSE))","v":""},{"$f":"IF(ISBLANK($R1252)=TRUE,\"\",VLOOKUP($R1252,TAXONOMY!$A$1:$G$959,3,FALSE))","v":""},{"$f":"IF(ISBLANK($R1252)=TRUE,\"\",VLOOKUP($R1252,TAXONOMY!$A$1:$H$959,2,FALSE))","v":""}]
[null,null,null,null,null,null,null,null,null,null,null,{"$f":"IF(ISBLANK($R1253)=TRUE,\"\",VLOOKUP($R1253,TAXONOMY!$A$1:$G$959,7,FALSE))","v":""},{"$f":"IF(ISBLANK($R1253)=TRUE,\"\",VLOOKUP($R1253,TAXONOMY!$A$1:$G$959,6,FALSE))","v":""},{"$f":"IF(ISBLANK($R1253)=TRUE,\"\",VLOOKUP($R1253,TAXONOMY!$A$1:$G$959,5,FALSE))","v":""},{"$f":"IF(ISBLANK($R1253)=TRUE,\"\",VLOOKUP($R1253,TAXONOMY!$A$1:$G$959,4,FALSE))","v":""},{"$f":"IF(ISBLANK($R1253)=TRUE,\"\",VLOOKUP($R1253,TAXONOMY!$A$1:$G$959,3,FALSE))","v":""},{"$f":"IF(ISBLANK($R1253)=TRUE,\"\",VLOOKUP($R1253,TAXONOMY!$A$1:$H$959,2,FALSE))","v":""}]
[null,null,null,null,null,null,null,null,null,null,null,{"$f":"IF(ISBLANK($R1254)=TRUE,\"\",VLOOKUP($R1254,TAXONOMY!$A$1:$G$959,7,FALSE))","v":""},{"$f":"IF(ISBLANK($R1254)=TRUE,\"\",VLOOKUP($R1254,TAXONOMY!$A$1:$G$959,6,FALSE))","v":""},{"$f":"IF(ISBLANK($R1254)=TRUE,\"\",VLOOKUP($R1254,TAXONOMY!$A$1:$G$959,5,FALSE))","v":""},{"$f":"IF(ISBLANK($R1254)=TRUE,\"\",VLOOKUP($R1254,TAXONOMY!$A$1:$G$959,4,FALSE))","v":""},{"$f":"IF(ISBLANK($R1254)=TRUE,\"\",VLOOKUP($R1254,TAXONOMY!$A$1:$G$959,3,FALSE))","v":""},{"$f":"IF(ISBLANK($R1254)=TRUE,\"\",VLOOKUP($R1254,TAXONOMY!$A$1:$H$959,2,FALSE))","v":""}]
[null,null,null,null,null,null,null,null,null,null,null,{"$f":"IF(ISBLANK($R1255)=TRUE,\"\",VLOOKUP($R1255,TAXONOMY!$A$1:$G$959,7,FALSE))","v":""},{"$f":"IF(ISBLANK($R1255)=TRUE,\"\",VLOOKUP($R1255,TAXONOMY!$A$1:$G$959,6,FALSE))","v":""},{"$f":"IF(ISBLANK($R1255)=TRUE,\"\",VLOOKUP($R1255,TAXONOMY!$A$1:$G$959,5,FALSE))","v":""},{"$f":"IF(ISBLANK($R1255)=TRUE,\"\",VLOOKUP($R1255,TAXONOMY!$A$1:$G$959,4,FALSE))","v":""},{"$f":"IF(ISBLANK($R1255)=TRUE,\"\",VLOOKUP($R1255,TAXONOMY!$A$1:$G$959,3,FALSE))","v":""},{"$f":"IF(ISBLANK($R1255)=TRUE,\"\",VLOOKUP($R1255,TAXONOMY!$A$1:$H$959,2,FALSE))","v":""}]
[null,null,null,null,null,null,null,null,null,null,null,{"$f":"IF(ISBLANK($R1256)=TRUE,\"\",VLOOKUP($R1256,TAXONOMY!$A$1:$G$959,7,FALSE))","v":""},{"$f":"IF(ISBLANK($R1256)=TRUE,\"\",VLOOKUP($R1256,TAXONOMY!$A$1:$G$959,6,FALSE))","v":""},{"$f":"IF(ISBLANK($R1256)=TRUE,\"\",VLOOKUP($R1256,TAXONOMY!$A$1:$G$959,5,FALSE))","v":""},{"$f":"IF(ISBLANK($R1256)=TRUE,\"\",VLOOKUP($R1256,TAXONOMY!$A$1:$G$959,4,FALSE))","v":""},{"$f":"IF(ISBLANK($R1256)=TRUE,\"\",VLOOKUP($R1256,TAXONOMY!$A$1:$G$959,3,FALSE))","v":""},{"$f":"IF(ISBLANK($R1256)=TRUE,\"\",VLOOKUP($R1256,TAXONOMY!$A$1:$H$959,2,FALSE))","v":""}]
[null,null,null,null,null,null,null,null,null,null,null,{"$f":"IF(ISBLANK($R1257)=TRUE,\"\",VLOOKUP($R1257,TAXONOMY!$A$1:$G$959,7,FALSE))","v":""},{"$f":"IF(ISBLANK($R1257)=TRUE,\"\",VLOOKUP($R1257,TAXONOMY!$A$1:$G$959,6,FALSE))","v":""},{"$f":"IF(ISBLANK($R1257)=TRUE,\"\",VLOOKUP($R1257,TAXONOMY!$A$1:$G$959,5,FALSE))","v":""},{"$f":"IF(ISBLANK($R1257)=TRUE,\"\",VLOOKUP($R1257,TAXONOMY!$A$1:$G$959,4,FALSE))","v":""},{"$f":"IF(ISBLANK($R1257)=TRUE,\"\",VLOOKUP($R1257,TAXONOMY!$A$1:$G$959,3,FALSE))","v":""},{"$f":"IF(ISBLANK($R1257)=TRUE,\"\",VLOOKUP($R1257,TAXONOMY!$A$1:$H$959,2,FALSE))","v":""}]
[null,null,null,null,null,null,null,null,null,null,null,{"$f":"IF(ISBLANK($R1258)=TRUE,\"\",VLOOKUP($R1258,TAXONOMY!$A$1:$G$959,7,FALSE))","v":""},{"$f":"IF(ISBLANK($R1258)=TRUE,\"\",VLOOKUP($R1258,TAXONOMY!$A$1:$G$959,6,FALSE))","v":""},{"$f":"IF(ISBLANK($R1258)=TRUE,\"\",VLOOKUP($R1258,TAXONOMY!$A$1:$G$959,5,FALSE))","v":""},{"$f":"IF(ISBLANK($R1258)=TRUE,\"\",VLOOKUP($R1258,TAXONOMY!$A$1:$G$959,4,FALSE))","v":""},{"$f":"IF(ISBLANK($R1258)=TRUE,\"\",VLOOKUP($R1258,TAXONOMY!$A$1:$G$959,3,FALSE))","v":""},{"$f":"IF(ISBLANK($R1258)=TRUE,\"\",VLOOKUP($R1258,TAXONOMY!$A$1:$H$959,2,FALSE))","v":""}]
[null,null,null,null,null,null,null,null,null,null,null,{"$f":"IF(ISBLANK($R1259)=TRUE,\"\",VLOOKUP($R1259,TAXONOMY!$A$1:$G$959,7,FALSE))","v":""},{"$f":"IF(ISBLANK($R1259)=TRUE,\"\",VLOOKUP($R1259,TAXONOMY!$A$1:$G$959,6,FALSE))","v":""},{"$f":"IF(ISBLANK($R1259)=TRUE,\"\",VLOOKUP($R1259,TAXONOMY!$A$1:$G$959,5,FALSE))","v":""},{"$f":"IF(ISBLANK($R1259)=TRUE,\"\",VLOOKUP($R1259,TAXONOMY!$A$1:$G$959,4,FALSE))","v":""},{"$f":"IF(ISBLANK($R1259)=TRUE,\"\",VLOOKUP($R1259,TAXONOMY!$A$1:$G$959,3,FALSE))","v":""},{"$f":"IF(ISBLANK($R1259)=TRUE,\"\",VLOOKUP($R1259,TAXONOMY!$A$1:$H$959,2,FALSE))","v":""}]
[null,null,null,null,null,null,null,null,null,null,null,{"$f":"IF(ISBLANK($R1260)=TRUE,\"\",VLOOKUP($R1260,TAXONOMY!$A$1:$G$959,7,FALSE))","v":""},{"$f":"IF(ISBLANK($R1260)=TRUE,\"\",VLOOKUP($R1260,TAXONOMY!$A$1:$G$959,6,FALSE))","v":""},{"$f":"IF(ISBLANK($R1260)=TRUE,\"\",VLOOKUP($R1260,TAXONOMY!$A$1:$G$959,5,FALSE))","v":""},{"$f":"IF(ISBLANK($R1260)=TRUE,\"\",VLOOKUP($R1260,TAXONOMY!$A$1:$G$959,4,FALSE))","v":""},{"$f":"IF(ISBLANK($R1260)=TRUE,\"\",VLOOKUP($R1260,TAXONOMY!$A$1:$G$959,3,FALSE))","v":""},{"$f":"IF(ISBLANK($R1260)=TRUE,\"\",VLOOKUP($R1260,TAXONOMY!$A$1:$H$959,2,FALSE))","v":""}]
[null,null,null,null,null,null,null,null,null,null,null,{"$f":"IF(ISBLANK($R1261)=TRUE,\"\",VLOOKUP($R1261,TAXONOMY!$A$1:$G$959,7,FALSE))","v":""},{"$f":"IF(ISBLANK($R1261)=TRUE,\"\",VLOOKUP($R1261,TAXONOMY!$A$1:$G$959,6,FALSE))","v":""},{"$f":"IF(ISBLANK($R1261)=TRUE,\"\",VLOOKUP($R1261,TAXONOMY!$A$1:$G$959,5,FALSE))","v":""},{"$f":"IF(ISBLANK($R1261)=TRUE,\"\",VLOOKUP($R1261,TAXONOMY!$A$1:$G$959,4,FALSE))","v":""},{"$f":"IF(ISBLANK($R1261)=TRUE,\"\",VLOOKUP($R1261,TAXONOMY!$A$1:$G$959,3,FALSE))","v":""},{"$f":"IF(ISBLANK($R1261)=TRUE,\"\",VLOOKUP($R1261,TAXONOMY!$A$1:$H$959,2,FALSE))","v":""}]
[null,null,null,null,null,null,null,null,null,null,null,{"$f":"IF(ISBLANK($R1262)=TRUE,\"\",VLOOKUP($R1262,TAXONOMY!$A$1:$G$959,7,FALSE))","v":""},{"$f":"IF(ISBLANK($R1262)=TRUE,\"\",VLOOKUP($R1262,TAXONOMY!$A$1:$G$959,6,FALSE))","v":""},{"$f":"IF(ISBLANK($R1262)=TRUE,\"\",VLOOKUP($R1262,TAXONOMY!$A$1:$G$959,5,FALSE))","v":""},{"$f":"IF(ISBLANK($R1262)=TRUE,\"\",VLOOKUP($R1262,TAXONOMY!$A$1:$G$959,4,FALSE))","v":""},{"$f":"IF(ISBLANK($R1262)=TRUE,\"\",VLOOKUP($R1262,TAXONOMY!$A$1:$G$959,3,FALSE))","v":""},{"$f":"IF(ISBLANK($R1262)=TRUE,\"\",VLOOKUP($R1262,TAXONOMY!$A$1:$H$959,2,FALSE))","v":""}]
[null,null,null,null,null,null,null,null,null,null,null,{"$f":"IF(ISBLANK($R1263)=TRUE,\"\",VLOOKUP($R1263,TAXONOMY!$A$1:$G$959,7,FALSE))","v":""},{"$f":"IF(ISBLANK($R1263)=TRUE,\"\",VLOOKUP($R1263,TAXONOMY!$A$1:$G$959,6,FALSE))","v":""},{"$f":"IF(ISBLANK($R1263)=TRUE,\"\",VLOOKUP($R1263,TAXONOMY!$A$1:$G$959,5,FALSE))","v":""},{"$f":"IF(ISBLANK($R1263)=TRUE,\"\",VLOOKUP($R1263,TAXONOMY!$A$1:$G$959,4,FALSE))","v":""},{"$f":"IF(ISBLANK($R1263)=TRUE,\"\",VLOOKUP($R1263,TAXONOMY!$A$1:$G$959,3,FALSE))","v":""},{"$f":"IF(ISBLANK($R1263)=TRUE,\"\",VLOOKUP($R1263,TAXONOMY!$A$1:$H$959,2,FALSE))","v":""}]
[null,null,null,null,null,null,null,null,null,null,null,{"$f":"IF(ISBLANK($R1264)=TRUE,\"\",VLOOKUP($R1264,TAXONOMY!$A$1:$G$959,7,FALSE))","v":""},{"$f":"IF(ISBLANK($R1264)=TRUE,\"\",VLOOKUP($R1264,TAXONOMY!$A$1:$G$959,6,FALSE))","v":""},{"$f":"IF(ISBLANK($R1264)=TRUE,\"\",VLOOKUP($R1264,TAXONOMY!$A$1:$G$959,5,FALSE))","v":""},{"$f":"IF(ISBLANK($R1264)=TRUE,\"\",VLOOKUP($R1264,TAXONOMY!$A$1:$G$959,4,FALSE))","v":""},{"$f":"IF(ISBLANK($R1264)=TRUE,\"\",VLOOKUP($R1264,TAXONOMY!$A$1:$G$959,3,FALSE))","v":""},{"$f":"IF(ISBLANK($R1264)=TRUE,\"\",VLOOKUP($R1264,TAXONOMY!$A$1:$H$959,2,FALSE))","v":""}]
[null,null,null,null,null,null,null,null,null,null,null,{"$f":"IF(ISBLANK($R1265)=TRUE,\"\",VLOOKUP($R1265,TAXONOMY!$A$1:$G$959,7,FALSE))","v":""},{"$f":"IF(ISBLANK($R1265)=TRUE,\"\",VLOOKUP($R1265,TAXONOMY!$A$1:$G$959,6,FALSE))","v":""},{"$f":"IF(ISBLANK($R1265)=TRUE,\"\",VLOOKUP($R1265,TAXONOMY!$A$1:$G$959,5,FALSE))","v":""},{"$f":"IF(ISBLANK($R1265)=TRUE,\"\",VLOOKUP($R1265,TAXONOMY!$A$1:$G$959,4,FALSE))","v":""},{"$f":"IF(ISBLANK($R1265)=TRUE,\"\",VLOOKUP($R1265,TAXONOMY!$A$1:$G$959,3,FALSE))","v":""},{"$f":"IF(ISBLANK($R1265)=TRUE,\"\",VLOOKUP($R1265,TAXONOMY!$A$1:$H$959,2,FALSE))","v":""}]
[null,null,null,null,null,null,null,null,null,null,null,{"$f":"IF(ISBLANK($R1266)=TRUE,\"\",VLOOKUP($R1266,TAXONOMY!$A$1:$G$959,7,FALSE))","v":""},{"$f":"IF(ISBLANK($R1266)=TRUE,\"\",VLOOKUP($R1266,TAXONOMY!$A$1:$G$959,6,FALSE))","v":""},{"$f":"IF(ISBLANK($R1266)=TRUE,\"\",VLOOKUP($R1266,TAXONOMY!$A$1:$G$959,5,FALSE))","v":""},{"$f":"IF(ISBLANK($R1266)=TRUE,\"\",VLOOKUP($R1266,TAXONOMY!$A$1:$G$959,4,FALSE))","v":""},{"$f":"IF(ISBLANK($R1266)=TRUE,\"\",VLOOKUP($R1266,TAXONOMY!$A$1:$G$959,3,FALSE))","v":""},{"$f":"IF(ISBLANK($R1266)=TRUE,\"\",VLOOKUP($R1266,TAXONOMY!$A$1:$H$959,2,FALSE))","v":""}]
[null,null,null,null,null,null,null,null,null,null,null,{"$f":"IF(ISBLANK($R1267)=TRUE,\"\",VLOOKUP($R1267,TAXONOMY!$A$1:$G$959,7,FALSE))","v":""},{"$f":"IF(ISBLANK($R1267)=TRUE,\"\",VLOOKUP($R1267,TAXONOMY!$A$1:$G$959,6,FALSE))","v":""},{"$f":"IF(ISBLANK($R1267)=TRUE,\"\",VLOOKUP($R1267,TAXONOMY!$A$1:$G$959,5,FALSE))","v":""},{"$f":"IF(ISBLANK($R1267)=TRUE,\"\",VLOOKUP($R1267,TAXONOMY!$A$1:$G$959,4,FALSE))","v":""},{"$f":"IF(ISBLANK($R1267)=TRUE,\"\",VLOOKUP($R1267,TAXONOMY!$A$1:$G$959,3,FALSE))","v":""},{"$f":"IF(ISBLANK($R1267)=TRUE,\"\",VLOOKUP($R1267,TAXONOMY!$A$1:$H$959,2,FALSE))","v":""}]
[null,null,null,null,null,null,null,null,null,null,null,{"$f":"IF(ISBLANK($R1268)=TRUE,\"\",VLOOKUP($R1268,TAXONOMY!$A$1:$G$959,7,FALSE))","v":""},{"$f":"IF(ISBLANK($R1268)=TRUE,\"\",VLOOKUP($R1268,TAXONOMY!$A$1:$G$959,6,FALSE))","v":""},{"$f":"IF(ISBLANK($R1268)=TRUE,\"\",VLOOKUP($R1268,TAXONOMY!$A$1:$G$959,5,FALSE))","v":""},{"$f":"IF(ISBLANK($R1268)=TRUE,\"\",VLOOKUP($R1268,TAXONOMY!$A$1:$G$959,4,FALSE))","v":""},{"$f":"IF(ISBLANK($R1268)=TRUE,\"\",VLOOKUP($R1268,TAXONOMY!$A$1:$G$959,3,FALSE))","v":""},{"$f":"IF(ISBLANK($R1268)=TRUE,\"\",VLOOKUP($R1268,TAXONOMY!$A$1:$H$959,2,FALSE))","v":""}]
[null,null,null,null,null,null,null,null,null,null,null,{"$f":"IF(ISBLANK($R1269)=TRUE,\"\",VLOOKUP($R1269,TAXONOMY!$A$1:$G$959,7,FALSE))","v":""},{"$f":"IF(ISBLANK($R1269)=TRUE,\"\",VLOOKUP($R1269,TAXONOMY!$A$1:$G$959,6,FALSE))","v":""},{"$f":"IF(ISBLANK($R1269)=TRUE,\"\",VLOOKUP($R1269,TAXONOMY!$A$1:$G$959,5,FALSE))","v":""},{"$f":"IF(ISBLANK($R1269)=TRUE,\"\",VLOOKUP($R1269,TAXONOMY!$A$1:$G$959,4,FALSE))","v":""},{"$f":"IF(ISBLANK($R1269)=TRUE,\"\",VLOOKUP($R1269,TAXONOMY!$A$1:$G$959,3,FALSE))","v":""},{"$f":"IF(ISBLANK($R1269)=TRUE,\"\",VLOOKUP($R1269,TAXONOMY!$A$1:$H$959,2,FALSE))","v":""}]
[null,null,null,null,null,null,null,null,null,null,null,{"$f":"IF(ISBLANK($R1270)=TRUE,\"\",VLOOKUP($R1270,TAXONOMY!$A$1:$G$959,7,FALSE))","v":""},{"$f":"IF(ISBLANK($R1270)=TRUE,\"\",VLOOKUP($R1270,TAXONOMY!$A$1:$G$959,6,FALSE))","v":""},{"$f":"IF(ISBLANK($R1270)=TRUE,\"\",VLOOKUP($R1270,TAXONOMY!$A$1:$G$959,5,FALSE))","v":""},{"$f":"IF(ISBLANK($R1270)=TRUE,\"\",VLOOKUP($R1270,TAXONOMY!$A$1:$G$959,4,FALSE))","v":""},{"$f":"IF(ISBLANK($R1270)=TRUE,\"\",VLOOKUP($R1270,TAXONOMY!$A$1:$G$959,3,FALSE))","v":""},{"$f":"IF(ISBLANK($R1270)=TRUE,\"\",VLOOKUP($R1270,TAXONOMY!$A$1:$H$959,2,FALSE))","v":""}]
[null,null,null,null,null,null,null,null,null,null,null,{"$f":"IF(ISBLANK($R1271)=TRUE,\"\",VLOOKUP($R1271,TAXONOMY!$A$1:$G$959,7,FALSE))","v":""},{"$f":"IF(ISBLANK($R1271)=TRUE,\"\",VLOOKUP($R1271,TAXONOMY!$A$1:$G$959,6,FALSE))","v":""},{"$f":"IF(ISBLANK($R1271)=TRUE,\"\",VLOOKUP($R1271,TAXONOMY!$A$1:$G$959,5,FALSE))","v":""},{"$f":"IF(ISBLANK($R1271)=TRUE,\"\",VLOOKUP($R1271,TAXONOMY!$A$1:$G$959,4,FALSE))","v":""},{"$f":"IF(ISBLANK($R1271)=TRUE,\"\",VLOOKUP($R1271,TAXONOMY!$A$1:$G$959,3,FALSE))","v":""},{"$f":"IF(ISBLANK($R1271)=TRUE,\"\",VLOOKUP($R1271,TAXONOMY!$A$1:$H$959,2,FALSE))","v":""}]
[null,null,null,null,null,null,null,null,null,null,null,{"$f":"IF(ISBLANK($R1272)=TRUE,\"\",VLOOKUP($R1272,TAXONOMY!$A$1:$G$959,7,FALSE))","v":""},{"$f":"IF(ISBLANK($R1272)=TRUE,\"\",VLOOKUP($R1272,TAXONOMY!$A$1:$G$959,6,FALSE))","v":""},{"$f":"IF(ISBLANK($R1272)=TRUE,\"\",VLOOKUP($R1272,TAXONOMY!$A$1:$G$959,5,FALSE))","v":""},{"$f":"IF(ISBLANK($R1272)=TRUE,\"\",VLOOKUP($R1272,TAXONOMY!$A$1:$G$959,4,FALSE))","v":""},{"$f":"IF(ISBLANK($R1272)=TRUE,\"\",VLOOKUP($R1272,TAXONOMY!$A$1:$G$959,3,FALSE))","v":""},{"$f":"IF(ISBLANK($R1272)=TRUE,\"\",VLOOKUP($R1272,TAXONOMY!$A$1:$H$959,2,FALSE))","v":""}]
[null,null,null,null,null,null,null,null,null,null,null,{"$f":"IF(ISBLANK($R1273)=TRUE,\"\",VLOOKUP($R1273,TAXONOMY!$A$1:$G$959,7,FALSE))","v":""},{"$f":"IF(ISBLANK($R1273)=TRUE,\"\",VLOOKUP($R1273,TAXONOMY!$A$1:$G$959,6,FALSE))","v":""},{"$f":"IF(ISBLANK($R1273)=TRUE,\"\",VLOOKUP($R1273,TAXONOMY!$A$1:$G$959,5,FALSE))","v":""},{"$f":"IF(ISBLANK($R1273)=TRUE,\"\",VLOOKUP($R1273,TAXONOMY!$A$1:$G$959,4,FALSE))","v":""},{"$f":"IF(ISBLANK($R1273)=TRUE,\"\",VLOOKUP($R1273,TAXONOMY!$A$1:$G$959,3,FALSE))","v":""},{"$f":"IF(ISBLANK($R1273)=TRUE,\"\",VLOOKUP($R1273,TAXONOMY!$A$1:$H$959,2,FALSE))","v":""}]
[null,null,null,null,null,null,null,null,null,null,null,{"$f":"IF(ISBLANK($R1274)=TRUE,\"\",VLOOKUP($R1274,TAXONOMY!$A$1:$G$959,7,FALSE))","v":""},{"$f":"IF(ISBLANK($R1274)=TRUE,\"\",VLOOKUP($R1274,TAXONOMY!$A$1:$G$959,6,FALSE))","v":""},{"$f":"IF(ISBLANK($R1274)=TRUE,\"\",VLOOKUP($R1274,TAXONOMY!$A$1:$G$959,5,FALSE))","v":""},{"$f":"IF(ISBLANK($R1274)=TRUE,\"\",VLOOKUP($R1274,TAXONOMY!$A$1:$G$959,4,FALSE))","v":""},{"$f":"IF(ISBLANK($R1274)=TRUE,\"\",VLOOKUP($R1274,TAXONOMY!$A$1:$G$959,3,FALSE))","v":""},{"$f":"IF(ISBLANK($R1274)=TRUE,\"\",VLOOKUP($R1274,TAXONOMY!$A$1:$H$959,2,FALSE))","v":""}]
[null,null,null,null,null,null,null,null,null,null,null,{"$f":"IF(ISBLANK($R1275)=TRUE,\"\",VLOOKUP($R1275,TAXONOMY!$A$1:$G$959,7,FALSE))","v":""},{"$f":"IF(ISBLANK($R1275)=TRUE,\"\",VLOOKUP($R1275,TAXONOMY!$A$1:$G$959,6,FALSE))","v":""},{"$f":"IF(ISBLANK($R1275)=TRUE,\"\",VLOOKUP($R1275,TAXONOMY!$A$1:$G$959,5,FALSE))","v":""},{"$f":"IF(ISBLANK($R1275)=TRUE,\"\",VLOOKUP($R1275,TAXONOMY!$A$1:$G$959,4,FALSE))","v":""},{"$f":"IF(ISBLANK($R1275)=TRUE,\"\",VLOOKUP($R1275,TAXONOMY!$A$1:$G$959,3,FALSE))","v":""},{"$f":"IF(ISBLANK($R1275)=TRUE,\"\",VLOOKUP($R1275,TAXONOMY!$A$1:$H$959,2,FALSE))","v":""}]
[null,null,null,null,null,null,null,null,null,null,null,{"$f":"IF(ISBLANK($R1276)=TRUE,\"\",VLOOKUP($R1276,TAXONOMY!$A$1:$G$959,7,FALSE))","v":""},{"$f":"IF(ISBLANK($R1276)=TRUE,\"\",VLOOKUP($R1276,TAXONOMY!$A$1:$G$959,6,FALSE))","v":""},{"$f":"IF(ISBLANK($R1276)=TRUE,\"\",VLOOKUP($R1276,TAXONOMY!$A$1:$G$959,5,FALSE))","v":""},{"$f":"IF(ISBLANK($R1276)=TRUE,\"\",VLOOKUP($R1276,TAXONOMY!$A$1:$G$959,4,FALSE))","v":""},{"$f":"IF(ISBLANK($R1276)=TRUE,\"\",VLOOKUP($R1276,TAXONOMY!$A$1:$G$959,3,FALSE))","v":""},{"$f":"IF(ISBLANK($R1276)=TRUE,\"\",VLOOKUP($R1276,TAXONOMY!$A$1:$H$959,2,FALSE))","v":""}]
[null,null,null,null,null,null,null,null,null,null,null,{"$f":"IF(ISBLANK($R1277)=TRUE,\"\",VLOOKUP($R1277,TAXONOMY!$A$1:$G$959,7,FALSE))","v":""},{"$f":"IF(ISBLANK($R1277)=TRUE,\"\",VLOOKUP($R1277,TAXONOMY!$A$1:$G$959,6,FALSE))","v":""},{"$f":"IF(ISBLANK($R1277)=TRUE,\"\",VLOOKUP($R1277,TAXONOMY!$A$1:$G$959,5,FALSE))","v":""},{"$f":"IF(ISBLANK($R1277)=TRUE,\"\",VLOOKUP($R1277,TAXONOMY!$A$1:$G$959,4,FALSE))","v":""},{"$f":"IF(ISBLANK($R1277)=TRUE,\"\",VLOOKUP($R1277,TAXONOMY!$A$1:$G$959,3,FALSE))","v":""},{"$f":"IF(ISBLANK($R1277)=TRUE,\"\",VLOOKUP($R1277,TAXONOMY!$A$1:$H$959,2,FALSE))","v":""}]
[null,null,null,null,null,null,null,null,null,null,null,{"$f":"IF(ISBLANK($R1278)=TRUE,\"\",VLOOKUP($R1278,TAXONOMY!$A$1:$G$959,7,FALSE))","v":""},{"$f":"IF(ISBLANK($R1278)=TRUE,\"\",VLOOKUP($R1278,TAXONOMY!$A$1:$G$959,6,FALSE))","v":""},{"$f":"IF(ISBLANK($R1278)=TRUE,\"\",VLOOKUP($R1278,TAXONOMY!$A$1:$G$959,5,FALSE))","v":""},{"$f":"IF(ISBLANK($R1278)=TRUE,\"\",VLOOKUP($R1278,TAXONOMY!$A$1:$G$959,4,FALSE))","v":""},{"$f":"IF(ISBLANK($R1278)=TRUE,\"\",VLOOKUP($R1278,TAXONOMY!$A$1:$G$959,3,FALSE))","v":""},{"$f":"IF(ISBLANK($R1278)=TRUE,\"\",VLOOKUP($R1278,TAXONOMY!$A$1:$H$959,2,FALSE))","v":""}]
[null,null,null,null,null,null,null,null,null,null,null,{"$f":"IF(ISBLANK($R1279)=TRUE,\"\",VLOOKUP($R1279,TAXONOMY!$A$1:$G$959,7,FALSE))","v":""},{"$f":"IF(ISBLANK($R1279)=TRUE,\"\",VLOOKUP($R1279,TAXONOMY!$A$1:$G$959,6,FALSE))","v":""},{"$f":"IF(ISBLANK($R1279)=TRUE,\"\",VLOOKUP($R1279,TAXONOMY!$A$1:$G$959,5,FALSE))","v":""},{"$f":"IF(ISBLANK($R1279)=TRUE,\"\",VLOOKUP($R1279,TAXONOMY!$A$1:$G$959,4,FALSE))","v":""},{"$f":"IF(ISBLANK($R1279)=TRUE,\"\",VLOOKUP($R1279,TAXONOMY!$A$1:$G$959,3,FALSE))","v":""},{"$f":"IF(ISBLANK($R1279)=TRUE,\"\",VLOOKUP($R1279,TAXONOMY!$A$1:$H$959,2,FALSE))","v":""}]
[null,null,null,null,null,null,null,null,null,null,null,{"$f":"IF(ISBLANK($R1280)=TRUE,\"\",VLOOKUP($R1280,TAXONOMY!$A$1:$G$959,7,FALSE))","v":""},{"$f":"IF(ISBLANK($R1280)=TRUE,\"\",VLOOKUP($R1280,TAXONOMY!$A$1:$G$959,6,FALSE))","v":""},{"$f":"IF(ISBLANK($R1280)=TRUE,\"\",VLOOKUP($R1280,TAXONOMY!$A$1:$G$959,5,FALSE))","v":""},{"$f":"IF(ISBLANK($R1280)=TRUE,\"\",VLOOKUP($R1280,TAXONOMY!$A$1:$G$959,4,FALSE))","v":""},{"$f":"IF(ISBLANK($R1280)=TRUE,\"\",VLOOKUP($R1280,TAXONOMY!$A$1:$G$959,3,FALSE))","v":""},{"$f":"IF(ISBLANK($R1280)=TRUE,\"\",VLOOKUP($R1280,TAXONOMY!$A$1:$H$959,2,FALSE))","v":""}]
[null,null,null,null,null,null,null,null,null,null,null,{"$f":"IF(ISBLANK($R1281)=TRUE,\"\",VLOOKUP($R1281,TAXONOMY!$A$1:$G$959,7,FALSE))","v":""},{"$f":"IF(ISBLANK($R1281)=TRUE,\"\",VLOOKUP($R1281,TAXONOMY!$A$1:$G$959,6,FALSE))","v":""},{"$f":"IF(ISBLANK($R1281)=TRUE,\"\",VLOOKUP($R1281,TAXONOMY!$A$1:$G$959,5,FALSE))","v":""},{"$f":"IF(ISBLANK($R1281)=TRUE,\"\",VLOOKUP($R1281,TAXONOMY!$A$1:$G$959,4,FALSE))","v":""},{"$f":"IF(ISBLANK($R1281)=TRUE,\"\",VLOOKUP($R1281,TAXONOMY!$A$1:$G$959,3,FALSE))","v":""},{"$f":"IF(ISBLANK($R1281)=TRUE,\"\",VLOOKUP($R1281,TAXONOMY!$A$1:$H$959,2,FALSE))","v":""}]
[null,null,null,null,null,null,null,null,null,null,null,{"$f":"IF(ISBLANK($R1282)=TRUE,\"\",VLOOKUP($R1282,TAXONOMY!$A$1:$G$959,7,FALSE))","v":""},{"$f":"IF(ISBLANK($R1282)=TRUE,\"\",VLOOKUP($R1282,TAXONOMY!$A$1:$G$959,6,FALSE))","v":""},{"$f":"IF(ISBLANK($R1282)=TRUE,\"\",VLOOKUP($R1282,TAXONOMY!$A$1:$G$959,5,FALSE))","v":""},{"$f":"IF(ISBLANK($R1282)=TRUE,\"\",VLOOKUP($R1282,TAXONOMY!$A$1:$G$959,4,FALSE))","v":""},{"$f":"IF(ISBLANK($R1282)=TRUE,\"\",VLOOKUP($R1282,TAXONOMY!$A$1:$G$959,3,FALSE))","v":""},{"$f":"IF(ISBLANK($R1282)=TRUE,\"\",VLOOKUP($R1282,TAXONOMY!$A$1:$H$959,2,FALSE))","v":""}]
[null,null,null,null,null,null,null,null,null,null,null,{"$f":"IF(ISBLANK($R1283)=TRUE,\"\",VLOOKUP($R1283,TAXONOMY!$A$1:$G$959,7,FALSE))","v":""},{"$f":"IF(ISBLANK($R1283)=TRUE,\"\",VLOOKUP($R1283,TAXONOMY!$A$1:$G$959,6,FALSE))","v":""},{"$f":"IF(ISBLANK($R1283)=TRUE,\"\",VLOOKUP($R1283,TAXONOMY!$A$1:$G$959,5,FALSE))","v":""},{"$f":"IF(ISBLANK($R1283)=TRUE,\"\",VLOOKUP($R1283,TAXONOMY!$A$1:$G$959,4,FALSE))","v":""},{"$f":"IF(ISBLANK($R1283)=TRUE,\"\",VLOOKUP($R1283,TAXONOMY!$A$1:$G$959,3,FALSE))","v":""},{"$f":"IF(ISBLANK($R1283)=TRUE,\"\",VLOOKUP($R1283,TAXONOMY!$A$1:$H$959,2,FALSE))","v":""}]
[null,null,null,null,null,null,null,null,null,null,null,{"$f":"IF(ISBLANK($R1284)=TRUE,\"\",VLOOKUP($R1284,TAXONOMY!$A$1:$G$959,7,FALSE))","v":""},{"$f":"IF(ISBLANK($R1284)=TRUE,\"\",VLOOKUP($R1284,TAXONOMY!$A$1:$G$959,6,FALSE))","v":""},{"$f":"IF(ISBLANK($R1284)=TRUE,\"\",VLOOKUP($R1284,TAXONOMY!$A$1:$G$959,5,FALSE))","v":""},{"$f":"IF(ISBLANK($R1284)=TRUE,\"\",VLOOKUP($R1284,TAXONOMY!$A$1:$G$959,4,FALSE))","v":""},{"$f":"IF(ISBLANK($R1284)=TRUE,\"\",VLOOKUP($R1284,TAXONOMY!$A$1:$G$959,3,FALSE))","v":""},{"$f":"IF(ISBLANK($R1284)=TRUE,\"\",VLOOKUP($R1284,TAXONOMY!$A$1:$H$959,2,FALSE))","v":""}]
[null,null,null,null,null,null,null,null,null,null,null,{"$f":"IF(ISBLANK($R1285)=TRUE,\"\",VLOOKUP($R1285,TAXONOMY!$A$1:$G$959,7,FALSE))","v":""},{"$f":"IF(ISBLANK($R1285)=TRUE,\"\",VLOOKUP($R1285,TAXONOMY!$A$1:$G$959,6,FALSE))","v":""},{"$f":"IF(ISBLANK($R1285)=TRUE,\"\",VLOOKUP($R1285,TAXONOMY!$A$1:$G$959,5,FALSE))","v":""},{"$f":"IF(ISBLANK($R1285)=TRUE,\"\",VLOOKUP($R1285,TAXONOMY!$A$1:$G$959,4,FALSE))","v":""},{"$f":"IF(ISBLANK($R1285)=TRUE,\"\",VLOOKUP($R1285,TAXONOMY!$A$1:$G$959,3,FALSE))","v":""},{"$f":"IF(ISBLANK($R1285)=TRUE,\"\",VLOOKUP($R1285,TAXONOMY!$A$1:$H$959,2,FALSE))","v":""}]
[null,null,null,null,null,null,null,null,null,null,null,{"$f":"IF(ISBLANK($R1286)=TRUE,\"\",VLOOKUP($R1286,TAXONOMY!$A$1:$G$959,7,FALSE))","v":""},{"$f":"IF(ISBLANK($R1286)=TRUE,\"\",VLOOKUP($R1286,TAXONOMY!$A$1:$G$959,6,FALSE))","v":""},{"$f":"IF(ISBLANK($R1286)=TRUE,\"\",VLOOKUP($R1286,TAXONOMY!$A$1:$G$959,5,FALSE))","v":""},{"$f":"IF(ISBLANK($R1286)=TRUE,\"\",VLOOKUP($R1286,TAXONOMY!$A$1:$G$959,4,FALSE))","v":""},{"$f":"IF(ISBLANK($R1286)=TRUE,\"\",VLOOKUP($R1286,TAXONOMY!$A$1:$G$959,3,FALSE))","v":""},{"$f":"IF(ISBLANK($R1286)=TRUE,\"\",VLOOKUP($R1286,TAXONOMY!$A$1:$H$959,2,FALSE))","v":""}]
[null,null,null,null,null,null,null,null,null,null,null,{"$f":"IF(ISBLANK($R1287)=TRUE,\"\",VLOOKUP($R1287,TAXONOMY!$A$1:$G$959,7,FALSE))","v":""},{"$f":"IF(ISBLANK($R1287)=TRUE,\"\",VLOOKUP($R1287,TAXONOMY!$A$1:$G$959,6,FALSE))","v":""},{"$f":"IF(ISBLANK($R1287)=TRUE,\"\",VLOOKUP($R1287,TAXONOMY!$A$1:$G$959,5,FALSE))","v":""},{"$f":"IF(ISBLANK($R1287)=TRUE,\"\",VLOOKUP($R1287,TAXONOMY!$A$1:$G$959,4,FALSE))","v":""},{"$f":"IF(ISBLANK($R1287)=TRUE,\"\",VLOOKUP($R1287,TAXONOMY!$A$1:$G$959,3,FALSE))","v":""},{"$f":"IF(ISBLANK($R1287)=TRUE,\"\",VLOOKUP($R1287,TAXONOMY!$A$1:$H$959,2,FALSE))","v":""}]
[null,null,null,null,null,null,null,null,null,null,null,{"$f":"IF(ISBLANK($R1288)=TRUE,\"\",VLOOKUP($R1288,TAXONOMY!$A$1:$G$959,7,FALSE))","v":""},{"$f":"IF(ISBLANK($R1288)=TRUE,\"\",VLOOKUP($R1288,TAXONOMY!$A$1:$G$959,6,FALSE))","v":""},{"$f":"IF(ISBLANK($R1288)=TRUE,\"\",VLOOKUP($R1288,TAXONOMY!$A$1:$G$959,5,FALSE))","v":""},{"$f":"IF(ISBLANK($R1288)=TRUE,\"\",VLOOKUP($R1288,TAXONOMY!$A$1:$G$959,4,FALSE))","v":""},{"$f":"IF(ISBLANK($R1288)=TRUE,\"\",VLOOKUP($R1288,TAXONOMY!$A$1:$G$959,3,FALSE))","v":""},{"$f":"IF(ISBLANK($R1288)=TRUE,\"\",VLOOKUP($R1288,TAXONOMY!$A$1:$H$959,2,FALSE))","v":""}]
[null,null,null,null,null,null,null,null,null,null,null,{"$f":"IF(ISBLANK($R1289)=TRUE,\"\",VLOOKUP($R1289,TAXONOMY!$A$1:$G$959,7,FALSE))","v":""},{"$f":"IF(ISBLANK($R1289)=TRUE,\"\",VLOOKUP($R1289,TAXONOMY!$A$1:$G$959,6,FALSE))","v":""},{"$f":"IF(ISBLANK($R1289)=TRUE,\"\",VLOOKUP($R1289,TAXONOMY!$A$1:$G$959,5,FALSE))","v":""},{"$f":"IF(ISBLANK($R1289)=TRUE,\"\",VLOOKUP($R1289,TAXONOMY!$A$1:$G$959,4,FALSE))","v":""},{"$f":"IF(ISBLANK($R1289)=TRUE,\"\",VLOOKUP($R1289,TAXONOMY!$A$1:$G$959,3,FALSE))","v":""},{"$f":"IF(ISBLANK($R1289)=TRUE,\"\",VLOOKUP($R1289,TAXONOMY!$A$1:$H$959,2,FALSE))","v":""}]
[null,null,null,null,null,null,null,null,null,null,null,{"$f":"IF(ISBLANK($R1290)=TRUE,\"\",VLOOKUP($R1290,TAXONOMY!$A$1:$G$959,7,FALSE))","v":""},{"$f":"IF(ISBLANK($R1290)=TRUE,\"\",VLOOKUP($R1290,TAXONOMY!$A$1:$G$959,6,FALSE))","v":""},{"$f":"IF(ISBLANK($R1290)=TRUE,\"\",VLOOKUP($R1290,TAXONOMY!$A$1:$G$959,5,FALSE))","v":""},{"$f":"IF(ISBLANK($R1290)=TRUE,\"\",VLOOKUP($R1290,TAXONOMY!$A$1:$G$959,4,FALSE))","v":""},{"$f":"IF(ISBLANK($R1290)=TRUE,\"\",VLOOKUP($R1290,TAXONOMY!$A$1:$G$959,3,FALSE))","v":""},{"$f":"IF(ISBLANK($R1290)=TRUE,\"\",VLOOKUP($R1290,TAXONOMY!$A$1:$H$959,2,FALSE))","v":""}]
[null,null,null,null,null,null,null,null,null,null,null,{"$f":"IF(ISBLANK($R1291)=TRUE,\"\",VLOOKUP($R1291,TAXONOMY!$A$1:$G$959,7,FALSE))","v":""},{"$f":"IF(ISBLANK($R1291)=TRUE,\"\",VLOOKUP($R1291,TAXONOMY!$A$1:$G$959,6,FALSE))","v":""},{"$f":"IF(ISBLANK($R1291)=TRUE,\"\",VLOOKUP($R1291,TAXONOMY!$A$1:$G$959,5,FALSE))","v":""},{"$f":"IF(ISBLANK($R1291)=TRUE,\"\",VLOOKUP($R1291,TAXONOMY!$A$1:$G$959,4,FALSE))","v":""},{"$f":"IF(ISBLANK($R1291)=TRUE,\"\",VLOOKUP($R1291,TAXONOMY!$A$1:$G$959,3,FALSE))","v":""},{"$f":"IF(ISBLANK($R1291)=TRUE,\"\",VLOOKUP($R1291,TAXONOMY!$A$1:$H$959,2,FALSE))","v":""}]
[null,null,null,null,null,null,null,null,null,null,null,{"$f":"IF(ISBLANK($R1292)=TRUE,\"\",VLOOKUP($R1292,TAXONOMY!$A$1:$G$959,7,FALSE))","v":""},{"$f":"IF(ISBLANK($R1292)=TRUE,\"\",VLOOKUP($R1292,TAXONOMY!$A$1:$G$959,6,FALSE))","v":""},{"$f":"IF(ISBLANK($R1292)=TRUE,\"\",VLOOKUP($R1292,TAXONOMY!$A$1:$G$959,5,FALSE))","v":""},{"$f":"IF(ISBLANK($R1292)=TRUE,\"\",VLOOKUP($R1292,TAXONOMY!$A$1:$G$959,4,FALSE))","v":""},{"$f":"IF(ISBLANK($R1292)=TRUE,\"\",VLOOKUP($R1292,TAXONOMY!$A$1:$G$959,3,FALSE))","v":""},{"$f":"IF(ISBLANK($R1292)=TRUE,\"\",VLOOKUP($R1292,TAXONOMY!$A$1:$H$959,2,FALSE))","v":""}]
[null,null,null,null,null,null,null,null,null,null,null,{"$f":"IF(ISBLANK($R1293)=TRUE,\"\",VLOOKUP($R1293,TAXONOMY!$A$1:$G$959,7,FALSE))","v":""},{"$f":"IF(ISBLANK($R1293)=TRUE,\"\",VLOOKUP($R1293,TAXONOMY!$A$1:$G$959,6,FALSE))","v":""},{"$f":"IF(ISBLANK($R1293)=TRUE,\"\",VLOOKUP($R1293,TAXONOMY!$A$1:$G$959,5,FALSE))","v":""},{"$f":"IF(ISBLANK($R1293)=TRUE,\"\",VLOOKUP($R1293,TAXONOMY!$A$1:$G$959,4,FALSE))","v":""},{"$f":"IF(ISBLANK($R1293)=TRUE,\"\",VLOOKUP($R1293,TAXONOMY!$A$1:$G$959,3,FALSE))","v":""},{"$f":"IF(ISBLANK($R1293)=TRUE,\"\",VLOOKUP($R1293,TAXONOMY!$A$1:$H$959,2,FALSE))","v":""}]
[null,null,null,null,null,null,null,null,null,null,null,{"$f":"IF(ISBLANK($R1294)=TRUE,\"\",VLOOKUP($R1294,TAXONOMY!$A$1:$G$959,7,FALSE))","v":""},{"$f":"IF(ISBLANK($R1294)=TRUE,\"\",VLOOKUP($R1294,TAXONOMY!$A$1:$G$959,6,FALSE))","v":""},{"$f":"IF(ISBLANK($R1294)=TRUE,\"\",VLOOKUP($R1294,TAXONOMY!$A$1:$G$959,5,FALSE))","v":""},{"$f":"IF(ISBLANK($R1294)=TRUE,\"\",VLOOKUP($R1294,TAXONOMY!$A$1:$G$959,4,FALSE))","v":""},{"$f":"IF(ISBLANK($R1294)=TRUE,\"\",VLOOKUP($R1294,TAXONOMY!$A$1:$G$959,3,FALSE))","v":""},{"$f":"IF(ISBLANK($R1294)=TRUE,\"\",VLOOKUP($R1294,TAXONOMY!$A$1:$H$959,2,FALSE))","v":""}]
[null,null,null,null,null,null,null,null,null,null,null,{"$f":"IF(ISBLANK($R1295)=TRUE,\"\",VLOOKUP($R1295,TAXONOMY!$A$1:$G$959,7,FALSE))","v":""},{"$f":"IF(ISBLANK($R1295)=TRUE,\"\",VLOOKUP($R1295,TAXONOMY!$A$1:$G$959,6,FALSE))","v":""},{"$f":"IF(ISBLANK($R1295)=TRUE,\"\",VLOOKUP($R1295,TAXONOMY!$A$1:$G$959,5,FALSE))","v":""},{"$f":"IF(ISBLANK($R1295)=TRUE,\"\",VLOOKUP($R1295,TAXONOMY!$A$1:$G$959,4,FALSE))","v":""},{"$f":"IF(ISBLANK($R1295)=TRUE,\"\",VLOOKUP($R1295,TAXONOMY!$A$1:$G$959,3,FALSE))","v":""},{"$f":"IF(ISBLANK($R1295)=TRUE,\"\",VLOOKUP($R1295,TAXONOMY!$A$1:$H$959,2,FALSE))","v":""}]
[null,null,null,null,null,null,null,null,null,null,null,{"$f":"IF(ISBLANK($R1296)=TRUE,\"\",VLOOKUP($R1296,TAXONOMY!$A$1:$G$959,7,FALSE))","v":""},{"$f":"IF(ISBLANK($R1296)=TRUE,\"\",VLOOKUP($R1296,TAXONOMY!$A$1:$G$959,6,FALSE))","v":""},{"$f":"IF(ISBLANK($R1296)=TRUE,\"\",VLOOKUP($R1296,TAXONOMY!$A$1:$G$959,5,FALSE))","v":""},{"$f":"IF(ISBLANK($R1296)=TRUE,\"\",VLOOKUP($R1296,TAXONOMY!$A$1:$G$959,4,FALSE))","v":""},{"$f":"IF(ISBLANK($R1296)=TRUE,\"\",VLOOKUP($R1296,TAXONOMY!$A$1:$G$959,3,FALSE))","v":""},{"$f":"IF(ISBLANK($R1296)=TRUE,\"\",VLOOKUP($R1296,TAXONOMY!$A$1:$H$959,2,FALSE))","v":""}]
[null,null,null,null,null,null,null,null,null,null,null,{"$f":"IF(ISBLANK($R1297)=TRUE,\"\",VLOOKUP($R1297,TAXONOMY!$A$1:$G$959,7,FALSE))","v":""},{"$f":"IF(ISBLANK($R1297)=TRUE,\"\",VLOOKUP($R1297,TAXONOMY!$A$1:$G$959,6,FALSE))","v":""},{"$f":"IF(ISBLANK($R1297)=TRUE,\"\",VLOOKUP($R1297,TAXONOMY!$A$1:$G$959,5,FALSE))","v":""},{"$f":"IF(ISBLANK($R1297)=TRUE,\"\",VLOOKUP($R1297,TAXONOMY!$A$1:$G$959,4,FALSE))","v":""},{"$f":"IF(ISBLANK($R1297)=TRUE,\"\",VLOOKUP($R1297,TAXONOMY!$A$1:$G$959,3,FALSE))","v":""},{"$f":"IF(ISBLANK($R1297)=TRUE,\"\",VLOOKUP($R1297,TAXONOMY!$A$1:$H$959,2,FALSE))","v":""}]
[null,null,null,null,null,null,null,null,null,null,null,{"$f":"IF(ISBLANK($R1298)=TRUE,\"\",VLOOKUP($R1298,TAXONOMY!$A$1:$G$959,7,FALSE))","v":""},{"$f":"IF(ISBLANK($R1298)=TRUE,\"\",VLOOKUP($R1298,TAXONOMY!$A$1:$G$959,6,FALSE))","v":""},{"$f":"IF(ISBLANK($R1298)=TRUE,\"\",VLOOKUP($R1298,TAXONOMY!$A$1:$G$959,5,FALSE))","v":""},{"$f":"IF(ISBLANK($R1298)=TRUE,\"\",VLOOKUP($R1298,TAXONOMY!$A$1:$G$959,4,FALSE))","v":""},{"$f":"IF(ISBLANK($R1298)=TRUE,\"\",VLOOKUP($R1298,TAXONOMY!$A$1:$G$959,3,FALSE))","v":""},{"$f":"IF(ISBLANK($R1298)=TRUE,\"\",VLOOKUP($R1298,TAXONOMY!$A$1:$H$959,2,FALSE))","v":""}]
[null,null,null,null,null,null,null,null,null,null,null,{"$f":"IF(ISBLANK($R1299)=TRUE,\"\",VLOOKUP($R1299,TAXONOMY!$A$1:$G$959,7,FALSE))","v":""},{"$f":"IF(ISBLANK($R1299)=TRUE,\"\",VLOOKUP($R1299,TAXONOMY!$A$1:$G$959,6,FALSE))","v":""},{"$f":"IF(ISBLANK($R1299)=TRUE,\"\",VLOOKUP($R1299,TAXONOMY!$A$1:$G$959,5,FALSE))","v":""},{"$f":"IF(ISBLANK($R1299)=TRUE,\"\",VLOOKUP($R1299,TAXONOMY!$A$1:$G$959,4,FALSE))","v":""},{"$f":"IF(ISBLANK($R1299)=TRUE,\"\",VLOOKUP($R1299,TAXONOMY!$A$1:$G$959,3,FALSE))","v":""},{"$f":"IF(ISBLANK($R1299)=TRUE,\"\",VLOOKUP($R1299,TAXONOMY!$A$1:$H$959,2,FALSE))","v":""}]
[null,null,null,null,null,null,null,null,null,null,null,{"$f":"IF(ISBLANK($R1300)=TRUE,\"\",VLOOKUP($R1300,TAXONOMY!$A$1:$G$959,7,FALSE))","v":""},{"$f":"IF(ISBLANK($R1300)=TRUE,\"\",VLOOKUP($R1300,TAXONOMY!$A$1:$G$959,6,FALSE))","v":""},{"$f":"IF(ISBLANK($R1300)=TRUE,\"\",VLOOKUP($R1300,TAXONOMY!$A$1:$G$959,5,FALSE))","v":""},{"$f":"IF(ISBLANK($R1300)=TRUE,\"\",VLOOKUP($R1300,TAXONOMY!$A$1:$G$959,4,FALSE))","v":""},{"$f":"IF(ISBLANK($R1300)=TRUE,\"\",VLOOKUP($R1300,TAXONOMY!$A$1:$G$959,3,FALSE))","v":""},{"$f":"IF(ISBLANK($R1300)=TRUE,\"\",VLOOKUP($R1300,TAXONOMY!$A$1:$H$959,2,FALSE))","v":""}]
[null,null,null,null,null,null,null,null,null,null,null,{"$f":"IF(ISBLANK($R1301)=TRUE,\"\",VLOOKUP($R1301,TAXONOMY!$A$1:$G$959,7,FALSE))","v":""},{"$f":"IF(ISBLANK($R1301)=TRUE,\"\",VLOOKUP($R1301,TAXONOMY!$A$1:$G$959,6,FALSE))","v":""},{"$f":"IF(ISBLANK($R1301)=TRUE,\"\",VLOOKUP($R1301,TAXONOMY!$A$1:$G$959,5,FALSE))","v":""},{"$f":"IF(ISBLANK($R1301)=TRUE,\"\",VLOOKUP($R1301,TAXONOMY!$A$1:$G$959,4,FALSE))","v":""},{"$f":"IF(ISBLANK($R1301)=TRUE,\"\",VLOOKUP($R1301,TAXONOMY!$A$1:$G$959,3,FALSE))","v":""},{"$f":"IF(ISBLANK($R1301)=TRUE,\"\",VLOOKUP($R1301,TAXONOMY!$A$1:$H$959,2,FALSE))","v":""}]
[null,null,null,null,null,null,null,null,null,null,null,{"$f":"IF(ISBLANK($R1302)=TRUE,\"\",VLOOKUP($R1302,TAXONOMY!$A$1:$G$959,7,FALSE))","v":""},{"$f":"IF(ISBLANK($R1302)=TRUE,\"\",VLOOKUP($R1302,TAXONOMY!$A$1:$G$959,6,FALSE))","v":""},{"$f":"IF(ISBLANK($R1302)=TRUE,\"\",VLOOKUP($R1302,TAXONOMY!$A$1:$G$959,5,FALSE))","v":""},{"$f":"IF(ISBLANK($R1302)=TRUE,\"\",VLOOKUP($R1302,TAXONOMY!$A$1:$G$959,4,FALSE))","v":""},{"$f":"IF(ISBLANK($R1302)=TRUE,\"\",VLOOKUP($R1302,TAXONOMY!$A$1:$G$959,3,FALSE))","v":""},{"$f":"IF(ISBLANK($R1302)=TRUE,\"\",VLOOKUP($R1302,TAXONOMY!$A$1:$H$959,2,FALSE))","v":""}]
[null,null,null,null,null,null,null,null,null,null,null,{"$f":"IF(ISBLANK($R1303)=TRUE,\"\",VLOOKUP($R1303,TAXONOMY!$A$1:$G$959,7,FALSE))","v":""},{"$f":"IF(ISBLANK($R1303)=TRUE,\"\",VLOOKUP($R1303,TAXONOMY!$A$1:$G$959,6,FALSE))","v":""},{"$f":"IF(ISBLANK($R1303)=TRUE,\"\",VLOOKUP($R1303,TAXONOMY!$A$1:$G$959,5,FALSE))","v":""},{"$f":"IF(ISBLANK($R1303)=TRUE,\"\",VLOOKUP($R1303,TAXONOMY!$A$1:$G$959,4,FALSE))","v":""},{"$f":"IF(ISBLANK($R1303)=TRUE,\"\",VLOOKUP($R1303,TAXONOMY!$A$1:$G$959,3,FALSE))","v":""},{"$f":"IF(ISBLANK($R1303)=TRUE,\"\",VLOOKUP($R1303,TAXONOMY!$A$1:$H$959,2,FALSE))","v":""}]
[null,null,null,null,null,null,null,null,null,null,null,{"$f":"IF(ISBLANK($R1304)=TRUE,\"\",VLOOKUP($R1304,TAXONOMY!$A$1:$G$959,7,FALSE))","v":""},{"$f":"IF(ISBLANK($R1304)=TRUE,\"\",VLOOKUP($R1304,TAXONOMY!$A$1:$G$959,6,FALSE))","v":""},{"$f":"IF(ISBLANK($R1304)=TRUE,\"\",VLOOKUP($R1304,TAXONOMY!$A$1:$G$959,5,FALSE))","v":""},{"$f":"IF(ISBLANK($R1304)=TRUE,\"\",VLOOKUP($R1304,TAXONOMY!$A$1:$G$959,4,FALSE))","v":""},{"$f":"IF(ISBLANK($R1304)=TRUE,\"\",VLOOKUP($R1304,TAXONOMY!$A$1:$G$959,3,FALSE))","v":""},{"$f":"IF(ISBLANK($R1304)=TRUE,\"\",VLOOKUP($R1304,TAXONOMY!$A$1:$H$959,2,FALSE))","v":""}]
[null,null,null,null,null,null,null,null,null,null,null,{"$f":"IF(ISBLANK($R1305)=TRUE,\"\",VLOOKUP($R1305,TAXONOMY!$A$1:$G$959,7,FALSE))","v":""},{"$f":"IF(ISBLANK($R1305)=TRUE,\"\",VLOOKUP($R1305,TAXONOMY!$A$1:$G$959,6,FALSE))","v":""},{"$f":"IF(ISBLANK($R1305)=TRUE,\"\",VLOOKUP($R1305,TAXONOMY!$A$1:$G$959,5,FALSE))","v":""},{"$f":"IF(ISBLANK($R1305)=TRUE,\"\",VLOOKUP($R1305,TAXONOMY!$A$1:$G$959,4,FALSE))","v":""},{"$f":"IF(ISBLANK($R1305)=TRUE,\"\",VLOOKUP($R1305,TAXONOMY!$A$1:$G$959,3,FALSE))","v":""},{"$f":"IF(ISBLANK($R1305)=TRUE,\"\",VLOOKUP($R1305,TAXONOMY!$A$1:$H$959,2,FALSE))","v":""}]
[null,null,null,null,null,null,null,null,null,null,null,{"$f":"IF(ISBLANK($R1306)=TRUE,\"\",VLOOKUP($R1306,TAXONOMY!$A$1:$G$959,7,FALSE))","v":""},{"$f":"IF(ISBLANK($R1306)=TRUE,\"\",VLOOKUP($R1306,TAXONOMY!$A$1:$G$959,6,FALSE))","v":""},{"$f":"IF(ISBLANK($R1306)=TRUE,\"\",VLOOKUP($R1306,TAXONOMY!$A$1:$G$959,5,FALSE))","v":""},{"$f":"IF(ISBLANK($R1306)=TRUE,\"\",VLOOKUP($R1306,TAXONOMY!$A$1:$G$959,4,FALSE))","v":""},{"$f":"IF(ISBLANK($R1306)=TRUE,\"\",VLOOKUP($R1306,TAXONOMY!$A$1:$G$959,3,FALSE))","v":""},{"$f":"IF(ISBLANK($R1306)=TRUE,\"\",VLOOKUP($R1306,TAXONOMY!$A$1:$H$959,2,FALSE))","v":""}]
[null,null,null,null,null,null,null,null,null,null,null,{"$f":"IF(ISBLANK($R1307)=TRUE,\"\",VLOOKUP($R1307,TAXONOMY!$A$1:$G$959,7,FALSE))","v":""},{"$f":"IF(ISBLANK($R1307)=TRUE,\"\",VLOOKUP($R1307,TAXONOMY!$A$1:$G$959,6,FALSE))","v":""},{"$f":"IF(ISBLANK($R1307)=TRUE,\"\",VLOOKUP($R1307,TAXONOMY!$A$1:$G$959,5,FALSE))","v":""},{"$f":"IF(ISBLANK($R1307)=TRUE,\"\",VLOOKUP($R1307,TAXONOMY!$A$1:$G$959,4,FALSE))","v":""},{"$f":"IF(ISBLANK($R1307)=TRUE,\"\",VLOOKUP($R1307,TAXONOMY!$A$1:$G$959,3,FALSE))","v":""},{"$f":"IF(ISBLANK($R1307)=TRUE,\"\",VLOOKUP($R1307,TAXONOMY!$A$1:$H$959,2,FALSE))","v":""}]
[null,null,null,null,null,null,null,null,null,null,null,{"$f":"IF(ISBLANK($R1308)=TRUE,\"\",VLOOKUP($R1308,TAXONOMY!$A$1:$G$959,7,FALSE))","v":""},{"$f":"IF(ISBLANK($R1308)=TRUE,\"\",VLOOKUP($R1308,TAXONOMY!$A$1:$G$959,6,FALSE))","v":""},{"$f":"IF(ISBLANK($R1308)=TRUE,\"\",VLOOKUP($R1308,TAXONOMY!$A$1:$G$959,5,FALSE))","v":""},{"$f":"IF(ISBLANK($R1308)=TRUE,\"\",VLOOKUP($R1308,TAXONOMY!$A$1:$G$959,4,FALSE))","v":""},{"$f":"IF(ISBLANK($R1308)=TRUE,\"\",VLOOKUP($R1308,TAXONOMY!$A$1:$G$959,3,FALSE))","v":""},{"$f":"IF(ISBLANK($R1308)=TRUE,\"\",VLOOKUP($R1308,TAXONOMY!$A$1:$H$959,2,FALSE))","v":""}]
[null,null,null,null,null,null,null,null,null,null,null,{"$f":"IF(ISBLANK($R1309)=TRUE,\"\",VLOOKUP($R1309,TAXONOMY!$A$1:$G$959,7,FALSE))","v":""},{"$f":"IF(ISBLANK($R1309)=TRUE,\"\",VLOOKUP($R1309,TAXONOMY!$A$1:$G$959,6,FALSE))","v":""},{"$f":"IF(ISBLANK($R1309)=TRUE,\"\",VLOOKUP($R1309,TAXONOMY!$A$1:$G$959,5,FALSE))","v":""},{"$f":"IF(ISBLANK($R1309)=TRUE,\"\",VLOOKUP($R1309,TAXONOMY!$A$1:$G$959,4,FALSE))","v":""},{"$f":"IF(ISBLANK($R1309)=TRUE,\"\",VLOOKUP($R1309,TAXONOMY!$A$1:$G$959,3,FALSE))","v":""},{"$f":"IF(ISBLANK($R1309)=TRUE,\"\",VLOOKUP($R1309,TAXONOMY!$A$1:$H$959,2,FALSE))","v":""}]
[null,null,null,null,null,null,null,null,null,null,null,{"$f":"IF(ISBLANK($R1310)=TRUE,\"\",VLOOKUP($R1310,TAXONOMY!$A$1:$G$959,7,FALSE))","v":""},{"$f":"IF(ISBLANK($R1310)=TRUE,\"\",VLOOKUP($R1310,TAXONOMY!$A$1:$G$959,6,FALSE))","v":""},{"$f":"IF(ISBLANK($R1310)=TRUE,\"\",VLOOKUP($R1310,TAXONOMY!$A$1:$G$959,5,FALSE))","v":""},{"$f":"IF(ISBLANK($R1310)=TRUE,\"\",VLOOKUP($R1310,TAXONOMY!$A$1:$G$959,4,FALSE))","v":""},{"$f":"IF(ISBLANK($R1310)=TRUE,\"\",VLOOKUP($R1310,TAXONOMY!$A$1:$G$959,3,FALSE))","v":""},{"$f":"IF(ISBLANK($R1310)=TRUE,\"\",VLOOKUP($R1310,TAXONOMY!$A$1:$H$959,2,FALSE))","v":""}]
[null,null,null,null,null,null,null,null,null,null,null,{"$f":"IF(ISBLANK($R1311)=TRUE,\"\",VLOOKUP($R1311,TAXONOMY!$A$1:$G$959,7,FALSE))","v":""},{"$f":"IF(ISBLANK($R1311)=TRUE,\"\",VLOOKUP($R1311,TAXONOMY!$A$1:$G$959,6,FALSE))","v":""},{"$f":"IF(ISBLANK($R1311)=TRUE,\"\",VLOOKUP($R1311,TAXONOMY!$A$1:$G$959,5,FALSE))","v":""},{"$f":"IF(ISBLANK($R1311)=TRUE,\"\",VLOOKUP($R1311,TAXONOMY!$A$1:$G$959,4,FALSE))","v":""},{"$f":"IF(ISBLANK($R1311)=TRUE,\"\",VLOOKUP($R1311,TAXONOMY!$A$1:$G$959,3,FALSE))","v":""},{"$f":"IF(ISBLANK($R1311)=TRUE,\"\",VLOOKUP($R1311,TAXONOMY!$A$1:$H$959,2,FALSE))","v":""}]
[null,null,null,null,null,null,null,null,null,null,null,{"$f":"IF(ISBLANK($R1312)=TRUE,\"\",VLOOKUP($R1312,TAXONOMY!$A$1:$G$959,7,FALSE))","v":""},{"$f":"IF(ISBLANK($R1312)=TRUE,\"\",VLOOKUP($R1312,TAXONOMY!$A$1:$G$959,6,FALSE))","v":""},{"$f":"IF(ISBLANK($R1312)=TRUE,\"\",VLOOKUP($R1312,TAXONOMY!$A$1:$G$959,5,FALSE))","v":""},{"$f":"IF(ISBLANK($R1312)=TRUE,\"\",VLOOKUP($R1312,TAXONOMY!$A$1:$G$959,4,FALSE))","v":""},{"$f":"IF(ISBLANK($R1312)=TRUE,\"\",VLOOKUP($R1312,TAXONOMY!$A$1:$G$959,3,FALSE))","v":""},{"$f":"IF(ISBLANK($R1312)=TRUE,\"\",VLOOKUP($R1312,TAXONOMY!$A$1:$H$959,2,FALSE))","v":""}]
[null,null,null,null,null,null,null,null,null,null,null,{"$f":"IF(ISBLANK($R1313)=TRUE,\"\",VLOOKUP($R1313,TAXONOMY!$A$1:$G$959,7,FALSE))","v":""},{"$f":"IF(ISBLANK($R1313)=TRUE,\"\",VLOOKUP($R1313,TAXONOMY!$A$1:$G$959,6,FALSE))","v":""},{"$f":"IF(ISBLANK($R1313)=TRUE,\"\",VLOOKUP($R1313,TAXONOMY!$A$1:$G$959,5,FALSE))","v":""},{"$f":"IF(ISBLANK($R1313)=TRUE,\"\",VLOOKUP($R1313,TAXONOMY!$A$1:$G$959,4,FALSE))","v":""},{"$f":"IF(ISBLANK($R1313)=TRUE,\"\",VLOOKUP($R1313,TAXONOMY!$A$1:$G$959,3,FALSE))","v":""},{"$f":"IF(ISBLANK($R1313)=TRUE,\"\",VLOOKUP($R1313,TAXONOMY!$A$1:$H$959,2,FALSE))","v":""}]
[null,null,null,null,null,null,null,null,null,null,null,{"$f":"IF(ISBLANK($R1314)=TRUE,\"\",VLOOKUP($R1314,TAXONOMY!$A$1:$G$959,7,FALSE))","v":""},{"$f":"IF(ISBLANK($R1314)=TRUE,\"\",VLOOKUP($R1314,TAXONOMY!$A$1:$G$959,6,FALSE))","v":""},{"$f":"IF(ISBLANK($R1314)=TRUE,\"\",VLOOKUP($R1314,TAXONOMY!$A$1:$G$959,5,FALSE))","v":""},{"$f":"IF(ISBLANK($R1314)=TRUE,\"\",VLOOKUP($R1314,TAXONOMY!$A$1:$G$959,4,FALSE))","v":""},{"$f":"IF(ISBLANK($R1314)=TRUE,\"\",VLOOKUP($R1314,TAXONOMY!$A$1:$G$959,3,FALSE))","v":""},{"$f":"IF(ISBLANK($R1314)=TRUE,\"\",VLOOKUP($R1314,TAXONOMY!$A$1:$H$959,2,FALSE))","v":""}]
[null,null,null,null,null,null,null,null,null,null,null,{"$f":"IF(ISBLANK($R1315)=TRUE,\"\",VLOOKUP($R1315,TAXONOMY!$A$1:$G$959,7,FALSE))","v":""},{"$f":"IF(ISBLANK($R1315)=TRUE,\"\",VLOOKUP($R1315,TAXONOMY!$A$1:$G$959,6,FALSE))","v":""},{"$f":"IF(ISBLANK($R1315)=TRUE,\"\",VLOOKUP($R1315,TAXONOMY!$A$1:$G$959,5,FALSE))","v":""},{"$f":"IF(ISBLANK($R1315)=TRUE,\"\",VLOOKUP($R1315,TAXONOMY!$A$1:$G$959,4,FALSE))","v":""},{"$f":"IF(ISBLANK($R1315)=TRUE,\"\",VLOOKUP($R1315,TAXONOMY!$A$1:$G$959,3,FALSE))","v":""},{"$f":"IF(ISBLANK($R1315)=TRUE,\"\",VLOOKUP($R1315,TAXONOMY!$A$1:$H$959,2,FALSE))","v":""}]
[null,null,null,null,null,null,null,null,null,null,null,{"$f":"IF(ISBLANK($R1316)=TRUE,\"\",VLOOKUP($R1316,TAXONOMY!$A$1:$G$959,7,FALSE))","v":""},{"$f":"IF(ISBLANK($R1316)=TRUE,\"\",VLOOKUP($R1316,TAXONOMY!$A$1:$G$959,6,FALSE))","v":""},{"$f":"IF(ISBLANK($R1316)=TRUE,\"\",VLOOKUP($R1316,TAXONOMY!$A$1:$G$959,5,FALSE))","v":""},{"$f":"IF(ISBLANK($R1316)=TRUE,\"\",VLOOKUP($R1316,TAXONOMY!$A$1:$G$959,4,FALSE))","v":""},{"$f":"IF(ISBLANK($R1316)=TRUE,\"\",VLOOKUP($R1316,TAXONOMY!$A$1:$G$959,3,FALSE))","v":""},{"$f":"IF(ISBLANK($R1316)=TRUE,\"\",VLOOKUP($R1316,TAXONOMY!$A$1:$H$959,2,FALSE))","v":""}]
[null,null,null,null,null,null,null,null,null,null,null,{"$f":"IF(ISBLANK($R1317)=TRUE,\"\",VLOOKUP($R1317,TAXONOMY!$A$1:$G$959,7,FALSE))","v":""},{"$f":"IF(ISBLANK($R1317)=TRUE,\"\",VLOOKUP($R1317,TAXONOMY!$A$1:$G$959,6,FALSE))","v":""},{"$f":"IF(ISBLANK($R1317)=TRUE,\"\",VLOOKUP($R1317,TAXONOMY!$A$1:$G$959,5,FALSE))","v":""},{"$f":"IF(ISBLANK($R1317)=TRUE,\"\",VLOOKUP($R1317,TAXONOMY!$A$1:$G$959,4,FALSE))","v":""},{"$f":"IF(ISBLANK($R1317)=TRUE,\"\",VLOOKUP($R1317,TAXONOMY!$A$1:$G$959,3,FALSE))","v":""},{"$f":"IF(ISBLANK($R1317)=TRUE,\"\",VLOOKUP($R1317,TAXONOMY!$A$1:$H$959,2,FALSE))","v":""}]
[null,null,null,null,null,null,null,null,null,null,null,{"$f":"IF(ISBLANK($R1318)=TRUE,\"\",VLOOKUP($R1318,TAXONOMY!$A$1:$G$959,7,FALSE))","v":""},{"$f":"IF(ISBLANK($R1318)=TRUE,\"\",VLOOKUP($R1318,TAXONOMY!$A$1:$G$959,6,FALSE))","v":""},{"$f":"IF(ISBLANK($R1318)=TRUE,\"\",VLOOKUP($R1318,TAXONOMY!$A$1:$G$959,5,FALSE))","v":""},{"$f":"IF(ISBLANK($R1318)=TRUE,\"\",VLOOKUP($R1318,TAXONOMY!$A$1:$G$959,4,FALSE))","v":""},{"$f":"IF(ISBLANK($R1318)=TRUE,\"\",VLOOKUP($R1318,TAXONOMY!$A$1:$G$959,3,FALSE))","v":""},{"$f":"IF(ISBLANK($R1318)=TRUE,\"\",VLOOKUP($R1318,TAXONOMY!$A$1:$H$959,2,FALSE))","v":""}]
[null,null,null,null,null,null,null,null,null,null,null,{"$f":"IF(ISBLANK($R1319)=TRUE,\"\",VLOOKUP($R1319,TAXONOMY!$A$1:$G$959,7,FALSE))","v":""},{"$f":"IF(ISBLANK($R1319)=TRUE,\"\",VLOOKUP($R1319,TAXONOMY!$A$1:$G$959,6,FALSE))","v":""},{"$f":"IF(ISBLANK($R1319)=TRUE,\"\",VLOOKUP($R1319,TAXONOMY!$A$1:$G$959,5,FALSE))","v":""},{"$f":"IF(ISBLANK($R1319)=TRUE,\"\",VLOOKUP($R1319,TAXONOMY!$A$1:$G$959,4,FALSE))","v":""},{"$f":"IF(ISBLANK($R1319)=TRUE,\"\",VLOOKUP($R1319,TAXONOMY!$A$1:$G$959,3,FALSE))","v":""},{"$f":"IF(ISBLANK($R1319)=TRUE,\"\",VLOOKUP($R1319,TAXONOMY!$A$1:$H$959,2,FALSE))","v":""}]
[null,null,null,null,null,null,null,null,null,null,null,{"$f":"IF(ISBLANK($R1320)=TRUE,\"\",VLOOKUP($R1320,TAXONOMY!$A$1:$G$959,7,FALSE))","v":""},{"$f":"IF(ISBLANK($R1320)=TRUE,\"\",VLOOKUP($R1320,TAXONOMY!$A$1:$G$959,6,FALSE))","v":""},{"$f":"IF(ISBLANK($R1320)=TRUE,\"\",VLOOKUP($R1320,TAXONOMY!$A$1:$G$959,5,FALSE))","v":""},{"$f":"IF(ISBLANK($R1320)=TRUE,\"\",VLOOKUP($R1320,TAXONOMY!$A$1:$G$959,4,FALSE))","v":""},{"$f":"IF(ISBLANK($R1320)=TRUE,\"\",VLOOKUP($R1320,TAXONOMY!$A$1:$G$959,3,FALSE))","v":""},{"$f":"IF(ISBLANK($R1320)=TRUE,\"\",VLOOKUP($R1320,TAXONOMY!$A$1:$H$959,2,FALSE))","v":""}]
[null,null,null,null,null,null,null,null,null,null,null,{"$f":"IF(ISBLANK($R1321)=TRUE,\"\",VLOOKUP($R1321,TAXONOMY!$A$1:$G$959,7,FALSE))","v":""},{"$f":"IF(ISBLANK($R1321)=TRUE,\"\",VLOOKUP($R1321,TAXONOMY!$A$1:$G$959,6,FALSE))","v":""},{"$f":"IF(ISBLANK($R1321)=TRUE,\"\",VLOOKUP($R1321,TAXONOMY!$A$1:$G$959,5,FALSE))","v":""},{"$f":"IF(ISBLANK($R1321)=TRUE,\"\",VLOOKUP($R1321,TAXONOMY!$A$1:$G$959,4,FALSE))","v":""},{"$f":"IF(ISBLANK($R1321)=TRUE,\"\",VLOOKUP($R1321,TAXONOMY!$A$1:$G$959,3,FALSE))","v":""},{"$f":"IF(ISBLANK($R1321)=TRUE,\"\",VLOOKUP($R1321,TAXONOMY!$A$1:$H$959,2,FALSE))","v":""}]
[null,null,null,null,null,null,null,null,null,null,null,{"$f":"IF(ISBLANK($R1322)=TRUE,\"\",VLOOKUP($R1322,TAXONOMY!$A$1:$G$959,7,FALSE))","v":""},{"$f":"IF(ISBLANK($R1322)=TRUE,\"\",VLOOKUP($R1322,TAXONOMY!$A$1:$G$959,6,FALSE))","v":""},{"$f":"IF(ISBLANK($R1322)=TRUE,\"\",VLOOKUP($R1322,TAXONOMY!$A$1:$G$959,5,FALSE))","v":""},{"$f":"IF(ISBLANK($R1322)=TRUE,\"\",VLOOKUP($R1322,TAXONOMY!$A$1:$G$959,4,FALSE))","v":""},{"$f":"IF(ISBLANK($R1322)=TRUE,\"\",VLOOKUP($R1322,TAXONOMY!$A$1:$G$959,3,FALSE))","v":""},{"$f":"IF(ISBLANK($R1322)=TRUE,\"\",VLOOKUP($R1322,TAXONOMY!$A$1:$H$959,2,FALSE))","v":""}]
[null,null,null,null,null,null,null,null,null,null,null,{"$f":"IF(ISBLANK($R1323)=TRUE,\"\",VLOOKUP($R1323,TAXONOMY!$A$1:$G$959,7,FALSE))","v":""},{"$f":"IF(ISBLANK($R1323)=TRUE,\"\",VLOOKUP($R1323,TAXONOMY!$A$1:$G$959,6,FALSE))","v":""},{"$f":"IF(ISBLANK($R1323)=TRUE,\"\",VLOOKUP($R1323,TAXONOMY!$A$1:$G$959,5,FALSE))","v":""},{"$f":"IF(ISBLANK($R1323)=TRUE,\"\",VLOOKUP($R1323,TAXONOMY!$A$1:$G$959,4,FALSE))","v":""},{"$f":"IF(ISBLANK($R1323)=TRUE,\"\",VLOOKUP($R1323,TAXONOMY!$A$1:$G$959,3,FALSE))","v":""},{"$f":"IF(ISBLANK($R1323)=TRUE,\"\",VLOOKUP($R1323,TAXONOMY!$A$1:$H$959,2,FALSE))","v":""}]
[null,null,null,null,null,null,null,null,null,null,null,{"$f":"IF(ISBLANK($R1324)=TRUE,\"\",VLOOKUP($R1324,TAXONOMY!$A$1:$G$959,7,FALSE))","v":""},{"$f":"IF(ISBLANK($R1324)=TRUE,\"\",VLOOKUP($R1324,TAXONOMY!$A$1:$G$959,6,FALSE))","v":""},{"$f":"IF(ISBLANK($R1324)=TRUE,\"\",VLOOKUP($R1324,TAXONOMY!$A$1:$G$959,5,FALSE))","v":""},{"$f":"IF(ISBLANK($R1324)=TRUE,\"\",VLOOKUP($R1324,TAXONOMY!$A$1:$G$959,4,FALSE))","v":""},{"$f":"IF(ISBLANK($R1324)=TRUE,\"\",VLOOKUP($R1324,TAXONOMY!$A$1:$G$959,3,FALSE))","v":""},{"$f":"IF(ISBLANK($R1324)=TRUE,\"\",VLOOKUP($R1324,TAXONOMY!$A$1:$H$959,2,FALSE))","v":""}]
[null,null,null,null,null,null,null,null,null,null,null,{"$f":"IF(ISBLANK($R1325)=TRUE,\"\",VLOOKUP($R1325,TAXONOMY!$A$1:$G$959,7,FALSE))","v":""},{"$f":"IF(ISBLANK($R1325)=TRUE,\"\",VLOOKUP($R1325,TAXONOMY!$A$1:$G$959,6,FALSE))","v":""},{"$f":"IF(ISBLANK($R1325)=TRUE,\"\",VLOOKUP($R1325,TAXONOMY!$A$1:$G$959,5,FALSE))","v":""},{"$f":"IF(ISBLANK($R1325)=TRUE,\"\",VLOOKUP($R1325,TAXONOMY!$A$1:$G$959,4,FALSE))","v":""},{"$f":"IF(ISBLANK($R1325)=TRUE,\"\",VLOOKUP($R1325,TAXONOMY!$A$1:$G$959,3,FALSE))","v":""},{"$f":"IF(ISBLANK($R1325)=TRUE,\"\",VLOOKUP($R1325,TAXONOMY!$A$1:$H$959,2,FALSE))","v":""}]
[null,null,null,null,null,null,null,null,null,null,null,{"$f":"IF(ISBLANK($R1326)=TRUE,\"\",VLOOKUP($R1326,TAXONOMY!$A$1:$G$959,7,FALSE))","v":""},{"$f":"IF(ISBLANK($R1326)=TRUE,\"\",VLOOKUP($R1326,TAXONOMY!$A$1:$G$959,6,FALSE))","v":""},{"$f":"IF(ISBLANK($R1326)=TRUE,\"\",VLOOKUP($R1326,TAXONOMY!$A$1:$G$959,5,FALSE))","v":""},{"$f":"IF(ISBLANK($R1326)=TRUE,\"\",VLOOKUP($R1326,TAXONOMY!$A$1:$G$959,4,FALSE))","v":""},{"$f":"IF(ISBLANK($R1326)=TRUE,\"\",VLOOKUP($R1326,TAXONOMY!$A$1:$G$959,3,FALSE))","v":""},{"$f":"IF(ISBLANK($R1326)=TRUE,\"\",VLOOKUP($R1326,TAXONOMY!$A$1:$H$959,2,FALSE))","v":""}]
[null,null,null,null,null,null,null,null,null,null,null,{"$f":"IF(ISBLANK($R1327)=TRUE,\"\",VLOOKUP($R1327,TAXONOMY!$A$1:$G$959,7,FALSE))","v":""},{"$f":"IF(ISBLANK($R1327)=TRUE,\"\",VLOOKUP($R1327,TAXONOMY!$A$1:$G$959,6,FALSE))","v":""},{"$f":"IF(ISBLANK($R1327)=TRUE,\"\",VLOOKUP($R1327,TAXONOMY!$A$1:$G$959,5,FALSE))","v":""},{"$f":"IF(ISBLANK($R1327)=TRUE,\"\",VLOOKUP($R1327,TAXONOMY!$A$1:$G$959,4,FALSE))","v":""},{"$f":"IF(ISBLANK($R1327)=TRUE,\"\",VLOOKUP($R1327,TAXONOMY!$A$1:$G$959,3,FALSE))","v":""},{"$f":"IF(ISBLANK($R1327)=TRUE,\"\",VLOOKUP($R1327,TAXONOMY!$A$1:$H$959,2,FALSE))","v":""}]
[null,null,null,null,null,null,null,null,null,null,null,{"$f":"IF(ISBLANK($R1328)=TRUE,\"\",VLOOKUP($R1328,TAXONOMY!$A$1:$G$959,7,FALSE))","v":""},{"$f":"IF(ISBLANK($R1328)=TRUE,\"\",VLOOKUP($R1328,TAXONOMY!$A$1:$G$959,6,FALSE))","v":""},{"$f":"IF(ISBLANK($R1328)=TRUE,\"\",VLOOKUP($R1328,TAXONOMY!$A$1:$G$959,5,FALSE))","v":""},{"$f":"IF(ISBLANK($R1328)=TRUE,\"\",VLOOKUP($R1328,TAXONOMY!$A$1:$G$959,4,FALSE))","v":""},{"$f":"IF(ISBLANK($R1328)=TRUE,\"\",VLOOKUP($R1328,TAXONOMY!$A$1:$G$959,3,FALSE))","v":""},{"$f":"IF(ISBLANK($R1328)=TRUE,\"\",VLOOKUP($R1328,TAXONOMY!$A$1:$H$959,2,FALSE))","v":""}]
[null,null,null,null,null,null,null,null,null,null,null,{"$f":"IF(ISBLANK($R1329)=TRUE,\"\",VLOOKUP($R1329,TAXONOMY!$A$1:$G$959,7,FALSE))","v":""},{"$f":"IF(ISBLANK($R1329)=TRUE,\"\",VLOOKUP($R1329,TAXONOMY!$A$1:$G$959,6,FALSE))","v":""},{"$f":"IF(ISBLANK($R1329)=TRUE,\"\",VLOOKUP($R1329,TAXONOMY!$A$1:$G$959,5,FALSE))","v":""},{"$f":"IF(ISBLANK($R1329)=TRUE,\"\",VLOOKUP($R1329,TAXONOMY!$A$1:$G$959,4,FALSE))","v":""},{"$f":"IF(ISBLANK($R1329)=TRUE,\"\",VLOOKUP($R1329,TAXONOMY!$A$1:$G$959,3,FALSE))","v":""},{"$f":"IF(ISBLANK($R1329)=TRUE,\"\",VLOOKUP($R1329,TAXONOMY!$A$1:$H$959,2,FALSE))","v":""}]
[null,null,null,null,null,null,null,null,null,null,null,{"$f":"IF(ISBLANK($R1330)=TRUE,\"\",VLOOKUP($R1330,TAXONOMY!$A$1:$G$959,7,FALSE))","v":""},{"$f":"IF(ISBLANK($R1330)=TRUE,\"\",VLOOKUP($R1330,TAXONOMY!$A$1:$G$959,6,FALSE))","v":""},{"$f":"IF(ISBLANK($R1330)=TRUE,\"\",VLOOKUP($R1330,TAXONOMY!$A$1:$G$959,5,FALSE))","v":""},{"$f":"IF(ISBLANK($R1330)=TRUE,\"\",VLOOKUP($R1330,TAXONOMY!$A$1:$G$959,4,FALSE))","v":""},{"$f":"IF(ISBLANK($R1330)=TRUE,\"\",VLOOKUP($R1330,TAXONOMY!$A$1:$G$959,3,FALSE))","v":""},{"$f":"IF(ISBLANK($R1330)=TRUE,\"\",VLOOKUP($R1330,TAXONOMY!$A$1:$H$959,2,FALSE))","v":""}]
[null,null,null,null,null,null,null,null,null,null,null,{"$f":"IF(ISBLANK($R1331)=TRUE,\"\",VLOOKUP($R1331,TAXONOMY!$A$1:$G$959,7,FALSE))","v":""},{"$f":"IF(ISBLANK($R1331)=TRUE,\"\",VLOOKUP($R1331,TAXONOMY!$A$1:$G$959,6,FALSE))","v":""},{"$f":"IF(ISBLANK($R1331)=TRUE,\"\",VLOOKUP($R1331,TAXONOMY!$A$1:$G$959,5,FALSE))","v":""},{"$f":"IF(ISBLANK($R1331)=TRUE,\"\",VLOOKUP($R1331,TAXONOMY!$A$1:$G$959,4,FALSE))","v":""},{"$f":"IF(ISBLANK($R1331)=TRUE,\"\",VLOOKUP($R1331,TAXONOMY!$A$1:$G$959,3,FALSE))","v":""},{"$f":"IF(ISBLANK($R1331)=TRUE,\"\",VLOOKUP($R1331,TAXONOMY!$A$1:$H$959,2,FALSE))","v":""}]
[null,null,null,null,null,null,null,null,null,null,null,{"$f":"IF(ISBLANK($R1332)=TRUE,\"\",VLOOKUP($R1332,TAXONOMY!$A$1:$G$959,7,FALSE))","v":""},{"$f":"IF(ISBLANK($R1332)=TRUE,\"\",VLOOKUP($R1332,TAXONOMY!$A$1:$G$959,6,FALSE))","v":""},{"$f":"IF(ISBLANK($R1332)=TRUE,\"\",VLOOKUP($R1332,TAXONOMY!$A$1:$G$959,5,FALSE))","v":""},{"$f":"IF(ISBLANK($R1332)=TRUE,\"\",VLOOKUP($R1332,TAXONOMY!$A$1:$G$959,4,FALSE))","v":""},{"$f":"IF(ISBLANK($R1332)=TRUE,\"\",VLOOKUP($R1332,TAXONOMY!$A$1:$G$959,3,FALSE))","v":""},{"$f":"IF(ISBLANK($R1332)=TRUE,\"\",VLOOKUP($R1332,TAXONOMY!$A$1:$H$959,2,FALSE))","v":""}]
[null,null,null,null,null,null,null,null,null,null,null,{"$f":"IF(ISBLANK($R1333)=TRUE,\"\",VLOOKUP($R1333,TAXONOMY!$A$1:$G$959,7,FALSE))","v":""},{"$f":"IF(ISBLANK($R1333)=TRUE,\"\",VLOOKUP($R1333,TAXONOMY!$A$1:$G$959,6,FALSE))","v":""},{"$f":"IF(ISBLANK($R1333)=TRUE,\"\",VLOOKUP($R1333,TAXONOMY!$A$1:$G$959,5,FALSE))","v":""},{"$f":"IF(ISBLANK($R1333)=TRUE,\"\",VLOOKUP($R1333,TAXONOMY!$A$1:$G$959,4,FALSE))","v":""},{"$f":"IF(ISBLANK($R1333)=TRUE,\"\",VLOOKUP($R1333,TAXONOMY!$A$1:$G$959,3,FALSE))","v":""},{"$f":"IF(ISBLANK($R1333)=TRUE,\"\",VLOOKUP($R1333,TAXONOMY!$A$1:$H$959,2,FALSE))","v":""}]
[null,null,null,null,null,null,null,null,null,null,null,{"$f":"IF(ISBLANK($R1334)=TRUE,\"\",VLOOKUP($R1334,TAXONOMY!$A$1:$G$959,7,FALSE))","v":""},{"$f":"IF(ISBLANK($R1334)=TRUE,\"\",VLOOKUP($R1334,TAXONOMY!$A$1:$G$959,6,FALSE))","v":""},{"$f":"IF(ISBLANK($R1334)=TRUE,\"\",VLOOKUP($R1334,TAXONOMY!$A$1:$G$959,5,FALSE))","v":""},{"$f":"IF(ISBLANK($R1334)=TRUE,\"\",VLOOKUP($R1334,TAXONOMY!$A$1:$G$959,4,FALSE))","v":""},{"$f":"IF(ISBLANK($R1334)=TRUE,\"\",VLOOKUP($R1334,TAXONOMY!$A$1:$G$959,3,FALSE))","v":""},{"$f":"IF(ISBLANK($R1334)=TRUE,\"\",VLOOKUP($R1334,TAXONOMY!$A$1:$H$959,2,FALSE))","v":""}]
[null,null,null,null,null,null,null,null,null,null,null,{"$f":"IF(ISBLANK($R1335)=TRUE,\"\",VLOOKUP($R1335,TAXONOMY!$A$1:$G$959,7,FALSE))","v":""},{"$f":"IF(ISBLANK($R1335)=TRUE,\"\",VLOOKUP($R1335,TAXONOMY!$A$1:$G$959,6,FALSE))","v":""},{"$f":"IF(ISBLANK($R1335)=TRUE,\"\",VLOOKUP($R1335,TAXONOMY!$A$1:$G$959,5,FALSE))","v":""},{"$f":"IF(ISBLANK($R1335)=TRUE,\"\",VLOOKUP($R1335,TAXONOMY!$A$1:$G$959,4,FALSE))","v":""},{"$f":"IF(ISBLANK($R1335)=TRUE,\"\",VLOOKUP($R1335,TAXONOMY!$A$1:$G$959,3,FALSE))","v":""},{"$f":"IF(ISBLANK($R1335)=TRUE,\"\",VLOOKUP($R1335,TAXONOMY!$A$1:$H$959,2,FALSE))","v":""}]
[null,null,null,null,null,null,null,null,null,null,null,{"$f":"IF(ISBLANK($R1336)=TRUE,\"\",VLOOKUP($R1336,TAXONOMY!$A$1:$G$959,7,FALSE))","v":""},{"$f":"IF(ISBLANK($R1336)=TRUE,\"\",VLOOKUP($R1336,TAXONOMY!$A$1:$G$959,6,FALSE))","v":""},{"$f":"IF(ISBLANK($R1336)=TRUE,\"\",VLOOKUP($R1336,TAXONOMY!$A$1:$G$959,5,FALSE))","v":""},{"$f":"IF(ISBLANK($R1336)=TRUE,\"\",VLOOKUP($R1336,TAXONOMY!$A$1:$G$959,4,FALSE))","v":""},{"$f":"IF(ISBLANK($R1336)=TRUE,\"\",VLOOKUP($R1336,TAXONOMY!$A$1:$G$959,3,FALSE))","v":""},{"$f":"IF(ISBLANK($R1336)=TRUE,\"\",VLOOKUP($R1336,TAXONOMY!$A$1:$H$959,2,FALSE))","v":""}]
[null,null,null,null,null,null,null,null,null,null,null,{"$f":"IF(ISBLANK($R1337)=TRUE,\"\",VLOOKUP($R1337,TAXONOMY!$A$1:$G$959,7,FALSE))","v":""},{"$f":"IF(ISBLANK($R1337)=TRUE,\"\",VLOOKUP($R1337,TAXONOMY!$A$1:$G$959,6,FALSE))","v":""},{"$f":"IF(ISBLANK($R1337)=TRUE,\"\",VLOOKUP($R1337,TAXONOMY!$A$1:$G$959,5,FALSE))","v":""},{"$f":"IF(ISBLANK($R1337)=TRUE,\"\",VLOOKUP($R1337,TAXONOMY!$A$1:$G$959,4,FALSE))","v":""},{"$f":"IF(ISBLANK($R1337)=TRUE,\"\",VLOOKUP($R1337,TAXONOMY!$A$1:$G$959,3,FALSE))","v":""},{"$f":"IF(ISBLANK($R1337)=TRUE,\"\",VLOOKUP($R1337,TAXONOMY!$A$1:$H$959,2,FALSE))","v":""}]
[null,null,null,null,null,null,null,null,null,null,null,{"$f":"IF(ISBLANK($R1338)=TRUE,\"\",VLOOKUP($R1338,TAXONOMY!$A$1:$G$959,7,FALSE))","v":""},{"$f":"IF(ISBLANK($R1338)=TRUE,\"\",VLOOKUP($R1338,TAXONOMY!$A$1:$G$959,6,FALSE))","v":""},{"$f":"IF(ISBLANK($R1338)=TRUE,\"\",VLOOKUP($R1338,TAXONOMY!$A$1:$G$959,5,FALSE))","v":""},{"$f":"IF(ISBLANK($R1338)=TRUE,\"\",VLOOKUP($R1338,TAXONOMY!$A$1:$G$959,4,FALSE))","v":""},{"$f":"IF(ISBLANK($R1338)=TRUE,\"\",VLOOKUP($R1338,TAXONOMY!$A$1:$G$959,3,FALSE))","v":""},{"$f":"IF(ISBLANK($R1338)=TRUE,\"\",VLOOKUP($R1338,TAXONOMY!$A$1:$H$959,2,FALSE))","v":""}]
[null,null,null,null,null,null,null,null,null,null,null,{"$f":"IF(ISBLANK($R1339)=TRUE,\"\",VLOOKUP($R1339,TAXONOMY!$A$1:$G$959,7,FALSE))","v":""},{"$f":"IF(ISBLANK($R1339)=TRUE,\"\",VLOOKUP($R1339,TAXONOMY!$A$1:$G$959,6,FALSE))","v":""},{"$f":"IF(ISBLANK($R1339)=TRUE,\"\",VLOOKUP($R1339,TAXONOMY!$A$1:$G$959,5,FALSE))","v":""},{"$f":"IF(ISBLANK($R1339)=TRUE,\"\",VLOOKUP($R1339,TAXONOMY!$A$1:$G$959,4,FALSE))","v":""},{"$f":"IF(ISBLANK($R1339)=TRUE,\"\",VLOOKUP($R1339,TAXONOMY!$A$1:$G$959,3,FALSE))","v":""},{"$f":"IF(ISBLANK($R1339)=TRUE,\"\",VLOOKUP($R1339,TAXONOMY!$A$1:$H$959,2,FALSE))","v":""}]
[null,null,null,null,null,null,null,null,null,null,null,{"$f":"IF(ISBLANK($R1340)=TRUE,\"\",VLOOKUP($R1340,TAXONOMY!$A$1:$G$959,7,FALSE))","v":""},{"$f":"IF(ISBLANK($R1340)=TRUE,\"\",VLOOKUP($R1340,TAXONOMY!$A$1:$G$959,6,FALSE))","v":""},{"$f":"IF(ISBLANK($R1340)=TRUE,\"\",VLOOKUP($R1340,TAXONOMY!$A$1:$G$959,5,FALSE))","v":""},{"$f":"IF(ISBLANK($R1340)=TRUE,\"\",VLOOKUP($R1340,TAXONOMY!$A$1:$G$959,4,FALSE))","v":""},{"$f":"IF(ISBLANK($R1340)=TRUE,\"\",VLOOKUP($R1340,TAXONOMY!$A$1:$G$959,3,FALSE))","v":""},{"$f":"IF(ISBLANK($R1340)=TRUE,\"\",VLOOKUP($R1340,TAXONOMY!$A$1:$H$959,2,FALSE))","v":""}]
[null,null,null,null,null,null,null,null,null,null,null,{"$f":"IF(ISBLANK($R1341)=TRUE,\"\",VLOOKUP($R1341,TAXONOMY!$A$1:$G$959,7,FALSE))","v":""},{"$f":"IF(ISBLANK($R1341)=TRUE,\"\",VLOOKUP($R1341,TAXONOMY!$A$1:$G$959,6,FALSE))","v":""},{"$f":"IF(ISBLANK($R1341)=TRUE,\"\",VLOOKUP($R1341,TAXONOMY!$A$1:$G$959,5,FALSE))","v":""},{"$f":"IF(ISBLANK($R1341)=TRUE,\"\",VLOOKUP($R1341,TAXONOMY!$A$1:$G$959,4,FALSE))","v":""},{"$f":"IF(ISBLANK($R1341)=TRUE,\"\",VLOOKUP($R1341,TAXONOMY!$A$1:$G$959,3,FALSE))","v":""},{"$f":"IF(ISBLANK($R1341)=TRUE,\"\",VLOOKUP($R1341,TAXONOMY!$A$1:$H$959,2,FALSE))","v":""}]
[null,null,null,null,null,null,null,null,null,null,null,{"$f":"IF(ISBLANK($R1342)=TRUE,\"\",VLOOKUP($R1342,TAXONOMY!$A$1:$G$959,7,FALSE))","v":""},{"$f":"IF(ISBLANK($R1342)=TRUE,\"\",VLOOKUP($R1342,TAXONOMY!$A$1:$G$959,6,FALSE))","v":""},{"$f":"IF(ISBLANK($R1342)=TRUE,\"\",VLOOKUP($R1342,TAXONOMY!$A$1:$G$959,5,FALSE))","v":""},{"$f":"IF(ISBLANK($R1342)=TRUE,\"\",VLOOKUP($R1342,TAXONOMY!$A$1:$G$959,4,FALSE))","v":""},{"$f":"IF(ISBLANK($R1342)=TRUE,\"\",VLOOKUP($R1342,TAXONOMY!$A$1:$G$959,3,FALSE))","v":""},{"$f":"IF(ISBLANK($R1342)=TRUE,\"\",VLOOKUP($R1342,TAXONOMY!$A$1:$H$959,2,FALSE))","v":""}]
[null,null,null,null,null,null,null,null,null,null,null,{"$f":"IF(ISBLANK($R1343)=TRUE,\"\",VLOOKUP($R1343,TAXONOMY!$A$1:$G$959,7,FALSE))","v":""},{"$f":"IF(ISBLANK($R1343)=TRUE,\"\",VLOOKUP($R1343,TAXONOMY!$A$1:$G$959,6,FALSE))","v":""},{"$f":"IF(ISBLANK($R1343)=TRUE,\"\",VLOOKUP($R1343,TAXONOMY!$A$1:$G$959,5,FALSE))","v":""},{"$f":"IF(ISBLANK($R1343)=TRUE,\"\",VLOOKUP($R1343,TAXONOMY!$A$1:$G$959,4,FALSE))","v":""},{"$f":"IF(ISBLANK($R1343)=TRUE,\"\",VLOOKUP($R1343,TAXONOMY!$A$1:$G$959,3,FALSE))","v":""},{"$f":"IF(ISBLANK($R1343)=TRUE,\"\",VLOOKUP($R1343,TAXONOMY!$A$1:$H$959,2,FALSE))","v":""}]
[null,null,null,null,null,null,null,null,null,null,null,{"$f":"IF(ISBLANK($R1344)=TRUE,\"\",VLOOKUP($R1344,TAXONOMY!$A$1:$G$959,7,FALSE))","v":""},{"$f":"IF(ISBLANK($R1344)=TRUE,\"\",VLOOKUP($R1344,TAXONOMY!$A$1:$G$959,6,FALSE))","v":""},{"$f":"IF(ISBLANK($R1344)=TRUE,\"\",VLOOKUP($R1344,TAXONOMY!$A$1:$G$959,5,FALSE))","v":""},{"$f":"IF(ISBLANK($R1344)=TRUE,\"\",VLOOKUP($R1344,TAXONOMY!$A$1:$G$959,4,FALSE))","v":""},{"$f":"IF(ISBLANK($R1344)=TRUE,\"\",VLOOKUP($R1344,TAXONOMY!$A$1:$G$959,3,FALSE))","v":""},{"$f":"IF(ISBLANK($R1344)=TRUE,\"\",VLOOKUP($R1344,TAXONOMY!$A$1:$H$959,2,FALSE))","v":""}]
[null,null,null,null,null,null,null,null,null,null,null,{"$f":"IF(ISBLANK($R1345)=TRUE,\"\",VLOOKUP($R1345,TAXONOMY!$A$1:$G$959,7,FALSE))","v":""},{"$f":"IF(ISBLANK($R1345)=TRUE,\"\",VLOOKUP($R1345,TAXONOMY!$A$1:$G$959,6,FALSE))","v":""},{"$f":"IF(ISBLANK($R1345)=TRUE,\"\",VLOOKUP($R1345,TAXONOMY!$A$1:$G$959,5,FALSE))","v":""},{"$f":"IF(ISBLANK($R1345)=TRUE,\"\",VLOOKUP($R1345,TAXONOMY!$A$1:$G$959,4,FALSE))","v":""},{"$f":"IF(ISBLANK($R1345)=TRUE,\"\",VLOOKUP($R1345,TAXONOMY!$A$1:$G$959,3,FALSE))","v":""},{"$f":"IF(ISBLANK($R1345)=TRUE,\"\",VLOOKUP($R1345,TAXONOMY!$A$1:$H$959,2,FALSE))","v":""}]
[null,null,null,null,null,null,null,null,null,null,null,{"$f":"IF(ISBLANK($R1346)=TRUE,\"\",VLOOKUP($R1346,TAXONOMY!$A$1:$G$959,7,FALSE))","v":""},{"$f":"IF(ISBLANK($R1346)=TRUE,\"\",VLOOKUP($R1346,TAXONOMY!$A$1:$G$959,6,FALSE))","v":""},{"$f":"IF(ISBLANK($R1346)=TRUE,\"\",VLOOKUP($R1346,TAXONOMY!$A$1:$G$959,5,FALSE))","v":""},{"$f":"IF(ISBLANK($R1346)=TRUE,\"\",VLOOKUP($R1346,TAXONOMY!$A$1:$G$959,4,FALSE))","v":""},{"$f":"IF(ISBLANK($R1346)=TRUE,\"\",VLOOKUP($R1346,TAXONOMY!$A$1:$G$959,3,FALSE))","v":""},{"$f":"IF(ISBLANK($R1346)=TRUE,\"\",VLOOKUP($R1346,TAXONOMY!$A$1:$H$959,2,FALSE))","v":""}]
[null,null,null,null,null,null,null,null,null,null,null,{"$f":"IF(ISBLANK($R1347)=TRUE,\"\",VLOOKUP($R1347,TAXONOMY!$A$1:$G$959,7,FALSE))","v":""},{"$f":"IF(ISBLANK($R1347)=TRUE,\"\",VLOOKUP($R1347,TAXONOMY!$A$1:$G$959,6,FALSE))","v":""},{"$f":"IF(ISBLANK($R1347)=TRUE,\"\",VLOOKUP($R1347,TAXONOMY!$A$1:$G$959,5,FALSE))","v":""},{"$f":"IF(ISBLANK($R1347)=TRUE,\"\",VLOOKUP($R1347,TAXONOMY!$A$1:$G$959,4,FALSE))","v":""},{"$f":"IF(ISBLANK($R1347)=TRUE,\"\",VLOOKUP($R1347,TAXONOMY!$A$1:$G$959,3,FALSE))","v":""},{"$f":"IF(ISBLANK($R1347)=TRUE,\"\",VLOOKUP($R1347,TAXONOMY!$A$1:$H$959,2,FALSE))","v":""}]
[null,null,null,null,null,null,null,null,null,null,null,{"$f":"IF(ISBLANK($R1348)=TRUE,\"\",VLOOKUP($R1348,TAXONOMY!$A$1:$G$959,7,FALSE))","v":""},{"$f":"IF(ISBLANK($R1348)=TRUE,\"\",VLOOKUP($R1348,TAXONOMY!$A$1:$G$959,6,FALSE))","v":""},{"$f":"IF(ISBLANK($R1348)=TRUE,\"\",VLOOKUP($R1348,TAXONOMY!$A$1:$G$959,5,FALSE))","v":""},{"$f":"IF(ISBLANK($R1348)=TRUE,\"\",VLOOKUP($R1348,TAXONOMY!$A$1:$G$959,4,FALSE))","v":""},{"$f":"IF(ISBLANK($R1348)=TRUE,\"\",VLOOKUP($R1348,TAXONOMY!$A$1:$G$959,3,FALSE))","v":""},{"$f":"IF(ISBLANK($R1348)=TRUE,\"\",VLOOKUP($R1348,TAXONOMY!$A$1:$H$959,2,FALSE))","v":""}]
[null,null,null,null,null,null,null,null,null,null,null,{"$f":"IF(ISBLANK($R1349)=TRUE,\"\",VLOOKUP($R1349,TAXONOMY!$A$1:$G$959,7,FALSE))","v":""},{"$f":"IF(ISBLANK($R1349)=TRUE,\"\",VLOOKUP($R1349,TAXONOMY!$A$1:$G$959,6,FALSE))","v":""},{"$f":"IF(ISBLANK($R1349)=TRUE,\"\",VLOOKUP($R1349,TAXONOMY!$A$1:$G$959,5,FALSE))","v":""},{"$f":"IF(ISBLANK($R1349)=TRUE,\"\",VLOOKUP($R1349,TAXONOMY!$A$1:$G$959,4,FALSE))","v":""},{"$f":"IF(ISBLANK($R1349)=TRUE,\"\",VLOOKUP($R1349,TAXONOMY!$A$1:$G$959,3,FALSE))","v":""},{"$f":"IF(ISBLANK($R1349)=TRUE,\"\",VLOOKUP($R1349,TAXONOMY!$A$1:$H$959,2,FALSE))","v":""}]
[null,null,null,null,null,null,null,null,null,null,null,{"$f":"IF(ISBLANK($R1350)=TRUE,\"\",VLOOKUP($R1350,TAXONOMY!$A$1:$G$959,7,FALSE))","v":""},{"$f":"IF(ISBLANK($R1350)=TRUE,\"\",VLOOKUP($R1350,TAXONOMY!$A$1:$G$959,6,FALSE))","v":""},{"$f":"IF(ISBLANK($R1350)=TRUE,\"\",VLOOKUP($R1350,TAXONOMY!$A$1:$G$959,5,FALSE))","v":""},{"$f":"IF(ISBLANK($R1350)=TRUE,\"\",VLOOKUP($R1350,TAXONOMY!$A$1:$G$959,4,FALSE))","v":""},{"$f":"IF(ISBLANK($R1350)=TRUE,\"\",VLOOKUP($R1350,TAXONOMY!$A$1:$G$959,3,FALSE))","v":""},{"$f":"IF(ISBLANK($R1350)=TRUE,\"\",VLOOKUP($R1350,TAXONOMY!$A$1:$H$959,2,FALSE))","v":""}]
[null,null,null,null,null,null,null,null,null,null,null,{"$f":"IF(ISBLANK($R1351)=TRUE,\"\",VLOOKUP($R1351,TAXONOMY!$A$1:$G$959,7,FALSE))","v":""},{"$f":"IF(ISBLANK($R1351)=TRUE,\"\",VLOOKUP($R1351,TAXONOMY!$A$1:$G$959,6,FALSE))","v":""},{"$f":"IF(ISBLANK($R1351)=TRUE,\"\",VLOOKUP($R1351,TAXONOMY!$A$1:$G$959,5,FALSE))","v":""},{"$f":"IF(ISBLANK($R1351)=TRUE,\"\",VLOOKUP($R1351,TAXONOMY!$A$1:$G$959,4,FALSE))","v":""},{"$f":"IF(ISBLANK($R1351)=TRUE,\"\",VLOOKUP($R1351,TAXONOMY!$A$1:$G$959,3,FALSE))","v":""},{"$f":"IF(ISBLANK($R1351)=TRUE,\"\",VLOOKUP($R1351,TAXONOMY!$A$1:$H$959,2,FALSE))","v":""}]
[null,null,null,null,null,null,null,null,null,null,null,{"$f":"IF(ISBLANK($R1352)=TRUE,\"\",VLOOKUP($R1352,TAXONOMY!$A$1:$G$959,7,FALSE))","v":""},{"$f":"IF(ISBLANK($R1352)=TRUE,\"\",VLOOKUP($R1352,TAXONOMY!$A$1:$G$959,6,FALSE))","v":""},{"$f":"IF(ISBLANK($R1352)=TRUE,\"\",VLOOKUP($R1352,TAXONOMY!$A$1:$G$959,5,FALSE))","v":""},{"$f":"IF(ISBLANK($R1352)=TRUE,\"\",VLOOKUP($R1352,TAXONOMY!$A$1:$G$959,4,FALSE))","v":""},{"$f":"IF(ISBLANK($R1352)=TRUE,\"\",VLOOKUP($R1352,TAXONOMY!$A$1:$G$959,3,FALSE))","v":""},{"$f":"IF(ISBLANK($R1352)=TRUE,\"\",VLOOKUP($R1352,TAXONOMY!$A$1:$H$959,2,FALSE))","v":""}]
[null,null,null,null,null,null,null,null,null,null,null,{"$f":"IF(ISBLANK($R1353)=TRUE,\"\",VLOOKUP($R1353,TAXONOMY!$A$1:$G$959,7,FALSE))","v":""},{"$f":"IF(ISBLANK($R1353)=TRUE,\"\",VLOOKUP($R1353,TAXONOMY!$A$1:$G$959,6,FALSE))","v":""},{"$f":"IF(ISBLANK($R1353)=TRUE,\"\",VLOOKUP($R1353,TAXONOMY!$A$1:$G$959,5,FALSE))","v":""},{"$f":"IF(ISBLANK($R1353)=TRUE,\"\",VLOOKUP($R1353,TAXONOMY!$A$1:$G$959,4,FALSE))","v":""},{"$f":"IF(ISBLANK($R1353)=TRUE,\"\",VLOOKUP($R1353,TAXONOMY!$A$1:$G$959,3,FALSE))","v":""},{"$f":"IF(ISBLANK($R1353)=TRUE,\"\",VLOOKUP($R1353,TAXONOMY!$A$1:$H$959,2,FALSE))","v":""}]
[null,null,null,null,null,null,null,null,null,null,null,{"$f":"IF(ISBLANK($R1354)=TRUE,\"\",VLOOKUP($R1354,TAXONOMY!$A$1:$G$959,7,FALSE))","v":""},{"$f":"IF(ISBLANK($R1354)=TRUE,\"\",VLOOKUP($R1354,TAXONOMY!$A$1:$G$959,6,FALSE))","v":""},{"$f":"IF(ISBLANK($R1354)=TRUE,\"\",VLOOKUP($R1354,TAXONOMY!$A$1:$G$959,5,FALSE))","v":""},{"$f":"IF(ISBLANK($R1354)=TRUE,\"\",VLOOKUP($R1354,TAXONOMY!$A$1:$G$959,4,FALSE))","v":""},{"$f":"IF(ISBLANK($R1354)=TRUE,\"\",VLOOKUP($R1354,TAXONOMY!$A$1:$G$959,3,FALSE))","v":""},{"$f":"IF(ISBLANK($R1354)=TRUE,\"\",VLOOKUP($R1354,TAXONOMY!$A$1:$H$959,2,FALSE))","v":""}]
[null,null,null,null,null,null,null,null,null,null,null,{"$f":"IF(ISBLANK($R1355)=TRUE,\"\",VLOOKUP($R1355,TAXONOMY!$A$1:$G$959,7,FALSE))","v":""},{"$f":"IF(ISBLANK($R1355)=TRUE,\"\",VLOOKUP($R1355,TAXONOMY!$A$1:$G$959,6,FALSE))","v":""},{"$f":"IF(ISBLANK($R1355)=TRUE,\"\",VLOOKUP($R1355,TAXONOMY!$A$1:$G$959,5,FALSE))","v":""},{"$f":"IF(ISBLANK($R1355)=TRUE,\"\",VLOOKUP($R1355,TAXONOMY!$A$1:$G$959,4,FALSE))","v":""},{"$f":"IF(ISBLANK($R1355)=TRUE,\"\",VLOOKUP($R1355,TAXONOMY!$A$1:$G$959,3,FALSE))","v":""},{"$f":"IF(ISBLANK($R1355)=TRUE,\"\",VLOOKUP($R1355,TAXONOMY!$A$1:$H$959,2,FALSE))","v":""}]
[null,null,null,null,null,null,null,null,null,null,null,{"$f":"IF(ISBLANK($R1356)=TRUE,\"\",VLOOKUP($R1356,TAXONOMY!$A$1:$G$959,7,FALSE))","v":""},{"$f":"IF(ISBLANK($R1356)=TRUE,\"\",VLOOKUP($R1356,TAXONOMY!$A$1:$G$959,6,FALSE))","v":""},{"$f":"IF(ISBLANK($R1356)=TRUE,\"\",VLOOKUP($R1356,TAXONOMY!$A$1:$G$959,5,FALSE))","v":""},{"$f":"IF(ISBLANK($R1356)=TRUE,\"\",VLOOKUP($R1356,TAXONOMY!$A$1:$G$959,4,FALSE))","v":""},{"$f":"IF(ISBLANK($R1356)=TRUE,\"\",VLOOKUP($R1356,TAXONOMY!$A$1:$G$959,3,FALSE))","v":""},{"$f":"IF(ISBLANK($R1356)=TRUE,\"\",VLOOKUP($R1356,TAXONOMY!$A$1:$H$959,2,FALSE))","v":""}]
[null,null,null,null,null,null,null,null,null,null,null,{"$f":"IF(ISBLANK($R1357)=TRUE,\"\",VLOOKUP($R1357,TAXONOMY!$A$1:$G$959,7,FALSE))","v":""},{"$f":"IF(ISBLANK($R1357)=TRUE,\"\",VLOOKUP($R1357,TAXONOMY!$A$1:$G$959,6,FALSE))","v":""},{"$f":"IF(ISBLANK($R1357)=TRUE,\"\",VLOOKUP($R1357,TAXONOMY!$A$1:$G$959,5,FALSE))","v":""},{"$f":"IF(ISBLANK($R1357)=TRUE,\"\",VLOOKUP($R1357,TAXONOMY!$A$1:$G$959,4,FALSE))","v":""},{"$f":"IF(ISBLANK($R1357)=TRUE,\"\",VLOOKUP($R1357,TAXONOMY!$A$1:$G$959,3,FALSE))","v":""},{"$f":"IF(ISBLANK($R1357)=TRUE,\"\",VLOOKUP($R1357,TAXONOMY!$A$1:$H$959,2,FALSE))","v":""}]
[null,null,null,null,null,null,null,null,null,null,null,{"$f":"IF(ISBLANK($R1358)=TRUE,\"\",VLOOKUP($R1358,TAXONOMY!$A$1:$G$959,7,FALSE))","v":""},{"$f":"IF(ISBLANK($R1358)=TRUE,\"\",VLOOKUP($R1358,TAXONOMY!$A$1:$G$959,6,FALSE))","v":""},{"$f":"IF(ISBLANK($R1358)=TRUE,\"\",VLOOKUP($R1358,TAXONOMY!$A$1:$G$959,5,FALSE))","v":""},{"$f":"IF(ISBLANK($R1358)=TRUE,\"\",VLOOKUP($R1358,TAXONOMY!$A$1:$G$959,4,FALSE))","v":""},{"$f":"IF(ISBLANK($R1358)=TRUE,\"\",VLOOKUP($R1358,TAXONOMY!$A$1:$G$959,3,FALSE))","v":""},{"$f":"IF(ISBLANK($R1358)=TRUE,\"\",VLOOKUP($R1358,TAXONOMY!$A$1:$H$959,2,FALSE))","v":""}]
[null,null,null,null,null,null,null,null,null,null,null,{"$f":"IF(ISBLANK($R1359)=TRUE,\"\",VLOOKUP($R1359,TAXONOMY!$A$1:$G$959,7,FALSE))","v":""},{"$f":"IF(ISBLANK($R1359)=TRUE,\"\",VLOOKUP($R1359,TAXONOMY!$A$1:$G$959,6,FALSE))","v":""},{"$f":"IF(ISBLANK($R1359)=TRUE,\"\",VLOOKUP($R1359,TAXONOMY!$A$1:$G$959,5,FALSE))","v":""},{"$f":"IF(ISBLANK($R1359)=TRUE,\"\",VLOOKUP($R1359,TAXONOMY!$A$1:$G$959,4,FALSE))","v":""},{"$f":"IF(ISBLANK($R1359)=TRUE,\"\",VLOOKUP($R1359,TAXONOMY!$A$1:$G$959,3,FALSE))","v":""},{"$f":"IF(ISBLANK($R1359)=TRUE,\"\",VLOOKUP($R1359,TAXONOMY!$A$1:$H$959,2,FALSE))","v":""}]
[null,null,null,null,null,null,null,null,null,null,null,{"$f":"IF(ISBLANK($R1360)=TRUE,\"\",VLOOKUP($R1360,TAXONOMY!$A$1:$G$959,7,FALSE))","v":""},{"$f":"IF(ISBLANK($R1360)=TRUE,\"\",VLOOKUP($R1360,TAXONOMY!$A$1:$G$959,6,FALSE))","v":""},{"$f":"IF(ISBLANK($R1360)=TRUE,\"\",VLOOKUP($R1360,TAXONOMY!$A$1:$G$959,5,FALSE))","v":""},{"$f":"IF(ISBLANK($R1360)=TRUE,\"\",VLOOKUP($R1360,TAXONOMY!$A$1:$G$959,4,FALSE))","v":""},{"$f":"IF(ISBLANK($R1360)=TRUE,\"\",VLOOKUP($R1360,TAXONOMY!$A$1:$G$959,3,FALSE))","v":""},{"$f":"IF(ISBLANK($R1360)=TRUE,\"\",VLOOKUP($R1360,TAXONOMY!$A$1:$H$959,2,FALSE))","v":""}]
[null,null,null,null,null,null,null,null,null,null,null,{"$f":"IF(ISBLANK($R1361)=TRUE,\"\",VLOOKUP($R1361,TAXONOMY!$A$1:$G$959,7,FALSE))","v":""},{"$f":"IF(ISBLANK($R1361)=TRUE,\"\",VLOOKUP($R1361,TAXONOMY!$A$1:$G$959,6,FALSE))","v":""},{"$f":"IF(ISBLANK($R1361)=TRUE,\"\",VLOOKUP($R1361,TAXONOMY!$A$1:$G$959,5,FALSE))","v":""},{"$f":"IF(ISBLANK($R1361)=TRUE,\"\",VLOOKUP($R1361,TAXONOMY!$A$1:$G$959,4,FALSE))","v":""},{"$f":"IF(ISBLANK($R1361)=TRUE,\"\",VLOOKUP($R1361,TAXONOMY!$A$1:$G$959,3,FALSE))","v":""},{"$f":"IF(ISBLANK($R1361)=TRUE,\"\",VLOOKUP($R1361,TAXONOMY!$A$1:$H$959,2,FALSE))","v":""}]
[null,null,null,null,null,null,null,null,null,null,null,{"$f":"IF(ISBLANK($R1362)=TRUE,\"\",VLOOKUP($R1362,TAXONOMY!$A$1:$G$959,7,FALSE))","v":""},{"$f":"IF(ISBLANK($R1362)=TRUE,\"\",VLOOKUP($R1362,TAXONOMY!$A$1:$G$959,6,FALSE))","v":""},{"$f":"IF(ISBLANK($R1362)=TRUE,\"\",VLOOKUP($R1362,TAXONOMY!$A$1:$G$959,5,FALSE))","v":""},{"$f":"IF(ISBLANK($R1362)=TRUE,\"\",VLOOKUP($R1362,TAXONOMY!$A$1:$G$959,4,FALSE))","v":""},{"$f":"IF(ISBLANK($R1362)=TRUE,\"\",VLOOKUP($R1362,TAXONOMY!$A$1:$G$959,3,FALSE))","v":""},{"$f":"IF(ISBLANK($R1362)=TRUE,\"\",VLOOKUP($R1362,TAXONOMY!$A$1:$H$959,2,FALSE))","v":""}]
[null,null,null,null,null,null,null,null,null,null,null,{"$f":"IF(ISBLANK($R1363)=TRUE,\"\",VLOOKUP($R1363,TAXONOMY!$A$1:$G$959,7,FALSE))","v":""},{"$f":"IF(ISBLANK($R1363)=TRUE,\"\",VLOOKUP($R1363,TAXONOMY!$A$1:$G$959,6,FALSE))","v":""},{"$f":"IF(ISBLANK($R1363)=TRUE,\"\",VLOOKUP($R1363,TAXONOMY!$A$1:$G$959,5,FALSE))","v":""},{"$f":"IF(ISBLANK($R1363)=TRUE,\"\",VLOOKUP($R1363,TAXONOMY!$A$1:$G$959,4,FALSE))","v":""},{"$f":"IF(ISBLANK($R1363)=TRUE,\"\",VLOOKUP($R1363,TAXONOMY!$A$1:$G$959,3,FALSE))","v":""},{"$f":"IF(ISBLANK($R1363)=TRUE,\"\",VLOOKUP($R1363,TAXONOMY!$A$1:$H$959,2,FALSE))","v":""}]
[null,null,null,null,null,null,null,null,null,null,null,{"$f":"IF(ISBLANK($R1364)=TRUE,\"\",VLOOKUP($R1364,TAXONOMY!$A$1:$G$959,7,FALSE))","v":""},{"$f":"IF(ISBLANK($R1364)=TRUE,\"\",VLOOKUP($R1364,TAXONOMY!$A$1:$G$959,6,FALSE))","v":""},{"$f":"IF(ISBLANK($R1364)=TRUE,\"\",VLOOKUP($R1364,TAXONOMY!$A$1:$G$959,5,FALSE))","v":""},{"$f":"IF(ISBLANK($R1364)=TRUE,\"\",VLOOKUP($R1364,TAXONOMY!$A$1:$G$959,4,FALSE))","v":""},{"$f":"IF(ISBLANK($R1364)=TRUE,\"\",VLOOKUP($R1364,TAXONOMY!$A$1:$G$959,3,FALSE))","v":""},{"$f":"IF(ISBLANK($R1364)=TRUE,\"\",VLOOKUP($R1364,TAXONOMY!$A$1:$H$959,2,FALSE))","v":""}]
[null,null,null,null,null,null,null,null,null,null,null,{"$f":"IF(ISBLANK($R1365)=TRUE,\"\",VLOOKUP($R1365,TAXONOMY!$A$1:$G$959,7,FALSE))","v":""},{"$f":"IF(ISBLANK($R1365)=TRUE,\"\",VLOOKUP($R1365,TAXONOMY!$A$1:$G$959,6,FALSE))","v":""},{"$f":"IF(ISBLANK($R1365)=TRUE,\"\",VLOOKUP($R1365,TAXONOMY!$A$1:$G$959,5,FALSE))","v":""},{"$f":"IF(ISBLANK($R1365)=TRUE,\"\",VLOOKUP($R1365,TAXONOMY!$A$1:$G$959,4,FALSE))","v":""},{"$f":"IF(ISBLANK($R1365)=TRUE,\"\",VLOOKUP($R1365,TAXONOMY!$A$1:$G$959,3,FALSE))","v":""},{"$f":"IF(ISBLANK($R1365)=TRUE,\"\",VLOOKUP($R1365,TAXONOMY!$A$1:$H$959,2,FALSE))","v":""}]
[null,null,null,null,null,null,null,null,null,null,null,{"$f":"IF(ISBLANK($R1366)=TRUE,\"\",VLOOKUP($R1366,TAXONOMY!$A$1:$G$959,7,FALSE))","v":""},{"$f":"IF(ISBLANK($R1366)=TRUE,\"\",VLOOKUP($R1366,TAXONOMY!$A$1:$G$959,6,FALSE))","v":""},{"$f":"IF(ISBLANK($R1366)=TRUE,\"\",VLOOKUP($R1366,TAXONOMY!$A$1:$G$959,5,FALSE))","v":""},{"$f":"IF(ISBLANK($R1366)=TRUE,\"\",VLOOKUP($R1366,TAXONOMY!$A$1:$G$959,4,FALSE))","v":""},{"$f":"IF(ISBLANK($R1366)=TRUE,\"\",VLOOKUP($R1366,TAXONOMY!$A$1:$G$959,3,FALSE))","v":""},{"$f":"IF(ISBLANK($R1366)=TRUE,\"\",VLOOKUP($R1366,TAXONOMY!$A$1:$H$959,2,FALSE))","v":""}]
[null,null,null,null,null,null,null,null,null,null,null,{"$f":"IF(ISBLANK($R1367)=TRUE,\"\",VLOOKUP($R1367,TAXONOMY!$A$1:$G$959,7,FALSE))","v":""},{"$f":"IF(ISBLANK($R1367)=TRUE,\"\",VLOOKUP($R1367,TAXONOMY!$A$1:$G$959,6,FALSE))","v":""},{"$f":"IF(ISBLANK($R1367)=TRUE,\"\",VLOOKUP($R1367,TAXONOMY!$A$1:$G$959,5,FALSE))","v":""},{"$f":"IF(ISBLANK($R1367)=TRUE,\"\",VLOOKUP($R1367,TAXONOMY!$A$1:$G$959,4,FALSE))","v":""},{"$f":"IF(ISBLANK($R1367)=TRUE,\"\",VLOOKUP($R1367,TAXONOMY!$A$1:$G$959,3,FALSE))","v":""},{"$f":"IF(ISBLANK($R1367)=TRUE,\"\",VLOOKUP($R1367,TAXONOMY!$A$1:$H$959,2,FALSE))","v":""}]
[null,null,null,null,null,null,null,null,null,null,null,{"$f":"IF(ISBLANK($R1368)=TRUE,\"\",VLOOKUP($R1368,TAXONOMY!$A$1:$G$959,7,FALSE))","v":""},{"$f":"IF(ISBLANK($R1368)=TRUE,\"\",VLOOKUP($R1368,TAXONOMY!$A$1:$G$959,6,FALSE))","v":""},{"$f":"IF(ISBLANK($R1368)=TRUE,\"\",VLOOKUP($R1368,TAXONOMY!$A$1:$G$959,5,FALSE))","v":""},{"$f":"IF(ISBLANK($R1368)=TRUE,\"\",VLOOKUP($R1368,TAXONOMY!$A$1:$G$959,4,FALSE))","v":""},{"$f":"IF(ISBLANK($R1368)=TRUE,\"\",VLOOKUP($R1368,TAXONOMY!$A$1:$G$959,3,FALSE))","v":""},{"$f":"IF(ISBLANK($R1368)=TRUE,\"\",VLOOKUP($R1368,TAXONOMY!$A$1:$H$959,2,FALSE))","v":""}]
[null,null,null,null,null,null,null,null,null,null,null,{"$f":"IF(ISBLANK($R1369)=TRUE,\"\",VLOOKUP($R1369,TAXONOMY!$A$1:$G$959,7,FALSE))","v":""},{"$f":"IF(ISBLANK($R1369)=TRUE,\"\",VLOOKUP($R1369,TAXONOMY!$A$1:$G$959,6,FALSE))","v":""},{"$f":"IF(ISBLANK($R1369)=TRUE,\"\",VLOOKUP($R1369,TAXONOMY!$A$1:$G$959,5,FALSE))","v":""},{"$f":"IF(ISBLANK($R1369)=TRUE,\"\",VLOOKUP($R1369,TAXONOMY!$A$1:$G$959,4,FALSE))","v":""},{"$f":"IF(ISBLANK($R1369)=TRUE,\"\",VLOOKUP($R1369,TAXONOMY!$A$1:$G$959,3,FALSE))","v":""},{"$f":"IF(ISBLANK($R1369)=TRUE,\"\",VLOOKUP($R1369,TAXONOMY!$A$1:$H$959,2,FALSE))","v":""}]
[null,null,null,null,null,null,null,null,null,null,null,{"$f":"IF(ISBLANK($R1370)=TRUE,\"\",VLOOKUP($R1370,TAXONOMY!$A$1:$G$959,7,FALSE))","v":""},{"$f":"IF(ISBLANK($R1370)=TRUE,\"\",VLOOKUP($R1370,TAXONOMY!$A$1:$G$959,6,FALSE))","v":""},{"$f":"IF(ISBLANK($R1370)=TRUE,\"\",VLOOKUP($R1370,TAXONOMY!$A$1:$G$959,5,FALSE))","v":""},{"$f":"IF(ISBLANK($R1370)=TRUE,\"\",VLOOKUP($R1370,TAXONOMY!$A$1:$G$959,4,FALSE))","v":""},{"$f":"IF(ISBLANK($R1370)=TRUE,\"\",VLOOKUP($R1370,TAXONOMY!$A$1:$G$959,3,FALSE))","v":""},{"$f":"IF(ISBLANK($R1370)=TRUE,\"\",VLOOKUP($R1370,TAXONOMY!$A$1:$H$959,2,FALSE))","v":""}]
[null,null,null,null,null,null,null,null,null,null,null,{"$f":"IF(ISBLANK($R1371)=TRUE,\"\",VLOOKUP($R1371,TAXONOMY!$A$1:$G$959,7,FALSE))","v":""},{"$f":"IF(ISBLANK($R1371)=TRUE,\"\",VLOOKUP($R1371,TAXONOMY!$A$1:$G$959,6,FALSE))","v":""},{"$f":"IF(ISBLANK($R1371)=TRUE,\"\",VLOOKUP($R1371,TAXONOMY!$A$1:$G$959,5,FALSE))","v":""},{"$f":"IF(ISBLANK($R1371)=TRUE,\"\",VLOOKUP($R1371,TAXONOMY!$A$1:$G$959,4,FALSE))","v":""},{"$f":"IF(ISBLANK($R1371)=TRUE,\"\",VLOOKUP($R1371,TAXONOMY!$A$1:$G$959,3,FALSE))","v":""},{"$f":"IF(ISBLANK($R1371)=TRUE,\"\",VLOOKUP($R1371,TAXONOMY!$A$1:$H$959,2,FALSE))","v":""}]
[null,null,null,null,null,null,null,null,null,null,null,{"$f":"IF(ISBLANK($R1372)=TRUE,\"\",VLOOKUP($R1372,TAXONOMY!$A$1:$G$959,7,FALSE))","v":""},{"$f":"IF(ISBLANK($R1372)=TRUE,\"\",VLOOKUP($R1372,TAXONOMY!$A$1:$G$959,6,FALSE))","v":""},{"$f":"IF(ISBLANK($R1372)=TRUE,\"\",VLOOKUP($R1372,TAXONOMY!$A$1:$G$959,5,FALSE))","v":""},{"$f":"IF(ISBLANK($R1372)=TRUE,\"\",VLOOKUP($R1372,TAXONOMY!$A$1:$G$959,4,FALSE))","v":""},{"$f":"IF(ISBLANK($R1372)=TRUE,\"\",VLOOKUP($R1372,TAXONOMY!$A$1:$G$959,3,FALSE))","v":""},{"$f":"IF(ISBLANK($R1372)=TRUE,\"\",VLOOKUP($R1372,TAXONOMY!$A$1:$H$959,2,FALSE))","v":""}]
[null,null,null,null,null,null,null,null,null,null,null,{"$f":"IF(ISBLANK($R1373)=TRUE,\"\",VLOOKUP($R1373,TAXONOMY!$A$1:$G$959,7,FALSE))","v":""},{"$f":"IF(ISBLANK($R1373)=TRUE,\"\",VLOOKUP($R1373,TAXONOMY!$A$1:$G$959,6,FALSE))","v":""},{"$f":"IF(ISBLANK($R1373)=TRUE,\"\",VLOOKUP($R1373,TAXONOMY!$A$1:$G$959,5,FALSE))","v":""},{"$f":"IF(ISBLANK($R1373)=TRUE,\"\",VLOOKUP($R1373,TAXONOMY!$A$1:$G$959,4,FALSE))","v":""},{"$f":"IF(ISBLANK($R1373)=TRUE,\"\",VLOOKUP($R1373,TAXONOMY!$A$1:$G$959,3,FALSE))","v":""},{"$f":"IF(ISBLANK($R1373)=TRUE,\"\",VLOOKUP($R1373,TAXONOMY!$A$1:$H$959,2,FALSE))","v":""}]
[null,null,null,null,null,null,null,null,null,null,null,{"$f":"IF(ISBLANK($R1374)=TRUE,\"\",VLOOKUP($R1374,TAXONOMY!$A$1:$G$959,7,FALSE))","v":""},{"$f":"IF(ISBLANK($R1374)=TRUE,\"\",VLOOKUP($R1374,TAXONOMY!$A$1:$G$959,6,FALSE))","v":""},{"$f":"IF(ISBLANK($R1374)=TRUE,\"\",VLOOKUP($R1374,TAXONOMY!$A$1:$G$959,5,FALSE))","v":""},{"$f":"IF(ISBLANK($R1374)=TRUE,\"\",VLOOKUP($R1374,TAXONOMY!$A$1:$G$959,4,FALSE))","v":""},{"$f":"IF(ISBLANK($R1374)=TRUE,\"\",VLOOKUP($R1374,TAXONOMY!$A$1:$G$959,3,FALSE))","v":""},{"$f":"IF(ISBLANK($R1374)=TRUE,\"\",VLOOKUP($R1374,TAXONOMY!$A$1:$H$959,2,FALSE))","v":""}]
[null,null,null,null,null,null,null,null,null,null,null,{"$f":"IF(ISBLANK($R1375)=TRUE,\"\",VLOOKUP($R1375,TAXONOMY!$A$1:$G$959,7,FALSE))","v":""},{"$f":"IF(ISBLANK($R1375)=TRUE,\"\",VLOOKUP($R1375,TAXONOMY!$A$1:$G$959,6,FALSE))","v":""},{"$f":"IF(ISBLANK($R1375)=TRUE,\"\",VLOOKUP($R1375,TAXONOMY!$A$1:$G$959,5,FALSE))","v":""},{"$f":"IF(ISBLANK($R1375)=TRUE,\"\",VLOOKUP($R1375,TAXONOMY!$A$1:$G$959,4,FALSE))","v":""},{"$f":"IF(ISBLANK($R1375)=TRUE,\"\",VLOOKUP($R1375,TAXONOMY!$A$1:$G$959,3,FALSE))","v":""},{"$f":"IF(ISBLANK($R1375)=TRUE,\"\",VLOOKUP($R1375,TAXONOMY!$A$1:$H$959,2,FALSE))","v":""}]
[null,null,null,null,null,null,null,null,null,null,null,{"$f":"IF(ISBLANK($R1376)=TRUE,\"\",VLOOKUP($R1376,TAXONOMY!$A$1:$G$959,7,FALSE))","v":""},{"$f":"IF(ISBLANK($R1376)=TRUE,\"\",VLOOKUP($R1376,TAXONOMY!$A$1:$G$959,6,FALSE))","v":""},{"$f":"IF(ISBLANK($R1376)=TRUE,\"\",VLOOKUP($R1376,TAXONOMY!$A$1:$G$959,5,FALSE))","v":""},{"$f":"IF(ISBLANK($R1376)=TRUE,\"\",VLOOKUP($R1376,TAXONOMY!$A$1:$G$959,4,FALSE))","v":""},{"$f":"IF(ISBLANK($R1376)=TRUE,\"\",VLOOKUP($R1376,TAXONOMY!$A$1:$G$959,3,FALSE))","v":""},{"$f":"IF(ISBLANK($R1376)=TRUE,\"\",VLOOKUP($R1376,TAXONOMY!$A$1:$H$959,2,FALSE))","v":""}]
[null,null,null,null,null,null,null,null,null,null,null,{"$f":"IF(ISBLANK($R1377)=TRUE,\"\",VLOOKUP($R1377,TAXONOMY!$A$1:$G$959,7,FALSE))","v":""},{"$f":"IF(ISBLANK($R1377)=TRUE,\"\",VLOOKUP($R1377,TAXONOMY!$A$1:$G$959,6,FALSE))","v":""},{"$f":"IF(ISBLANK($R1377)=TRUE,\"\",VLOOKUP($R1377,TAXONOMY!$A$1:$G$959,5,FALSE))","v":""},{"$f":"IF(ISBLANK($R1377)=TRUE,\"\",VLOOKUP($R1377,TAXONOMY!$A$1:$G$959,4,FALSE))","v":""},{"$f":"IF(ISBLANK($R1377)=TRUE,\"\",VLOOKUP($R1377,TAXONOMY!$A$1:$G$959,3,FALSE))","v":""},{"$f":"IF(ISBLANK($R1377)=TRUE,\"\",VLOOKUP($R1377,TAXONOMY!$A$1:$H$959,2,FALSE))","v":""}]
[null,null,null,null,null,null,null,null,null,null,null,{"$f":"IF(ISBLANK($R1378)=TRUE,\"\",VLOOKUP($R1378,TAXONOMY!$A$1:$G$959,7,FALSE))","v":""},{"$f":"IF(ISBLANK($R1378)=TRUE,\"\",VLOOKUP($R1378,TAXONOMY!$A$1:$G$959,6,FALSE))","v":""},{"$f":"IF(ISBLANK($R1378)=TRUE,\"\",VLOOKUP($R1378,TAXONOMY!$A$1:$G$959,5,FALSE))","v":""},{"$f":"IF(ISBLANK($R1378)=TRUE,\"\",VLOOKUP($R1378,TAXONOMY!$A$1:$G$959,4,FALSE))","v":""},{"$f":"IF(ISBLANK($R1378)=TRUE,\"\",VLOOKUP($R1378,TAXONOMY!$A$1:$G$959,3,FALSE))","v":""},{"$f":"IF(ISBLANK($R1378)=TRUE,\"\",VLOOKUP($R1378,TAXONOMY!$A$1:$H$959,2,FALSE))","v":""}]
[null,null,null,null,null,null,null,null,null,null,null,{"$f":"IF(ISBLANK($R1379)=TRUE,\"\",VLOOKUP($R1379,TAXONOMY!$A$1:$G$959,7,FALSE))","v":""},{"$f":"IF(ISBLANK($R1379)=TRUE,\"\",VLOOKUP($R1379,TAXONOMY!$A$1:$G$959,6,FALSE))","v":""},{"$f":"IF(ISBLANK($R1379)=TRUE,\"\",VLOOKUP($R1379,TAXONOMY!$A$1:$G$959,5,FALSE))","v":""},{"$f":"IF(ISBLANK($R1379)=TRUE,\"\",VLOOKUP($R1379,TAXONOMY!$A$1:$G$959,4,FALSE))","v":""},{"$f":"IF(ISBLANK($R1379)=TRUE,\"\",VLOOKUP($R1379,TAXONOMY!$A$1:$G$959,3,FALSE))","v":""},{"$f":"IF(ISBLANK($R1379)=TRUE,\"\",VLOOKUP($R1379,TAXONOMY!$A$1:$H$959,2,FALSE))","v":""}]
[null,null,null,null,null,null,null,null,null,null,null,{"$f":"IF(ISBLANK($R1380)=TRUE,\"\",VLOOKUP($R1380,TAXONOMY!$A$1:$G$959,7,FALSE))","v":""},{"$f":"IF(ISBLANK($R1380)=TRUE,\"\",VLOOKUP($R1380,TAXONOMY!$A$1:$G$959,6,FALSE))","v":""},{"$f":"IF(ISBLANK($R1380)=TRUE,\"\",VLOOKUP($R1380,TAXONOMY!$A$1:$G$959,5,FALSE))","v":""},{"$f":"IF(ISBLANK($R1380)=TRUE,\"\",VLOOKUP($R1380,TAXONOMY!$A$1:$G$959,4,FALSE))","v":""},{"$f":"IF(ISBLANK($R1380)=TRUE,\"\",VLOOKUP($R1380,TAXONOMY!$A$1:$G$959,3,FALSE))","v":""},{"$f":"IF(ISBLANK($R1380)=TRUE,\"\",VLOOKUP($R1380,TAXONOMY!$A$1:$H$959,2,FALSE))","v":""}]
[null,null,null,null,null,null,null,null,null,null,null,{"$f":"IF(ISBLANK($R1381)=TRUE,\"\",VLOOKUP($R1381,TAXONOMY!$A$1:$G$959,7,FALSE))","v":""},{"$f":"IF(ISBLANK($R1381)=TRUE,\"\",VLOOKUP($R1381,TAXONOMY!$A$1:$G$959,6,FALSE))","v":""},{"$f":"IF(ISBLANK($R1381)=TRUE,\"\",VLOOKUP($R1381,TAXONOMY!$A$1:$G$959,5,FALSE))","v":""},{"$f":"IF(ISBLANK($R1381)=TRUE,\"\",VLOOKUP($R1381,TAXONOMY!$A$1:$G$959,4,FALSE))","v":""},{"$f":"IF(ISBLANK($R1381)=TRUE,\"\",VLOOKUP($R1381,TAXONOMY!$A$1:$G$959,3,FALSE))","v":""},{"$f":"IF(ISBLANK($R1381)=TRUE,\"\",VLOOKUP($R1381,TAXONOMY!$A$1:$H$959,2,FALSE))","v":""}]
[null,null,null,null,null,null,null,null,null,null,null,{"$f":"IF(ISBLANK($R1382)=TRUE,\"\",VLOOKUP($R1382,TAXONOMY!$A$1:$G$959,7,FALSE))","v":""},{"$f":"IF(ISBLANK($R1382)=TRUE,\"\",VLOOKUP($R1382,TAXONOMY!$A$1:$G$959,6,FALSE))","v":""},{"$f":"IF(ISBLANK($R1382)=TRUE,\"\",VLOOKUP($R1382,TAXONOMY!$A$1:$G$959,5,FALSE))","v":""},{"$f":"IF(ISBLANK($R1382)=TRUE,\"\",VLOOKUP($R1382,TAXONOMY!$A$1:$G$959,4,FALSE))","v":""},{"$f":"IF(ISBLANK($R1382)=TRUE,\"\",VLOOKUP($R1382,TAXONOMY!$A$1:$G$959,3,FALSE))","v":""},{"$f":"IF(ISBLANK($R1382)=TRUE,\"\",VLOOKUP($R1382,TAXONOMY!$A$1:$H$959,2,FALSE))","v":""}]
[null,null,null,null,null,null,null,null,null,null,null,{"$f":"IF(ISBLANK($R1383)=TRUE,\"\",VLOOKUP($R1383,TAXONOMY!$A$1:$G$959,7,FALSE))","v":""},{"$f":"IF(ISBLANK($R1383)=TRUE,\"\",VLOOKUP($R1383,TAXONOMY!$A$1:$G$959,6,FALSE))","v":""},{"$f":"IF(ISBLANK($R1383)=TRUE,\"\",VLOOKUP($R1383,TAXONOMY!$A$1:$G$959,5,FALSE))","v":""},{"$f":"IF(ISBLANK($R1383)=TRUE,\"\",VLOOKUP($R1383,TAXONOMY!$A$1:$G$959,4,FALSE))","v":""},{"$f":"IF(ISBLANK($R1383)=TRUE,\"\",VLOOKUP($R1383,TAXONOMY!$A$1:$G$959,3,FALSE))","v":""},{"$f":"IF(ISBLANK($R1383)=TRUE,\"\",VLOOKUP($R1383,TAXONOMY!$A$1:$H$959,2,FALSE))","v":""}]
[null,null,null,null,null,null,null,null,null,null,null,{"$f":"IF(ISBLANK($R1384)=TRUE,\"\",VLOOKUP($R1384,TAXONOMY!$A$1:$G$959,7,FALSE))","v":""},{"$f":"IF(ISBLANK($R1384)=TRUE,\"\",VLOOKUP($R1384,TAXONOMY!$A$1:$G$959,6,FALSE))","v":""},{"$f":"IF(ISBLANK($R1384)=TRUE,\"\",VLOOKUP($R1384,TAXONOMY!$A$1:$G$959,5,FALSE))","v":""},{"$f":"IF(ISBLANK($R1384)=TRUE,\"\",VLOOKUP($R1384,TAXONOMY!$A$1:$G$959,4,FALSE))","v":""},{"$f":"IF(ISBLANK($R1384)=TRUE,\"\",VLOOKUP($R1384,TAXONOMY!$A$1:$G$959,3,FALSE))","v":""},{"$f":"IF(ISBLANK($R1384)=TRUE,\"\",VLOOKUP($R1384,TAXONOMY!$A$1:$H$959,2,FALSE))","v":""}]
[null,null,null,null,null,null,null,null,null,null,null,{"$f":"IF(ISBLANK($R1385)=TRUE,\"\",VLOOKUP($R1385,TAXONOMY!$A$1:$G$959,7,FALSE))","v":""},{"$f":"IF(ISBLANK($R1385)=TRUE,\"\",VLOOKUP($R1385,TAXONOMY!$A$1:$G$959,6,FALSE))","v":""},{"$f":"IF(ISBLANK($R1385)=TRUE,\"\",VLOOKUP($R1385,TAXONOMY!$A$1:$G$959,5,FALSE))","v":""},{"$f":"IF(ISBLANK($R1385)=TRUE,\"\",VLOOKUP($R1385,TAXONOMY!$A$1:$G$959,4,FALSE))","v":""},{"$f":"IF(ISBLANK($R1385)=TRUE,\"\",VLOOKUP($R1385,TAXONOMY!$A$1:$G$959,3,FALSE))","v":""},{"$f":"IF(ISBLANK($R1385)=TRUE,\"\",VLOOKUP($R1385,TAXONOMY!$A$1:$H$959,2,FALSE))","v":""}]
[null,null,null,null,null,null,null,null,null,null,null,{"$f":"IF(ISBLANK($R1386)=TRUE,\"\",VLOOKUP($R1386,TAXONOMY!$A$1:$G$959,7,FALSE))","v":""},{"$f":"IF(ISBLANK($R1386)=TRUE,\"\",VLOOKUP($R1386,TAXONOMY!$A$1:$G$959,6,FALSE))","v":""},{"$f":"IF(ISBLANK($R1386)=TRUE,\"\",VLOOKUP($R1386,TAXONOMY!$A$1:$G$959,5,FALSE))","v":""},{"$f":"IF(ISBLANK($R1386)=TRUE,\"\",VLOOKUP($R1386,TAXONOMY!$A$1:$G$959,4,FALSE))","v":""},{"$f":"IF(ISBLANK($R1386)=TRUE,\"\",VLOOKUP($R1386,TAXONOMY!$A$1:$G$959,3,FALSE))","v":""},{"$f":"IF(ISBLANK($R1386)=TRUE,\"\",VLOOKUP($R1386,TAXONOMY!$A$1:$H$959,2,FALSE))","v":""}]
[null,null,null,null,null,null,null,null,null,null,null,{"$f":"IF(ISBLANK($R1387)=TRUE,\"\",VLOOKUP($R1387,TAXONOMY!$A$1:$G$959,7,FALSE))","v":""},{"$f":"IF(ISBLANK($R1387)=TRUE,\"\",VLOOKUP($R1387,TAXONOMY!$A$1:$G$959,6,FALSE))","v":""},{"$f":"IF(ISBLANK($R1387)=TRUE,\"\",VLOOKUP($R1387,TAXONOMY!$A$1:$G$959,5,FALSE))","v":""},{"$f":"IF(ISBLANK($R1387)=TRUE,\"\",VLOOKUP($R1387,TAXONOMY!$A$1:$G$959,4,FALSE))","v":""},{"$f":"IF(ISBLANK($R1387)=TRUE,\"\",VLOOKUP($R1387,TAXONOMY!$A$1:$G$959,3,FALSE))","v":""},{"$f":"IF(ISBLANK($R1387)=TRUE,\"\",VLOOKUP($R1387,TAXONOMY!$A$1:$H$959,2,FALSE))","v":""}]
[null,null,null,null,null,null,null,null,null,null,null,{"$f":"IF(ISBLANK($R1388)=TRUE,\"\",VLOOKUP($R1388,TAXONOMY!$A$1:$G$959,7,FALSE))","v":""},{"$f":"IF(ISBLANK($R1388)=TRUE,\"\",VLOOKUP($R1388,TAXONOMY!$A$1:$G$959,6,FALSE))","v":""},{"$f":"IF(ISBLANK($R1388)=TRUE,\"\",VLOOKUP($R1388,TAXONOMY!$A$1:$G$959,5,FALSE))","v":""},{"$f":"IF(ISBLANK($R1388)=TRUE,\"\",VLOOKUP($R1388,TAXONOMY!$A$1:$G$959,4,FALSE))","v":""},{"$f":"IF(ISBLANK($R1388)=TRUE,\"\",VLOOKUP($R1388,TAXONOMY!$A$1:$G$959,3,FALSE))","v":""},{"$f":"IF(ISBLANK($R1388)=TRUE,\"\",VLOOKUP($R1388,TAXONOMY!$A$1:$H$959,2,FALSE))","v":""}]
[null,null,null,null,null,null,null,null,null,null,null,{"$f":"IF(ISBLANK($R1389)=TRUE,\"\",VLOOKUP($R1389,TAXONOMY!$A$1:$G$959,7,FALSE))","v":""},{"$f":"IF(ISBLANK($R1389)=TRUE,\"\",VLOOKUP($R1389,TAXONOMY!$A$1:$G$959,6,FALSE))","v":""},{"$f":"IF(ISBLANK($R1389)=TRUE,\"\",VLOOKUP($R1389,TAXONOMY!$A$1:$G$959,5,FALSE))","v":""},{"$f":"IF(ISBLANK($R1389)=TRUE,\"\",VLOOKUP($R1389,TAXONOMY!$A$1:$G$959,4,FALSE))","v":""},{"$f":"IF(ISBLANK($R1389)=TRUE,\"\",VLOOKUP($R1389,TAXONOMY!$A$1:$G$959,3,FALSE))","v":""},{"$f":"IF(ISBLANK($R1389)=TRUE,\"\",VLOOKUP($R1389,TAXONOMY!$A$1:$H$959,2,FALSE))","v":""}]
[null,null,null,null,null,null,null,null,null,null,null,{"$f":"IF(ISBLANK($R1390)=TRUE,\"\",VLOOKUP($R1390,TAXONOMY!$A$1:$G$959,7,FALSE))","v":""},{"$f":"IF(ISBLANK($R1390)=TRUE,\"\",VLOOKUP($R1390,TAXONOMY!$A$1:$G$959,6,FALSE))","v":""},{"$f":"IF(ISBLANK($R1390)=TRUE,\"\",VLOOKUP($R1390,TAXONOMY!$A$1:$G$959,5,FALSE))","v":""},{"$f":"IF(ISBLANK($R1390)=TRUE,\"\",VLOOKUP($R1390,TAXONOMY!$A$1:$G$959,4,FALSE))","v":""},{"$f":"IF(ISBLANK($R1390)=TRUE,\"\",VLOOKUP($R1390,TAXONOMY!$A$1:$G$959,3,FALSE))","v":""},{"$f":"IF(ISBLANK($R1390)=TRUE,\"\",VLOOKUP($R1390,TAXONOMY!$A$1:$H$959,2,FALSE))","v":""}]
[null,null,null,null,null,null,null,null,null,null,null,{"$f":"IF(ISBLANK($R1391)=TRUE,\"\",VLOOKUP($R1391,TAXONOMY!$A$1:$G$959,7,FALSE))","v":""},{"$f":"IF(ISBLANK($R1391)=TRUE,\"\",VLOOKUP($R1391,TAXONOMY!$A$1:$G$959,6,FALSE))","v":""},{"$f":"IF(ISBLANK($R1391)=TRUE,\"\",VLOOKUP($R1391,TAXONOMY!$A$1:$G$959,5,FALSE))","v":""},{"$f":"IF(ISBLANK($R1391)=TRUE,\"\",VLOOKUP($R1391,TAXONOMY!$A$1:$G$959,4,FALSE))","v":""},{"$f":"IF(ISBLANK($R1391)=TRUE,\"\",VLOOKUP($R1391,TAXONOMY!$A$1:$G$959,3,FALSE))","v":""},{"$f":"IF(ISBLANK($R1391)=TRUE,\"\",VLOOKUP($R1391,TAXONOMY!$A$1:$H$959,2,FALSE))","v":""}]
[null,null,null,null,null,null,null,null,null,null,null,{"$f":"IF(ISBLANK($R1392)=TRUE,\"\",VLOOKUP($R1392,TAXONOMY!$A$1:$G$959,7,FALSE))","v":""},{"$f":"IF(ISBLANK($R1392)=TRUE,\"\",VLOOKUP($R1392,TAXONOMY!$A$1:$G$959,6,FALSE))","v":""},{"$f":"IF(ISBLANK($R1392)=TRUE,\"\",VLOOKUP($R1392,TAXONOMY!$A$1:$G$959,5,FALSE))","v":""},{"$f":"IF(ISBLANK($R1392)=TRUE,\"\",VLOOKUP($R1392,TAXONOMY!$A$1:$G$959,4,FALSE))","v":""},{"$f":"IF(ISBLANK($R1392)=TRUE,\"\",VLOOKUP($R1392,TAXONOMY!$A$1:$G$959,3,FALSE))","v":""},{"$f":"IF(ISBLANK($R1392)=TRUE,\"\",VLOOKUP($R1392,TAXONOMY!$A$1:$H$959,2,FALSE))","v":""}]
[null,null,null,null,null,null,null,null,null,null,null,{"$f":"IF(ISBLANK($R1393)=TRUE,\"\",VLOOKUP($R1393,TAXONOMY!$A$1:$G$959,7,FALSE))","v":""},{"$f":"IF(ISBLANK($R1393)=TRUE,\"\",VLOOKUP($R1393,TAXONOMY!$A$1:$G$959,6,FALSE))","v":""},{"$f":"IF(ISBLANK($R1393)=TRUE,\"\",VLOOKUP($R1393,TAXONOMY!$A$1:$G$959,5,FALSE))","v":""},{"$f":"IF(ISBLANK($R1393)=TRUE,\"\",VLOOKUP($R1393,TAXONOMY!$A$1:$G$959,4,FALSE))","v":""},{"$f":"IF(ISBLANK($R1393)=TRUE,\"\",VLOOKUP($R1393,TAXONOMY!$A$1:$G$959,3,FALSE))","v":""},{"$f":"IF(ISBLANK($R1393)=TRUE,\"\",VLOOKUP($R1393,TAXONOMY!$A$1:$H$959,2,FALSE))","v":""}]
[null,null,null,null,null,null,null,null,null,null,null,{"$f":"IF(ISBLANK($R1394)=TRUE,\"\",VLOOKUP($R1394,TAXONOMY!$A$1:$G$959,7,FALSE))","v":""},{"$f":"IF(ISBLANK($R1394)=TRUE,\"\",VLOOKUP($R1394,TAXONOMY!$A$1:$G$959,6,FALSE))","v":""},{"$f":"IF(ISBLANK($R1394)=TRUE,\"\",VLOOKUP($R1394,TAXONOMY!$A$1:$G$959,5,FALSE))","v":""},{"$f":"IF(ISBLANK($R1394)=TRUE,\"\",VLOOKUP($R1394,TAXONOMY!$A$1:$G$959,4,FALSE))","v":""},{"$f":"IF(ISBLANK($R1394)=TRUE,\"\",VLOOKUP($R1394,TAXONOMY!$A$1:$G$959,3,FALSE))","v":""},{"$f":"IF(ISBLANK($R1394)=TRUE,\"\",VLOOKUP($R1394,TAXONOMY!$A$1:$H$959,2,FALSE))","v":""}]
[null,null,null,null,null,null,null,null,null,null,null,{"$f":"IF(ISBLANK($R1395)=TRUE,\"\",VLOOKUP($R1395,TAXONOMY!$A$1:$G$959,7,FALSE))","v":""},{"$f":"IF(ISBLANK($R1395)=TRUE,\"\",VLOOKUP($R1395,TAXONOMY!$A$1:$G$959,6,FALSE))","v":""},{"$f":"IF(ISBLANK($R1395)=TRUE,\"\",VLOOKUP($R1395,TAXONOMY!$A$1:$G$959,5,FALSE))","v":""},{"$f":"IF(ISBLANK($R1395)=TRUE,\"\",VLOOKUP($R1395,TAXONOMY!$A$1:$G$959,4,FALSE))","v":""},{"$f":"IF(ISBLANK($R1395)=TRUE,\"\",VLOOKUP($R1395,TAXONOMY!$A$1:$G$959,3,FALSE))","v":""},{"$f":"IF(ISBLANK($R1395)=TRUE,\"\",VLOOKUP($R1395,TAXONOMY!$A$1:$H$959,2,FALSE))","v":""}]
[null,null,null,null,null,null,null,null,null,null,null,{"$f":"IF(ISBLANK($R1396)=TRUE,\"\",VLOOKUP($R1396,TAXONOMY!$A$1:$G$959,7,FALSE))","v":""},{"$f":"IF(ISBLANK($R1396)=TRUE,\"\",VLOOKUP($R1396,TAXONOMY!$A$1:$G$959,6,FALSE))","v":""},{"$f":"IF(ISBLANK($R1396)=TRUE,\"\",VLOOKUP($R1396,TAXONOMY!$A$1:$G$959,5,FALSE))","v":""},{"$f":"IF(ISBLANK($R1396)=TRUE,\"\",VLOOKUP($R1396,TAXONOMY!$A$1:$G$959,4,FALSE))","v":""},{"$f":"IF(ISBLANK($R1396)=TRUE,\"\",VLOOKUP($R1396,TAXONOMY!$A$1:$G$959,3,FALSE))","v":""},{"$f":"IF(ISBLANK($R1396)=TRUE,\"\",VLOOKUP($R1396,TAXONOMY!$A$1:$H$959,2,FALSE))","v":""}]
[null,null,null,null,null,null,null,null,null,null,null,{"$f":"IF(ISBLANK($R1397)=TRUE,\"\",VLOOKUP($R1397,TAXONOMY!$A$1:$G$959,7,FALSE))","v":""},{"$f":"IF(ISBLANK($R1397)=TRUE,\"\",VLOOKUP($R1397,TAXONOMY!$A$1:$G$959,6,FALSE))","v":""},{"$f":"IF(ISBLANK($R1397)=TRUE,\"\",VLOOKUP($R1397,TAXONOMY!$A$1:$G$959,5,FALSE))","v":""},{"$f":"IF(ISBLANK($R1397)=TRUE,\"\",VLOOKUP($R1397,TAXONOMY!$A$1:$G$959,4,FALSE))","v":""},{"$f":"IF(ISBLANK($R1397)=TRUE,\"\",VLOOKUP($R1397,TAXONOMY!$A$1:$G$959,3,FALSE))","v":""},{"$f":"IF(ISBLANK($R1397)=TRUE,\"\",VLOOKUP($R1397,TAXONOMY!$A$1:$H$959,2,FALSE))","v":""}]
[null,null,null,null,null,null,null,null,null,null,null,{"$f":"IF(ISBLANK($R1398)=TRUE,\"\",VLOOKUP($R1398,TAXONOMY!$A$1:$G$959,7,FALSE))","v":""},{"$f":"IF(ISBLANK($R1398)=TRUE,\"\",VLOOKUP($R1398,TAXONOMY!$A$1:$G$959,6,FALSE))","v":""},{"$f":"IF(ISBLANK($R1398)=TRUE,\"\",VLOOKUP($R1398,TAXONOMY!$A$1:$G$959,5,FALSE))","v":""},{"$f":"IF(ISBLANK($R1398)=TRUE,\"\",VLOOKUP($R1398,TAXONOMY!$A$1:$G$959,4,FALSE))","v":""},{"$f":"IF(ISBLANK($R1398)=TRUE,\"\",VLOOKUP($R1398,TAXONOMY!$A$1:$G$959,3,FALSE))","v":""},{"$f":"IF(ISBLANK($R1398)=TRUE,\"\",VLOOKUP($R1398,TAXONOMY!$A$1:$H$959,2,FALSE))","v":""}]
[null,null,null,null,null,null,null,null,null,null,null,{"$f":"IF(ISBLANK($R1399)=TRUE,\"\",VLOOKUP($R1399,TAXONOMY!$A$1:$G$959,7,FALSE))","v":""},{"$f":"IF(ISBLANK($R1399)=TRUE,\"\",VLOOKUP($R1399,TAXONOMY!$A$1:$G$959,6,FALSE))","v":""},{"$f":"IF(ISBLANK($R1399)=TRUE,\"\",VLOOKUP($R1399,TAXONOMY!$A$1:$G$959,5,FALSE))","v":""},{"$f":"IF(ISBLANK($R1399)=TRUE,\"\",VLOOKUP($R1399,TAXONOMY!$A$1:$G$959,4,FALSE))","v":""},{"$f":"IF(ISBLANK($R1399)=TRUE,\"\",VLOOKUP($R1399,TAXONOMY!$A$1:$G$959,3,FALSE))","v":""},{"$f":"IF(ISBLANK($R1399)=TRUE,\"\",VLOOKUP($R1399,TAXONOMY!$A$1:$H$959,2,FALSE))","v":""}]
[null,null,null,null,null,null,null,null,null,null,null,{"$f":"IF(ISBLANK($R1400)=TRUE,\"\",VLOOKUP($R1400,TAXONOMY!$A$1:$G$959,7,FALSE))","v":""},{"$f":"IF(ISBLANK($R1400)=TRUE,\"\",VLOOKUP($R1400,TAXONOMY!$A$1:$G$959,6,FALSE))","v":""},{"$f":"IF(ISBLANK($R1400)=TRUE,\"\",VLOOKUP($R1400,TAXONOMY!$A$1:$G$959,5,FALSE))","v":""},{"$f":"IF(ISBLANK($R1400)=TRUE,\"\",VLOOKUP($R1400,TAXONOMY!$A$1:$G$959,4,FALSE))","v":""},{"$f":"IF(ISBLANK($R1400)=TRUE,\"\",VLOOKUP($R1400,TAXONOMY!$A$1:$G$959,3,FALSE))","v":""},{"$f":"IF(ISBLANK($R1400)=TRUE,\"\",VLOOKUP($R1400,TAXONOMY!$A$1:$H$959,2,FALSE))","v":""}]
[null,null,null,null,null,null,null,null,null,null,null,{"$f":"IF(ISBLANK($R1401)=TRUE,\"\",VLOOKUP($R1401,TAXONOMY!$A$1:$G$959,7,FALSE))","v":""},{"$f":"IF(ISBLANK($R1401)=TRUE,\"\",VLOOKUP($R1401,TAXONOMY!$A$1:$G$959,6,FALSE))","v":""},{"$f":"IF(ISBLANK($R1401)=TRUE,\"\",VLOOKUP($R1401,TAXONOMY!$A$1:$G$959,5,FALSE))","v":""},{"$f":"IF(ISBLANK($R1401)=TRUE,\"\",VLOOKUP($R1401,TAXONOMY!$A$1:$G$959,4,FALSE))","v":""},{"$f":"IF(ISBLANK($R1401)=TRUE,\"\",VLOOKUP($R1401,TAXONOMY!$A$1:$G$959,3,FALSE))","v":""},{"$f":"IF(ISBLANK($R1401)=TRUE,\"\",VLOOKUP($R1401,TAXONOMY!$A$1:$H$959,2,FALSE))","v":""}]
[null,null,null,null,null,null,null,null,null,null,null,{"$f":"IF(ISBLANK($R1402)=TRUE,\"\",VLOOKUP($R1402,TAXONOMY!$A$1:$G$959,7,FALSE))","v":""},{"$f":"IF(ISBLANK($R1402)=TRUE,\"\",VLOOKUP($R1402,TAXONOMY!$A$1:$G$959,6,FALSE))","v":""},{"$f":"IF(ISBLANK($R1402)=TRUE,\"\",VLOOKUP($R1402,TAXONOMY!$A$1:$G$959,5,FALSE))","v":""},{"$f":"IF(ISBLANK($R1402)=TRUE,\"\",VLOOKUP($R1402,TAXONOMY!$A$1:$G$959,4,FALSE))","v":""},{"$f":"IF(ISBLANK($R1402)=TRUE,\"\",VLOOKUP($R1402,TAXONOMY!$A$1:$G$959,3,FALSE))","v":""},{"$f":"IF(ISBLANK($R1402)=TRUE,\"\",VLOOKUP($R1402,TAXONOMY!$A$1:$H$959,2,FALSE))","v":""}]
[null,null,null,null,null,null,null,null,null,null,null,{"$f":"IF(ISBLANK($R1403)=TRUE,\"\",VLOOKUP($R1403,TAXONOMY!$A$1:$G$959,7,FALSE))","v":""},{"$f":"IF(ISBLANK($R1403)=TRUE,\"\",VLOOKUP($R1403,TAXONOMY!$A$1:$G$959,6,FALSE))","v":""},{"$f":"IF(ISBLANK($R1403)=TRUE,\"\",VLOOKUP($R1403,TAXONOMY!$A$1:$G$959,5,FALSE))","v":""},{"$f":"IF(ISBLANK($R1403)=TRUE,\"\",VLOOKUP($R1403,TAXONOMY!$A$1:$G$959,4,FALSE))","v":""},{"$f":"IF(ISBLANK($R1403)=TRUE,\"\",VLOOKUP($R1403,TAXONOMY!$A$1:$G$959,3,FALSE))","v":""},{"$f":"IF(ISBLANK($R1403)=TRUE,\"\",VLOOKUP($R1403,TAXONOMY!$A$1:$H$959,2,FALSE))","v":""}]
[null,null,null,null,null,null,null,null,null,null,null,{"$f":"IF(ISBLANK($R1404)=TRUE,\"\",VLOOKUP($R1404,TAXONOMY!$A$1:$G$959,7,FALSE))","v":""},{"$f":"IF(ISBLANK($R1404)=TRUE,\"\",VLOOKUP($R1404,TAXONOMY!$A$1:$G$959,6,FALSE))","v":""},{"$f":"IF(ISBLANK($R1404)=TRUE,\"\",VLOOKUP($R1404,TAXONOMY!$A$1:$G$959,5,FALSE))","v":""},{"$f":"IF(ISBLANK($R1404)=TRUE,\"\",VLOOKUP($R1404,TAXONOMY!$A$1:$G$959,4,FALSE))","v":""},{"$f":"IF(ISBLANK($R1404)=TRUE,\"\",VLOOKUP($R1404,TAXONOMY!$A$1:$G$959,3,FALSE))","v":""},{"$f":"IF(ISBLANK($R1404)=TRUE,\"\",VLOOKUP($R1404,TAXONOMY!$A$1:$H$959,2,FALSE))","v":""}]
[null,null,null,null,null,null,null,null,null,null,null,{"$f":"IF(ISBLANK($R1405)=TRUE,\"\",VLOOKUP($R1405,TAXONOMY!$A$1:$G$959,7,FALSE))","v":""},{"$f":"IF(ISBLANK($R1405)=TRUE,\"\",VLOOKUP($R1405,TAXONOMY!$A$1:$G$959,6,FALSE))","v":""},{"$f":"IF(ISBLANK($R1405)=TRUE,\"\",VLOOKUP($R1405,TAXONOMY!$A$1:$G$959,5,FALSE))","v":""},{"$f":"IF(ISBLANK($R1405)=TRUE,\"\",VLOOKUP($R1405,TAXONOMY!$A$1:$G$959,4,FALSE))","v":""},{"$f":"IF(ISBLANK($R1405)=TRUE,\"\",VLOOKUP($R1405,TAXONOMY!$A$1:$G$959,3,FALSE))","v":""},{"$f":"IF(ISBLANK($R1405)=TRUE,\"\",VLOOKUP($R1405,TAXONOMY!$A$1:$H$959,2,FALSE))","v":""}]
[null,null,null,null,null,null,null,null,null,null,null,{"$f":"IF(ISBLANK($R1406)=TRUE,\"\",VLOOKUP($R1406,TAXONOMY!$A$1:$G$959,7,FALSE))","v":""},{"$f":"IF(ISBLANK($R1406)=TRUE,\"\",VLOOKUP($R1406,TAXONOMY!$A$1:$G$959,6,FALSE))","v":""},{"$f":"IF(ISBLANK($R1406)=TRUE,\"\",VLOOKUP($R1406,TAXONOMY!$A$1:$G$959,5,FALSE))","v":""},{"$f":"IF(ISBLANK($R1406)=TRUE,\"\",VLOOKUP($R1406,TAXONOMY!$A$1:$G$959,4,FALSE))","v":""},{"$f":"IF(ISBLANK($R1406)=TRUE,\"\",VLOOKUP($R1406,TAXONOMY!$A$1:$G$959,3,FALSE))","v":""},{"$f":"IF(ISBLANK($R1406)=TRUE,\"\",VLOOKUP($R1406,TAXONOMY!$A$1:$H$959,2,FALSE))","v":""}]
[null,null,null,null,null,null,null,null,null,null,null,{"$f":"IF(ISBLANK($R1407)=TRUE,\"\",VLOOKUP($R1407,TAXONOMY!$A$1:$G$959,7,FALSE))","v":""},{"$f":"IF(ISBLANK($R1407)=TRUE,\"\",VLOOKUP($R1407,TAXONOMY!$A$1:$G$959,6,FALSE))","v":""},{"$f":"IF(ISBLANK($R1407)=TRUE,\"\",VLOOKUP($R1407,TAXONOMY!$A$1:$G$959,5,FALSE))","v":""},{"$f":"IF(ISBLANK($R1407)=TRUE,\"\",VLOOKUP($R1407,TAXONOMY!$A$1:$G$959,4,FALSE))","v":""},{"$f":"IF(ISBLANK($R1407)=TRUE,\"\",VLOOKUP($R1407,TAXONOMY!$A$1:$G$959,3,FALSE))","v":""},{"$f":"IF(ISBLANK($R1407)=TRUE,\"\",VLOOKUP($R1407,TAXONOMY!$A$1:$H$959,2,FALSE))","v":""}]
[null,null,null,null,null,null,null,null,null,null,null,{"$f":"IF(ISBLANK($R1408)=TRUE,\"\",VLOOKUP($R1408,TAXONOMY!$A$1:$G$959,7,FALSE))","v":""},{"$f":"IF(ISBLANK($R1408)=TRUE,\"\",VLOOKUP($R1408,TAXONOMY!$A$1:$G$959,6,FALSE))","v":""},{"$f":"IF(ISBLANK($R1408)=TRUE,\"\",VLOOKUP($R1408,TAXONOMY!$A$1:$G$959,5,FALSE))","v":""},{"$f":"IF(ISBLANK($R1408)=TRUE,\"\",VLOOKUP($R1408,TAXONOMY!$A$1:$G$959,4,FALSE))","v":""},{"$f":"IF(ISBLANK($R1408)=TRUE,\"\",VLOOKUP($R1408,TAXONOMY!$A$1:$G$959,3,FALSE))","v":""},{"$f":"IF(ISBLANK($R1408)=TRUE,\"\",VLOOKUP($R1408,TAXONOMY!$A$1:$H$959,2,FALSE))","v":""}]
[null,null,null,null,null,null,null,null,null,null,null,{"$f":"IF(ISBLANK($R1409)=TRUE,\"\",VLOOKUP($R1409,TAXONOMY!$A$1:$G$959,7,FALSE))","v":""},{"$f":"IF(ISBLANK($R1409)=TRUE,\"\",VLOOKUP($R1409,TAXONOMY!$A$1:$G$959,6,FALSE))","v":""},{"$f":"IF(ISBLANK($R1409)=TRUE,\"\",VLOOKUP($R1409,TAXONOMY!$A$1:$G$959,5,FALSE))","v":""},{"$f":"IF(ISBLANK($R1409)=TRUE,\"\",VLOOKUP($R1409,TAXONOMY!$A$1:$G$959,4,FALSE))","v":""},{"$f":"IF(ISBLANK($R1409)=TRUE,\"\",VLOOKUP($R1409,TAXONOMY!$A$1:$G$959,3,FALSE))","v":""},{"$f":"IF(ISBLANK($R1409)=TRUE,\"\",VLOOKUP($R1409,TAXONOMY!$A$1:$H$959,2,FALSE))","v":""}]
[null,null,null,null,null,null,null,null,null,null,null,{"$f":"IF(ISBLANK($R1410)=TRUE,\"\",VLOOKUP($R1410,TAXONOMY!$A$1:$G$959,7,FALSE))","v":""},{"$f":"IF(ISBLANK($R1410)=TRUE,\"\",VLOOKUP($R1410,TAXONOMY!$A$1:$G$959,6,FALSE))","v":""},{"$f":"IF(ISBLANK($R1410)=TRUE,\"\",VLOOKUP($R1410,TAXONOMY!$A$1:$G$959,5,FALSE))","v":""},{"$f":"IF(ISBLANK($R1410)=TRUE,\"\",VLOOKUP($R1410,TAXONOMY!$A$1:$G$959,4,FALSE))","v":""},{"$f":"IF(ISBLANK($R1410)=TRUE,\"\",VLOOKUP($R1410,TAXONOMY!$A$1:$G$959,3,FALSE))","v":""},{"$f":"IF(ISBLANK($R1410)=TRUE,\"\",VLOOKUP($R1410,TAXONOMY!$A$1:$H$959,2,FALSE))","v":""}]
[null,null,null,null,null,null,null,null,null,null,null,{"$f":"IF(ISBLANK($R1411)=TRUE,\"\",VLOOKUP($R1411,TAXONOMY!$A$1:$G$959,7,FALSE))","v":""},{"$f":"IF(ISBLANK($R1411)=TRUE,\"\",VLOOKUP($R1411,TAXONOMY!$A$1:$G$959,6,FALSE))","v":""},{"$f":"IF(ISBLANK($R1411)=TRUE,\"\",VLOOKUP($R1411,TAXONOMY!$A$1:$G$959,5,FALSE))","v":""},{"$f":"IF(ISBLANK($R1411)=TRUE,\"\",VLOOKUP($R1411,TAXONOMY!$A$1:$G$959,4,FALSE))","v":""},{"$f":"IF(ISBLANK($R1411)=TRUE,\"\",VLOOKUP($R1411,TAXONOMY!$A$1:$G$959,3,FALSE))","v":""},{"$f":"IF(ISBLANK($R1411)=TRUE,\"\",VLOOKUP($R1411,TAXONOMY!$A$1:$H$959,2,FALSE))","v":""}]
[null,null,null,null,null,null,null,null,null,null,null,{"$f":"IF(ISBLANK($R1412)=TRUE,\"\",VLOOKUP($R1412,TAXONOMY!$A$1:$G$959,7,FALSE))","v":""},{"$f":"IF(ISBLANK($R1412)=TRUE,\"\",VLOOKUP($R1412,TAXONOMY!$A$1:$G$959,6,FALSE))","v":""},{"$f":"IF(ISBLANK($R1412)=TRUE,\"\",VLOOKUP($R1412,TAXONOMY!$A$1:$G$959,5,FALSE))","v":""},{"$f":"IF(ISBLANK($R1412)=TRUE,\"\",VLOOKUP($R1412,TAXONOMY!$A$1:$G$959,4,FALSE))","v":""},{"$f":"IF(ISBLANK($R1412)=TRUE,\"\",VLOOKUP($R1412,TAXONOMY!$A$1:$G$959,3,FALSE))","v":""},{"$f":"IF(ISBLANK($R1412)=TRUE,\"\",VLOOKUP($R1412,TAXONOMY!$A$1:$H$959,2,FALSE))","v":""}]
[null,null,null,null,null,null,null,null,null,null,null,{"$f":"IF(ISBLANK($R1413)=TRUE,\"\",VLOOKUP($R1413,TAXONOMY!$A$1:$G$959,7,FALSE))","v":""},{"$f":"IF(ISBLANK($R1413)=TRUE,\"\",VLOOKUP($R1413,TAXONOMY!$A$1:$G$959,6,FALSE))","v":""},{"$f":"IF(ISBLANK($R1413)=TRUE,\"\",VLOOKUP($R1413,TAXONOMY!$A$1:$G$959,5,FALSE))","v":""},{"$f":"IF(ISBLANK($R1413)=TRUE,\"\",VLOOKUP($R1413,TAXONOMY!$A$1:$G$959,4,FALSE))","v":""},{"$f":"IF(ISBLANK($R1413)=TRUE,\"\",VLOOKUP($R1413,TAXONOMY!$A$1:$G$959,3,FALSE))","v":""},{"$f":"IF(ISBLANK($R1413)=TRUE,\"\",VLOOKUP($R1413,TAXONOMY!$A$1:$H$959,2,FALSE))","v":""}]
[null,null,null,null,null,null,null,null,null,null,null,{"$f":"IF(ISBLANK($R1414)=TRUE,\"\",VLOOKUP($R1414,TAXONOMY!$A$1:$G$959,7,FALSE))","v":""},{"$f":"IF(ISBLANK($R1414)=TRUE,\"\",VLOOKUP($R1414,TAXONOMY!$A$1:$G$959,6,FALSE))","v":""},{"$f":"IF(ISBLANK($R1414)=TRUE,\"\",VLOOKUP($R1414,TAXONOMY!$A$1:$G$959,5,FALSE))","v":""},{"$f":"IF(ISBLANK($R1414)=TRUE,\"\",VLOOKUP($R1414,TAXONOMY!$A$1:$G$959,4,FALSE))","v":""},{"$f":"IF(ISBLANK($R1414)=TRUE,\"\",VLOOKUP($R1414,TAXONOMY!$A$1:$G$959,3,FALSE))","v":""},{"$f":"IF(ISBLANK($R1414)=TRUE,\"\",VLOOKUP($R1414,TAXONOMY!$A$1:$H$959,2,FALSE))","v":""}]
[null,null,null,null,null,null,null,null,null,null,null,{"$f":"IF(ISBLANK($R1415)=TRUE,\"\",VLOOKUP($R1415,TAXONOMY!$A$1:$G$959,7,FALSE))","v":""},{"$f":"IF(ISBLANK($R1415)=TRUE,\"\",VLOOKUP($R1415,TAXONOMY!$A$1:$G$959,6,FALSE))","v":""},{"$f":"IF(ISBLANK($R1415)=TRUE,\"\",VLOOKUP($R1415,TAXONOMY!$A$1:$G$959,5,FALSE))","v":""},{"$f":"IF(ISBLANK($R1415)=TRUE,\"\",VLOOKUP($R1415,TAXONOMY!$A$1:$G$959,4,FALSE))","v":""},{"$f":"IF(ISBLANK($R1415)=TRUE,\"\",VLOOKUP($R1415,TAXONOMY!$A$1:$G$959,3,FALSE))","v":""},{"$f":"IF(ISBLANK($R1415)=TRUE,\"\",VLOOKUP($R1415,TAXONOMY!$A$1:$H$959,2,FALSE))","v":""}]
[null,null,null,null,null,null,null,null,null,null,null,{"$f":"IF(ISBLANK($R1416)=TRUE,\"\",VLOOKUP($R1416,TAXONOMY!$A$1:$G$959,7,FALSE))","v":""},{"$f":"IF(ISBLANK($R1416)=TRUE,\"\",VLOOKUP($R1416,TAXONOMY!$A$1:$G$959,6,FALSE))","v":""},{"$f":"IF(ISBLANK($R1416)=TRUE,\"\",VLOOKUP($R1416,TAXONOMY!$A$1:$G$959,5,FALSE))","v":""},{"$f":"IF(ISBLANK($R1416)=TRUE,\"\",VLOOKUP($R1416,TAXONOMY!$A$1:$G$959,4,FALSE))","v":""},{"$f":"IF(ISBLANK($R1416)=TRUE,\"\",VLOOKUP($R1416,TAXONOMY!$A$1:$G$959,3,FALSE))","v":""},{"$f":"IF(ISBLANK($R1416)=TRUE,\"\",VLOOKUP($R1416,TAXONOMY!$A$1:$H$959,2,FALSE))","v":""}]
[null,null,null,null,null,null,null,null,null,null,null,{"$f":"IF(ISBLANK($R1417)=TRUE,\"\",VLOOKUP($R1417,TAXONOMY!$A$1:$G$959,7,FALSE))","v":""},{"$f":"IF(ISBLANK($R1417)=TRUE,\"\",VLOOKUP($R1417,TAXONOMY!$A$1:$G$959,6,FALSE))","v":""},{"$f":"IF(ISBLANK($R1417)=TRUE,\"\",VLOOKUP($R1417,TAXONOMY!$A$1:$G$959,5,FALSE))","v":""},{"$f":"IF(ISBLANK($R1417)=TRUE,\"\",VLOOKUP($R1417,TAXONOMY!$A$1:$G$959,4,FALSE))","v":""},{"$f":"IF(ISBLANK($R1417)=TRUE,\"\",VLOOKUP($R1417,TAXONOMY!$A$1:$G$959,3,FALSE))","v":""},{"$f":"IF(ISBLANK($R1417)=TRUE,\"\",VLOOKUP($R1417,TAXONOMY!$A$1:$H$959,2,FALSE))","v":""}]
[null,null,null,null,null,null,null,null,null,null,null,{"$f":"IF(ISBLANK($R1418)=TRUE,\"\",VLOOKUP($R1418,TAXONOMY!$A$1:$G$959,7,FALSE))","v":""},{"$f":"IF(ISBLANK($R1418)=TRUE,\"\",VLOOKUP($R1418,TAXONOMY!$A$1:$G$959,6,FALSE))","v":""},{"$f":"IF(ISBLANK($R1418)=TRUE,\"\",VLOOKUP($R1418,TAXONOMY!$A$1:$G$959,5,FALSE))","v":""},{"$f":"IF(ISBLANK($R1418)=TRUE,\"\",VLOOKUP($R1418,TAXONOMY!$A$1:$G$959,4,FALSE))","v":""},{"$f":"IF(ISBLANK($R1418)=TRUE,\"\",VLOOKUP($R1418,TAXONOMY!$A$1:$G$959,3,FALSE))","v":""},{"$f":"IF(ISBLANK($R1418)=TRUE,\"\",VLOOKUP($R1418,TAXONOMY!$A$1:$H$959,2,FALSE))","v":""}]
[null,null,null,null,null,null,null,null,null,null,null,{"$f":"IF(ISBLANK($R1419)=TRUE,\"\",VLOOKUP($R1419,TAXONOMY!$A$1:$G$959,7,FALSE))","v":""},{"$f":"IF(ISBLANK($R1419)=TRUE,\"\",VLOOKUP($R1419,TAXONOMY!$A$1:$G$959,6,FALSE))","v":""},{"$f":"IF(ISBLANK($R1419)=TRUE,\"\",VLOOKUP($R1419,TAXONOMY!$A$1:$G$959,5,FALSE))","v":""},{"$f":"IF(ISBLANK($R1419)=TRUE,\"\",VLOOKUP($R1419,TAXONOMY!$A$1:$G$959,4,FALSE))","v":""},{"$f":"IF(ISBLANK($R1419)=TRUE,\"\",VLOOKUP($R1419,TAXONOMY!$A$1:$G$959,3,FALSE))","v":""},{"$f":"IF(ISBLANK($R1419)=TRUE,\"\",VLOOKUP($R1419,TAXONOMY!$A$1:$H$959,2,FALSE))","v":""}]
[null,null,null,null,null,null,null,null,null,null,null,{"$f":"IF(ISBLANK($R1420)=TRUE,\"\",VLOOKUP($R1420,TAXONOMY!$A$1:$G$959,7,FALSE))","v":""},{"$f":"IF(ISBLANK($R1420)=TRUE,\"\",VLOOKUP($R1420,TAXONOMY!$A$1:$G$959,6,FALSE))","v":""},{"$f":"IF(ISBLANK($R1420)=TRUE,\"\",VLOOKUP($R1420,TAXONOMY!$A$1:$G$959,5,FALSE))","v":""},{"$f":"IF(ISBLANK($R1420)=TRUE,\"\",VLOOKUP($R1420,TAXONOMY!$A$1:$G$959,4,FALSE))","v":""},{"$f":"IF(ISBLANK($R1420)=TRUE,\"\",VLOOKUP($R1420,TAXONOMY!$A$1:$G$959,3,FALSE))","v":""},{"$f":"IF(ISBLANK($R1420)=TRUE,\"\",VLOOKUP($R1420,TAXONOMY!$A$1:$H$959,2,FALSE))","v":""}]
[null,null,null,null,null,null,null,null,null,null,null,{"$f":"IF(ISBLANK($R1421)=TRUE,\"\",VLOOKUP($R1421,TAXONOMY!$A$1:$G$959,7,FALSE))","v":""},{"$f":"IF(ISBLANK($R1421)=TRUE,\"\",VLOOKUP($R1421,TAXONOMY!$A$1:$G$959,6,FALSE))","v":""},{"$f":"IF(ISBLANK($R1421)=TRUE,\"\",VLOOKUP($R1421,TAXONOMY!$A$1:$G$959,5,FALSE))","v":""},{"$f":"IF(ISBLANK($R1421)=TRUE,\"\",VLOOKUP($R1421,TAXONOMY!$A$1:$G$959,4,FALSE))","v":""},{"$f":"IF(ISBLANK($R1421)=TRUE,\"\",VLOOKUP($R1421,TAXONOMY!$A$1:$G$959,3,FALSE))","v":""},{"$f":"IF(ISBLANK($R1421)=TRUE,\"\",VLOOKUP($R1421,TAXONOMY!$A$1:$H$959,2,FALSE))","v":""}]
[null,null,null,null,null,null,null,null,null,null,null,{"$f":"IF(ISBLANK($R1422)=TRUE,\"\",VLOOKUP($R1422,TAXONOMY!$A$1:$G$959,7,FALSE))","v":""},{"$f":"IF(ISBLANK($R1422)=TRUE,\"\",VLOOKUP($R1422,TAXONOMY!$A$1:$G$959,6,FALSE))","v":""},{"$f":"IF(ISBLANK($R1422)=TRUE,\"\",VLOOKUP($R1422,TAXONOMY!$A$1:$G$959,5,FALSE))","v":""},{"$f":"IF(ISBLANK($R1422)=TRUE,\"\",VLOOKUP($R1422,TAXONOMY!$A$1:$G$959,4,FALSE))","v":""},{"$f":"IF(ISBLANK($R1422)=TRUE,\"\",VLOOKUP($R1422,TAXONOMY!$A$1:$G$959,3,FALSE))","v":""},{"$f":"IF(ISBLANK($R1422)=TRUE,\"\",VLOOKUP($R1422,TAXONOMY!$A$1:$H$959,2,FALSE))","v":""}]
[null,null,null,null,null,null,null,null,null,null,null,{"$f":"IF(ISBLANK($R1423)=TRUE,\"\",VLOOKUP($R1423,TAXONOMY!$A$1:$G$959,7,FALSE))","v":""},{"$f":"IF(ISBLANK($R1423)=TRUE,\"\",VLOOKUP($R1423,TAXONOMY!$A$1:$G$959,6,FALSE))","v":""},{"$f":"IF(ISBLANK($R1423)=TRUE,\"\",VLOOKUP($R1423,TAXONOMY!$A$1:$G$959,5,FALSE))","v":""},{"$f":"IF(ISBLANK($R1423)=TRUE,\"\",VLOOKUP($R1423,TAXONOMY!$A$1:$G$959,4,FALSE))","v":""},{"$f":"IF(ISBLANK($R1423)=TRUE,\"\",VLOOKUP($R1423,TAXONOMY!$A$1:$G$959,3,FALSE))","v":""},{"$f":"IF(ISBLANK($R1423)=TRUE,\"\",VLOOKUP($R1423,TAXONOMY!$A$1:$H$959,2,FALSE))","v":""}]
[null,null,null,null,null,null,null,null,null,null,null,{"$f":"IF(ISBLANK($R1424)=TRUE,\"\",VLOOKUP($R1424,TAXONOMY!$A$1:$G$959,7,FALSE))","v":""},{"$f":"IF(ISBLANK($R1424)=TRUE,\"\",VLOOKUP($R1424,TAXONOMY!$A$1:$G$959,6,FALSE))","v":""},{"$f":"IF(ISBLANK($R1424)=TRUE,\"\",VLOOKUP($R1424,TAXONOMY!$A$1:$G$959,5,FALSE))","v":""},{"$f":"IF(ISBLANK($R1424)=TRUE,\"\",VLOOKUP($R1424,TAXONOMY!$A$1:$G$959,4,FALSE))","v":""},{"$f":"IF(ISBLANK($R1424)=TRUE,\"\",VLOOKUP($R1424,TAXONOMY!$A$1:$G$959,3,FALSE))","v":""},{"$f":"IF(ISBLANK($R1424)=TRUE,\"\",VLOOKUP($R1424,TAXONOMY!$A$1:$H$959,2,FALSE))","v":""}]
[null,null,null,null,null,null,null,null,null,null,null,{"$f":"IF(ISBLANK($R1425)=TRUE,\"\",VLOOKUP($R1425,TAXONOMY!$A$1:$G$959,7,FALSE))","v":""},{"$f":"IF(ISBLANK($R1425)=TRUE,\"\",VLOOKUP($R1425,TAXONOMY!$A$1:$G$959,6,FALSE))","v":""},{"$f":"IF(ISBLANK($R1425)=TRUE,\"\",VLOOKUP($R1425,TAXONOMY!$A$1:$G$959,5,FALSE))","v":""},{"$f":"IF(ISBLANK($R1425)=TRUE,\"\",VLOOKUP($R1425,TAXONOMY!$A$1:$G$959,4,FALSE))","v":""},{"$f":"IF(ISBLANK($R1425)=TRUE,\"\",VLOOKUP($R1425,TAXONOMY!$A$1:$G$959,3,FALSE))","v":""},{"$f":"IF(ISBLANK($R1425)=TRUE,\"\",VLOOKUP($R1425,TAXONOMY!$A$1:$H$959,2,FALSE))","v":""}]
[null,null,null,null,null,null,null,null,null,null,null,{"$f":"IF(ISBLANK($R1426)=TRUE,\"\",VLOOKUP($R1426,TAXONOMY!$A$1:$G$959,7,FALSE))","v":""},{"$f":"IF(ISBLANK($R1426)=TRUE,\"\",VLOOKUP($R1426,TAXONOMY!$A$1:$G$959,6,FALSE))","v":""},{"$f":"IF(ISBLANK($R1426)=TRUE,\"\",VLOOKUP($R1426,TAXONOMY!$A$1:$G$959,5,FALSE))","v":""},{"$f":"IF(ISBLANK($R1426)=TRUE,\"\",VLOOKUP($R1426,TAXONOMY!$A$1:$G$959,4,FALSE))","v":""},{"$f":"IF(ISBLANK($R1426)=TRUE,\"\",VLOOKUP($R1426,TAXONOMY!$A$1:$G$959,3,FALSE))","v":""},{"$f":"IF(ISBLANK($R1426)=TRUE,\"\",VLOOKUP($R1426,TAXONOMY!$A$1:$H$959,2,FALSE))","v":""}]
[null,null,null,null,null,null,null,null,null,null,null,{"$f":"IF(ISBLANK($R1427)=TRUE,\"\",VLOOKUP($R1427,TAXONOMY!$A$1:$G$959,7,FALSE))","v":""},{"$f":"IF(ISBLANK($R1427)=TRUE,\"\",VLOOKUP($R1427,TAXONOMY!$A$1:$G$959,6,FALSE))","v":""},{"$f":"IF(ISBLANK($R1427)=TRUE,\"\",VLOOKUP($R1427,TAXONOMY!$A$1:$G$959,5,FALSE))","v":""},{"$f":"IF(ISBLANK($R1427)=TRUE,\"\",VLOOKUP($R1427,TAXONOMY!$A$1:$G$959,4,FALSE))","v":""},{"$f":"IF(ISBLANK($R1427)=TRUE,\"\",VLOOKUP($R1427,TAXONOMY!$A$1:$G$959,3,FALSE))","v":""},{"$f":"IF(ISBLANK($R1427)=TRUE,\"\",VLOOKUP($R1427,TAXONOMY!$A$1:$H$959,2,FALSE))","v":""}]
[null,null,null,null,null,null,null,null,null,null,null,{"$f":"IF(ISBLANK($R1428)=TRUE,\"\",VLOOKUP($R1428,TAXONOMY!$A$1:$G$959,7,FALSE))","v":""},{"$f":"IF(ISBLANK($R1428)=TRUE,\"\",VLOOKUP($R1428,TAXONOMY!$A$1:$G$959,6,FALSE))","v":""},{"$f":"IF(ISBLANK($R1428)=TRUE,\"\",VLOOKUP($R1428,TAXONOMY!$A$1:$G$959,5,FALSE))","v":""},{"$f":"IF(ISBLANK($R1428)=TRUE,\"\",VLOOKUP($R1428,TAXONOMY!$A$1:$G$959,4,FALSE))","v":""},{"$f":"IF(ISBLANK($R1428)=TRUE,\"\",VLOOKUP($R1428,TAXONOMY!$A$1:$G$959,3,FALSE))","v":""},{"$f":"IF(ISBLANK($R1428)=TRUE,\"\",VLOOKUP($R1428,TAXONOMY!$A$1:$H$959,2,FALSE))","v":""}]
[null,null,null,null,null,null,null,null,null,null,null,{"$f":"IF(ISBLANK($R1429)=TRUE,\"\",VLOOKUP($R1429,TAXONOMY!$A$1:$G$959,7,FALSE))","v":""},{"$f":"IF(ISBLANK($R1429)=TRUE,\"\",VLOOKUP($R1429,TAXONOMY!$A$1:$G$959,6,FALSE))","v":""},{"$f":"IF(ISBLANK($R1429)=TRUE,\"\",VLOOKUP($R1429,TAXONOMY!$A$1:$G$959,5,FALSE))","v":""},{"$f":"IF(ISBLANK($R1429)=TRUE,\"\",VLOOKUP($R1429,TAXONOMY!$A$1:$G$959,4,FALSE))","v":""},{"$f":"IF(ISBLANK($R1429)=TRUE,\"\",VLOOKUP($R1429,TAXONOMY!$A$1:$G$959,3,FALSE))","v":""},{"$f":"IF(ISBLANK($R1429)=TRUE,\"\",VLOOKUP($R1429,TAXONOMY!$A$1:$H$959,2,FALSE))","v":""}]
[null,null,null,null,null,null,null,null,null,null,null,{"$f":"IF(ISBLANK($R1430)=TRUE,\"\",VLOOKUP($R1430,TAXONOMY!$A$1:$G$959,7,FALSE))","v":""},{"$f":"IF(ISBLANK($R1430)=TRUE,\"\",VLOOKUP($R1430,TAXONOMY!$A$1:$G$959,6,FALSE))","v":""},{"$f":"IF(ISBLANK($R1430)=TRUE,\"\",VLOOKUP($R1430,TAXONOMY!$A$1:$G$959,5,FALSE))","v":""},{"$f":"IF(ISBLANK($R1430)=TRUE,\"\",VLOOKUP($R1430,TAXONOMY!$A$1:$G$959,4,FALSE))","v":""},{"$f":"IF(ISBLANK($R1430)=TRUE,\"\",VLOOKUP($R1430,TAXONOMY!$A$1:$G$959,3,FALSE))","v":""},{"$f":"IF(ISBLANK($R1430)=TRUE,\"\",VLOOKUP($R1430,TAXONOMY!$A$1:$H$959,2,FALSE))","v":""}]
[null,null,null,null,null,null,null,null,null,null,null,{"$f":"IF(ISBLANK($R1431)=TRUE,\"\",VLOOKUP($R1431,TAXONOMY!$A$1:$G$959,7,FALSE))","v":""},{"$f":"IF(ISBLANK($R1431)=TRUE,\"\",VLOOKUP($R1431,TAXONOMY!$A$1:$G$959,6,FALSE))","v":""},{"$f":"IF(ISBLANK($R1431)=TRUE,\"\",VLOOKUP($R1431,TAXONOMY!$A$1:$G$959,5,FALSE))","v":""},{"$f":"IF(ISBLANK($R1431)=TRUE,\"\",VLOOKUP($R1431,TAXONOMY!$A$1:$G$959,4,FALSE))","v":""},{"$f":"IF(ISBLANK($R1431)=TRUE,\"\",VLOOKUP($R1431,TAXONOMY!$A$1:$G$959,3,FALSE))","v":""},{"$f":"IF(ISBLANK($R1431)=TRUE,\"\",VLOOKUP($R1431,TAXONOMY!$A$1:$H$959,2,FALSE))","v":""}]
[null,null,null,null,null,null,null,null,null,null,null,{"$f":"IF(ISBLANK($R1432)=TRUE,\"\",VLOOKUP($R1432,TAXONOMY!$A$1:$G$959,7,FALSE))","v":""},{"$f":"IF(ISBLANK($R1432)=TRUE,\"\",VLOOKUP($R1432,TAXONOMY!$A$1:$G$959,6,FALSE))","v":""},{"$f":"IF(ISBLANK($R1432)=TRUE,\"\",VLOOKUP($R1432,TAXONOMY!$A$1:$G$959,5,FALSE))","v":""},{"$f":"IF(ISBLANK($R1432)=TRUE,\"\",VLOOKUP($R1432,TAXONOMY!$A$1:$G$959,4,FALSE))","v":""},{"$f":"IF(ISBLANK($R1432)=TRUE,\"\",VLOOKUP($R1432,TAXONOMY!$A$1:$G$959,3,FALSE))","v":""},{"$f":"IF(ISBLANK($R1432)=TRUE,\"\",VLOOKUP($R1432,TAXONOMY!$A$1:$H$959,2,FALSE))","v":""}]
[null,null,null,null,null,null,null,null,null,null,null,{"$f":"IF(ISBLANK($R1433)=TRUE,\"\",VLOOKUP($R1433,TAXONOMY!$A$1:$G$959,7,FALSE))","v":""},{"$f":"IF(ISBLANK($R1433)=TRUE,\"\",VLOOKUP($R1433,TAXONOMY!$A$1:$G$959,6,FALSE))","v":""},{"$f":"IF(ISBLANK($R1433)=TRUE,\"\",VLOOKUP($R1433,TAXONOMY!$A$1:$G$959,5,FALSE))","v":""},{"$f":"IF(ISBLANK($R1433)=TRUE,\"\",VLOOKUP($R1433,TAXONOMY!$A$1:$G$959,4,FALSE))","v":""},{"$f":"IF(ISBLANK($R1433)=TRUE,\"\",VLOOKUP($R1433,TAXONOMY!$A$1:$G$959,3,FALSE))","v":""},{"$f":"IF(ISBLANK($R1433)=TRUE,\"\",VLOOKUP($R1433,TAXONOMY!$A$1:$H$959,2,FALSE))","v":""}]
[null,null,null,null,null,null,null,null,null,null,null,{"$f":"IF(ISBLANK($R1434)=TRUE,\"\",VLOOKUP($R1434,TAXONOMY!$A$1:$G$959,7,FALSE))","v":""},{"$f":"IF(ISBLANK($R1434)=TRUE,\"\",VLOOKUP($R1434,TAXONOMY!$A$1:$G$959,6,FALSE))","v":""},{"$f":"IF(ISBLANK($R1434)=TRUE,\"\",VLOOKUP($R1434,TAXONOMY!$A$1:$G$959,5,FALSE))","v":""},{"$f":"IF(ISBLANK($R1434)=TRUE,\"\",VLOOKUP($R1434,TAXONOMY!$A$1:$G$959,4,FALSE))","v":""},{"$f":"IF(ISBLANK($R1434)=TRUE,\"\",VLOOKUP($R1434,TAXONOMY!$A$1:$G$959,3,FALSE))","v":""},{"$f":"IF(ISBLANK($R1434)=TRUE,\"\",VLOOKUP($R1434,TAXONOMY!$A$1:$H$959,2,FALSE))","v":""}]
[null,null,null,null,null,null,null,null,null,null,null,{"$f":"IF(ISBLANK($R1435)=TRUE,\"\",VLOOKUP($R1435,TAXONOMY!$A$1:$G$959,7,FALSE))","v":""},{"$f":"IF(ISBLANK($R1435)=TRUE,\"\",VLOOKUP($R1435,TAXONOMY!$A$1:$G$959,6,FALSE))","v":""},{"$f":"IF(ISBLANK($R1435)=TRUE,\"\",VLOOKUP($R1435,TAXONOMY!$A$1:$G$959,5,FALSE))","v":""},{"$f":"IF(ISBLANK($R1435)=TRUE,\"\",VLOOKUP($R1435,TAXONOMY!$A$1:$G$959,4,FALSE))","v":""},{"$f":"IF(ISBLANK($R1435)=TRUE,\"\",VLOOKUP($R1435,TAXONOMY!$A$1:$G$959,3,FALSE))","v":""},{"$f":"IF(ISBLANK($R1435)=TRUE,\"\",VLOOKUP($R1435,TAXONOMY!$A$1:$H$959,2,FALSE))","v":""}]
[null,null,null,null,null,null,null,null,null,null,null,{"$f":"IF(ISBLANK($R1436)=TRUE,\"\",VLOOKUP($R1436,TAXONOMY!$A$1:$G$959,7,FALSE))","v":""},{"$f":"IF(ISBLANK($R1436)=TRUE,\"\",VLOOKUP($R1436,TAXONOMY!$A$1:$G$959,6,FALSE))","v":""},{"$f":"IF(ISBLANK($R1436)=TRUE,\"\",VLOOKUP($R1436,TAXONOMY!$A$1:$G$959,5,FALSE))","v":""},{"$f":"IF(ISBLANK($R1436)=TRUE,\"\",VLOOKUP($R1436,TAXONOMY!$A$1:$G$959,4,FALSE))","v":""},{"$f":"IF(ISBLANK($R1436)=TRUE,\"\",VLOOKUP($R1436,TAXONOMY!$A$1:$G$959,3,FALSE))","v":""},{"$f":"IF(ISBLANK($R1436)=TRUE,\"\",VLOOKUP($R1436,TAXONOMY!$A$1:$H$959,2,FALSE))","v":""}]
[null,null,null,null,null,null,null,null,null,null,null,{"$f":"IF(ISBLANK($R1437)=TRUE,\"\",VLOOKUP($R1437,TAXONOMY!$A$1:$G$959,7,FALSE))","v":""},{"$f":"IF(ISBLANK($R1437)=TRUE,\"\",VLOOKUP($R1437,TAXONOMY!$A$1:$G$959,6,FALSE))","v":""},{"$f":"IF(ISBLANK($R1437)=TRUE,\"\",VLOOKUP($R1437,TAXONOMY!$A$1:$G$959,5,FALSE))","v":""},{"$f":"IF(ISBLANK($R1437)=TRUE,\"\",VLOOKUP($R1437,TAXONOMY!$A$1:$G$959,4,FALSE))","v":""},{"$f":"IF(ISBLANK($R1437)=TRUE,\"\",VLOOKUP($R1437,TAXONOMY!$A$1:$G$959,3,FALSE))","v":""},{"$f":"IF(ISBLANK($R1437)=TRUE,\"\",VLOOKUP($R1437,TAXONOMY!$A$1:$H$959,2,FALSE))","v":""}]
[null,null,null,null,null,null,null,null,null,null,null,{"$f":"IF(ISBLANK($R1438)=TRUE,\"\",VLOOKUP($R1438,TAXONOMY!$A$1:$G$959,7,FALSE))","v":""},{"$f":"IF(ISBLANK($R1438)=TRUE,\"\",VLOOKUP($R1438,TAXONOMY!$A$1:$G$959,6,FALSE))","v":""},{"$f":"IF(ISBLANK($R1438)=TRUE,\"\",VLOOKUP($R1438,TAXONOMY!$A$1:$G$959,5,FALSE))","v":""},{"$f":"IF(ISBLANK($R1438)=TRUE,\"\",VLOOKUP($R1438,TAXONOMY!$A$1:$G$959,4,FALSE))","v":""},{"$f":"IF(ISBLANK($R1438)=TRUE,\"\",VLOOKUP($R1438,TAXONOMY!$A$1:$G$959,3,FALSE))","v":""},{"$f":"IF(ISBLANK($R1438)=TRUE,\"\",VLOOKUP($R1438,TAXONOMY!$A$1:$H$959,2,FALSE))","v":""}]
[null,null,null,null,null,null,null,null,null,null,null,{"$f":"IF(ISBLANK($R1439)=TRUE,\"\",VLOOKUP($R1439,TAXONOMY!$A$1:$G$959,7,FALSE))","v":""},{"$f":"IF(ISBLANK($R1439)=TRUE,\"\",VLOOKUP($R1439,TAXONOMY!$A$1:$G$959,6,FALSE))","v":""},{"$f":"IF(ISBLANK($R1439)=TRUE,\"\",VLOOKUP($R1439,TAXONOMY!$A$1:$G$959,5,FALSE))","v":""},{"$f":"IF(ISBLANK($R1439)=TRUE,\"\",VLOOKUP($R1439,TAXONOMY!$A$1:$G$959,4,FALSE))","v":""},{"$f":"IF(ISBLANK($R1439)=TRUE,\"\",VLOOKUP($R1439,TAXONOMY!$A$1:$G$959,3,FALSE))","v":""},{"$f":"IF(ISBLANK($R1439)=TRUE,\"\",VLOOKUP($R1439,TAXONOMY!$A$1:$H$959,2,FALSE))","v":""}]
[null,null,null,null,null,null,null,null,null,null,null,{"$f":"IF(ISBLANK($R1440)=TRUE,\"\",VLOOKUP($R1440,TAXONOMY!$A$1:$G$959,7,FALSE))","v":""},{"$f":"IF(ISBLANK($R1440)=TRUE,\"\",VLOOKUP($R1440,TAXONOMY!$A$1:$G$959,6,FALSE))","v":""},{"$f":"IF(ISBLANK($R1440)=TRUE,\"\",VLOOKUP($R1440,TAXONOMY!$A$1:$G$959,5,FALSE))","v":""},{"$f":"IF(ISBLANK($R1440)=TRUE,\"\",VLOOKUP($R1440,TAXONOMY!$A$1:$G$959,4,FALSE))","v":""},{"$f":"IF(ISBLANK($R1440)=TRUE,\"\",VLOOKUP($R1440,TAXONOMY!$A$1:$G$959,3,FALSE))","v":""},{"$f":"IF(ISBLANK($R1440)=TRUE,\"\",VLOOKUP($R1440,TAXONOMY!$A$1:$H$959,2,FALSE))","v":""}]
[null,null,null,null,null,null,null,null,null,null,null,{"$f":"IF(ISBLANK($R1441)=TRUE,\"\",VLOOKUP($R1441,TAXONOMY!$A$1:$G$959,7,FALSE))","v":""},{"$f":"IF(ISBLANK($R1441)=TRUE,\"\",VLOOKUP($R1441,TAXONOMY!$A$1:$G$959,6,FALSE))","v":""},{"$f":"IF(ISBLANK($R1441)=TRUE,\"\",VLOOKUP($R1441,TAXONOMY!$A$1:$G$959,5,FALSE))","v":""},{"$f":"IF(ISBLANK($R1441)=TRUE,\"\",VLOOKUP($R1441,TAXONOMY!$A$1:$G$959,4,FALSE))","v":""},{"$f":"IF(ISBLANK($R1441)=TRUE,\"\",VLOOKUP($R1441,TAXONOMY!$A$1:$G$959,3,FALSE))","v":""},{"$f":"IF(ISBLANK($R1441)=TRUE,\"\",VLOOKUP($R1441,TAXONOMY!$A$1:$H$959,2,FALSE))","v":""}]
[null,null,null,null,null,null,null,null,null,null,null,{"$f":"IF(ISBLANK($R1442)=TRUE,\"\",VLOOKUP($R1442,TAXONOMY!$A$1:$G$959,7,FALSE))","v":""},{"$f":"IF(ISBLANK($R1442)=TRUE,\"\",VLOOKUP($R1442,TAXONOMY!$A$1:$G$959,6,FALSE))","v":""},{"$f":"IF(ISBLANK($R1442)=TRUE,\"\",VLOOKUP($R1442,TAXONOMY!$A$1:$G$959,5,FALSE))","v":""},{"$f":"IF(ISBLANK($R1442)=TRUE,\"\",VLOOKUP($R1442,TAXONOMY!$A$1:$G$959,4,FALSE))","v":""},{"$f":"IF(ISBLANK($R1442)=TRUE,\"\",VLOOKUP($R1442,TAXONOMY!$A$1:$G$959,3,FALSE))","v":""},{"$f":"IF(ISBLANK($R1442)=TRUE,\"\",VLOOKUP($R1442,TAXONOMY!$A$1:$H$959,2,FALSE))","v":""}]
[null,null,null,null,null,null,null,null,null,null,null,{"$f":"IF(ISBLANK($R1443)=TRUE,\"\",VLOOKUP($R1443,TAXONOMY!$A$1:$G$959,7,FALSE))","v":""},{"$f":"IF(ISBLANK($R1443)=TRUE,\"\",VLOOKUP($R1443,TAXONOMY!$A$1:$G$959,6,FALSE))","v":""},{"$f":"IF(ISBLANK($R1443)=TRUE,\"\",VLOOKUP($R1443,TAXONOMY!$A$1:$G$959,5,FALSE))","v":""},{"$f":"IF(ISBLANK($R1443)=TRUE,\"\",VLOOKUP($R1443,TAXONOMY!$A$1:$G$959,4,FALSE))","v":""},{"$f":"IF(ISBLANK($R1443)=TRUE,\"\",VLOOKUP($R1443,TAXONOMY!$A$1:$G$959,3,FALSE))","v":""},{"$f":"IF(ISBLANK($R1443)=TRUE,\"\",VLOOKUP($R1443,TAXONOMY!$A$1:$H$959,2,FALSE))","v":""}]
[null,null,null,null,null,null,null,null,null,null,null,{"$f":"IF(ISBLANK($R1444)=TRUE,\"\",VLOOKUP($R1444,TAXONOMY!$A$1:$G$959,7,FALSE))","v":""},{"$f":"IF(ISBLANK($R1444)=TRUE,\"\",VLOOKUP($R1444,TAXONOMY!$A$1:$G$959,6,FALSE))","v":""},{"$f":"IF(ISBLANK($R1444)=TRUE,\"\",VLOOKUP($R1444,TAXONOMY!$A$1:$G$959,5,FALSE))","v":""},{"$f":"IF(ISBLANK($R1444)=TRUE,\"\",VLOOKUP($R1444,TAXONOMY!$A$1:$G$959,4,FALSE))","v":""},{"$f":"IF(ISBLANK($R1444)=TRUE,\"\",VLOOKUP($R1444,TAXONOMY!$A$1:$G$959,3,FALSE))","v":""},{"$f":"IF(ISBLANK($R1444)=TRUE,\"\",VLOOKUP($R1444,TAXONOMY!$A$1:$H$959,2,FALSE))","v":""}]
[null,null,null,null,null,null,null,null,null,null,null,{"$f":"IF(ISBLANK($R1445)=TRUE,\"\",VLOOKUP($R1445,TAXONOMY!$A$1:$G$959,7,FALSE))","v":""},{"$f":"IF(ISBLANK($R1445)=TRUE,\"\",VLOOKUP($R1445,TAXONOMY!$A$1:$G$959,6,FALSE))","v":""},{"$f":"IF(ISBLANK($R1445)=TRUE,\"\",VLOOKUP($R1445,TAXONOMY!$A$1:$G$959,5,FALSE))","v":""},{"$f":"IF(ISBLANK($R1445)=TRUE,\"\",VLOOKUP($R1445,TAXONOMY!$A$1:$G$959,4,FALSE))","v":""},{"$f":"IF(ISBLANK($R1445)=TRUE,\"\",VLOOKUP($R1445,TAXONOMY!$A$1:$G$959,3,FALSE))","v":""},{"$f":"IF(ISBLANK($R1445)=TRUE,\"\",VLOOKUP($R1445,TAXONOMY!$A$1:$H$959,2,FALSE))","v":""}]
[null,null,null,null,null,null,null,null,null,null,null,{"$f":"IF(ISBLANK($R1446)=TRUE,\"\",VLOOKUP($R1446,TAXONOMY!$A$1:$G$959,7,FALSE))","v":""},{"$f":"IF(ISBLANK($R1446)=TRUE,\"\",VLOOKUP($R1446,TAXONOMY!$A$1:$G$959,6,FALSE))","v":""},{"$f":"IF(ISBLANK($R1446)=TRUE,\"\",VLOOKUP($R1446,TAXONOMY!$A$1:$G$959,5,FALSE))","v":""},{"$f":"IF(ISBLANK($R1446)=TRUE,\"\",VLOOKUP($R1446,TAXONOMY!$A$1:$G$959,4,FALSE))","v":""},{"$f":"IF(ISBLANK($R1446)=TRUE,\"\",VLOOKUP($R1446,TAXONOMY!$A$1:$G$959,3,FALSE))","v":""},{"$f":"IF(ISBLANK($R1446)=TRUE,\"\",VLOOKUP($R1446,TAXONOMY!$A$1:$H$959,2,FALSE))","v":""}]
[null,null,null,null,null,null,null,null,null,null,null,{"$f":"IF(ISBLANK($R1447)=TRUE,\"\",VLOOKUP($R1447,TAXONOMY!$A$1:$G$959,7,FALSE))","v":""},{"$f":"IF(ISBLANK($R1447)=TRUE,\"\",VLOOKUP($R1447,TAXONOMY!$A$1:$G$959,6,FALSE))","v":""},{"$f":"IF(ISBLANK($R1447)=TRUE,\"\",VLOOKUP($R1447,TAXONOMY!$A$1:$G$959,5,FALSE))","v":""},{"$f":"IF(ISBLANK($R1447)=TRUE,\"\",VLOOKUP($R1447,TAXONOMY!$A$1:$G$959,4,FALSE))","v":""},{"$f":"IF(ISBLANK($R1447)=TRUE,\"\",VLOOKUP($R1447,TAXONOMY!$A$1:$G$959,3,FALSE))","v":""},{"$f":"IF(ISBLANK($R1447)=TRUE,\"\",VLOOKUP($R1447,TAXONOMY!$A$1:$H$959,2,FALSE))","v":""}]
[null,null,null,null,null,null,null,null,null,null,null,{"$f":"IF(ISBLANK($R1448)=TRUE,\"\",VLOOKUP($R1448,TAXONOMY!$A$1:$G$959,7,FALSE))","v":""},{"$f":"IF(ISBLANK($R1448)=TRUE,\"\",VLOOKUP($R1448,TAXONOMY!$A$1:$G$959,6,FALSE))","v":""},{"$f":"IF(ISBLANK($R1448)=TRUE,\"\",VLOOKUP($R1448,TAXONOMY!$A$1:$G$959,5,FALSE))","v":""},{"$f":"IF(ISBLANK($R1448)=TRUE,\"\",VLOOKUP($R1448,TAXONOMY!$A$1:$G$959,4,FALSE))","v":""},{"$f":"IF(ISBLANK($R1448)=TRUE,\"\",VLOOKUP($R1448,TAXONOMY!$A$1:$G$959,3,FALSE))","v":""},{"$f":"IF(ISBLANK($R1448)=TRUE,\"\",VLOOKUP($R1448,TAXONOMY!$A$1:$H$959,2,FALSE))","v":""}]
[null,null,null,null,null,null,null,null,null,null,null,{"$f":"IF(ISBLANK($R1449)=TRUE,\"\",VLOOKUP($R1449,TAXONOMY!$A$1:$G$959,7,FALSE))","v":""},{"$f":"IF(ISBLANK($R1449)=TRUE,\"\",VLOOKUP($R1449,TAXONOMY!$A$1:$G$959,6,FALSE))","v":""},{"$f":"IF(ISBLANK($R1449)=TRUE,\"\",VLOOKUP($R1449,TAXONOMY!$A$1:$G$959,5,FALSE))","v":""},{"$f":"IF(ISBLANK($R1449)=TRUE,\"\",VLOOKUP($R1449,TAXONOMY!$A$1:$G$959,4,FALSE))","v":""},{"$f":"IF(ISBLANK($R1449)=TRUE,\"\",VLOOKUP($R1449,TAXONOMY!$A$1:$G$959,3,FALSE))","v":""},{"$f":"IF(ISBLANK($R1449)=TRUE,\"\",VLOOKUP($R1449,TAXONOMY!$A$1:$H$959,2,FALSE))","v":""}]
[null,null,null,null,null,null,null,null,null,null,null,{"$f":"IF(ISBLANK($R1450)=TRUE,\"\",VLOOKUP($R1450,TAXONOMY!$A$1:$G$959,7,FALSE))","v":""},{"$f":"IF(ISBLANK($R1450)=TRUE,\"\",VLOOKUP($R1450,TAXONOMY!$A$1:$G$959,6,FALSE))","v":""},{"$f":"IF(ISBLANK($R1450)=TRUE,\"\",VLOOKUP($R1450,TAXONOMY!$A$1:$G$959,5,FALSE))","v":""},{"$f":"IF(ISBLANK($R1450)=TRUE,\"\",VLOOKUP($R1450,TAXONOMY!$A$1:$G$959,4,FALSE))","v":""},{"$f":"IF(ISBLANK($R1450)=TRUE,\"\",VLOOKUP($R1450,TAXONOMY!$A$1:$G$959,3,FALSE))","v":""},{"$f":"IF(ISBLANK($R1450)=TRUE,\"\",VLOOKUP($R1450,TAXONOMY!$A$1:$H$959,2,FALSE))","v":""}]
[null,null,null,null,null,null,null,null,null,null,null,{"$f":"IF(ISBLANK($R1451)=TRUE,\"\",VLOOKUP($R1451,TAXONOMY!$A$1:$G$959,7,FALSE))","v":""},{"$f":"IF(ISBLANK($R1451)=TRUE,\"\",VLOOKUP($R1451,TAXONOMY!$A$1:$G$959,6,FALSE))","v":""},{"$f":"IF(ISBLANK($R1451)=TRUE,\"\",VLOOKUP($R1451,TAXONOMY!$A$1:$G$959,5,FALSE))","v":""},{"$f":"IF(ISBLANK($R1451)=TRUE,\"\",VLOOKUP($R1451,TAXONOMY!$A$1:$G$959,4,FALSE))","v":""},{"$f":"IF(ISBLANK($R1451)=TRUE,\"\",VLOOKUP($R1451,TAXONOMY!$A$1:$G$959,3,FALSE))","v":""},{"$f":"IF(ISBLANK($R1451)=TRUE,\"\",VLOOKUP($R1451,TAXONOMY!$A$1:$H$959,2,FALSE))","v":""}]
[null,null,null,null,null,null,null,null,null,null,null,{"$f":"IF(ISBLANK($R1452)=TRUE,\"\",VLOOKUP($R1452,TAXONOMY!$A$1:$G$959,7,FALSE))","v":""},{"$f":"IF(ISBLANK($R1452)=TRUE,\"\",VLOOKUP($R1452,TAXONOMY!$A$1:$G$959,6,FALSE))","v":""},{"$f":"IF(ISBLANK($R1452)=TRUE,\"\",VLOOKUP($R1452,TAXONOMY!$A$1:$G$959,5,FALSE))","v":""},{"$f":"IF(ISBLANK($R1452)=TRUE,\"\",VLOOKUP($R1452,TAXONOMY!$A$1:$G$959,4,FALSE))","v":""},{"$f":"IF(ISBLANK($R1452)=TRUE,\"\",VLOOKUP($R1452,TAXONOMY!$A$1:$G$959,3,FALSE))","v":""},{"$f":"IF(ISBLANK($R1452)=TRUE,\"\",VLOOKUP($R1452,TAXONOMY!$A$1:$H$959,2,FALSE))","v":""}]
[null,null,null,null,null,null,null,null,null,null,null,{"$f":"IF(ISBLANK($R1453)=TRUE,\"\",VLOOKUP($R1453,TAXONOMY!$A$1:$G$959,7,FALSE))","v":""},{"$f":"IF(ISBLANK($R1453)=TRUE,\"\",VLOOKUP($R1453,TAXONOMY!$A$1:$G$959,6,FALSE))","v":""},{"$f":"IF(ISBLANK($R1453)=TRUE,\"\",VLOOKUP($R1453,TAXONOMY!$A$1:$G$959,5,FALSE))","v":""},{"$f":"IF(ISBLANK($R1453)=TRUE,\"\",VLOOKUP($R1453,TAXONOMY!$A$1:$G$959,4,FALSE))","v":""},{"$f":"IF(ISBLANK($R1453)=TRUE,\"\",VLOOKUP($R1453,TAXONOMY!$A$1:$G$959,3,FALSE))","v":""},{"$f":"IF(ISBLANK($R1453)=TRUE,\"\",VLOOKUP($R1453,TAXONOMY!$A$1:$H$959,2,FALSE))","v":""}]
[null,null,null,null,null,null,null,null,null,null,null,{"$f":"IF(ISBLANK($R1454)=TRUE,\"\",VLOOKUP($R1454,TAXONOMY!$A$1:$G$959,7,FALSE))","v":""},{"$f":"IF(ISBLANK($R1454)=TRUE,\"\",VLOOKUP($R1454,TAXONOMY!$A$1:$G$959,6,FALSE))","v":""},{"$f":"IF(ISBLANK($R1454)=TRUE,\"\",VLOOKUP($R1454,TAXONOMY!$A$1:$G$959,5,FALSE))","v":""},{"$f":"IF(ISBLANK($R1454)=TRUE,\"\",VLOOKUP($R1454,TAXONOMY!$A$1:$G$959,4,FALSE))","v":""},{"$f":"IF(ISBLANK($R1454)=TRUE,\"\",VLOOKUP($R1454,TAXONOMY!$A$1:$G$959,3,FALSE))","v":""},{"$f":"IF(ISBLANK($R1454)=TRUE,\"\",VLOOKUP($R1454,TAXONOMY!$A$1:$H$959,2,FALSE))","v":""}]
[null,null,null,null,null,null,null,null,null,null,null,{"$f":"IF(ISBLANK($R1455)=TRUE,\"\",VLOOKUP($R1455,TAXONOMY!$A$1:$G$959,7,FALSE))","v":""},{"$f":"IF(ISBLANK($R1455)=TRUE,\"\",VLOOKUP($R1455,TAXONOMY!$A$1:$G$959,6,FALSE))","v":""},{"$f":"IF(ISBLANK($R1455)=TRUE,\"\",VLOOKUP($R1455,TAXONOMY!$A$1:$G$959,5,FALSE))","v":""},{"$f":"IF(ISBLANK($R1455)=TRUE,\"\",VLOOKUP($R1455,TAXONOMY!$A$1:$G$959,4,FALSE))","v":""},{"$f":"IF(ISBLANK($R1455)=TRUE,\"\",VLOOKUP($R1455,TAXONOMY!$A$1:$G$959,3,FALSE))","v":""},{"$f":"IF(ISBLANK($R1455)=TRUE,\"\",VLOOKUP($R1455,TAXONOMY!$A$1:$H$959,2,FALSE))","v":""}]
[null,null,null,null,null,null,null,null,null,null,null,{"$f":"IF(ISBLANK($R1456)=TRUE,\"\",VLOOKUP($R1456,TAXONOMY!$A$1:$G$959,7,FALSE))","v":""},{"$f":"IF(ISBLANK($R1456)=TRUE,\"\",VLOOKUP($R1456,TAXONOMY!$A$1:$G$959,6,FALSE))","v":""},{"$f":"IF(ISBLANK($R1456)=TRUE,\"\",VLOOKUP($R1456,TAXONOMY!$A$1:$G$959,5,FALSE))","v":""},{"$f":"IF(ISBLANK($R1456)=TRUE,\"\",VLOOKUP($R1456,TAXONOMY!$A$1:$G$959,4,FALSE))","v":""},{"$f":"IF(ISBLANK($R1456)=TRUE,\"\",VLOOKUP($R1456,TAXONOMY!$A$1:$G$959,3,FALSE))","v":""},{"$f":"IF(ISBLANK($R1456)=TRUE,\"\",VLOOKUP($R1456,TAXONOMY!$A$1:$H$959,2,FALSE))","v":""}]
[null,null,null,null,null,null,null,null,null,null,null,{"$f":"IF(ISBLANK($R1457)=TRUE,\"\",VLOOKUP($R1457,TAXONOMY!$A$1:$G$959,7,FALSE))","v":""},{"$f":"IF(ISBLANK($R1457)=TRUE,\"\",VLOOKUP($R1457,TAXONOMY!$A$1:$G$959,6,FALSE))","v":""},{"$f":"IF(ISBLANK($R1457)=TRUE,\"\",VLOOKUP($R1457,TAXONOMY!$A$1:$G$959,5,FALSE))","v":""},{"$f":"IF(ISBLANK($R1457)=TRUE,\"\",VLOOKUP($R1457,TAXONOMY!$A$1:$G$959,4,FALSE))","v":""},{"$f":"IF(ISBLANK($R1457)=TRUE,\"\",VLOOKUP($R1457,TAXONOMY!$A$1:$G$959,3,FALSE))","v":""},{"$f":"IF(ISBLANK($R1457)=TRUE,\"\",VLOOKUP($R1457,TAXONOMY!$A$1:$H$959,2,FALSE))","v":""}]
[null,null,null,null,null,null,null,null,null,null,null,{"$f":"IF(ISBLANK($R1458)=TRUE,\"\",VLOOKUP($R1458,TAXONOMY!$A$1:$G$959,7,FALSE))","v":""},{"$f":"IF(ISBLANK($R1458)=TRUE,\"\",VLOOKUP($R1458,TAXONOMY!$A$1:$G$959,6,FALSE))","v":""},{"$f":"IF(ISBLANK($R1458)=TRUE,\"\",VLOOKUP($R1458,TAXONOMY!$A$1:$G$959,5,FALSE))","v":""},{"$f":"IF(ISBLANK($R1458)=TRUE,\"\",VLOOKUP($R1458,TAXONOMY!$A$1:$G$959,4,FALSE))","v":""},{"$f":"IF(ISBLANK($R1458)=TRUE,\"\",VLOOKUP($R1458,TAXONOMY!$A$1:$G$959,3,FALSE))","v":""},{"$f":"IF(ISBLANK($R1458)=TRUE,\"\",VLOOKUP($R1458,TAXONOMY!$A$1:$H$959,2,FALSE))","v":""}]
[null,null,null,null,null,null,null,null,null,null,null,{"$f":"IF(ISBLANK($R1459)=TRUE,\"\",VLOOKUP($R1459,TAXONOMY!$A$1:$G$959,7,FALSE))","v":""},{"$f":"IF(ISBLANK($R1459)=TRUE,\"\",VLOOKUP($R1459,TAXONOMY!$A$1:$G$959,6,FALSE))","v":""},{"$f":"IF(ISBLANK($R1459)=TRUE,\"\",VLOOKUP($R1459,TAXONOMY!$A$1:$G$959,5,FALSE))","v":""},{"$f":"IF(ISBLANK($R1459)=TRUE,\"\",VLOOKUP($R1459,TAXONOMY!$A$1:$G$959,4,FALSE))","v":""},{"$f":"IF(ISBLANK($R1459)=TRUE,\"\",VLOOKUP($R1459,TAXONOMY!$A$1:$G$959,3,FALSE))","v":""},{"$f":"IF(ISBLANK($R1459)=TRUE,\"\",VLOOKUP($R1459,TAXONOMY!$A$1:$H$959,2,FALSE))","v":""}]
[null,null,null,null,null,null,null,null,null,null,null,{"$f":"IF(ISBLANK($R1460)=TRUE,\"\",VLOOKUP($R1460,TAXONOMY!$A$1:$G$959,7,FALSE))","v":""},{"$f":"IF(ISBLANK($R1460)=TRUE,\"\",VLOOKUP($R1460,TAXONOMY!$A$1:$G$959,6,FALSE))","v":""},{"$f":"IF(ISBLANK($R1460)=TRUE,\"\",VLOOKUP($R1460,TAXONOMY!$A$1:$G$959,5,FALSE))","v":""},{"$f":"IF(ISBLANK($R1460)=TRUE,\"\",VLOOKUP($R1460,TAXONOMY!$A$1:$G$959,4,FALSE))","v":""},{"$f":"IF(ISBLANK($R1460)=TRUE,\"\",VLOOKUP($R1460,TAXONOMY!$A$1:$G$959,3,FALSE))","v":""},{"$f":"IF(ISBLANK($R1460)=TRUE,\"\",VLOOKUP($R1460,TAXONOMY!$A$1:$H$959,2,FALSE))","v":""}]
[null,null,null,null,null,null,null,null,null,null,null,{"$f":"IF(ISBLANK($R1461)=TRUE,\"\",VLOOKUP($R1461,TAXONOMY!$A$1:$G$959,7,FALSE))","v":""},{"$f":"IF(ISBLANK($R1461)=TRUE,\"\",VLOOKUP($R1461,TAXONOMY!$A$1:$G$959,6,FALSE))","v":""},{"$f":"IF(ISBLANK($R1461)=TRUE,\"\",VLOOKUP($R1461,TAXONOMY!$A$1:$G$959,5,FALSE))","v":""},{"$f":"IF(ISBLANK($R1461)=TRUE,\"\",VLOOKUP($R1461,TAXONOMY!$A$1:$G$959,4,FALSE))","v":""},{"$f":"IF(ISBLANK($R1461)=TRUE,\"\",VLOOKUP($R1461,TAXONOMY!$A$1:$G$959,3,FALSE))","v":""},{"$f":"IF(ISBLANK($R1461)=TRUE,\"\",VLOOKUP($R1461,TAXONOMY!$A$1:$H$959,2,FALSE))","v":""}]
[null,null,null,null,null,null,null,null,null,null,null,{"$f":"IF(ISBLANK($R1462)=TRUE,\"\",VLOOKUP($R1462,TAXONOMY!$A$1:$G$959,7,FALSE))","v":""},{"$f":"IF(ISBLANK($R1462)=TRUE,\"\",VLOOKUP($R1462,TAXONOMY!$A$1:$G$959,6,FALSE))","v":""},{"$f":"IF(ISBLANK($R1462)=TRUE,\"\",VLOOKUP($R1462,TAXONOMY!$A$1:$G$959,5,FALSE))","v":""},{"$f":"IF(ISBLANK($R1462)=TRUE,\"\",VLOOKUP($R1462,TAXONOMY!$A$1:$G$959,4,FALSE))","v":""},{"$f":"IF(ISBLANK($R1462)=TRUE,\"\",VLOOKUP($R1462,TAXONOMY!$A$1:$G$959,3,FALSE))","v":""},{"$f":"IF(ISBLANK($R1462)=TRUE,\"\",VLOOKUP($R1462,TAXONOMY!$A$1:$H$959,2,FALSE))","v":""}]
[null,null,null,null,null,null,null,null,null,null,null,{"$f":"IF(ISBLANK($R1463)=TRUE,\"\",VLOOKUP($R1463,TAXONOMY!$A$1:$G$959,7,FALSE))","v":""},{"$f":"IF(ISBLANK($R1463)=TRUE,\"\",VLOOKUP($R1463,TAXONOMY!$A$1:$G$959,6,FALSE))","v":""},{"$f":"IF(ISBLANK($R1463)=TRUE,\"\",VLOOKUP($R1463,TAXONOMY!$A$1:$G$959,5,FALSE))","v":""},{"$f":"IF(ISBLANK($R1463)=TRUE,\"\",VLOOKUP($R1463,TAXONOMY!$A$1:$G$959,4,FALSE))","v":""},{"$f":"IF(ISBLANK($R1463)=TRUE,\"\",VLOOKUP($R1463,TAXONOMY!$A$1:$G$959,3,FALSE))","v":""},{"$f":"IF(ISBLANK($R1463)=TRUE,\"\",VLOOKUP($R1463,TAXONOMY!$A$1:$H$959,2,FALSE))","v":""}]
[null,null,null,null,null,null,null,null,null,null,null,{"$f":"IF(ISBLANK($R1464)=TRUE,\"\",VLOOKUP($R1464,TAXONOMY!$A$1:$G$959,7,FALSE))","v":""},{"$f":"IF(ISBLANK($R1464)=TRUE,\"\",VLOOKUP($R1464,TAXONOMY!$A$1:$G$959,6,FALSE))","v":""},{"$f":"IF(ISBLANK($R1464)=TRUE,\"\",VLOOKUP($R1464,TAXONOMY!$A$1:$G$959,5,FALSE))","v":""},{"$f":"IF(ISBLANK($R1464)=TRUE,\"\",VLOOKUP($R1464,TAXONOMY!$A$1:$G$959,4,FALSE))","v":""},{"$f":"IF(ISBLANK($R1464)=TRUE,\"\",VLOOKUP($R1464,TAXONOMY!$A$1:$G$959,3,FALSE))","v":""},{"$f":"IF(ISBLANK($R1464)=TRUE,\"\",VLOOKUP($R1464,TAXONOMY!$A$1:$H$959,2,FALSE))","v":""}]
[null,null,null,null,null,null,null,null,null,null,null,{"$f":"IF(ISBLANK($R1465)=TRUE,\"\",VLOOKUP($R1465,TAXONOMY!$A$1:$G$959,7,FALSE))","v":""},{"$f":"IF(ISBLANK($R1465)=TRUE,\"\",VLOOKUP($R1465,TAXONOMY!$A$1:$G$959,6,FALSE))","v":""},{"$f":"IF(ISBLANK($R1465)=TRUE,\"\",VLOOKUP($R1465,TAXONOMY!$A$1:$G$959,5,FALSE))","v":""},{"$f":"IF(ISBLANK($R1465)=TRUE,\"\",VLOOKUP($R1465,TAXONOMY!$A$1:$G$959,4,FALSE))","v":""},{"$f":"IF(ISBLANK($R1465)=TRUE,\"\",VLOOKUP($R1465,TAXONOMY!$A$1:$G$959,3,FALSE))","v":""},{"$f":"IF(ISBLANK($R1465)=TRUE,\"\",VLOOKUP($R1465,TAXONOMY!$A$1:$H$959,2,FALSE))","v":""}]
[null,null,null,null,null,null,null,null,null,null,null,{"$f":"IF(ISBLANK($R1466)=TRUE,\"\",VLOOKUP($R1466,TAXONOMY!$A$1:$G$959,7,FALSE))","v":""},{"$f":"IF(ISBLANK($R1466)=TRUE,\"\",VLOOKUP($R1466,TAXONOMY!$A$1:$G$959,6,FALSE))","v":""},{"$f":"IF(ISBLANK($R1466)=TRUE,\"\",VLOOKUP($R1466,TAXONOMY!$A$1:$G$959,5,FALSE))","v":""},{"$f":"IF(ISBLANK($R1466)=TRUE,\"\",VLOOKUP($R1466,TAXONOMY!$A$1:$G$959,4,FALSE))","v":""},{"$f":"IF(ISBLANK($R1466)=TRUE,\"\",VLOOKUP($R1466,TAXONOMY!$A$1:$G$959,3,FALSE))","v":""},{"$f":"IF(ISBLANK($R1466)=TRUE,\"\",VLOOKUP($R1466,TAXONOMY!$A$1:$H$959,2,FALSE))","v":""}]
[null,null,null,null,null,null,null,null,null,null,null,{"$f":"IF(ISBLANK($R1467)=TRUE,\"\",VLOOKUP($R1467,TAXONOMY!$A$1:$G$959,7,FALSE))","v":""},{"$f":"IF(ISBLANK($R1467)=TRUE,\"\",VLOOKUP($R1467,TAXONOMY!$A$1:$G$959,6,FALSE))","v":""},{"$f":"IF(ISBLANK($R1467)=TRUE,\"\",VLOOKUP($R1467,TAXONOMY!$A$1:$G$959,5,FALSE))","v":""},{"$f":"IF(ISBLANK($R1467)=TRUE,\"\",VLOOKUP($R1467,TAXONOMY!$A$1:$G$959,4,FALSE))","v":""},{"$f":"IF(ISBLANK($R1467)=TRUE,\"\",VLOOKUP($R1467,TAXONOMY!$A$1:$G$959,3,FALSE))","v":""},{"$f":"IF(ISBLANK($R1467)=TRUE,\"\",VLOOKUP($R1467,TAXONOMY!$A$1:$H$959,2,FALSE))","v":""}]
[null,null,null,null,null,null,null,null,null,null,null,{"$f":"IF(ISBLANK($R1468)=TRUE,\"\",VLOOKUP($R1468,TAXONOMY!$A$1:$G$959,7,FALSE))","v":""},{"$f":"IF(ISBLANK($R1468)=TRUE,\"\",VLOOKUP($R1468,TAXONOMY!$A$1:$G$959,6,FALSE))","v":""},{"$f":"IF(ISBLANK($R1468)=TRUE,\"\",VLOOKUP($R1468,TAXONOMY!$A$1:$G$959,5,FALSE))","v":""},{"$f":"IF(ISBLANK($R1468)=TRUE,\"\",VLOOKUP($R1468,TAXONOMY!$A$1:$G$959,4,FALSE))","v":""},{"$f":"IF(ISBLANK($R1468)=TRUE,\"\",VLOOKUP($R1468,TAXONOMY!$A$1:$G$959,3,FALSE))","v":""},{"$f":"IF(ISBLANK($R1468)=TRUE,\"\",VLOOKUP($R1468,TAXONOMY!$A$1:$H$959,2,FALSE))","v":""}]
[null,null,null,null,null,null,null,null,null,null,null,{"$f":"IF(ISBLANK($R1469)=TRUE,\"\",VLOOKUP($R1469,TAXONOMY!$A$1:$G$959,7,FALSE))","v":""},{"$f":"IF(ISBLANK($R1469)=TRUE,\"\",VLOOKUP($R1469,TAXONOMY!$A$1:$G$959,6,FALSE))","v":""},{"$f":"IF(ISBLANK($R1469)=TRUE,\"\",VLOOKUP($R1469,TAXONOMY!$A$1:$G$959,5,FALSE))","v":""},{"$f":"IF(ISBLANK($R1469)=TRUE,\"\",VLOOKUP($R1469,TAXONOMY!$A$1:$G$959,4,FALSE))","v":""},{"$f":"IF(ISBLANK($R1469)=TRUE,\"\",VLOOKUP($R1469,TAXONOMY!$A$1:$G$959,3,FALSE))","v":""},{"$f":"IF(ISBLANK($R1469)=TRUE,\"\",VLOOKUP($R1469,TAXONOMY!$A$1:$H$959,2,FALSE))","v":""}]
[null,null,null,null,null,null,null,null,null,null,null,{"$f":"IF(ISBLANK($R1470)=TRUE,\"\",VLOOKUP($R1470,TAXONOMY!$A$1:$G$959,7,FALSE))","v":""},{"$f":"IF(ISBLANK($R1470)=TRUE,\"\",VLOOKUP($R1470,TAXONOMY!$A$1:$G$959,6,FALSE))","v":""},{"$f":"IF(ISBLANK($R1470)=TRUE,\"\",VLOOKUP($R1470,TAXONOMY!$A$1:$G$959,5,FALSE))","v":""},{"$f":"IF(ISBLANK($R1470)=TRUE,\"\",VLOOKUP($R1470,TAXONOMY!$A$1:$G$959,4,FALSE))","v":""},{"$f":"IF(ISBLANK($R1470)=TRUE,\"\",VLOOKUP($R1470,TAXONOMY!$A$1:$G$959,3,FALSE))","v":""},{"$f":"IF(ISBLANK($R1470)=TRUE,\"\",VLOOKUP($R1470,TAXONOMY!$A$1:$H$959,2,FALSE))","v":""}]
[null,null,null,null,null,null,null,null,null,null,null,{"$f":"IF(ISBLANK($R1471)=TRUE,\"\",VLOOKUP($R1471,TAXONOMY!$A$1:$G$959,7,FALSE))","v":""},{"$f":"IF(ISBLANK($R1471)=TRUE,\"\",VLOOKUP($R1471,TAXONOMY!$A$1:$G$959,6,FALSE))","v":""},{"$f":"IF(ISBLANK($R1471)=TRUE,\"\",VLOOKUP($R1471,TAXONOMY!$A$1:$G$959,5,FALSE))","v":""},{"$f":"IF(ISBLANK($R1471)=TRUE,\"\",VLOOKUP($R1471,TAXONOMY!$A$1:$G$959,4,FALSE))","v":""},{"$f":"IF(ISBLANK($R1471)=TRUE,\"\",VLOOKUP($R1471,TAXONOMY!$A$1:$G$959,3,FALSE))","v":""},{"$f":"IF(ISBLANK($R1471)=TRUE,\"\",VLOOKUP($R1471,TAXONOMY!$A$1:$H$959,2,FALSE))","v":""}]
[null,null,null,null,null,null,null,null,null,null,null,{"$f":"IF(ISBLANK($R1472)=TRUE,\"\",VLOOKUP($R1472,TAXONOMY!$A$1:$G$959,7,FALSE))","v":""},{"$f":"IF(ISBLANK($R1472)=TRUE,\"\",VLOOKUP($R1472,TAXONOMY!$A$1:$G$959,6,FALSE))","v":""},{"$f":"IF(ISBLANK($R1472)=TRUE,\"\",VLOOKUP($R1472,TAXONOMY!$A$1:$G$959,5,FALSE))","v":""},{"$f":"IF(ISBLANK($R1472)=TRUE,\"\",VLOOKUP($R1472,TAXONOMY!$A$1:$G$959,4,FALSE))","v":""},{"$f":"IF(ISBLANK($R1472)=TRUE,\"\",VLOOKUP($R1472,TAXONOMY!$A$1:$G$959,3,FALSE))","v":""},{"$f":"IF(ISBLANK($R1472)=TRUE,\"\",VLOOKUP($R1472,TAXONOMY!$A$1:$H$959,2,FALSE))","v":""}]
[null,null,null,null,null,null,null,null,null,null,null,{"$f":"IF(ISBLANK($R1473)=TRUE,\"\",VLOOKUP($R1473,TAXONOMY!$A$1:$G$959,7,FALSE))","v":""},{"$f":"IF(ISBLANK($R1473)=TRUE,\"\",VLOOKUP($R1473,TAXONOMY!$A$1:$G$959,6,FALSE))","v":""},{"$f":"IF(ISBLANK($R1473)=TRUE,\"\",VLOOKUP($R1473,TAXONOMY!$A$1:$G$959,5,FALSE))","v":""},{"$f":"IF(ISBLANK($R1473)=TRUE,\"\",VLOOKUP($R1473,TAXONOMY!$A$1:$G$959,4,FALSE))","v":""},{"$f":"IF(ISBLANK($R1473)=TRUE,\"\",VLOOKUP($R1473,TAXONOMY!$A$1:$G$959,3,FALSE))","v":""},{"$f":"IF(ISBLANK($R1473)=TRUE,\"\",VLOOKUP($R1473,TAXONOMY!$A$1:$H$959,2,FALSE))","v":""}]
[null,null,null,null,null,null,null,null,null,null,null,{"$f":"IF(ISBLANK($R1474)=TRUE,\"\",VLOOKUP($R1474,TAXONOMY!$A$1:$G$959,7,FALSE))","v":""},{"$f":"IF(ISBLANK($R1474)=TRUE,\"\",VLOOKUP($R1474,TAXONOMY!$A$1:$G$959,6,FALSE))","v":""},{"$f":"IF(ISBLANK($R1474)=TRUE,\"\",VLOOKUP($R1474,TAXONOMY!$A$1:$G$959,5,FALSE))","v":""},{"$f":"IF(ISBLANK($R1474)=TRUE,\"\",VLOOKUP($R1474,TAXONOMY!$A$1:$G$959,4,FALSE))","v":""},{"$f":"IF(ISBLANK($R1474)=TRUE,\"\",VLOOKUP($R1474,TAXONOMY!$A$1:$G$959,3,FALSE))","v":""},{"$f":"IF(ISBLANK($R1474)=TRUE,\"\",VLOOKUP($R1474,TAXONOMY!$A$1:$H$959,2,FALSE))","v":""}]
[null,null,null,null,null,null,null,null,null,null,null,{"$f":"IF(ISBLANK($R1475)=TRUE,\"\",VLOOKUP($R1475,TAXONOMY!$A$1:$G$959,7,FALSE))","v":""},{"$f":"IF(ISBLANK($R1475)=TRUE,\"\",VLOOKUP($R1475,TAXONOMY!$A$1:$G$959,6,FALSE))","v":""},{"$f":"IF(ISBLANK($R1475)=TRUE,\"\",VLOOKUP($R1475,TAXONOMY!$A$1:$G$959,5,FALSE))","v":""},{"$f":"IF(ISBLANK($R1475)=TRUE,\"\",VLOOKUP($R1475,TAXONOMY!$A$1:$G$959,4,FALSE))","v":""},{"$f":"IF(ISBLANK($R1475)=TRUE,\"\",VLOOKUP($R1475,TAXONOMY!$A$1:$G$959,3,FALSE))","v":""},{"$f":"IF(ISBLANK($R1475)=TRUE,\"\",VLOOKUP($R1475,TAXONOMY!$A$1:$H$959,2,FALSE))","v":""}]
[null,null,null,null,null,null,null,null,null,null,null,{"$f":"IF(ISBLANK($R1476)=TRUE,\"\",VLOOKUP($R1476,TAXONOMY!$A$1:$G$959,7,FALSE))","v":""},{"$f":"IF(ISBLANK($R1476)=TRUE,\"\",VLOOKUP($R1476,TAXONOMY!$A$1:$G$959,6,FALSE))","v":""},{"$f":"IF(ISBLANK($R1476)=TRUE,\"\",VLOOKUP($R1476,TAXONOMY!$A$1:$G$959,5,FALSE))","v":""},{"$f":"IF(ISBLANK($R1476)=TRUE,\"\",VLOOKUP($R1476,TAXONOMY!$A$1:$G$959,4,FALSE))","v":""},{"$f":"IF(ISBLANK($R1476)=TRUE,\"\",VLOOKUP($R1476,TAXONOMY!$A$1:$G$959,3,FALSE))","v":""},{"$f":"IF(ISBLANK($R1476)=TRUE,\"\",VLOOKUP($R1476,TAXONOMY!$A$1:$H$959,2,FALSE))","v":""}]
[null,null,null,null,null,null,null,null,null,null,null,{"$f":"IF(ISBLANK($R1477)=TRUE,\"\",VLOOKUP($R1477,TAXONOMY!$A$1:$G$959,7,FALSE))","v":""},{"$f":"IF(ISBLANK($R1477)=TRUE,\"\",VLOOKUP($R1477,TAXONOMY!$A$1:$G$959,6,FALSE))","v":""},{"$f":"IF(ISBLANK($R1477)=TRUE,\"\",VLOOKUP($R1477,TAXONOMY!$A$1:$G$959,5,FALSE))","v":""},{"$f":"IF(ISBLANK($R1477)=TRUE,\"\",VLOOKUP($R1477,TAXONOMY!$A$1:$G$959,4,FALSE))","v":""},{"$f":"IF(ISBLANK($R1477)=TRUE,\"\",VLOOKUP($R1477,TAXONOMY!$A$1:$G$959,3,FALSE))","v":""},{"$f":"IF(ISBLANK($R1477)=TRUE,\"\",VLOOKUP($R1477,TAXONOMY!$A$1:$H$959,2,FALSE))","v":""}]
[null,null,null,null,null,null,null,null,null,null,null,{"$f":"IF(ISBLANK($R1478)=TRUE,\"\",VLOOKUP($R1478,TAXONOMY!$A$1:$G$959,7,FALSE))","v":""},{"$f":"IF(ISBLANK($R1478)=TRUE,\"\",VLOOKUP($R1478,TAXONOMY!$A$1:$G$959,6,FALSE))","v":""},{"$f":"IF(ISBLANK($R1478)=TRUE,\"\",VLOOKUP($R1478,TAXONOMY!$A$1:$G$959,5,FALSE))","v":""},{"$f":"IF(ISBLANK($R1478)=TRUE,\"\",VLOOKUP($R1478,TAXONOMY!$A$1:$G$959,4,FALSE))","v":""},{"$f":"IF(ISBLANK($R1478)=TRUE,\"\",VLOOKUP($R1478,TAXONOMY!$A$1:$G$959,3,FALSE))","v":""},{"$f":"IF(ISBLANK($R1478)=TRUE,\"\",VLOOKUP($R1478,TAXONOMY!$A$1:$H$959,2,FALSE))","v":""}]
[null,null,null,null,null,null,null,null,null,null,null,{"$f":"IF(ISBLANK($R1479)=TRUE,\"\",VLOOKUP($R1479,TAXONOMY!$A$1:$G$959,7,FALSE))","v":""},{"$f":"IF(ISBLANK($R1479)=TRUE,\"\",VLOOKUP($R1479,TAXONOMY!$A$1:$G$959,6,FALSE))","v":""},{"$f":"IF(ISBLANK($R1479)=TRUE,\"\",VLOOKUP($R1479,TAXONOMY!$A$1:$G$959,5,FALSE))","v":""},{"$f":"IF(ISBLANK($R1479)=TRUE,\"\",VLOOKUP($R1479,TAXONOMY!$A$1:$G$959,4,FALSE))","v":""},{"$f":"IF(ISBLANK($R1479)=TRUE,\"\",VLOOKUP($R1479,TAXONOMY!$A$1:$G$959,3,FALSE))","v":""},{"$f":"IF(ISBLANK($R1479)=TRUE,\"\",VLOOKUP($R1479,TAXONOMY!$A$1:$H$959,2,FALSE))","v":""}]
[null,null,null,null,null,null,null,null,null,null,null,{"$f":"IF(ISBLANK($R1480)=TRUE,\"\",VLOOKUP($R1480,TAXONOMY!$A$1:$G$959,7,FALSE))","v":""},{"$f":"IF(ISBLANK($R1480)=TRUE,\"\",VLOOKUP($R1480,TAXONOMY!$A$1:$G$959,6,FALSE))","v":""},{"$f":"IF(ISBLANK($R1480)=TRUE,\"\",VLOOKUP($R1480,TAXONOMY!$A$1:$G$959,5,FALSE))","v":""},{"$f":"IF(ISBLANK($R1480)=TRUE,\"\",VLOOKUP($R1480,TAXONOMY!$A$1:$G$959,4,FALSE))","v":""},{"$f":"IF(ISBLANK($R1480)=TRUE,\"\",VLOOKUP($R1480,TAXONOMY!$A$1:$G$959,3,FALSE))","v":""},{"$f":"IF(ISBLANK($R1480)=TRUE,\"\",VLOOKUP($R1480,TAXONOMY!$A$1:$H$959,2,FALSE))","v":""}]
[null,null,null,null,null,null,null,null,null,null,null,{"$f":"IF(ISBLANK($R1481)=TRUE,\"\",VLOOKUP($R1481,TAXONOMY!$A$1:$G$959,7,FALSE))","v":""},{"$f":"IF(ISBLANK($R1481)=TRUE,\"\",VLOOKUP($R1481,TAXONOMY!$A$1:$G$959,6,FALSE))","v":""},{"$f":"IF(ISBLANK($R1481)=TRUE,\"\",VLOOKUP($R1481,TAXONOMY!$A$1:$G$959,5,FALSE))","v":""},{"$f":"IF(ISBLANK($R1481)=TRUE,\"\",VLOOKUP($R1481,TAXONOMY!$A$1:$G$959,4,FALSE))","v":""},{"$f":"IF(ISBLANK($R1481)=TRUE,\"\",VLOOKUP($R1481,TAXONOMY!$A$1:$G$959,3,FALSE))","v":""},{"$f":"IF(ISBLANK($R1481)=TRUE,\"\",VLOOKUP($R1481,TAXONOMY!$A$1:$H$959,2,FALSE))","v":""}]
[null,null,null,null,null,null,null,null,null,null,null,{"$f":"IF(ISBLANK($R1482)=TRUE,\"\",VLOOKUP($R1482,TAXONOMY!$A$1:$G$959,7,FALSE))","v":""},{"$f":"IF(ISBLANK($R1482)=TRUE,\"\",VLOOKUP($R1482,TAXONOMY!$A$1:$G$959,6,FALSE))","v":""},{"$f":"IF(ISBLANK($R1482)=TRUE,\"\",VLOOKUP($R1482,TAXONOMY!$A$1:$G$959,5,FALSE))","v":""},{"$f":"IF(ISBLANK($R1482)=TRUE,\"\",VLOOKUP($R1482,TAXONOMY!$A$1:$G$959,4,FALSE))","v":""},{"$f":"IF(ISBLANK($R1482)=TRUE,\"\",VLOOKUP($R1482,TAXONOMY!$A$1:$G$959,3,FALSE))","v":""},{"$f":"IF(ISBLANK($R1482)=TRUE,\"\",VLOOKUP($R1482,TAXONOMY!$A$1:$H$959,2,FALSE))","v":""}]
[null,null,null,null,null,null,null,null,null,null,null,{"$f":"IF(ISBLANK($R1483)=TRUE,\"\",VLOOKUP($R1483,TAXONOMY!$A$1:$G$959,7,FALSE))","v":""},{"$f":"IF(ISBLANK($R1483)=TRUE,\"\",VLOOKUP($R1483,TAXONOMY!$A$1:$G$959,6,FALSE))","v":""},{"$f":"IF(ISBLANK($R1483)=TRUE,\"\",VLOOKUP($R1483,TAXONOMY!$A$1:$G$959,5,FALSE))","v":""},{"$f":"IF(ISBLANK($R1483)=TRUE,\"\",VLOOKUP($R1483,TAXONOMY!$A$1:$G$959,4,FALSE))","v":""},{"$f":"IF(ISBLANK($R1483)=TRUE,\"\",VLOOKUP($R1483,TAXONOMY!$A$1:$G$959,3,FALSE))","v":""},{"$f":"IF(ISBLANK($R1483)=TRUE,\"\",VLOOKUP($R1483,TAXONOMY!$A$1:$H$959,2,FALSE))","v":""}]
[null,null,null,null,null,null,null,null,null,null,null,{"$f":"IF(ISBLANK($R1484)=TRUE,\"\",VLOOKUP($R1484,TAXONOMY!$A$1:$G$959,7,FALSE))","v":""},{"$f":"IF(ISBLANK($R1484)=TRUE,\"\",VLOOKUP($R1484,TAXONOMY!$A$1:$G$959,6,FALSE))","v":""},{"$f":"IF(ISBLANK($R1484)=TRUE,\"\",VLOOKUP($R1484,TAXONOMY!$A$1:$G$959,5,FALSE))","v":""},{"$f":"IF(ISBLANK($R1484)=TRUE,\"\",VLOOKUP($R1484,TAXONOMY!$A$1:$G$959,4,FALSE))","v":""},{"$f":"IF(ISBLANK($R1484)=TRUE,\"\",VLOOKUP($R1484,TAXONOMY!$A$1:$G$959,3,FALSE))","v":""},{"$f":"IF(ISBLANK($R1484)=TRUE,\"\",VLOOKUP($R1484,TAXONOMY!$A$1:$H$959,2,FALSE))","v":""}]
[null,null,null,null,null,null,null,null,null,null,null,{"$f":"IF(ISBLANK($R1485)=TRUE,\"\",VLOOKUP($R1485,TAXONOMY!$A$1:$G$959,7,FALSE))","v":""},{"$f":"IF(ISBLANK($R1485)=TRUE,\"\",VLOOKUP($R1485,TAXONOMY!$A$1:$G$959,6,FALSE))","v":""},{"$f":"IF(ISBLANK($R1485)=TRUE,\"\",VLOOKUP($R1485,TAXONOMY!$A$1:$G$959,5,FALSE))","v":""},{"$f":"IF(ISBLANK($R1485)=TRUE,\"\",VLOOKUP($R1485,TAXONOMY!$A$1:$G$959,4,FALSE))","v":""},{"$f":"IF(ISBLANK($R1485)=TRUE,\"\",VLOOKUP($R1485,TAXONOMY!$A$1:$G$959,3,FALSE))","v":""},{"$f":"IF(ISBLANK($R1485)=TRUE,\"\",VLOOKUP($R1485,TAXONOMY!$A$1:$H$959,2,FALSE))","v":""}]
[null,null,null,null,null,null,null,null,null,null,null,{"$f":"IF(ISBLANK($R1486)=TRUE,\"\",VLOOKUP($R1486,TAXONOMY!$A$1:$G$959,7,FALSE))","v":""},{"$f":"IF(ISBLANK($R1486)=TRUE,\"\",VLOOKUP($R1486,TAXONOMY!$A$1:$G$959,6,FALSE))","v":""},{"$f":"IF(ISBLANK($R1486)=TRUE,\"\",VLOOKUP($R1486,TAXONOMY!$A$1:$G$959,5,FALSE))","v":""},{"$f":"IF(ISBLANK($R1486)=TRUE,\"\",VLOOKUP($R1486,TAXONOMY!$A$1:$G$959,4,FALSE))","v":""},{"$f":"IF(ISBLANK($R1486)=TRUE,\"\",VLOOKUP($R1486,TAXONOMY!$A$1:$G$959,3,FALSE))","v":""},{"$f":"IF(ISBLANK($R1486)=TRUE,\"\",VLOOKUP($R1486,TAXONOMY!$A$1:$H$959,2,FALSE))","v":""}]
[null,null,null,null,null,null,null,null,null,null,null,{"$f":"IF(ISBLANK($R1487)=TRUE,\"\",VLOOKUP($R1487,TAXONOMY!$A$1:$G$959,7,FALSE))","v":""},{"$f":"IF(ISBLANK($R1487)=TRUE,\"\",VLOOKUP($R1487,TAXONOMY!$A$1:$G$959,6,FALSE))","v":""},{"$f":"IF(ISBLANK($R1487)=TRUE,\"\",VLOOKUP($R1487,TAXONOMY!$A$1:$G$959,5,FALSE))","v":""},{"$f":"IF(ISBLANK($R1487)=TRUE,\"\",VLOOKUP($R1487,TAXONOMY!$A$1:$G$959,4,FALSE))","v":""},{"$f":"IF(ISBLANK($R1487)=TRUE,\"\",VLOOKUP($R1487,TAXONOMY!$A$1:$G$959,3,FALSE))","v":""},{"$f":"IF(ISBLANK($R1487)=TRUE,\"\",VLOOKUP($R1487,TAXONOMY!$A$1:$H$959,2,FALSE))","v":""}]
[null,null,null,null,null,null,null,null,null,null,null,{"$f":"IF(ISBLANK($R1488)=TRUE,\"\",VLOOKUP($R1488,TAXONOMY!$A$1:$G$959,7,FALSE))","v":""},{"$f":"IF(ISBLANK($R1488)=TRUE,\"\",VLOOKUP($R1488,TAXONOMY!$A$1:$G$959,6,FALSE))","v":""},{"$f":"IF(ISBLANK($R1488)=TRUE,\"\",VLOOKUP($R1488,TAXONOMY!$A$1:$G$959,5,FALSE))","v":""},{"$f":"IF(ISBLANK($R1488)=TRUE,\"\",VLOOKUP($R1488,TAXONOMY!$A$1:$G$959,4,FALSE))","v":""},{"$f":"IF(ISBLANK($R1488)=TRUE,\"\",VLOOKUP($R1488,TAXONOMY!$A$1:$G$959,3,FALSE))","v":""},{"$f":"IF(ISBLANK($R1488)=TRUE,\"\",VLOOKUP($R1488,TAXONOMY!$A$1:$H$959,2,FALSE))","v":""}]
[null,null,null,null,null,null,null,null,null,null,null,{"$f":"IF(ISBLANK($R1489)=TRUE,\"\",VLOOKUP($R1489,TAXONOMY!$A$1:$G$959,7,FALSE))","v":""},{"$f":"IF(ISBLANK($R1489)=TRUE,\"\",VLOOKUP($R1489,TAXONOMY!$A$1:$G$959,6,FALSE))","v":""},{"$f":"IF(ISBLANK($R1489)=TRUE,\"\",VLOOKUP($R1489,TAXONOMY!$A$1:$G$959,5,FALSE))","v":""},{"$f":"IF(ISBLANK($R1489)=TRUE,\"\",VLOOKUP($R1489,TAXONOMY!$A$1:$G$959,4,FALSE))","v":""},{"$f":"IF(ISBLANK($R1489)=TRUE,\"\",VLOOKUP($R1489,TAXONOMY!$A$1:$G$959,3,FALSE))","v":""},{"$f":"IF(ISBLANK($R1489)=TRUE,\"\",VLOOKUP($R1489,TAXONOMY!$A$1:$H$959,2,FALSE))","v":""}]
[null,null,null,null,null,null,null,null,null,null,null,{"$f":"IF(ISBLANK($R1490)=TRUE,\"\",VLOOKUP($R1490,TAXONOMY!$A$1:$G$959,7,FALSE))","v":""},{"$f":"IF(ISBLANK($R1490)=TRUE,\"\",VLOOKUP($R1490,TAXONOMY!$A$1:$G$959,6,FALSE))","v":""},{"$f":"IF(ISBLANK($R1490)=TRUE,\"\",VLOOKUP($R1490,TAXONOMY!$A$1:$G$959,5,FALSE))","v":""},{"$f":"IF(ISBLANK($R1490)=TRUE,\"\",VLOOKUP($R1490,TAXONOMY!$A$1:$G$959,4,FALSE))","v":""},{"$f":"IF(ISBLANK($R1490)=TRUE,\"\",VLOOKUP($R1490,TAXONOMY!$A$1:$G$959,3,FALSE))","v":""},{"$f":"IF(ISBLANK($R1490)=TRUE,\"\",VLOOKUP($R1490,TAXONOMY!$A$1:$H$959,2,FALSE))","v":""}]
[null,null,null,null,null,null,null,null,null,null,null,{"$f":"IF(ISBLANK($R1491)=TRUE,\"\",VLOOKUP($R1491,TAXONOMY!$A$1:$G$959,7,FALSE))","v":""},{"$f":"IF(ISBLANK($R1491)=TRUE,\"\",VLOOKUP($R1491,TAXONOMY!$A$1:$G$959,6,FALSE))","v":""},{"$f":"IF(ISBLANK($R1491)=TRUE,\"\",VLOOKUP($R1491,TAXONOMY!$A$1:$G$959,5,FALSE))","v":""},{"$f":"IF(ISBLANK($R1491)=TRUE,\"\",VLOOKUP($R1491,TAXONOMY!$A$1:$G$959,4,FALSE))","v":""},{"$f":"IF(ISBLANK($R1491)=TRUE,\"\",VLOOKUP($R1491,TAXONOMY!$A$1:$G$959,3,FALSE))","v":""},{"$f":"IF(ISBLANK($R1491)=TRUE,\"\",VLOOKUP($R1491,TAXONOMY!$A$1:$H$959,2,FALSE))","v":""}]
[null,null,null,null,null,null,null,null,null,null,null,{"$f":"IF(ISBLANK($R1492)=TRUE,\"\",VLOOKUP($R1492,TAXONOMY!$A$1:$G$959,7,FALSE))","v":""},{"$f":"IF(ISBLANK($R1492)=TRUE,\"\",VLOOKUP($R1492,TAXONOMY!$A$1:$G$959,6,FALSE))","v":""},{"$f":"IF(ISBLANK($R1492)=TRUE,\"\",VLOOKUP($R1492,TAXONOMY!$A$1:$G$959,5,FALSE))","v":""},{"$f":"IF(ISBLANK($R1492)=TRUE,\"\",VLOOKUP($R1492,TAXONOMY!$A$1:$G$959,4,FALSE))","v":""},{"$f":"IF(ISBLANK($R1492)=TRUE,\"\",VLOOKUP($R1492,TAXONOMY!$A$1:$G$959,3,FALSE))","v":""},{"$f":"IF(ISBLANK($R1492)=TRUE,\"\",VLOOKUP($R1492,TAXONOMY!$A$1:$H$959,2,FALSE))","v":""}]
[null,null,null,null,null,null,null,null,null,null,null,{"$f":"IF(ISBLANK($R1493)=TRUE,\"\",VLOOKUP($R1493,TAXONOMY!$A$1:$G$959,7,FALSE))","v":""},{"$f":"IF(ISBLANK($R1493)=TRUE,\"\",VLOOKUP($R1493,TAXONOMY!$A$1:$G$959,6,FALSE))","v":""},{"$f":"IF(ISBLANK($R1493)=TRUE,\"\",VLOOKUP($R1493,TAXONOMY!$A$1:$G$959,5,FALSE))","v":""},{"$f":"IF(ISBLANK($R1493)=TRUE,\"\",VLOOKUP($R1493,TAXONOMY!$A$1:$G$959,4,FALSE))","v":""},{"$f":"IF(ISBLANK($R1493)=TRUE,\"\",VLOOKUP($R1493,TAXONOMY!$A$1:$G$959,3,FALSE))","v":""},{"$f":"IF(ISBLANK($R1493)=TRUE,\"\",VLOOKUP($R1493,TAXONOMY!$A$1:$H$959,2,FALSE))","v":""}]
[null,null,null,null,null,null,null,null,null,null,null,{"$f":"IF(ISBLANK($R1494)=TRUE,\"\",VLOOKUP($R1494,TAXONOMY!$A$1:$G$959,7,FALSE))","v":""},{"$f":"IF(ISBLANK($R1494)=TRUE,\"\",VLOOKUP($R1494,TAXONOMY!$A$1:$G$959,6,FALSE))","v":""},{"$f":"IF(ISBLANK($R1494)=TRUE,\"\",VLOOKUP($R1494,TAXONOMY!$A$1:$G$959,5,FALSE))","v":""},{"$f":"IF(ISBLANK($R1494)=TRUE,\"\",VLOOKUP($R1494,TAXONOMY!$A$1:$G$959,4,FALSE))","v":""},{"$f":"IF(ISBLANK($R1494)=TRUE,\"\",VLOOKUP($R1494,TAXONOMY!$A$1:$G$959,3,FALSE))","v":""},{"$f":"IF(ISBLANK($R1494)=TRUE,\"\",VLOOKUP($R1494,TAXONOMY!$A$1:$H$959,2,FALSE))","v":""}]
[null,null,null,null,null,null,null,null,null,null,null,{"$f":"IF(ISBLANK($R1495)=TRUE,\"\",VLOOKUP($R1495,TAXONOMY!$A$1:$G$959,7,FALSE))","v":""},{"$f":"IF(ISBLANK($R1495)=TRUE,\"\",VLOOKUP($R1495,TAXONOMY!$A$1:$G$959,6,FALSE))","v":""},{"$f":"IF(ISBLANK($R1495)=TRUE,\"\",VLOOKUP($R1495,TAXONOMY!$A$1:$G$959,5,FALSE))","v":""},{"$f":"IF(ISBLANK($R1495)=TRUE,\"\",VLOOKUP($R1495,TAXONOMY!$A$1:$G$959,4,FALSE))","v":""},{"$f":"IF(ISBLANK($R1495)=TRUE,\"\",VLOOKUP($R1495,TAXONOMY!$A$1:$G$959,3,FALSE))","v":""},{"$f":"IF(ISBLANK($R1495)=TRUE,\"\",VLOOKUP($R1495,TAXONOMY!$A$1:$H$959,2,FALSE))","v":""}]
[null,null,null,null,null,null,null,null,null,null,null,{"$f":"IF(ISBLANK($R1496)=TRUE,\"\",VLOOKUP($R1496,TAXONOMY!$A$1:$G$959,7,FALSE))","v":""},{"$f":"IF(ISBLANK($R1496)=TRUE,\"\",VLOOKUP($R1496,TAXONOMY!$A$1:$G$959,6,FALSE))","v":""},{"$f":"IF(ISBLANK($R1496)=TRUE,\"\",VLOOKUP($R1496,TAXONOMY!$A$1:$G$959,5,FALSE))","v":""},{"$f":"IF(ISBLANK($R1496)=TRUE,\"\",VLOOKUP($R1496,TAXONOMY!$A$1:$G$959,4,FALSE))","v":""},{"$f":"IF(ISBLANK($R1496)=TRUE,\"\",VLOOKUP($R1496,TAXONOMY!$A$1:$G$959,3,FALSE))","v":""},{"$f":"IF(ISBLANK($R1496)=TRUE,\"\",VLOOKUP($R1496,TAXONOMY!$A$1:$H$959,2,FALSE))","v":""}]
[null,null,null,null,null,null,null,null,null,null,null,{"$f":"IF(ISBLANK($R1497)=TRUE,\"\",VLOOKUP($R1497,TAXONOMY!$A$1:$G$959,7,FALSE))","v":""},{"$f":"IF(ISBLANK($R1497)=TRUE,\"\",VLOOKUP($R1497,TAXONOMY!$A$1:$G$959,6,FALSE))","v":""},{"$f":"IF(ISBLANK($R1497)=TRUE,\"\",VLOOKUP($R1497,TAXONOMY!$A$1:$G$959,5,FALSE))","v":""},{"$f":"IF(ISBLANK($R1497)=TRUE,\"\",VLOOKUP($R1497,TAXONOMY!$A$1:$G$959,4,FALSE))","v":""},{"$f":"IF(ISBLANK($R1497)=TRUE,\"\",VLOOKUP($R1497,TAXONOMY!$A$1:$G$959,3,FALSE))","v":""},{"$f":"IF(ISBLANK($R1497)=TRUE,\"\",VLOOKUP($R1497,TAXONOMY!$A$1:$H$959,2,FALSE))","v":""}]
[null,null,null,null,null,null,null,null,null,null,null,{"$f":"IF(ISBLANK($R1498)=TRUE,\"\",VLOOKUP($R1498,TAXONOMY!$A$1:$G$959,7,FALSE))","v":""},{"$f":"IF(ISBLANK($R1498)=TRUE,\"\",VLOOKUP($R1498,TAXONOMY!$A$1:$G$959,6,FALSE))","v":""},{"$f":"IF(ISBLANK($R1498)=TRUE,\"\",VLOOKUP($R1498,TAXONOMY!$A$1:$G$959,5,FALSE))","v":""},{"$f":"IF(ISBLANK($R1498)=TRUE,\"\",VLOOKUP($R1498,TAXONOMY!$A$1:$G$959,4,FALSE))","v":""},{"$f":"IF(ISBLANK($R1498)=TRUE,\"\",VLOOKUP($R1498,TAXONOMY!$A$1:$G$959,3,FALSE))","v":""},{"$f":"IF(ISBLANK($R1498)=TRUE,\"\",VLOOKUP($R1498,TAXONOMY!$A$1:$H$959,2,FALSE))","v":""}]
[null,null,null,null,null,null,null,null,null,null,null,{"$f":"IF(ISBLANK($R1499)=TRUE,\"\",VLOOKUP($R1499,TAXONOMY!$A$1:$G$959,7,FALSE))","v":""},{"$f":"IF(ISBLANK($R1499)=TRUE,\"\",VLOOKUP($R1499,TAXONOMY!$A$1:$G$959,6,FALSE))","v":""},{"$f":"IF(ISBLANK($R1499)=TRUE,\"\",VLOOKUP($R1499,TAXONOMY!$A$1:$G$959,5,FALSE))","v":""},{"$f":"IF(ISBLANK($R1499)=TRUE,\"\",VLOOKUP($R1499,TAXONOMY!$A$1:$G$959,4,FALSE))","v":""},{"$f":"IF(ISBLANK($R1499)=TRUE,\"\",VLOOKUP($R1499,TAXONOMY!$A$1:$G$959,3,FALSE))","v":""},{"$f":"IF(ISBLANK($R1499)=TRUE,\"\",VLOOKUP($R1499,TAXONOMY!$A$1:$H$959,2,FALSE))","v":""}]
[null,null,null,null,null,null,null,null,null,null,null,{"$f":"IF(ISBLANK($R1500)=TRUE,\"\",VLOOKUP($R1500,TAXONOMY!$A$1:$G$959,7,FALSE))","v":""},{"$f":"IF(ISBLANK($R1500)=TRUE,\"\",VLOOKUP($R1500,TAXONOMY!$A$1:$G$959,6,FALSE))","v":""},{"$f":"IF(ISBLANK($R1500)=TRUE,\"\",VLOOKUP($R1500,TAXONOMY!$A$1:$G$959,5,FALSE))","v":""},{"$f":"IF(ISBLANK($R1500)=TRUE,\"\",VLOOKUP($R1500,TAXONOMY!$A$1:$G$959,4,FALSE))","v":""},{"$f":"IF(ISBLANK($R1500)=TRUE,\"\",VLOOKUP($R1500,TAXONOMY!$A$1:$G$959,3,FALSE))","v":""},{"$f":"IF(ISBLANK($R1500)=TRUE,\"\",VLOOKUP($R1500,TAXONOMY!$A$1:$H$959,2,FALSE))","v":""}]
[null,null,null,null,null,null,null,null,null,null,null,{"$f":"IF(ISBLANK($R1501)=TRUE,\"\",VLOOKUP($R1501,TAXONOMY!$A$1:$G$959,7,FALSE))","v":""},{"$f":"IF(ISBLANK($R1501)=TRUE,\"\",VLOOKUP($R1501,TAXONOMY!$A$1:$G$959,6,FALSE))","v":""},{"$f":"IF(ISBLANK($R1501)=TRUE,\"\",VLOOKUP($R1501,TAXONOMY!$A$1:$G$959,5,FALSE))","v":""},{"$f":"IF(ISBLANK($R1501)=TRUE,\"\",VLOOKUP($R1501,TAXONOMY!$A$1:$G$959,4,FALSE))","v":""},{"$f":"IF(ISBLANK($R1501)=TRUE,\"\",VLOOKUP($R1501,TAXONOMY!$A$1:$G$959,3,FALSE))","v":""},{"$f":"IF(ISBLANK($R1501)=TRUE,\"\",VLOOKUP($R1501,TAXONOMY!$A$1:$H$959,2,FALSE))","v":""}]
[null,null,null,null,null,null,null,null,null,null,null,{"$f":"IF(ISBLANK($R1502)=TRUE,\"\",VLOOKUP($R1502,TAXONOMY!$A$1:$G$959,7,FALSE))","v":""},{"$f":"IF(ISBLANK($R1502)=TRUE,\"\",VLOOKUP($R1502,TAXONOMY!$A$1:$G$959,6,FALSE))","v":""},{"$f":"IF(ISBLANK($R1502)=TRUE,\"\",VLOOKUP($R1502,TAXONOMY!$A$1:$G$959,5,FALSE))","v":""},{"$f":"IF(ISBLANK($R1502)=TRUE,\"\",VLOOKUP($R1502,TAXONOMY!$A$1:$G$959,4,FALSE))","v":""},{"$f":"IF(ISBLANK($R1502)=TRUE,\"\",VLOOKUP($R1502,TAXONOMY!$A$1:$G$959,3,FALSE))","v":""},{"$f":"IF(ISBLANK($R1502)=TRUE,\"\",VLOOKUP($R1502,TAXONOMY!$A$1:$H$959,2,FALSE))","v":""}]
[null,null,null,null,null,null,null,null,null,null,null,{"$f":"IF(ISBLANK($R1503)=TRUE,\"\",VLOOKUP($R1503,TAXONOMY!$A$1:$G$959,7,FALSE))","v":""},{"$f":"IF(ISBLANK($R1503)=TRUE,\"\",VLOOKUP($R1503,TAXONOMY!$A$1:$G$959,6,FALSE))","v":""},{"$f":"IF(ISBLANK($R1503)=TRUE,\"\",VLOOKUP($R1503,TAXONOMY!$A$1:$G$959,5,FALSE))","v":""},{"$f":"IF(ISBLANK($R1503)=TRUE,\"\",VLOOKUP($R1503,TAXONOMY!$A$1:$G$959,4,FALSE))","v":""},{"$f":"IF(ISBLANK($R1503)=TRUE,\"\",VLOOKUP($R1503,TAXONOMY!$A$1:$G$959,3,FALSE))","v":""},{"$f":"IF(ISBLANK($R1503)=TRUE,\"\",VLOOKUP($R1503,TAXONOMY!$A$1:$H$959,2,FALSE))","v":""}]
[null,null,null,null,null,null,null,null,null,null,null,{"$f":"IF(ISBLANK($R1504)=TRUE,\"\",VLOOKUP($R1504,TAXONOMY!$A$1:$G$959,7,FALSE))","v":""},{"$f":"IF(ISBLANK($R1504)=TRUE,\"\",VLOOKUP($R1504,TAXONOMY!$A$1:$G$959,6,FALSE))","v":""},{"$f":"IF(ISBLANK($R1504)=TRUE,\"\",VLOOKUP($R1504,TAXONOMY!$A$1:$G$959,5,FALSE))","v":""},{"$f":"IF(ISBLANK($R1504)=TRUE,\"\",VLOOKUP($R1504,TAXONOMY!$A$1:$G$959,4,FALSE))","v":""},{"$f":"IF(ISBLANK($R1504)=TRUE,\"\",VLOOKUP($R1504,TAXONOMY!$A$1:$G$959,3,FALSE))","v":""},{"$f":"IF(ISBLANK($R1504)=TRUE,\"\",VLOOKUP($R1504,TAXONOMY!$A$1:$H$959,2,FALSE))","v":""}]
[null,null,null,null,null,null,null,null,null,null,null,{"$f":"IF(ISBLANK($R1505)=TRUE,\"\",VLOOKUP($R1505,TAXONOMY!$A$1:$G$959,7,FALSE))","v":""},{"$f":"IF(ISBLANK($R1505)=TRUE,\"\",VLOOKUP($R1505,TAXONOMY!$A$1:$G$959,6,FALSE))","v":""},{"$f":"IF(ISBLANK($R1505)=TRUE,\"\",VLOOKUP($R1505,TAXONOMY!$A$1:$G$959,5,FALSE))","v":""},{"$f":"IF(ISBLANK($R1505)=TRUE,\"\",VLOOKUP($R1505,TAXONOMY!$A$1:$G$959,4,FALSE))","v":""},{"$f":"IF(ISBLANK($R1505)=TRUE,\"\",VLOOKUP($R1505,TAXONOMY!$A$1:$G$959,3,FALSE))","v":""},{"$f":"IF(ISBLANK($R1505)=TRUE,\"\",VLOOKUP($R1505,TAXONOMY!$A$1:$H$959,2,FALSE))","v":""}]
[null,null,null,null,null,null,null,null,null,null,null,{"$f":"IF(ISBLANK($R1506)=TRUE,\"\",VLOOKUP($R1506,TAXONOMY!$A$1:$G$959,7,FALSE))","v":""},{"$f":"IF(ISBLANK($R1506)=TRUE,\"\",VLOOKUP($R1506,TAXONOMY!$A$1:$G$959,6,FALSE))","v":""},{"$f":"IF(ISBLANK($R1506)=TRUE,\"\",VLOOKUP($R1506,TAXONOMY!$A$1:$G$959,5,FALSE))","v":""},{"$f":"IF(ISBLANK($R1506)=TRUE,\"\",VLOOKUP($R1506,TAXONOMY!$A$1:$G$959,4,FALSE))","v":""},{"$f":"IF(ISBLANK($R1506)=TRUE,\"\",VLOOKUP($R1506,TAXONOMY!$A$1:$G$959,3,FALSE))","v":""},{"$f":"IF(ISBLANK($R1506)=TRUE,\"\",VLOOKUP($R1506,TAXONOMY!$A$1:$H$959,2,FALSE))","v":""}]
[null,null,null,null,null,null,null,null,null,null,null,{"$f":"IF(ISBLANK($R1507)=TRUE,\"\",VLOOKUP($R1507,TAXONOMY!$A$1:$G$959,7,FALSE))","v":""},{"$f":"IF(ISBLANK($R1507)=TRUE,\"\",VLOOKUP($R1507,TAXONOMY!$A$1:$G$959,6,FALSE))","v":""},{"$f":"IF(ISBLANK($R1507)=TRUE,\"\",VLOOKUP($R1507,TAXONOMY!$A$1:$G$959,5,FALSE))","v":""},{"$f":"IF(ISBLANK($R1507)=TRUE,\"\",VLOOKUP($R1507,TAXONOMY!$A$1:$G$959,4,FALSE))","v":""},{"$f":"IF(ISBLANK($R1507)=TRUE,\"\",VLOOKUP($R1507,TAXONOMY!$A$1:$G$959,3,FALSE))","v":""},{"$f":"IF(ISBLANK($R1507)=TRUE,\"\",VLOOKUP($R1507,TAXONOMY!$A$1:$H$959,2,FALSE))","v":""}]
[null,null,null,null,null,null,null,null,null,null,null,{"$f":"IF(ISBLANK($R1508)=TRUE,\"\",VLOOKUP($R1508,TAXONOMY!$A$1:$G$959,7,FALSE))","v":""},{"$f":"IF(ISBLANK($R1508)=TRUE,\"\",VLOOKUP($R1508,TAXONOMY!$A$1:$G$959,6,FALSE))","v":""},{"$f":"IF(ISBLANK($R1508)=TRUE,\"\",VLOOKUP($R1508,TAXONOMY!$A$1:$G$959,5,FALSE))","v":""},{"$f":"IF(ISBLANK($R1508)=TRUE,\"\",VLOOKUP($R1508,TAXONOMY!$A$1:$G$959,4,FALSE))","v":""},{"$f":"IF(ISBLANK($R1508)=TRUE,\"\",VLOOKUP($R1508,TAXONOMY!$A$1:$G$959,3,FALSE))","v":""},{"$f":"IF(ISBLANK($R1508)=TRUE,\"\",VLOOKUP($R1508,TAXONOMY!$A$1:$H$959,2,FALSE))","v":""}]
[null,null,null,null,null,null,null,null,null,null,null,{"$f":"IF(ISBLANK($R1509)=TRUE,\"\",VLOOKUP($R1509,TAXONOMY!$A$1:$G$959,7,FALSE))","v":""},{"$f":"IF(ISBLANK($R1509)=TRUE,\"\",VLOOKUP($R1509,TAXONOMY!$A$1:$G$959,6,FALSE))","v":""},{"$f":"IF(ISBLANK($R1509)=TRUE,\"\",VLOOKUP($R1509,TAXONOMY!$A$1:$G$959,5,FALSE))","v":""},{"$f":"IF(ISBLANK($R1509)=TRUE,\"\",VLOOKUP($R1509,TAXONOMY!$A$1:$G$959,4,FALSE))","v":""},{"$f":"IF(ISBLANK($R1509)=TRUE,\"\",VLOOKUP($R1509,TAXONOMY!$A$1:$G$959,3,FALSE))","v":""},{"$f":"IF(ISBLANK($R1509)=TRUE,\"\",VLOOKUP($R1509,TAXONOMY!$A$1:$H$959,2,FALSE))","v":""}]
[null,null,null,null,null,null,null,null,null,null,null,{"$f":"IF(ISBLANK($R1510)=TRUE,\"\",VLOOKUP($R1510,TAXONOMY!$A$1:$G$959,7,FALSE))","v":""},{"$f":"IF(ISBLANK($R1510)=TRUE,\"\",VLOOKUP($R1510,TAXONOMY!$A$1:$G$959,6,FALSE))","v":""},{"$f":"IF(ISBLANK($R1510)=TRUE,\"\",VLOOKUP($R1510,TAXONOMY!$A$1:$G$959,5,FALSE))","v":""},{"$f":"IF(ISBLANK($R1510)=TRUE,\"\",VLOOKUP($R1510,TAXONOMY!$A$1:$G$959,4,FALSE))","v":""},{"$f":"IF(ISBLANK($R1510)=TRUE,\"\",VLOOKUP($R1510,TAXONOMY!$A$1:$G$959,3,FALSE))","v":""},{"$f":"IF(ISBLANK($R1510)=TRUE,\"\",VLOOKUP($R1510,TAXONOMY!$A$1:$H$959,2,FALSE))","v":""}]
[null,null,null,null,null,null,null,null,null,null,null,{"$f":"IF(ISBLANK($R1511)=TRUE,\"\",VLOOKUP($R1511,TAXONOMY!$A$1:$G$959,7,FALSE))","v":""},{"$f":"IF(ISBLANK($R1511)=TRUE,\"\",VLOOKUP($R1511,TAXONOMY!$A$1:$G$959,6,FALSE))","v":""},{"$f":"IF(ISBLANK($R1511)=TRUE,\"\",VLOOKUP($R1511,TAXONOMY!$A$1:$G$959,5,FALSE))","v":""},{"$f":"IF(ISBLANK($R1511)=TRUE,\"\",VLOOKUP($R1511,TAXONOMY!$A$1:$G$959,4,FALSE))","v":""},{"$f":"IF(ISBLANK($R1511)=TRUE,\"\",VLOOKUP($R1511,TAXONOMY!$A$1:$G$959,3,FALSE))","v":""},{"$f":"IF(ISBLANK($R1511)=TRUE,\"\",VLOOKUP($R1511,TAXONOMY!$A$1:$H$959,2,FALSE))","v":""}]
[null,null,null,null,null,null,null,null,null,null,null,{"$f":"IF(ISBLANK($R1512)=TRUE,\"\",VLOOKUP($R1512,TAXONOMY!$A$1:$G$959,7,FALSE))","v":""},{"$f":"IF(ISBLANK($R1512)=TRUE,\"\",VLOOKUP($R1512,TAXONOMY!$A$1:$G$959,6,FALSE))","v":""},{"$f":"IF(ISBLANK($R1512)=TRUE,\"\",VLOOKUP($R1512,TAXONOMY!$A$1:$G$959,5,FALSE))","v":""},{"$f":"IF(ISBLANK($R1512)=TRUE,\"\",VLOOKUP($R1512,TAXONOMY!$A$1:$G$959,4,FALSE))","v":""},{"$f":"IF(ISBLANK($R1512)=TRUE,\"\",VLOOKUP($R1512,TAXONOMY!$A$1:$G$959,3,FALSE))","v":""},{"$f":"IF(ISBLANK($R1512)=TRUE,\"\",VLOOKUP($R1512,TAXONOMY!$A$1:$H$959,2,FALSE))","v":""}]
[null,null,null,null,null,null,null,null,null,null,null,{"$f":"IF(ISBLANK($R1513)=TRUE,\"\",VLOOKUP($R1513,TAXONOMY!$A$1:$G$959,7,FALSE))","v":""},{"$f":"IF(ISBLANK($R1513)=TRUE,\"\",VLOOKUP($R1513,TAXONOMY!$A$1:$G$959,6,FALSE))","v":""},{"$f":"IF(ISBLANK($R1513)=TRUE,\"\",VLOOKUP($R1513,TAXONOMY!$A$1:$G$959,5,FALSE))","v":""},{"$f":"IF(ISBLANK($R1513)=TRUE,\"\",VLOOKUP($R1513,TAXONOMY!$A$1:$G$959,4,FALSE))","v":""},{"$f":"IF(ISBLANK($R1513)=TRUE,\"\",VLOOKUP($R1513,TAXONOMY!$A$1:$G$959,3,FALSE))","v":""},{"$f":"IF(ISBLANK($R1513)=TRUE,\"\",VLOOKUP($R1513,TAXONOMY!$A$1:$H$959,2,FALSE))","v":""}]
[null,null,null,null,null,null,null,null,null,null,null,{"$f":"IF(ISBLANK($R1514)=TRUE,\"\",VLOOKUP($R1514,TAXONOMY!$A$1:$G$959,7,FALSE))","v":""},{"$f":"IF(ISBLANK($R1514)=TRUE,\"\",VLOOKUP($R1514,TAXONOMY!$A$1:$G$959,6,FALSE))","v":""},{"$f":"IF(ISBLANK($R1514)=TRUE,\"\",VLOOKUP($R1514,TAXONOMY!$A$1:$G$959,5,FALSE))","v":""},{"$f":"IF(ISBLANK($R1514)=TRUE,\"\",VLOOKUP($R1514,TAXONOMY!$A$1:$G$959,4,FALSE))","v":""},{"$f":"IF(ISBLANK($R1514)=TRUE,\"\",VLOOKUP($R1514,TAXONOMY!$A$1:$G$959,3,FALSE))","v":""},{"$f":"IF(ISBLANK($R1514)=TRUE,\"\",VLOOKUP($R1514,TAXONOMY!$A$1:$H$959,2,FALSE))","v":""}]
[null,null,null,null,null,null,null,null,null,null,null,{"$f":"IF(ISBLANK($R1515)=TRUE,\"\",VLOOKUP($R1515,TAXONOMY!$A$1:$G$959,7,FALSE))","v":""},{"$f":"IF(ISBLANK($R1515)=TRUE,\"\",VLOOKUP($R1515,TAXONOMY!$A$1:$G$959,6,FALSE))","v":""},{"$f":"IF(ISBLANK($R1515)=TRUE,\"\",VLOOKUP($R1515,TAXONOMY!$A$1:$G$959,5,FALSE))","v":""},{"$f":"IF(ISBLANK($R1515)=TRUE,\"\",VLOOKUP($R1515,TAXONOMY!$A$1:$G$959,4,FALSE))","v":""},{"$f":"IF(ISBLANK($R1515)=TRUE,\"\",VLOOKUP($R1515,TAXONOMY!$A$1:$G$959,3,FALSE))","v":""},{"$f":"IF(ISBLANK($R1515)=TRUE,\"\",VLOOKUP($R1515,TAXONOMY!$A$1:$H$959,2,FALSE))","v":""}]
[null,null,null,null,null,null,null,null,null,null,null,{"$f":"IF(ISBLANK($R1516)=TRUE,\"\",VLOOKUP($R1516,TAXONOMY!$A$1:$G$959,7,FALSE))","v":""},{"$f":"IF(ISBLANK($R1516)=TRUE,\"\",VLOOKUP($R1516,TAXONOMY!$A$1:$G$959,6,FALSE))","v":""},{"$f":"IF(ISBLANK($R1516)=TRUE,\"\",VLOOKUP($R1516,TAXONOMY!$A$1:$G$959,5,FALSE))","v":""},{"$f":"IF(ISBLANK($R1516)=TRUE,\"\",VLOOKUP($R1516,TAXONOMY!$A$1:$G$959,4,FALSE))","v":""},{"$f":"IF(ISBLANK($R1516)=TRUE,\"\",VLOOKUP($R1516,TAXONOMY!$A$1:$G$959,3,FALSE))","v":""},{"$f":"IF(ISBLANK($R1516)=TRUE,\"\",VLOOKUP($R1516,TAXONOMY!$A$1:$H$959,2,FALSE))","v":""}]
[null,null,null,null,null,null,null,null,null,null,null,{"$f":"IF(ISBLANK($R1517)=TRUE,\"\",VLOOKUP($R1517,TAXONOMY!$A$1:$G$959,7,FALSE))","v":""},{"$f":"IF(ISBLANK($R1517)=TRUE,\"\",VLOOKUP($R1517,TAXONOMY!$A$1:$G$959,6,FALSE))","v":""},{"$f":"IF(ISBLANK($R1517)=TRUE,\"\",VLOOKUP($R1517,TAXONOMY!$A$1:$G$959,5,FALSE))","v":""},{"$f":"IF(ISBLANK($R1517)=TRUE,\"\",VLOOKUP($R1517,TAXONOMY!$A$1:$G$959,4,FALSE))","v":""},{"$f":"IF(ISBLANK($R1517)=TRUE,\"\",VLOOKUP($R1517,TAXONOMY!$A$1:$G$959,3,FALSE))","v":""},{"$f":"IF(ISBLANK($R1517)=TRUE,\"\",VLOOKUP($R1517,TAXONOMY!$A$1:$H$959,2,FALSE))","v":""}]
[null,null,null,null,null,null,null,null,null,null,null,{"$f":"IF(ISBLANK($R1518)=TRUE,\"\",VLOOKUP($R1518,TAXONOMY!$A$1:$G$959,7,FALSE))","v":""},{"$f":"IF(ISBLANK($R1518)=TRUE,\"\",VLOOKUP($R1518,TAXONOMY!$A$1:$G$959,6,FALSE))","v":""},{"$f":"IF(ISBLANK($R1518)=TRUE,\"\",VLOOKUP($R1518,TAXONOMY!$A$1:$G$959,5,FALSE))","v":""},{"$f":"IF(ISBLANK($R1518)=TRUE,\"\",VLOOKUP($R1518,TAXONOMY!$A$1:$G$959,4,FALSE))","v":""},{"$f":"IF(ISBLANK($R1518)=TRUE,\"\",VLOOKUP($R1518,TAXONOMY!$A$1:$G$959,3,FALSE))","v":""},{"$f":"IF(ISBLANK($R1518)=TRUE,\"\",VLOOKUP($R1518,TAXONOMY!$A$1:$H$959,2,FALSE))","v":""}]
[null,null,null,null,null,null,null,null,null,null,null,{"$f":"IF(ISBLANK($R1519)=TRUE,\"\",VLOOKUP($R1519,TAXONOMY!$A$1:$G$959,7,FALSE))","v":""},{"$f":"IF(ISBLANK($R1519)=TRUE,\"\",VLOOKUP($R1519,TAXONOMY!$A$1:$G$959,6,FALSE))","v":""},{"$f":"IF(ISBLANK($R1519)=TRUE,\"\",VLOOKUP($R1519,TAXONOMY!$A$1:$G$959,5,FALSE))","v":""},{"$f":"IF(ISBLANK($R1519)=TRUE,\"\",VLOOKUP($R1519,TAXONOMY!$A$1:$G$959,4,FALSE))","v":""},{"$f":"IF(ISBLANK($R1519)=TRUE,\"\",VLOOKUP($R1519,TAXONOMY!$A$1:$G$959,3,FALSE))","v":""},{"$f":"IF(ISBLANK($R1519)=TRUE,\"\",VLOOKUP($R1519,TAXONOMY!$A$1:$H$959,2,FALSE))","v":""}]
[null,null,null,null,null,null,null,null,null,null,null,{"$f":"IF(ISBLANK($R1520)=TRUE,\"\",VLOOKUP($R1520,TAXONOMY!$A$1:$G$959,7,FALSE))","v":""},{"$f":"IF(ISBLANK($R1520)=TRUE,\"\",VLOOKUP($R1520,TAXONOMY!$A$1:$G$959,6,FALSE))","v":""},{"$f":"IF(ISBLANK($R1520)=TRUE,\"\",VLOOKUP($R1520,TAXONOMY!$A$1:$G$959,5,FALSE))","v":""},{"$f":"IF(ISBLANK($R1520)=TRUE,\"\",VLOOKUP($R1520,TAXONOMY!$A$1:$G$959,4,FALSE))","v":""},{"$f":"IF(ISBLANK($R1520)=TRUE,\"\",VLOOKUP($R1520,TAXONOMY!$A$1:$G$959,3,FALSE))","v":""},{"$f":"IF(ISBLANK($R1520)=TRUE,\"\",VLOOKUP($R1520,TAXONOMY!$A$1:$H$959,2,FALSE))","v":""}]
[null,null,null,null,null,null,null,null,null,null,null,{"$f":"IF(ISBLANK($R1521)=TRUE,\"\",VLOOKUP($R1521,TAXONOMY!$A$1:$G$959,7,FALSE))","v":""},{"$f":"IF(ISBLANK($R1521)=TRUE,\"\",VLOOKUP($R1521,TAXONOMY!$A$1:$G$959,6,FALSE))","v":""},{"$f":"IF(ISBLANK($R1521)=TRUE,\"\",VLOOKUP($R1521,TAXONOMY!$A$1:$G$959,5,FALSE))","v":""},{"$f":"IF(ISBLANK($R1521)=TRUE,\"\",VLOOKUP($R1521,TAXONOMY!$A$1:$G$959,4,FALSE))","v":""},{"$f":"IF(ISBLANK($R1521)=TRUE,\"\",VLOOKUP($R1521,TAXONOMY!$A$1:$G$959,3,FALSE))","v":""},{"$f":"IF(ISBLANK($R1521)=TRUE,\"\",VLOOKUP($R1521,TAXONOMY!$A$1:$H$959,2,FALSE))","v":""}]
[null,null,null,null,null,null,null,null,null,null,null,{"$f":"IF(ISBLANK($R1522)=TRUE,\"\",VLOOKUP($R1522,TAXONOMY!$A$1:$G$959,7,FALSE))","v":""},{"$f":"IF(ISBLANK($R1522)=TRUE,\"\",VLOOKUP($R1522,TAXONOMY!$A$1:$G$959,6,FALSE))","v":""},{"$f":"IF(ISBLANK($R1522)=TRUE,\"\",VLOOKUP($R1522,TAXONOMY!$A$1:$G$959,5,FALSE))","v":""},{"$f":"IF(ISBLANK($R1522)=TRUE,\"\",VLOOKUP($R1522,TAXONOMY!$A$1:$G$959,4,FALSE))","v":""},{"$f":"IF(ISBLANK($R1522)=TRUE,\"\",VLOOKUP($R1522,TAXONOMY!$A$1:$G$959,3,FALSE))","v":""},{"$f":"IF(ISBLANK($R1522)=TRUE,\"\",VLOOKUP($R1522,TAXONOMY!$A$1:$H$959,2,FALSE))","v":""}]
[null,null,null,null,null,null,null,null,null,null,null,{"$f":"IF(ISBLANK($R1523)=TRUE,\"\",VLOOKUP($R1523,TAXONOMY!$A$1:$G$959,7,FALSE))","v":""},{"$f":"IF(ISBLANK($R1523)=TRUE,\"\",VLOOKUP($R1523,TAXONOMY!$A$1:$G$959,6,FALSE))","v":""},{"$f":"IF(ISBLANK($R1523)=TRUE,\"\",VLOOKUP($R1523,TAXONOMY!$A$1:$G$959,5,FALSE))","v":""},{"$f":"IF(ISBLANK($R1523)=TRUE,\"\",VLOOKUP($R1523,TAXONOMY!$A$1:$G$959,4,FALSE))","v":""},{"$f":"IF(ISBLANK($R1523)=TRUE,\"\",VLOOKUP($R1523,TAXONOMY!$A$1:$G$959,3,FALSE))","v":""},{"$f":"IF(ISBLANK($R1523)=TRUE,\"\",VLOOKUP($R1523,TAXONOMY!$A$1:$H$959,2,FALSE))","v":""}]
[null,null,null,null,null,null,null,null,null,null,null,{"$f":"IF(ISBLANK($R1524)=TRUE,\"\",VLOOKUP($R1524,TAXONOMY!$A$1:$G$959,7,FALSE))","v":""},{"$f":"IF(ISBLANK($R1524)=TRUE,\"\",VLOOKUP($R1524,TAXONOMY!$A$1:$G$959,6,FALSE))","v":""},{"$f":"IF(ISBLANK($R1524)=TRUE,\"\",VLOOKUP($R1524,TAXONOMY!$A$1:$G$959,5,FALSE))","v":""},{"$f":"IF(ISBLANK($R1524)=TRUE,\"\",VLOOKUP($R1524,TAXONOMY!$A$1:$G$959,4,FALSE))","v":""},{"$f":"IF(ISBLANK($R1524)=TRUE,\"\",VLOOKUP($R1524,TAXONOMY!$A$1:$G$959,3,FALSE))","v":""},{"$f":"IF(ISBLANK($R1524)=TRUE,\"\",VLOOKUP($R1524,TAXONOMY!$A$1:$H$959,2,FALSE))","v":""}]
[null,null,null,null,null,null,null,null,null,null,null,{"$f":"IF(ISBLANK($R1525)=TRUE,\"\",VLOOKUP($R1525,TAXONOMY!$A$1:$G$959,7,FALSE))","v":""},{"$f":"IF(ISBLANK($R1525)=TRUE,\"\",VLOOKUP($R1525,TAXONOMY!$A$1:$G$959,6,FALSE))","v":""},{"$f":"IF(ISBLANK($R1525)=TRUE,\"\",VLOOKUP($R1525,TAXONOMY!$A$1:$G$959,5,FALSE))","v":""},{"$f":"IF(ISBLANK($R1525)=TRUE,\"\",VLOOKUP($R1525,TAXONOMY!$A$1:$G$959,4,FALSE))","v":""},{"$f":"IF(ISBLANK($R1525)=TRUE,\"\",VLOOKUP($R1525,TAXONOMY!$A$1:$G$959,3,FALSE))","v":""},{"$f":"IF(ISBLANK($R1525)=TRUE,\"\",VLOOKUP($R1525,TAXONOMY!$A$1:$H$959,2,FALSE))","v":""}]
[null,null,null,null,null,null,null,null,null,null,null,{"$f":"IF(ISBLANK($R1526)=TRUE,\"\",VLOOKUP($R1526,TAXONOMY!$A$1:$G$959,7,FALSE))","v":""},{"$f":"IF(ISBLANK($R1526)=TRUE,\"\",VLOOKUP($R1526,TAXONOMY!$A$1:$G$959,6,FALSE))","v":""},{"$f":"IF(ISBLANK($R1526)=TRUE,\"\",VLOOKUP($R1526,TAXONOMY!$A$1:$G$959,5,FALSE))","v":""},{"$f":"IF(ISBLANK($R1526)=TRUE,\"\",VLOOKUP($R1526,TAXONOMY!$A$1:$G$959,4,FALSE))","v":""},{"$f":"IF(ISBLANK($R1526)=TRUE,\"\",VLOOKUP($R1526,TAXONOMY!$A$1:$G$959,3,FALSE))","v":""},{"$f":"IF(ISBLANK($R1526)=TRUE,\"\",VLOOKUP($R1526,TAXONOMY!$A$1:$H$959,2,FALSE))","v":""}]
[null,null,null,null,null,null,null,null,null,null,null,{"$f":"IF(ISBLANK($R1527)=TRUE,\"\",VLOOKUP($R1527,TAXONOMY!$A$1:$G$959,7,FALSE))","v":""},{"$f":"IF(ISBLANK($R1527)=TRUE,\"\",VLOOKUP($R1527,TAXONOMY!$A$1:$G$959,6,FALSE))","v":""},{"$f":"IF(ISBLANK($R1527)=TRUE,\"\",VLOOKUP($R1527,TAXONOMY!$A$1:$G$959,5,FALSE))","v":""},{"$f":"IF(ISBLANK($R1527)=TRUE,\"\",VLOOKUP($R1527,TAXONOMY!$A$1:$G$959,4,FALSE))","v":""},{"$f":"IF(ISBLANK($R1527)=TRUE,\"\",VLOOKUP($R1527,TAXONOMY!$A$1:$G$959,3,FALSE))","v":""},{"$f":"IF(ISBLANK($R1527)=TRUE,\"\",VLOOKUP($R1527,TAXONOMY!$A$1:$H$959,2,FALSE))","v":""}]
[null,null,null,null,null,null,null,null,null,null,null,{"$f":"IF(ISBLANK($R1528)=TRUE,\"\",VLOOKUP($R1528,TAXONOMY!$A$1:$G$959,7,FALSE))","v":""},{"$f":"IF(ISBLANK($R1528)=TRUE,\"\",VLOOKUP($R1528,TAXONOMY!$A$1:$G$959,6,FALSE))","v":""},{"$f":"IF(ISBLANK($R1528)=TRUE,\"\",VLOOKUP($R1528,TAXONOMY!$A$1:$G$959,5,FALSE))","v":""},{"$f":"IF(ISBLANK($R1528)=TRUE,\"\",VLOOKUP($R1528,TAXONOMY!$A$1:$G$959,4,FALSE))","v":""},{"$f":"IF(ISBLANK($R1528)=TRUE,\"\",VLOOKUP($R1528,TAXONOMY!$A$1:$G$959,3,FALSE))","v":""},{"$f":"IF(ISBLANK($R1528)=TRUE,\"\",VLOOKUP($R1528,TAXONOMY!$A$1:$H$959,2,FALSE))","v":""}]
[null,null,null,null,null,null,null,null,null,null,null,{"$f":"IF(ISBLANK($R1529)=TRUE,\"\",VLOOKUP($R1529,TAXONOMY!$A$1:$G$959,7,FALSE))","v":""},{"$f":"IF(ISBLANK($R1529)=TRUE,\"\",VLOOKUP($R1529,TAXONOMY!$A$1:$G$959,6,FALSE))","v":""},{"$f":"IF(ISBLANK($R1529)=TRUE,\"\",VLOOKUP($R1529,TAXONOMY!$A$1:$G$959,5,FALSE))","v":""},{"$f":"IF(ISBLANK($R1529)=TRUE,\"\",VLOOKUP($R1529,TAXONOMY!$A$1:$G$959,4,FALSE))","v":""},{"$f":"IF(ISBLANK($R1529)=TRUE,\"\",VLOOKUP($R1529,TAXONOMY!$A$1:$G$959,3,FALSE))","v":""},{"$f":"IF(ISBLANK($R1529)=TRUE,\"\",VLOOKUP($R1529,TAXONOMY!$A$1:$H$959,2,FALSE))","v":""}]
[null,null,null,null,null,null,null,null,null,null,null,{"$f":"IF(ISBLANK($R1530)=TRUE,\"\",VLOOKUP($R1530,TAXONOMY!$A$1:$G$959,7,FALSE))","v":""},{"$f":"IF(ISBLANK($R1530)=TRUE,\"\",VLOOKUP($R1530,TAXONOMY!$A$1:$G$959,6,FALSE))","v":""},{"$f":"IF(ISBLANK($R1530)=TRUE,\"\",VLOOKUP($R1530,TAXONOMY!$A$1:$G$959,5,FALSE))","v":""},{"$f":"IF(ISBLANK($R1530)=TRUE,\"\",VLOOKUP($R1530,TAXONOMY!$A$1:$G$959,4,FALSE))","v":""},{"$f":"IF(ISBLANK($R1530)=TRUE,\"\",VLOOKUP($R1530,TAXONOMY!$A$1:$G$959,3,FALSE))","v":""},{"$f":"IF(ISBLANK($R1530)=TRUE,\"\",VLOOKUP($R1530,TAXONOMY!$A$1:$H$959,2,FALSE))","v":""}]
[null,null,null,null,null,null,null,null,null,null,null,{"$f":"IF(ISBLANK($R1531)=TRUE,\"\",VLOOKUP($R1531,TAXONOMY!$A$1:$G$959,7,FALSE))","v":""},{"$f":"IF(ISBLANK($R1531)=TRUE,\"\",VLOOKUP($R1531,TAXONOMY!$A$1:$G$959,6,FALSE))","v":""},{"$f":"IF(ISBLANK($R1531)=TRUE,\"\",VLOOKUP($R1531,TAXONOMY!$A$1:$G$959,5,FALSE))","v":""},{"$f":"IF(ISBLANK($R1531)=TRUE,\"\",VLOOKUP($R1531,TAXONOMY!$A$1:$G$959,4,FALSE))","v":""},{"$f":"IF(ISBLANK($R1531)=TRUE,\"\",VLOOKUP($R1531,TAXONOMY!$A$1:$G$959,3,FALSE))","v":""},{"$f":"IF(ISBLANK($R1531)=TRUE,\"\",VLOOKUP($R1531,TAXONOMY!$A$1:$H$959,2,FALSE))","v":""}]
[null,null,null,null,null,null,null,null,null,null,null,{"$f":"IF(ISBLANK($R1532)=TRUE,\"\",VLOOKUP($R1532,TAXONOMY!$A$1:$G$959,7,FALSE))","v":""},{"$f":"IF(ISBLANK($R1532)=TRUE,\"\",VLOOKUP($R1532,TAXONOMY!$A$1:$G$959,6,FALSE))","v":""},{"$f":"IF(ISBLANK($R1532)=TRUE,\"\",VLOOKUP($R1532,TAXONOMY!$A$1:$G$959,5,FALSE))","v":""},{"$f":"IF(ISBLANK($R1532)=TRUE,\"\",VLOOKUP($R1532,TAXONOMY!$A$1:$G$959,4,FALSE))","v":""},{"$f":"IF(ISBLANK($R1532)=TRUE,\"\",VLOOKUP($R1532,TAXONOMY!$A$1:$G$959,3,FALSE))","v":""},{"$f":"IF(ISBLANK($R1532)=TRUE,\"\",VLOOKUP($R1532,TAXONOMY!$A$1:$H$959,2,FALSE))","v":""}]
[null,null,null,null,null,null,null,null,null,null,null,{"$f":"IF(ISBLANK($R1533)=TRUE,\"\",VLOOKUP($R1533,TAXONOMY!$A$1:$G$959,7,FALSE))","v":""},{"$f":"IF(ISBLANK($R1533)=TRUE,\"\",VLOOKUP($R1533,TAXONOMY!$A$1:$G$959,6,FALSE))","v":""},{"$f":"IF(ISBLANK($R1533)=TRUE,\"\",VLOOKUP($R1533,TAXONOMY!$A$1:$G$959,5,FALSE))","v":""},{"$f":"IF(ISBLANK($R1533)=TRUE,\"\",VLOOKUP($R1533,TAXONOMY!$A$1:$G$959,4,FALSE))","v":""},{"$f":"IF(ISBLANK($R1533)=TRUE,\"\",VLOOKUP($R1533,TAXONOMY!$A$1:$G$959,3,FALSE))","v":""},{"$f":"IF(ISBLANK($R1533)=TRUE,\"\",VLOOKUP($R1533,TAXONOMY!$A$1:$H$959,2,FALSE))","v":""}]
[null,null,null,null,null,null,null,null,null,null,null,{"$f":"IF(ISBLANK($R1534)=TRUE,\"\",VLOOKUP($R1534,TAXONOMY!$A$1:$G$959,7,FALSE))","v":""},{"$f":"IF(ISBLANK($R1534)=TRUE,\"\",VLOOKUP($R1534,TAXONOMY!$A$1:$G$959,6,FALSE))","v":""},{"$f":"IF(ISBLANK($R1534)=TRUE,\"\",VLOOKUP($R1534,TAXONOMY!$A$1:$G$959,5,FALSE))","v":""},{"$f":"IF(ISBLANK($R1534)=TRUE,\"\",VLOOKUP($R1534,TAXONOMY!$A$1:$G$959,4,FALSE))","v":""},{"$f":"IF(ISBLANK($R1534)=TRUE,\"\",VLOOKUP($R1534,TAXONOMY!$A$1:$G$959,3,FALSE))","v":""},{"$f":"IF(ISBLANK($R1534)=TRUE,\"\",VLOOKUP($R1534,TAXONOMY!$A$1:$H$959,2,FALSE))","v":""}]
[null,null,null,null,null,null,null,null,null,null,null,{"$f":"IF(ISBLANK($R1535)=TRUE,\"\",VLOOKUP($R1535,TAXONOMY!$A$1:$G$959,7,FALSE))","v":""},{"$f":"IF(ISBLANK($R1535)=TRUE,\"\",VLOOKUP($R1535,TAXONOMY!$A$1:$G$959,6,FALSE))","v":""},{"$f":"IF(ISBLANK($R1535)=TRUE,\"\",VLOOKUP($R1535,TAXONOMY!$A$1:$G$959,5,FALSE))","v":""},{"$f":"IF(ISBLANK($R1535)=TRUE,\"\",VLOOKUP($R1535,TAXONOMY!$A$1:$G$959,4,FALSE))","v":""},{"$f":"IF(ISBLANK($R1535)=TRUE,\"\",VLOOKUP($R1535,TAXONOMY!$A$1:$G$959,3,FALSE))","v":""},{"$f":"IF(ISBLANK($R1535)=TRUE,\"\",VLOOKUP($R1535,TAXONOMY!$A$1:$H$959,2,FALSE))","v":""}]
[null,null,null,null,null,null,null,null,null,null,null,{"$f":"IF(ISBLANK($R1536)=TRUE,\"\",VLOOKUP($R1536,TAXONOMY!$A$1:$G$959,7,FALSE))","v":""},{"$f":"IF(ISBLANK($R1536)=TRUE,\"\",VLOOKUP($R1536,TAXONOMY!$A$1:$G$959,6,FALSE))","v":""},{"$f":"IF(ISBLANK($R1536)=TRUE,\"\",VLOOKUP($R1536,TAXONOMY!$A$1:$G$959,5,FALSE))","v":""},{"$f":"IF(ISBLANK($R1536)=TRUE,\"\",VLOOKUP($R1536,TAXONOMY!$A$1:$G$959,4,FALSE))","v":""},{"$f":"IF(ISBLANK($R1536)=TRUE,\"\",VLOOKUP($R1536,TAXONOMY!$A$1:$G$959,3,FALSE))","v":""},{"$f":"IF(ISBLANK($R1536)=TRUE,\"\",VLOOKUP($R1536,TAXONOMY!$A$1:$H$959,2,FALSE))","v":""}]
[null,null,null,null,null,null,null,null,null,null,null,{"$f":"IF(ISBLANK($R1537)=TRUE,\"\",VLOOKUP($R1537,TAXONOMY!$A$1:$G$959,7,FALSE))","v":""},{"$f":"IF(ISBLANK($R1537)=TRUE,\"\",VLOOKUP($R1537,TAXONOMY!$A$1:$G$959,6,FALSE))","v":""},{"$f":"IF(ISBLANK($R1537)=TRUE,\"\",VLOOKUP($R1537,TAXONOMY!$A$1:$G$959,5,FALSE))","v":""},{"$f":"IF(ISBLANK($R1537)=TRUE,\"\",VLOOKUP($R1537,TAXONOMY!$A$1:$G$959,4,FALSE))","v":""},{"$f":"IF(ISBLANK($R1537)=TRUE,\"\",VLOOKUP($R1537,TAXONOMY!$A$1:$G$959,3,FALSE))","v":""},{"$f":"IF(ISBLANK($R1537)=TRUE,\"\",VLOOKUP($R1537,TAXONOMY!$A$1:$H$959,2,FALSE))","v":""}]
[null,null,null,null,null,null,null,null,null,null,null,{"$f":"IF(ISBLANK($R1538)=TRUE,\"\",VLOOKUP($R1538,TAXONOMY!$A$1:$G$959,7,FALSE))","v":""},{"$f":"IF(ISBLANK($R1538)=TRUE,\"\",VLOOKUP($R1538,TAXONOMY!$A$1:$G$959,6,FALSE))","v":""},{"$f":"IF(ISBLANK($R1538)=TRUE,\"\",VLOOKUP($R1538,TAXONOMY!$A$1:$G$959,5,FALSE))","v":""},{"$f":"IF(ISBLANK($R1538)=TRUE,\"\",VLOOKUP($R1538,TAXONOMY!$A$1:$G$959,4,FALSE))","v":""},{"$f":"IF(ISBLANK($R1538)=TRUE,\"\",VLOOKUP($R1538,TAXONOMY!$A$1:$G$959,3,FALSE))","v":""},{"$f":"IF(ISBLANK($R1538)=TRUE,\"\",VLOOKUP($R1538,TAXONOMY!$A$1:$H$959,2,FALSE))","v":""}]
[null,null,null,null,null,null,null,null,null,null,null,{"$f":"IF(ISBLANK($R1539)=TRUE,\"\",VLOOKUP($R1539,TAXONOMY!$A$1:$G$959,7,FALSE))","v":""},{"$f":"IF(ISBLANK($R1539)=TRUE,\"\",VLOOKUP($R1539,TAXONOMY!$A$1:$G$959,6,FALSE))","v":""},{"$f":"IF(ISBLANK($R1539)=TRUE,\"\",VLOOKUP($R1539,TAXONOMY!$A$1:$G$959,5,FALSE))","v":""},{"$f":"IF(ISBLANK($R1539)=TRUE,\"\",VLOOKUP($R1539,TAXONOMY!$A$1:$G$959,4,FALSE))","v":""},{"$f":"IF(ISBLANK($R1539)=TRUE,\"\",VLOOKUP($R1539,TAXONOMY!$A$1:$G$959,3,FALSE))","v":""},{"$f":"IF(ISBLANK($R1539)=TRUE,\"\",VLOOKUP($R1539,TAXONOMY!$A$1:$H$959,2,FALSE))","v":""}]
[null,null,null,null,null,null,null,null,null,null,null,{"$f":"IF(ISBLANK($R1540)=TRUE,\"\",VLOOKUP($R1540,TAXONOMY!$A$1:$G$959,7,FALSE))","v":""},{"$f":"IF(ISBLANK($R1540)=TRUE,\"\",VLOOKUP($R1540,TAXONOMY!$A$1:$G$959,6,FALSE))","v":""},{"$f":"IF(ISBLANK($R1540)=TRUE,\"\",VLOOKUP($R1540,TAXONOMY!$A$1:$G$959,5,FALSE))","v":""},{"$f":"IF(ISBLANK($R1540)=TRUE,\"\",VLOOKUP($R1540,TAXONOMY!$A$1:$G$959,4,FALSE))","v":""},{"$f":"IF(ISBLANK($R1540)=TRUE,\"\",VLOOKUP($R1540,TAXONOMY!$A$1:$G$959,3,FALSE))","v":""},{"$f":"IF(ISBLANK($R1540)=TRUE,\"\",VLOOKUP($R1540,TAXONOMY!$A$1:$H$959,2,FALSE))","v":""}]
[null,null,null,null,null,null,null,null,null,null,null,{"$f":"IF(ISBLANK($R1541)=TRUE,\"\",VLOOKUP($R1541,TAXONOMY!$A$1:$G$959,7,FALSE))","v":""},{"$f":"IF(ISBLANK($R1541)=TRUE,\"\",VLOOKUP($R1541,TAXONOMY!$A$1:$G$959,6,FALSE))","v":""},{"$f":"IF(ISBLANK($R1541)=TRUE,\"\",VLOOKUP($R1541,TAXONOMY!$A$1:$G$959,5,FALSE))","v":""},{"$f":"IF(ISBLANK($R1541)=TRUE,\"\",VLOOKUP($R1541,TAXONOMY!$A$1:$G$959,4,FALSE))","v":""},{"$f":"IF(ISBLANK($R1541)=TRUE,\"\",VLOOKUP($R1541,TAXONOMY!$A$1:$G$959,3,FALSE))","v":""},{"$f":"IF(ISBLANK($R1541)=TRUE,\"\",VLOOKUP($R1541,TAXONOMY!$A$1:$H$959,2,FALSE))","v":""}]
[null,null,null,null,null,null,null,null,null,null,null,{"$f":"IF(ISBLANK($R1542)=TRUE,\"\",VLOOKUP($R1542,TAXONOMY!$A$1:$G$959,7,FALSE))","v":""},{"$f":"IF(ISBLANK($R1542)=TRUE,\"\",VLOOKUP($R1542,TAXONOMY!$A$1:$G$959,6,FALSE))","v":""},{"$f":"IF(ISBLANK($R1542)=TRUE,\"\",VLOOKUP($R1542,TAXONOMY!$A$1:$G$959,5,FALSE))","v":""},{"$f":"IF(ISBLANK($R1542)=TRUE,\"\",VLOOKUP($R1542,TAXONOMY!$A$1:$G$959,4,FALSE))","v":""},{"$f":"IF(ISBLANK($R1542)=TRUE,\"\",VLOOKUP($R1542,TAXONOMY!$A$1:$G$959,3,FALSE))","v":""},{"$f":"IF(ISBLANK($R1542)=TRUE,\"\",VLOOKUP($R1542,TAXONOMY!$A$1:$H$959,2,FALSE))","v":""}]
[null,null,null,null,null,null,null,null,null,null,null,{"$f":"IF(ISBLANK($R1543)=TRUE,\"\",VLOOKUP($R1543,TAXONOMY!$A$1:$G$959,7,FALSE))","v":""},{"$f":"IF(ISBLANK($R1543)=TRUE,\"\",VLOOKUP($R1543,TAXONOMY!$A$1:$G$959,6,FALSE))","v":""},{"$f":"IF(ISBLANK($R1543)=TRUE,\"\",VLOOKUP($R1543,TAXONOMY!$A$1:$G$959,5,FALSE))","v":""},{"$f":"IF(ISBLANK($R1543)=TRUE,\"\",VLOOKUP($R1543,TAXONOMY!$A$1:$G$959,4,FALSE))","v":""},{"$f":"IF(ISBLANK($R1543)=TRUE,\"\",VLOOKUP($R1543,TAXONOMY!$A$1:$G$959,3,FALSE))","v":""},{"$f":"IF(ISBLANK($R1543)=TRUE,\"\",VLOOKUP($R1543,TAXONOMY!$A$1:$H$959,2,FALSE))","v":""}]
[null,null,null,null,null,null,null,null,null,null,null,{"$f":"IF(ISBLANK($R1544)=TRUE,\"\",VLOOKUP($R1544,TAXONOMY!$A$1:$G$959,7,FALSE))","v":""},{"$f":"IF(ISBLANK($R1544)=TRUE,\"\",VLOOKUP($R1544,TAXONOMY!$A$1:$G$959,6,FALSE))","v":""},{"$f":"IF(ISBLANK($R1544)=TRUE,\"\",VLOOKUP($R1544,TAXONOMY!$A$1:$G$959,5,FALSE))","v":""},{"$f":"IF(ISBLANK($R1544)=TRUE,\"\",VLOOKUP($R1544,TAXONOMY!$A$1:$G$959,4,FALSE))","v":""},{"$f":"IF(ISBLANK($R1544)=TRUE,\"\",VLOOKUP($R1544,TAXONOMY!$A$1:$G$959,3,FALSE))","v":""},{"$f":"IF(ISBLANK($R1544)=TRUE,\"\",VLOOKUP($R1544,TAXONOMY!$A$1:$H$959,2,FALSE))","v":""}]
[null,null,null,null,null,null,null,null,null,null,null,{"$f":"IF(ISBLANK($R1545)=TRUE,\"\",VLOOKUP($R1545,TAXONOMY!$A$1:$G$959,7,FALSE))","v":""},{"$f":"IF(ISBLANK($R1545)=TRUE,\"\",VLOOKUP($R1545,TAXONOMY!$A$1:$G$959,6,FALSE))","v":""},{"$f":"IF(ISBLANK($R1545)=TRUE,\"\",VLOOKUP($R1545,TAXONOMY!$A$1:$G$959,5,FALSE))","v":""},{"$f":"IF(ISBLANK($R1545)=TRUE,\"\",VLOOKUP($R1545,TAXONOMY!$A$1:$G$959,4,FALSE))","v":""},{"$f":"IF(ISBLANK($R1545)=TRUE,\"\",VLOOKUP($R1545,TAXONOMY!$A$1:$G$959,3,FALSE))","v":""},{"$f":"IF(ISBLANK($R1545)=TRUE,\"\",VLOOKUP($R1545,TAXONOMY!$A$1:$H$959,2,FALSE))","v":""}]
[null,null,null,null,null,null,null,null,null,null,null,{"$f":"IF(ISBLANK($R1546)=TRUE,\"\",VLOOKUP($R1546,TAXONOMY!$A$1:$G$959,7,FALSE))","v":""},{"$f":"IF(ISBLANK($R1546)=TRUE,\"\",VLOOKUP($R1546,TAXONOMY!$A$1:$G$959,6,FALSE))","v":""},{"$f":"IF(ISBLANK($R1546)=TRUE,\"\",VLOOKUP($R1546,TAXONOMY!$A$1:$G$959,5,FALSE))","v":""},{"$f":"IF(ISBLANK($R1546)=TRUE,\"\",VLOOKUP($R1546,TAXONOMY!$A$1:$G$959,4,FALSE))","v":""},{"$f":"IF(ISBLANK($R1546)=TRUE,\"\",VLOOKUP($R1546,TAXONOMY!$A$1:$G$959,3,FALSE))","v":""},{"$f":"IF(ISBLANK($R1546)=TRUE,\"\",VLOOKUP($R1546,TAXONOMY!$A$1:$H$959,2,FALSE))","v":""}]
[null,null,null,null,null,null,null,null,null,null,null,{"$f":"IF(ISBLANK($R1547)=TRUE,\"\",VLOOKUP($R1547,TAXONOMY!$A$1:$G$959,7,FALSE))","v":""},{"$f":"IF(ISBLANK($R1547)=TRUE,\"\",VLOOKUP($R1547,TAXONOMY!$A$1:$G$959,6,FALSE))","v":""},{"$f":"IF(ISBLANK($R1547)=TRUE,\"\",VLOOKUP($R1547,TAXONOMY!$A$1:$G$959,5,FALSE))","v":""},{"$f":"IF(ISBLANK($R1547)=TRUE,\"\",VLOOKUP($R1547,TAXONOMY!$A$1:$G$959,4,FALSE))","v":""},{"$f":"IF(ISBLANK($R1547)=TRUE,\"\",VLOOKUP($R1547,TAXONOMY!$A$1:$G$959,3,FALSE))","v":""},{"$f":"IF(ISBLANK($R1547)=TRUE,\"\",VLOOKUP($R1547,TAXONOMY!$A$1:$H$959,2,FALSE))","v":""}]
[null,null,null,null,null,null,null,null,null,null,null,{"$f":"IF(ISBLANK($R1548)=TRUE,\"\",VLOOKUP($R1548,TAXONOMY!$A$1:$G$959,7,FALSE))","v":""},{"$f":"IF(ISBLANK($R1548)=TRUE,\"\",VLOOKUP($R1548,TAXONOMY!$A$1:$G$959,6,FALSE))","v":""},{"$f":"IF(ISBLANK($R1548)=TRUE,\"\",VLOOKUP($R1548,TAXONOMY!$A$1:$G$959,5,FALSE))","v":""},{"$f":"IF(ISBLANK($R1548)=TRUE,\"\",VLOOKUP($R1548,TAXONOMY!$A$1:$G$959,4,FALSE))","v":""},{"$f":"IF(ISBLANK($R1548)=TRUE,\"\",VLOOKUP($R1548,TAXONOMY!$A$1:$G$959,3,FALSE))","v":""},{"$f":"IF(ISBLANK($R1548)=TRUE,\"\",VLOOKUP($R1548,TAXONOMY!$A$1:$H$959,2,FALSE))","v":""}]
[null,null,null,null,null,null,null,null,null,null,null,{"$f":"IF(ISBLANK($R1549)=TRUE,\"\",VLOOKUP($R1549,TAXONOMY!$A$1:$G$959,7,FALSE))","v":""},{"$f":"IF(ISBLANK($R1549)=TRUE,\"\",VLOOKUP($R1549,TAXONOMY!$A$1:$G$959,6,FALSE))","v":""},{"$f":"IF(ISBLANK($R1549)=TRUE,\"\",VLOOKUP($R1549,TAXONOMY!$A$1:$G$959,5,FALSE))","v":""},{"$f":"IF(ISBLANK($R1549)=TRUE,\"\",VLOOKUP($R1549,TAXONOMY!$A$1:$G$959,4,FALSE))","v":""},{"$f":"IF(ISBLANK($R1549)=TRUE,\"\",VLOOKUP($R1549,TAXONOMY!$A$1:$G$959,3,FALSE))","v":""},{"$f":"IF(ISBLANK($R1549)=TRUE,\"\",VLOOKUP($R1549,TAXONOMY!$A$1:$H$959,2,FALSE))","v":""}]
[null,null,null,null,null,null,null,null,null,null,null,{"$f":"IF(ISBLANK($R1550)=TRUE,\"\",VLOOKUP($R1550,TAXONOMY!$A$1:$G$959,7,FALSE))","v":""},{"$f":"IF(ISBLANK($R1550)=TRUE,\"\",VLOOKUP($R1550,TAXONOMY!$A$1:$G$959,6,FALSE))","v":""},{"$f":"IF(ISBLANK($R1550)=TRUE,\"\",VLOOKUP($R1550,TAXONOMY!$A$1:$G$959,5,FALSE))","v":""},{"$f":"IF(ISBLANK($R1550)=TRUE,\"\",VLOOKUP($R1550,TAXONOMY!$A$1:$G$959,4,FALSE))","v":""},{"$f":"IF(ISBLANK($R1550)=TRUE,\"\",VLOOKUP($R1550,TAXONOMY!$A$1:$G$959,3,FALSE))","v":""},{"$f":"IF(ISBLANK($R1550)=TRUE,\"\",VLOOKUP($R1550,TAXONOMY!$A$1:$H$959,2,FALSE))","v":""}]
[null,null,null,null,null,null,null,null,null,null,null,{"$f":"IF(ISBLANK($R1551)=TRUE,\"\",VLOOKUP($R1551,TAXONOMY!$A$1:$G$959,7,FALSE))","v":""},{"$f":"IF(ISBLANK($R1551)=TRUE,\"\",VLOOKUP($R1551,TAXONOMY!$A$1:$G$959,6,FALSE))","v":""},{"$f":"IF(ISBLANK($R1551)=TRUE,\"\",VLOOKUP($R1551,TAXONOMY!$A$1:$G$959,5,FALSE))","v":""},{"$f":"IF(ISBLANK($R1551)=TRUE,\"\",VLOOKUP($R1551,TAXONOMY!$A$1:$G$959,4,FALSE))","v":""},{"$f":"IF(ISBLANK($R1551)=TRUE,\"\",VLOOKUP($R1551,TAXONOMY!$A$1:$G$959,3,FALSE))","v":""},{"$f":"IF(ISBLANK($R1551)=TRUE,\"\",VLOOKUP($R1551,TAXONOMY!$A$1:$H$959,2,FALSE))","v":""}]
[null,null,null,null,null,null,null,null,null,null,null,{"$f":"IF(ISBLANK($R1552)=TRUE,\"\",VLOOKUP($R1552,TAXONOMY!$A$1:$G$959,7,FALSE))","v":""},{"$f":"IF(ISBLANK($R1552)=TRUE,\"\",VLOOKUP($R1552,TAXONOMY!$A$1:$G$959,6,FALSE))","v":""},{"$f":"IF(ISBLANK($R1552)=TRUE,\"\",VLOOKUP($R1552,TAXONOMY!$A$1:$G$959,5,FALSE))","v":""},{"$f":"IF(ISBLANK($R1552)=TRUE,\"\",VLOOKUP($R1552,TAXONOMY!$A$1:$G$959,4,FALSE))","v":""},{"$f":"IF(ISBLANK($R1552)=TRUE,\"\",VLOOKUP($R1552,TAXONOMY!$A$1:$G$959,3,FALSE))","v":""},{"$f":"IF(ISBLANK($R1552)=TRUE,\"\",VLOOKUP($R1552,TAXONOMY!$A$1:$H$959,2,FALSE))","v":""}]
[null,null,null,null,null,null,null,null,null,null,null,{"$f":"IF(ISBLANK($R1553)=TRUE,\"\",VLOOKUP($R1553,TAXONOMY!$A$1:$G$959,7,FALSE))","v":""},{"$f":"IF(ISBLANK($R1553)=TRUE,\"\",VLOOKUP($R1553,TAXONOMY!$A$1:$G$959,6,FALSE))","v":""},{"$f":"IF(ISBLANK($R1553)=TRUE,\"\",VLOOKUP($R1553,TAXONOMY!$A$1:$G$959,5,FALSE))","v":""},{"$f":"IF(ISBLANK($R1553)=TRUE,\"\",VLOOKUP($R1553,TAXONOMY!$A$1:$G$959,4,FALSE))","v":""},{"$f":"IF(ISBLANK($R1553)=TRUE,\"\",VLOOKUP($R1553,TAXONOMY!$A$1:$G$959,3,FALSE))","v":""},{"$f":"IF(ISBLANK($R1553)=TRUE,\"\",VLOOKUP($R1553,TAXONOMY!$A$1:$H$959,2,FALSE))","v":""}]
[null,null,null,null,null,null,null,null,null,null,null,{"$f":"IF(ISBLANK($R1554)=TRUE,\"\",VLOOKUP($R1554,TAXONOMY!$A$1:$G$959,7,FALSE))","v":""},{"$f":"IF(ISBLANK($R1554)=TRUE,\"\",VLOOKUP($R1554,TAXONOMY!$A$1:$G$959,6,FALSE))","v":""},{"$f":"IF(ISBLANK($R1554)=TRUE,\"\",VLOOKUP($R1554,TAXONOMY!$A$1:$G$959,5,FALSE))","v":""},{"$f":"IF(ISBLANK($R1554)=TRUE,\"\",VLOOKUP($R1554,TAXONOMY!$A$1:$G$959,4,FALSE))","v":""},{"$f":"IF(ISBLANK($R1554)=TRUE,\"\",VLOOKUP($R1554,TAXONOMY!$A$1:$G$959,3,FALSE))","v":""},{"$f":"IF(ISBLANK($R1554)=TRUE,\"\",VLOOKUP($R1554,TAXONOMY!$A$1:$H$959,2,FALSE))","v":""}]
[null,null,null,null,null,null,null,null,null,null,null,{"$f":"IF(ISBLANK($R1555)=TRUE,\"\",VLOOKUP($R1555,TAXONOMY!$A$1:$G$959,7,FALSE))","v":""},{"$f":"IF(ISBLANK($R1555)=TRUE,\"\",VLOOKUP($R1555,TAXONOMY!$A$1:$G$959,6,FALSE))","v":""},{"$f":"IF(ISBLANK($R1555)=TRUE,\"\",VLOOKUP($R1555,TAXONOMY!$A$1:$G$959,5,FALSE))","v":""},{"$f":"IF(ISBLANK($R1555)=TRUE,\"\",VLOOKUP($R1555,TAXONOMY!$A$1:$G$959,4,FALSE))","v":""},{"$f":"IF(ISBLANK($R1555)=TRUE,\"\",VLOOKUP($R1555,TAXONOMY!$A$1:$G$959,3,FALSE))","v":""},{"$f":"IF(ISBLANK($R1555)=TRUE,\"\",VLOOKUP($R1555,TAXONOMY!$A$1:$H$959,2,FALSE))","v":""}]
[null,null,null,null,null,null,null,null,null,null,null,{"$f":"IF(ISBLANK($R1556)=TRUE,\"\",VLOOKUP($R1556,TAXONOMY!$A$1:$G$959,7,FALSE))","v":""},{"$f":"IF(ISBLANK($R1556)=TRUE,\"\",VLOOKUP($R1556,TAXONOMY!$A$1:$G$959,6,FALSE))","v":""},{"$f":"IF(ISBLANK($R1556)=TRUE,\"\",VLOOKUP($R1556,TAXONOMY!$A$1:$G$959,5,FALSE))","v":""},{"$f":"IF(ISBLANK($R1556)=TRUE,\"\",VLOOKUP($R1556,TAXONOMY!$A$1:$G$959,4,FALSE))","v":""},{"$f":"IF(ISBLANK($R1556)=TRUE,\"\",VLOOKUP($R1556,TAXONOMY!$A$1:$G$959,3,FALSE))","v":""},{"$f":"IF(ISBLANK($R1556)=TRUE,\"\",VLOOKUP($R1556,TAXONOMY!$A$1:$H$959,2,FALSE))","v":""}]
[null,null,null,null,null,null,null,null,null,null,null,{"$f":"IF(ISBLANK($R1557)=TRUE,\"\",VLOOKUP($R1557,TAXONOMY!$A$1:$G$959,7,FALSE))","v":""},{"$f":"IF(ISBLANK($R1557)=TRUE,\"\",VLOOKUP($R1557,TAXONOMY!$A$1:$G$959,6,FALSE))","v":""},{"$f":"IF(ISBLANK($R1557)=TRUE,\"\",VLOOKUP($R1557,TAXONOMY!$A$1:$G$959,5,FALSE))","v":""},{"$f":"IF(ISBLANK($R1557)=TRUE,\"\",VLOOKUP($R1557,TAXONOMY!$A$1:$G$959,4,FALSE))","v":""},{"$f":"IF(ISBLANK($R1557)=TRUE,\"\",VLOOKUP($R1557,TAXONOMY!$A$1:$G$959,3,FALSE))","v":""},{"$f":"IF(ISBLANK($R1557)=TRUE,\"\",VLOOKUP($R1557,TAXONOMY!$A$1:$H$959,2,FALSE))","v":""}]
[null,null,null,null,null,null,null,null,null,null,null,{"$f":"IF(ISBLANK($R1558)=TRUE,\"\",VLOOKUP($R1558,TAXONOMY!$A$1:$G$959,7,FALSE))","v":""},{"$f":"IF(ISBLANK($R1558)=TRUE,\"\",VLOOKUP($R1558,TAXONOMY!$A$1:$G$959,6,FALSE))","v":""},{"$f":"IF(ISBLANK($R1558)=TRUE,\"\",VLOOKUP($R1558,TAXONOMY!$A$1:$G$959,5,FALSE))","v":""},{"$f":"IF(ISBLANK($R1558)=TRUE,\"\",VLOOKUP($R1558,TAXONOMY!$A$1:$G$959,4,FALSE))","v":""},{"$f":"IF(ISBLANK($R1558)=TRUE,\"\",VLOOKUP($R1558,TAXONOMY!$A$1:$G$959,3,FALSE))","v":""},{"$f":"IF(ISBLANK($R1558)=TRUE,\"\",VLOOKUP($R1558,TAXONOMY!$A$1:$H$959,2,FALSE))","v":""}]
[null,null,null,null,null,null,null,null,null,null,null,{"$f":"IF(ISBLANK($R1559)=TRUE,\"\",VLOOKUP($R1559,TAXONOMY!$A$1:$G$959,7,FALSE))","v":""},{"$f":"IF(ISBLANK($R1559)=TRUE,\"\",VLOOKUP($R1559,TAXONOMY!$A$1:$G$959,6,FALSE))","v":""},{"$f":"IF(ISBLANK($R1559)=TRUE,\"\",VLOOKUP($R1559,TAXONOMY!$A$1:$G$959,5,FALSE))","v":""},{"$f":"IF(ISBLANK($R1559)=TRUE,\"\",VLOOKUP($R1559,TAXONOMY!$A$1:$G$959,4,FALSE))","v":""},{"$f":"IF(ISBLANK($R1559)=TRUE,\"\",VLOOKUP($R1559,TAXONOMY!$A$1:$G$959,3,FALSE))","v":""},{"$f":"IF(ISBLANK($R1559)=TRUE,\"\",VLOOKUP($R1559,TAXONOMY!$A$1:$H$959,2,FALSE))","v":""}]
[null,null,null,null,null,null,null,null,null,null,null,{"$f":"IF(ISBLANK($R1560)=TRUE,\"\",VLOOKUP($R1560,TAXONOMY!$A$1:$G$959,7,FALSE))","v":""},{"$f":"IF(ISBLANK($R1560)=TRUE,\"\",VLOOKUP($R1560,TAXONOMY!$A$1:$G$959,6,FALSE))","v":""},{"$f":"IF(ISBLANK($R1560)=TRUE,\"\",VLOOKUP($R1560,TAXONOMY!$A$1:$G$959,5,FALSE))","v":""},{"$f":"IF(ISBLANK($R1560)=TRUE,\"\",VLOOKUP($R1560,TAXONOMY!$A$1:$G$959,4,FALSE))","v":""},{"$f":"IF(ISBLANK($R1560)=TRUE,\"\",VLOOKUP($R1560,TAXONOMY!$A$1:$G$959,3,FALSE))","v":""},{"$f":"IF(ISBLANK($R1560)=TRUE,\"\",VLOOKUP($R1560,TAXONOMY!$A$1:$H$959,2,FALSE))","v":""}]
[null,null,null,null,null,null,null,null,null,null,null,{"$f":"IF(ISBLANK($R1561)=TRUE,\"\",VLOOKUP($R1561,TAXONOMY!$A$1:$G$959,7,FALSE))","v":""},{"$f":"IF(ISBLANK($R1561)=TRUE,\"\",VLOOKUP($R1561,TAXONOMY!$A$1:$G$959,6,FALSE))","v":""},{"$f":"IF(ISBLANK($R1561)=TRUE,\"\",VLOOKUP($R1561,TAXONOMY!$A$1:$G$959,5,FALSE))","v":""},{"$f":"IF(ISBLANK($R1561)=TRUE,\"\",VLOOKUP($R1561,TAXONOMY!$A$1:$G$959,4,FALSE))","v":""},{"$f":"IF(ISBLANK($R1561)=TRUE,\"\",VLOOKUP($R1561,TAXONOMY!$A$1:$G$959,3,FALSE))","v":""},{"$f":"IF(ISBLANK($R1561)=TRUE,\"\",VLOOKUP($R1561,TAXONOMY!$A$1:$H$959,2,FALSE))","v":""}]
[null,null,null,null,null,null,null,null,null,null,null,{"$f":"IF(ISBLANK($R1562)=TRUE,\"\",VLOOKUP($R1562,TAXONOMY!$A$1:$G$959,7,FALSE))","v":""},{"$f":"IF(ISBLANK($R1562)=TRUE,\"\",VLOOKUP($R1562,TAXONOMY!$A$1:$G$959,6,FALSE))","v":""},{"$f":"IF(ISBLANK($R1562)=TRUE,\"\",VLOOKUP($R1562,TAXONOMY!$A$1:$G$959,5,FALSE))","v":""},{"$f":"IF(ISBLANK($R1562)=TRUE,\"\",VLOOKUP($R1562,TAXONOMY!$A$1:$G$959,4,FALSE))","v":""},{"$f":"IF(ISBLANK($R1562)=TRUE,\"\",VLOOKUP($R1562,TAXONOMY!$A$1:$G$959,3,FALSE))","v":""},{"$f":"IF(ISBLANK($R1562)=TRUE,\"\",VLOOKUP($R1562,TAXONOMY!$A$1:$H$959,2,FALSE))","v":""}]
[null,null,null,null,null,null,null,null,null,null,null,{"$f":"IF(ISBLANK($R1563)=TRUE,\"\",VLOOKUP($R1563,TAXONOMY!$A$1:$G$959,7,FALSE))","v":""},{"$f":"IF(ISBLANK($R1563)=TRUE,\"\",VLOOKUP($R1563,TAXONOMY!$A$1:$G$959,6,FALSE))","v":""},{"$f":"IF(ISBLANK($R1563)=TRUE,\"\",VLOOKUP($R1563,TAXONOMY!$A$1:$G$959,5,FALSE))","v":""},{"$f":"IF(ISBLANK($R1563)=TRUE,\"\",VLOOKUP($R1563,TAXONOMY!$A$1:$G$959,4,FALSE))","v":""},{"$f":"IF(ISBLANK($R1563)=TRUE,\"\",VLOOKUP($R1563,TAXONOMY!$A$1:$G$959,3,FALSE))","v":""},{"$f":"IF(ISBLANK($R1563)=TRUE,\"\",VLOOKUP($R1563,TAXONOMY!$A$1:$H$959,2,FALSE))","v":""}]
[null,null,null,null,null,null,null,null,null,null,null,{"$f":"IF(ISBLANK($R1564)=TRUE,\"\",VLOOKUP($R1564,TAXONOMY!$A$1:$G$959,7,FALSE))","v":""},{"$f":"IF(ISBLANK($R1564)=TRUE,\"\",VLOOKUP($R1564,TAXONOMY!$A$1:$G$959,6,FALSE))","v":""},{"$f":"IF(ISBLANK($R1564)=TRUE,\"\",VLOOKUP($R1564,TAXONOMY!$A$1:$G$959,5,FALSE))","v":""},{"$f":"IF(ISBLANK($R1564)=TRUE,\"\",VLOOKUP($R1564,TAXONOMY!$A$1:$G$959,4,FALSE))","v":""},{"$f":"IF(ISBLANK($R1564)=TRUE,\"\",VLOOKUP($R1564,TAXONOMY!$A$1:$G$959,3,FALSE))","v":""},{"$f":"IF(ISBLANK($R1564)=TRUE,\"\",VLOOKUP($R1564,TAXONOMY!$A$1:$H$959,2,FALSE))","v":""}]
[null,null,null,null,null,null,null,null,null,null,null,{"$f":"IF(ISBLANK($R1565)=TRUE,\"\",VLOOKUP($R1565,TAXONOMY!$A$1:$G$959,7,FALSE))","v":""},{"$f":"IF(ISBLANK($R1565)=TRUE,\"\",VLOOKUP($R1565,TAXONOMY!$A$1:$G$959,6,FALSE))","v":""},{"$f":"IF(ISBLANK($R1565)=TRUE,\"\",VLOOKUP($R1565,TAXONOMY!$A$1:$G$959,5,FALSE))","v":""},{"$f":"IF(ISBLANK($R1565)=TRUE,\"\",VLOOKUP($R1565,TAXONOMY!$A$1:$G$959,4,FALSE))","v":""},{"$f":"IF(ISBLANK($R1565)=TRUE,\"\",VLOOKUP($R1565,TAXONOMY!$A$1:$G$959,3,FALSE))","v":""},{"$f":"IF(ISBLANK($R1565)=TRUE,\"\",VLOOKUP($R1565,TAXONOMY!$A$1:$H$959,2,FALSE))","v":""}]
[null,null,null,null,null,null,null,null,null,null,null,{"$f":"IF(ISBLANK($R1566)=TRUE,\"\",VLOOKUP($R1566,TAXONOMY!$A$1:$G$959,7,FALSE))","v":""},{"$f":"IF(ISBLANK($R1566)=TRUE,\"\",VLOOKUP($R1566,TAXONOMY!$A$1:$G$959,6,FALSE))","v":""},{"$f":"IF(ISBLANK($R1566)=TRUE,\"\",VLOOKUP($R1566,TAXONOMY!$A$1:$G$959,5,FALSE))","v":""},{"$f":"IF(ISBLANK($R1566)=TRUE,\"\",VLOOKUP($R1566,TAXONOMY!$A$1:$G$959,4,FALSE))","v":""},{"$f":"IF(ISBLANK($R1566)=TRUE,\"\",VLOOKUP($R1566,TAXONOMY!$A$1:$G$959,3,FALSE))","v":""},{"$f":"IF(ISBLANK($R1566)=TRUE,\"\",VLOOKUP($R1566,TAXONOMY!$A$1:$H$959,2,FALSE))","v":""}]
[null,null,null,null,null,null,null,null,null,null,null,{"$f":"IF(ISBLANK($R1567)=TRUE,\"\",VLOOKUP($R1567,TAXONOMY!$A$1:$G$959,7,FALSE))","v":""},{"$f":"IF(ISBLANK($R1567)=TRUE,\"\",VLOOKUP($R1567,TAXONOMY!$A$1:$G$959,6,FALSE))","v":""},{"$f":"IF(ISBLANK($R1567)=TRUE,\"\",VLOOKUP($R1567,TAXONOMY!$A$1:$G$959,5,FALSE))","v":""},{"$f":"IF(ISBLANK($R1567)=TRUE,\"\",VLOOKUP($R1567,TAXONOMY!$A$1:$G$959,4,FALSE))","v":""},{"$f":"IF(ISBLANK($R1567)=TRUE,\"\",VLOOKUP($R1567,TAXONOMY!$A$1:$G$959,3,FALSE))","v":""},{"$f":"IF(ISBLANK($R1567)=TRUE,\"\",VLOOKUP($R1567,TAXONOMY!$A$1:$H$959,2,FALSE))","v":""}]
[null,null,null,null,null,null,null,null,null,null,null,{"$f":"IF(ISBLANK($R1568)=TRUE,\"\",VLOOKUP($R1568,TAXONOMY!$A$1:$G$959,7,FALSE))","v":""},{"$f":"IF(ISBLANK($R1568)=TRUE,\"\",VLOOKUP($R1568,TAXONOMY!$A$1:$G$959,6,FALSE))","v":""},{"$f":"IF(ISBLANK($R1568)=TRUE,\"\",VLOOKUP($R1568,TAXONOMY!$A$1:$G$959,5,FALSE))","v":""},{"$f":"IF(ISBLANK($R1568)=TRUE,\"\",VLOOKUP($R1568,TAXONOMY!$A$1:$G$959,4,FALSE))","v":""},{"$f":"IF(ISBLANK($R1568)=TRUE,\"\",VLOOKUP($R1568,TAXONOMY!$A$1:$G$959,3,FALSE))","v":""},{"$f":"IF(ISBLANK($R1568)=TRUE,\"\",VLOOKUP($R1568,TAXONOMY!$A$1:$H$959,2,FALSE))","v":""}]
[null,null,null,null,null,null,null,null,null,null,null,{"$f":"IF(ISBLANK($R1569)=TRUE,\"\",VLOOKUP($R1569,TAXONOMY!$A$1:$G$959,7,FALSE))","v":""},{"$f":"IF(ISBLANK($R1569)=TRUE,\"\",VLOOKUP($R1569,TAXONOMY!$A$1:$G$959,6,FALSE))","v":""},{"$f":"IF(ISBLANK($R1569)=TRUE,\"\",VLOOKUP($R1569,TAXONOMY!$A$1:$G$959,5,FALSE))","v":""},{"$f":"IF(ISBLANK($R1569)=TRUE,\"\",VLOOKUP($R1569,TAXONOMY!$A$1:$G$959,4,FALSE))","v":""},{"$f":"IF(ISBLANK($R1569)=TRUE,\"\",VLOOKUP($R1569,TAXONOMY!$A$1:$G$959,3,FALSE))","v":""},{"$f":"IF(ISBLANK($R1569)=TRUE,\"\",VLOOKUP($R1569,TAXONOMY!$A$1:$H$959,2,FALSE))","v":""}]
[null,null,null,null,null,null,null,null,null,null,null,{"$f":"IF(ISBLANK($R1570)=TRUE,\"\",VLOOKUP($R1570,TAXONOMY!$A$1:$G$959,7,FALSE))","v":""},{"$f":"IF(ISBLANK($R1570)=TRUE,\"\",VLOOKUP($R1570,TAXONOMY!$A$1:$G$959,6,FALSE))","v":""},{"$f":"IF(ISBLANK($R1570)=TRUE,\"\",VLOOKUP($R1570,TAXONOMY!$A$1:$G$959,5,FALSE))","v":""},{"$f":"IF(ISBLANK($R1570)=TRUE,\"\",VLOOKUP($R1570,TAXONOMY!$A$1:$G$959,4,FALSE))","v":""},{"$f":"IF(ISBLANK($R1570)=TRUE,\"\",VLOOKUP($R1570,TAXONOMY!$A$1:$G$959,3,FALSE))","v":""},{"$f":"IF(ISBLANK($R1570)=TRUE,\"\",VLOOKUP($R1570,TAXONOMY!$A$1:$H$959,2,FALSE))","v":""}]
[null,null,null,null,null,null,null,null,null,null,null,{"$f":"IF(ISBLANK($R1571)=TRUE,\"\",VLOOKUP($R1571,TAXONOMY!$A$1:$G$959,7,FALSE))","v":""},{"$f":"IF(ISBLANK($R1571)=TRUE,\"\",VLOOKUP($R1571,TAXONOMY!$A$1:$G$959,6,FALSE))","v":""},{"$f":"IF(ISBLANK($R1571)=TRUE,\"\",VLOOKUP($R1571,TAXONOMY!$A$1:$G$959,5,FALSE))","v":""},{"$f":"IF(ISBLANK($R1571)=TRUE,\"\",VLOOKUP($R1571,TAXONOMY!$A$1:$G$959,4,FALSE))","v":""},{"$f":"IF(ISBLANK($R1571)=TRUE,\"\",VLOOKUP($R1571,TAXONOMY!$A$1:$G$959,3,FALSE))","v":""},{"$f":"IF(ISBLANK($R1571)=TRUE,\"\",VLOOKUP($R1571,TAXONOMY!$A$1:$H$959,2,FALSE))","v":""}]
[null,null,null,null,null,null,null,null,null,null,null,{"$f":"IF(ISBLANK($R1572)=TRUE,\"\",VLOOKUP($R1572,TAXONOMY!$A$1:$G$959,7,FALSE))","v":""},{"$f":"IF(ISBLANK($R1572)=TRUE,\"\",VLOOKUP($R1572,TAXONOMY!$A$1:$G$959,6,FALSE))","v":""},{"$f":"IF(ISBLANK($R1572)=TRUE,\"\",VLOOKUP($R1572,TAXONOMY!$A$1:$G$959,5,FALSE))","v":""},{"$f":"IF(ISBLANK($R1572)=TRUE,\"\",VLOOKUP($R1572,TAXONOMY!$A$1:$G$959,4,FALSE))","v":""},{"$f":"IF(ISBLANK($R1572)=TRUE,\"\",VLOOKUP($R1572,TAXONOMY!$A$1:$G$959,3,FALSE))","v":""},{"$f":"IF(ISBLANK($R1572)=TRUE,\"\",VLOOKUP($R1572,TAXONOMY!$A$1:$H$959,2,FALSE))","v":""}]
[null,null,null,null,null,null,null,null,null,null,null,{"$f":"IF(ISBLANK($R1573)=TRUE,\"\",VLOOKUP($R1573,TAXONOMY!$A$1:$G$959,7,FALSE))","v":""},{"$f":"IF(ISBLANK($R1573)=TRUE,\"\",VLOOKUP($R1573,TAXONOMY!$A$1:$G$959,6,FALSE))","v":""},{"$f":"IF(ISBLANK($R1573)=TRUE,\"\",VLOOKUP($R1573,TAXONOMY!$A$1:$G$959,5,FALSE))","v":""},{"$f":"IF(ISBLANK($R1573)=TRUE,\"\",VLOOKUP($R1573,TAXONOMY!$A$1:$G$959,4,FALSE))","v":""},{"$f":"IF(ISBLANK($R1573)=TRUE,\"\",VLOOKUP($R1573,TAXONOMY!$A$1:$G$959,3,FALSE))","v":""},{"$f":"IF(ISBLANK($R1573)=TRUE,\"\",VLOOKUP($R1573,TAXONOMY!$A$1:$H$959,2,FALSE))","v":""}]
[null,null,null,null,null,null,null,null,null,null,null,{"$f":"IF(ISBLANK($R1574)=TRUE,\"\",VLOOKUP($R1574,TAXONOMY!$A$1:$G$959,7,FALSE))","v":""},{"$f":"IF(ISBLANK($R1574)=TRUE,\"\",VLOOKUP($R1574,TAXONOMY!$A$1:$G$959,6,FALSE))","v":""},{"$f":"IF(ISBLANK($R1574)=TRUE,\"\",VLOOKUP($R1574,TAXONOMY!$A$1:$G$959,5,FALSE))","v":""},{"$f":"IF(ISBLANK($R1574)=TRUE,\"\",VLOOKUP($R1574,TAXONOMY!$A$1:$G$959,4,FALSE))","v":""},{"$f":"IF(ISBLANK($R1574)=TRUE,\"\",VLOOKUP($R1574,TAXONOMY!$A$1:$G$959,3,FALSE))","v":""},{"$f":"IF(ISBLANK($R1574)=TRUE,\"\",VLOOKUP($R1574,TAXONOMY!$A$1:$H$959,2,FALSE))","v":""}]
[null,null,null,null,null,null,null,null,null,null,null,{"$f":"IF(ISBLANK($R1575)=TRUE,\"\",VLOOKUP($R1575,TAXONOMY!$A$1:$G$959,7,FALSE))","v":""},{"$f":"IF(ISBLANK($R1575)=TRUE,\"\",VLOOKUP($R1575,TAXONOMY!$A$1:$G$959,6,FALSE))","v":""},{"$f":"IF(ISBLANK($R1575)=TRUE,\"\",VLOOKUP($R1575,TAXONOMY!$A$1:$G$959,5,FALSE))","v":""},{"$f":"IF(ISBLANK($R1575)=TRUE,\"\",VLOOKUP($R1575,TAXONOMY!$A$1:$G$959,4,FALSE))","v":""},{"$f":"IF(ISBLANK($R1575)=TRUE,\"\",VLOOKUP($R1575,TAXONOMY!$A$1:$G$959,3,FALSE))","v":""},{"$f":"IF(ISBLANK($R1575)=TRUE,\"\",VLOOKUP($R1575,TAXONOMY!$A$1:$H$959,2,FALSE))","v":""}]
[null,null,null,null,null,null,null,null,null,null,null,{"$f":"IF(ISBLANK($R1576)=TRUE,\"\",VLOOKUP($R1576,TAXONOMY!$A$1:$G$959,7,FALSE))","v":""},{"$f":"IF(ISBLANK($R1576)=TRUE,\"\",VLOOKUP($R1576,TAXONOMY!$A$1:$G$959,6,FALSE))","v":""},{"$f":"IF(ISBLANK($R1576)=TRUE,\"\",VLOOKUP($R1576,TAXONOMY!$A$1:$G$959,5,FALSE))","v":""},{"$f":"IF(ISBLANK($R1576)=TRUE,\"\",VLOOKUP($R1576,TAXONOMY!$A$1:$G$959,4,FALSE))","v":""},{"$f":"IF(ISBLANK($R1576)=TRUE,\"\",VLOOKUP($R1576,TAXONOMY!$A$1:$G$959,3,FALSE))","v":""},{"$f":"IF(ISBLANK($R1576)=TRUE,\"\",VLOOKUP($R1576,TAXONOMY!$A$1:$H$959,2,FALSE))","v":""}]
[null,null,null,null,null,null,null,null,null,null,null,{"$f":"IF(ISBLANK($R1577)=TRUE,\"\",VLOOKUP($R1577,TAXONOMY!$A$1:$G$959,7,FALSE))","v":""},{"$f":"IF(ISBLANK($R1577)=TRUE,\"\",VLOOKUP($R1577,TAXONOMY!$A$1:$G$959,6,FALSE))","v":""},{"$f":"IF(ISBLANK($R1577)=TRUE,\"\",VLOOKUP($R1577,TAXONOMY!$A$1:$G$959,5,FALSE))","v":""},{"$f":"IF(ISBLANK($R1577)=TRUE,\"\",VLOOKUP($R1577,TAXONOMY!$A$1:$G$959,4,FALSE))","v":""},{"$f":"IF(ISBLANK($R1577)=TRUE,\"\",VLOOKUP($R1577,TAXONOMY!$A$1:$G$959,3,FALSE))","v":""},{"$f":"IF(ISBLANK($R1577)=TRUE,\"\",VLOOKUP($R1577,TAXONOMY!$A$1:$H$959,2,FALSE))","v":""}]
[null,null,null,null,null,null,null,null,null,null,null,{"$f":"IF(ISBLANK($R1578)=TRUE,\"\",VLOOKUP($R1578,TAXONOMY!$A$1:$G$959,7,FALSE))","v":""},{"$f":"IF(ISBLANK($R1578)=TRUE,\"\",VLOOKUP($R1578,TAXONOMY!$A$1:$G$959,6,FALSE))","v":""},{"$f":"IF(ISBLANK($R1578)=TRUE,\"\",VLOOKUP($R1578,TAXONOMY!$A$1:$G$959,5,FALSE))","v":""},{"$f":"IF(ISBLANK($R1578)=TRUE,\"\",VLOOKUP($R1578,TAXONOMY!$A$1:$G$959,4,FALSE))","v":""},{"$f":"IF(ISBLANK($R1578)=TRUE,\"\",VLOOKUP($R1578,TAXONOMY!$A$1:$G$959,3,FALSE))","v":""},{"$f":"IF(ISBLANK($R1578)=TRUE,\"\",VLOOKUP($R1578,TAXONOMY!$A$1:$H$959,2,FALSE))","v":""}]
[null,null,null,null,null,null,null,null,null,null,null,{"$f":"IF(ISBLANK($R1579)=TRUE,\"\",VLOOKUP($R1579,TAXONOMY!$A$1:$G$959,7,FALSE))","v":""},{"$f":"IF(ISBLANK($R1579)=TRUE,\"\",VLOOKUP($R1579,TAXONOMY!$A$1:$G$959,6,FALSE))","v":""},{"$f":"IF(ISBLANK($R1579)=TRUE,\"\",VLOOKUP($R1579,TAXONOMY!$A$1:$G$959,5,FALSE))","v":""},{"$f":"IF(ISBLANK($R1579)=TRUE,\"\",VLOOKUP($R1579,TAXONOMY!$A$1:$G$959,4,FALSE))","v":""},{"$f":"IF(ISBLANK($R1579)=TRUE,\"\",VLOOKUP($R1579,TAXONOMY!$A$1:$G$959,3,FALSE))","v":""},{"$f":"IF(ISBLANK($R1579)=TRUE,\"\",VLOOKUP($R1579,TAXONOMY!$A$1:$H$959,2,FALSE))","v":""}]
[null,null,null,null,null,null,null,null,null,null,null,{"$f":"IF(ISBLANK($R1580)=TRUE,\"\",VLOOKUP($R1580,TAXONOMY!$A$1:$G$959,7,FALSE))","v":""},{"$f":"IF(ISBLANK($R1580)=TRUE,\"\",VLOOKUP($R1580,TAXONOMY!$A$1:$G$959,6,FALSE))","v":""},{"$f":"IF(ISBLANK($R1580)=TRUE,\"\",VLOOKUP($R1580,TAXONOMY!$A$1:$G$959,5,FALSE))","v":""},{"$f":"IF(ISBLANK($R1580)=TRUE,\"\",VLOOKUP($R1580,TAXONOMY!$A$1:$G$959,4,FALSE))","v":""},{"$f":"IF(ISBLANK($R1580)=TRUE,\"\",VLOOKUP($R1580,TAXONOMY!$A$1:$G$959,3,FALSE))","v":""},{"$f":"IF(ISBLANK($R1580)=TRUE,\"\",VLOOKUP($R1580,TAXONOMY!$A$1:$H$959,2,FALSE))","v":""}]
[null,null,null,null,null,null,null,null,null,null,null,{"$f":"IF(ISBLANK($R1581)=TRUE,\"\",VLOOKUP($R1581,TAXONOMY!$A$1:$G$959,7,FALSE))","v":""},{"$f":"IF(ISBLANK($R1581)=TRUE,\"\",VLOOKUP($R1581,TAXONOMY!$A$1:$G$959,6,FALSE))","v":""},{"$f":"IF(ISBLANK($R1581)=TRUE,\"\",VLOOKUP($R1581,TAXONOMY!$A$1:$G$959,5,FALSE))","v":""},{"$f":"IF(ISBLANK($R1581)=TRUE,\"\",VLOOKUP($R1581,TAXONOMY!$A$1:$G$959,4,FALSE))","v":""},{"$f":"IF(ISBLANK($R1581)=TRUE,\"\",VLOOKUP($R1581,TAXONOMY!$A$1:$G$959,3,FALSE))","v":""},{"$f":"IF(ISBLANK($R1581)=TRUE,\"\",VLOOKUP($R1581,TAXONOMY!$A$1:$H$959,2,FALSE))","v":""}]
[null,null,null,null,null,null,null,null,null,null,null,{"$f":"IF(ISBLANK($R1582)=TRUE,\"\",VLOOKUP($R1582,TAXONOMY!$A$1:$G$959,7,FALSE))","v":""},{"$f":"IF(ISBLANK($R1582)=TRUE,\"\",VLOOKUP($R1582,TAXONOMY!$A$1:$G$959,6,FALSE))","v":""},{"$f":"IF(ISBLANK($R1582)=TRUE,\"\",VLOOKUP($R1582,TAXONOMY!$A$1:$G$959,5,FALSE))","v":""},{"$f":"IF(ISBLANK($R1582)=TRUE,\"\",VLOOKUP($R1582,TAXONOMY!$A$1:$G$959,4,FALSE))","v":""},{"$f":"IF(ISBLANK($R1582)=TRUE,\"\",VLOOKUP($R1582,TAXONOMY!$A$1:$G$959,3,FALSE))","v":""},{"$f":"IF(ISBLANK($R1582)=TRUE,\"\",VLOOKUP($R1582,TAXONOMY!$A$1:$H$959,2,FALSE))","v":""}]
[null,null,null,null,null,null,null,null,null,null,null,{"$f":"IF(ISBLANK($R1583)=TRUE,\"\",VLOOKUP($R1583,TAXONOMY!$A$1:$G$959,7,FALSE))","v":""},{"$f":"IF(ISBLANK($R1583)=TRUE,\"\",VLOOKUP($R1583,TAXONOMY!$A$1:$G$959,6,FALSE))","v":""},{"$f":"IF(ISBLANK($R1583)=TRUE,\"\",VLOOKUP($R1583,TAXONOMY!$A$1:$G$959,5,FALSE))","v":""},{"$f":"IF(ISBLANK($R1583)=TRUE,\"\",VLOOKUP($R1583,TAXONOMY!$A$1:$G$959,4,FALSE))","v":""},{"$f":"IF(ISBLANK($R1583)=TRUE,\"\",VLOOKUP($R1583,TAXONOMY!$A$1:$G$959,3,FALSE))","v":""},{"$f":"IF(ISBLANK($R1583)=TRUE,\"\",VLOOKUP($R1583,TAXONOMY!$A$1:$H$959,2,FALSE))","v":""}]
[null,null,null,null,null,null,null,null,null,null,null,{"$f":"IF(ISBLANK($R1584)=TRUE,\"\",VLOOKUP($R1584,TAXONOMY!$A$1:$G$959,7,FALSE))","v":""},{"$f":"IF(ISBLANK($R1584)=TRUE,\"\",VLOOKUP($R1584,TAXONOMY!$A$1:$G$959,6,FALSE))","v":""},{"$f":"IF(ISBLANK($R1584)=TRUE,\"\",VLOOKUP($R1584,TAXONOMY!$A$1:$G$959,5,FALSE))","v":""},{"$f":"IF(ISBLANK($R1584)=TRUE,\"\",VLOOKUP($R1584,TAXONOMY!$A$1:$G$959,4,FALSE))","v":""},{"$f":"IF(ISBLANK($R1584)=TRUE,\"\",VLOOKUP($R1584,TAXONOMY!$A$1:$G$959,3,FALSE))","v":""},{"$f":"IF(ISBLANK($R1584)=TRUE,\"\",VLOOKUP($R1584,TAXONOMY!$A$1:$H$959,2,FALSE))","v":""}]
[null,null,null,null,null,null,null,null,null,null,null,{"$f":"IF(ISBLANK($R1585)=TRUE,\"\",VLOOKUP($R1585,TAXONOMY!$A$1:$G$959,7,FALSE))","v":""},{"$f":"IF(ISBLANK($R1585)=TRUE,\"\",VLOOKUP($R1585,TAXONOMY!$A$1:$G$959,6,FALSE))","v":""},{"$f":"IF(ISBLANK($R1585)=TRUE,\"\",VLOOKUP($R1585,TAXONOMY!$A$1:$G$959,5,FALSE))","v":""},{"$f":"IF(ISBLANK($R1585)=TRUE,\"\",VLOOKUP($R1585,TAXONOMY!$A$1:$G$959,4,FALSE))","v":""},{"$f":"IF(ISBLANK($R1585)=TRUE,\"\",VLOOKUP($R1585,TAXONOMY!$A$1:$G$959,3,FALSE))","v":""},{"$f":"IF(ISBLANK($R1585)=TRUE,\"\",VLOOKUP($R1585,TAXONOMY!$A$1:$H$959,2,FALSE))","v":""}]
[null,null,null,null,null,null,null,null,null,null,null,{"$f":"IF(ISBLANK($R1586)=TRUE,\"\",VLOOKUP($R1586,TAXONOMY!$A$1:$G$959,7,FALSE))","v":""},{"$f":"IF(ISBLANK($R1586)=TRUE,\"\",VLOOKUP($R1586,TAXONOMY!$A$1:$G$959,6,FALSE))","v":""},{"$f":"IF(ISBLANK($R1586)=TRUE,\"\",VLOOKUP($R1586,TAXONOMY!$A$1:$G$959,5,FALSE))","v":""},{"$f":"IF(ISBLANK($R1586)=TRUE,\"\",VLOOKUP($R1586,TAXONOMY!$A$1:$G$959,4,FALSE))","v":""},{"$f":"IF(ISBLANK($R1586)=TRUE,\"\",VLOOKUP($R1586,TAXONOMY!$A$1:$G$959,3,FALSE))","v":""},{"$f":"IF(ISBLANK($R1586)=TRUE,\"\",VLOOKUP($R1586,TAXONOMY!$A$1:$H$959,2,FALSE))","v":""}]
[null,null,null,null,null,null,null,null,null,null,null,{"$f":"IF(ISBLANK($R1587)=TRUE,\"\",VLOOKUP($R1587,TAXONOMY!$A$1:$G$959,7,FALSE))","v":""},{"$f":"IF(ISBLANK($R1587)=TRUE,\"\",VLOOKUP($R1587,TAXONOMY!$A$1:$G$959,6,FALSE))","v":""},{"$f":"IF(ISBLANK($R1587)=TRUE,\"\",VLOOKUP($R1587,TAXONOMY!$A$1:$G$959,5,FALSE))","v":""},{"$f":"IF(ISBLANK($R1587)=TRUE,\"\",VLOOKUP($R1587,TAXONOMY!$A$1:$G$959,4,FALSE))","v":""},{"$f":"IF(ISBLANK($R1587)=TRUE,\"\",VLOOKUP($R1587,TAXONOMY!$A$1:$G$959,3,FALSE))","v":""},{"$f":"IF(ISBLANK($R1587)=TRUE,\"\",VLOOKUP($R1587,TAXONOMY!$A$1:$H$959,2,FALSE))","v":""}]
[null,null,null,null,null,null,null,null,null,null,null,{"$f":"IF(ISBLANK($R1588)=TRUE,\"\",VLOOKUP($R1588,TAXONOMY!$A$1:$G$959,7,FALSE))","v":""},{"$f":"IF(ISBLANK($R1588)=TRUE,\"\",VLOOKUP($R1588,TAXONOMY!$A$1:$G$959,6,FALSE))","v":""},{"$f":"IF(ISBLANK($R1588)=TRUE,\"\",VLOOKUP($R1588,TAXONOMY!$A$1:$G$959,5,FALSE))","v":""},{"$f":"IF(ISBLANK($R1588)=TRUE,\"\",VLOOKUP($R1588,TAXONOMY!$A$1:$G$959,4,FALSE))","v":""},{"$f":"IF(ISBLANK($R1588)=TRUE,\"\",VLOOKUP($R1588,TAXONOMY!$A$1:$G$959,3,FALSE))","v":""},{"$f":"IF(ISBLANK($R1588)=TRUE,\"\",VLOOKUP($R1588,TAXONOMY!$A$1:$H$959,2,FALSE))","v":""}]
[null,null,null,null,null,null,null,null,null,null,null,{"$f":"IF(ISBLANK($R1589)=TRUE,\"\",VLOOKUP($R1589,TAXONOMY!$A$1:$G$959,7,FALSE))","v":""},{"$f":"IF(ISBLANK($R1589)=TRUE,\"\",VLOOKUP($R1589,TAXONOMY!$A$1:$G$959,6,FALSE))","v":""},{"$f":"IF(ISBLANK($R1589)=TRUE,\"\",VLOOKUP($R1589,TAXONOMY!$A$1:$G$959,5,FALSE))","v":""},{"$f":"IF(ISBLANK($R1589)=TRUE,\"\",VLOOKUP($R1589,TAXONOMY!$A$1:$G$959,4,FALSE))","v":""},{"$f":"IF(ISBLANK($R1589)=TRUE,\"\",VLOOKUP($R1589,TAXONOMY!$A$1:$G$959,3,FALSE))","v":""},{"$f":"IF(ISBLANK($R1589)=TRUE,\"\",VLOOKUP($R1589,TAXONOMY!$A$1:$H$959,2,FALSE))","v":""}]
[null,null,null,null,null,null,null,null,null,null,null,{"$f":"IF(ISBLANK($R1590)=TRUE,\"\",VLOOKUP($R1590,TAXONOMY!$A$1:$G$959,7,FALSE))","v":""},{"$f":"IF(ISBLANK($R1590)=TRUE,\"\",VLOOKUP($R1590,TAXONOMY!$A$1:$G$959,6,FALSE))","v":""},{"$f":"IF(ISBLANK($R1590)=TRUE,\"\",VLOOKUP($R1590,TAXONOMY!$A$1:$G$959,5,FALSE))","v":""},{"$f":"IF(ISBLANK($R1590)=TRUE,\"\",VLOOKUP($R1590,TAXONOMY!$A$1:$G$959,4,FALSE))","v":""},{"$f":"IF(ISBLANK($R1590)=TRUE,\"\",VLOOKUP($R1590,TAXONOMY!$A$1:$G$959,3,FALSE))","v":""},{"$f":"IF(ISBLANK($R1590)=TRUE,\"\",VLOOKUP($R1590,TAXONOMY!$A$1:$H$959,2,FALSE))","v":""}]
[null,null,null,null,null,null,null,null,null,null,null,{"$f":"IF(ISBLANK($R1591)=TRUE,\"\",VLOOKUP($R1591,TAXONOMY!$A$1:$G$959,7,FALSE))","v":""},{"$f":"IF(ISBLANK($R1591)=TRUE,\"\",VLOOKUP($R1591,TAXONOMY!$A$1:$G$959,6,FALSE))","v":""},{"$f":"IF(ISBLANK($R1591)=TRUE,\"\",VLOOKUP($R1591,TAXONOMY!$A$1:$G$959,5,FALSE))","v":""},{"$f":"IF(ISBLANK($R1591)=TRUE,\"\",VLOOKUP($R1591,TAXONOMY!$A$1:$G$959,4,FALSE))","v":""},{"$f":"IF(ISBLANK($R1591)=TRUE,\"\",VLOOKUP($R1591,TAXONOMY!$A$1:$G$959,3,FALSE))","v":""},{"$f":"IF(ISBLANK($R1591)=TRUE,\"\",VLOOKUP($R1591,TAXONOMY!$A$1:$H$959,2,FALSE))","v":""}]
[null,null,null,null,null,null,null,null,null,null,null,{"$f":"IF(ISBLANK($R1592)=TRUE,\"\",VLOOKUP($R1592,TAXONOMY!$A$1:$G$959,7,FALSE))","v":""},{"$f":"IF(ISBLANK($R1592)=TRUE,\"\",VLOOKUP($R1592,TAXONOMY!$A$1:$G$959,6,FALSE))","v":""},{"$f":"IF(ISBLANK($R1592)=TRUE,\"\",VLOOKUP($R1592,TAXONOMY!$A$1:$G$959,5,FALSE))","v":""},{"$f":"IF(ISBLANK($R1592)=TRUE,\"\",VLOOKUP($R1592,TAXONOMY!$A$1:$G$959,4,FALSE))","v":""},{"$f":"IF(ISBLANK($R1592)=TRUE,\"\",VLOOKUP($R1592,TAXONOMY!$A$1:$G$959,3,FALSE))","v":""},{"$f":"IF(ISBLANK($R1592)=TRUE,\"\",VLOOKUP($R1592,TAXONOMY!$A$1:$H$959,2,FALSE))","v":""}]
[null,null,null,null,null,null,null,null,null,null,null,{"$f":"IF(ISBLANK($R1593)=TRUE,\"\",VLOOKUP($R1593,TAXONOMY!$A$1:$G$959,7,FALSE))","v":""},{"$f":"IF(ISBLANK($R1593)=TRUE,\"\",VLOOKUP($R1593,TAXONOMY!$A$1:$G$959,6,FALSE))","v":""},{"$f":"IF(ISBLANK($R1593)=TRUE,\"\",VLOOKUP($R1593,TAXONOMY!$A$1:$G$959,5,FALSE))","v":""},{"$f":"IF(ISBLANK($R1593)=TRUE,\"\",VLOOKUP($R1593,TAXONOMY!$A$1:$G$959,4,FALSE))","v":""},{"$f":"IF(ISBLANK($R1593)=TRUE,\"\",VLOOKUP($R1593,TAXONOMY!$A$1:$G$959,3,FALSE))","v":""},{"$f":"IF(ISBLANK($R1593)=TRUE,\"\",VLOOKUP($R1593,TAXONOMY!$A$1:$H$959,2,FALSE))","v":""}]
[null,null,null,null,null,null,null,null,null,null,null,{"$f":"IF(ISBLANK($R1594)=TRUE,\"\",VLOOKUP($R1594,TAXONOMY!$A$1:$G$959,7,FALSE))","v":""},{"$f":"IF(ISBLANK($R1594)=TRUE,\"\",VLOOKUP($R1594,TAXONOMY!$A$1:$G$959,6,FALSE))","v":""},{"$f":"IF(ISBLANK($R1594)=TRUE,\"\",VLOOKUP($R1594,TAXONOMY!$A$1:$G$959,5,FALSE))","v":""},{"$f":"IF(ISBLANK($R1594)=TRUE,\"\",VLOOKUP($R1594,TAXONOMY!$A$1:$G$959,4,FALSE))","v":""},{"$f":"IF(ISBLANK($R1594)=TRUE,\"\",VLOOKUP($R1594,TAXONOMY!$A$1:$G$959,3,FALSE))","v":""},{"$f":"IF(ISBLANK($R1594)=TRUE,\"\",VLOOKUP($R1594,TAXONOMY!$A$1:$H$959,2,FALSE))","v":""}]
[null,null,null,null,null,null,null,null,null,null,null,{"$f":"IF(ISBLANK($R1595)=TRUE,\"\",VLOOKUP($R1595,TAXONOMY!$A$1:$G$959,7,FALSE))","v":""},{"$f":"IF(ISBLANK($R1595)=TRUE,\"\",VLOOKUP($R1595,TAXONOMY!$A$1:$G$959,6,FALSE))","v":""},{"$f":"IF(ISBLANK($R1595)=TRUE,\"\",VLOOKUP($R1595,TAXONOMY!$A$1:$G$959,5,FALSE))","v":""},{"$f":"IF(ISBLANK($R1595)=TRUE,\"\",VLOOKUP($R1595,TAXONOMY!$A$1:$G$959,4,FALSE))","v":""},{"$f":"IF(ISBLANK($R1595)=TRUE,\"\",VLOOKUP($R1595,TAXONOMY!$A$1:$G$959,3,FALSE))","v":""},{"$f":"IF(ISBLANK($R1595)=TRUE,\"\",VLOOKUP($R1595,TAXONOMY!$A$1:$H$959,2,FALSE))","v":""}]
[null,null,null,null,null,null,null,null,null,null,null,{"$f":"IF(ISBLANK($R1596)=TRUE,\"\",VLOOKUP($R1596,TAXONOMY!$A$1:$G$959,7,FALSE))","v":""},{"$f":"IF(ISBLANK($R1596)=TRUE,\"\",VLOOKUP($R1596,TAXONOMY!$A$1:$G$959,6,FALSE))","v":""},{"$f":"IF(ISBLANK($R1596)=TRUE,\"\",VLOOKUP($R1596,TAXONOMY!$A$1:$G$959,5,FALSE))","v":""},{"$f":"IF(ISBLANK($R1596)=TRUE,\"\",VLOOKUP($R1596,TAXONOMY!$A$1:$G$959,4,FALSE))","v":""},{"$f":"IF(ISBLANK($R1596)=TRUE,\"\",VLOOKUP($R1596,TAXONOMY!$A$1:$G$959,3,FALSE))","v":""},{"$f":"IF(ISBLANK($R1596)=TRUE,\"\",VLOOKUP($R1596,TAXONOMY!$A$1:$H$959,2,FALSE))","v":""}]
[null,null,null,null,null,null,null,null,null,null,null,{"$f":"IF(ISBLANK($R1597)=TRUE,\"\",VLOOKUP($R1597,TAXONOMY!$A$1:$G$959,7,FALSE))","v":""},{"$f":"IF(ISBLANK($R1597)=TRUE,\"\",VLOOKUP($R1597,TAXONOMY!$A$1:$G$959,6,FALSE))","v":""},{"$f":"IF(ISBLANK($R1597)=TRUE,\"\",VLOOKUP($R1597,TAXONOMY!$A$1:$G$959,5,FALSE))","v":""},{"$f":"IF(ISBLANK($R1597)=TRUE,\"\",VLOOKUP($R1597,TAXONOMY!$A$1:$G$959,4,FALSE))","v":""},{"$f":"IF(ISBLANK($R1597)=TRUE,\"\",VLOOKUP($R1597,TAXONOMY!$A$1:$G$959,3,FALSE))","v":""},{"$f":"IF(ISBLANK($R1597)=TRUE,\"\",VLOOKUP($R1597,TAXONOMY!$A$1:$H$959,2,FALSE))","v":""}]
[null,null,null,null,null,null,null,null,null,null,null,{"$f":"IF(ISBLANK($R1598)=TRUE,\"\",VLOOKUP($R1598,TAXONOMY!$A$1:$G$959,7,FALSE))","v":""},{"$f":"IF(ISBLANK($R1598)=TRUE,\"\",VLOOKUP($R1598,TAXONOMY!$A$1:$G$959,6,FALSE))","v":""},{"$f":"IF(ISBLANK($R1598)=TRUE,\"\",VLOOKUP($R1598,TAXONOMY!$A$1:$G$959,5,FALSE))","v":""},{"$f":"IF(ISBLANK($R1598)=TRUE,\"\",VLOOKUP($R1598,TAXONOMY!$A$1:$G$959,4,FALSE))","v":""},{"$f":"IF(ISBLANK($R1598)=TRUE,\"\",VLOOKUP($R1598,TAXONOMY!$A$1:$G$959,3,FALSE))","v":""},{"$f":"IF(ISBLANK($R1598)=TRUE,\"\",VLOOKUP($R1598,TAXONOMY!$A$1:$H$959,2,FALSE))","v":""}]
[null,null,null,null,null,null,null,null,null,null,null,{"$f":"IF(ISBLANK($R1599)=TRUE,\"\",VLOOKUP($R1599,TAXONOMY!$A$1:$G$959,7,FALSE))","v":""},{"$f":"IF(ISBLANK($R1599)=TRUE,\"\",VLOOKUP($R1599,TAXONOMY!$A$1:$G$959,6,FALSE))","v":""},{"$f":"IF(ISBLANK($R1599)=TRUE,\"\",VLOOKUP($R1599,TAXONOMY!$A$1:$G$959,5,FALSE))","v":""},{"$f":"IF(ISBLANK($R1599)=TRUE,\"\",VLOOKUP($R1599,TAXONOMY!$A$1:$G$959,4,FALSE))","v":""},{"$f":"IF(ISBLANK($R1599)=TRUE,\"\",VLOOKUP($R1599,TAXONOMY!$A$1:$G$959,3,FALSE))","v":""},{"$f":"IF(ISBLANK($R1599)=TRUE,\"\",VLOOKUP($R1599,TAXONOMY!$A$1:$H$959,2,FALSE))","v":""}]
[null,null,null,null,null,null,null,null,null,null,null,{"$f":"IF(ISBLANK($R1600)=TRUE,\"\",VLOOKUP($R1600,TAXONOMY!$A$1:$G$959,7,FALSE))","v":""},{"$f":"IF(ISBLANK($R1600)=TRUE,\"\",VLOOKUP($R1600,TAXONOMY!$A$1:$G$959,6,FALSE))","v":""},{"$f":"IF(ISBLANK($R1600)=TRUE,\"\",VLOOKUP($R1600,TAXONOMY!$A$1:$G$959,5,FALSE))","v":""},{"$f":"IF(ISBLANK($R1600)=TRUE,\"\",VLOOKUP($R1600,TAXONOMY!$A$1:$G$959,4,FALSE))","v":""},{"$f":"IF(ISBLANK($R1600)=TRUE,\"\",VLOOKUP($R1600,TAXONOMY!$A$1:$G$959,3,FALSE))","v":""},{"$f":"IF(ISBLANK($R1600)=TRUE,\"\",VLOOKUP($R1600,TAXONOMY!$A$1:$H$959,2,FALSE))","v":""}]
[null,null,null,null,null,null,null,null,null,null,null,{"$f":"IF(ISBLANK($R1601)=TRUE,\"\",VLOOKUP($R1601,TAXONOMY!$A$1:$G$959,7,FALSE))","v":""},{"$f":"IF(ISBLANK($R1601)=TRUE,\"\",VLOOKUP($R1601,TAXONOMY!$A$1:$G$959,6,FALSE))","v":""},{"$f":"IF(ISBLANK($R1601)=TRUE,\"\",VLOOKUP($R1601,TAXONOMY!$A$1:$G$959,5,FALSE))","v":""},{"$f":"IF(ISBLANK($R1601)=TRUE,\"\",VLOOKUP($R1601,TAXONOMY!$A$1:$G$959,4,FALSE))","v":""},{"$f":"IF(ISBLANK($R1601)=TRUE,\"\",VLOOKUP($R1601,TAXONOMY!$A$1:$G$959,3,FALSE))","v":""},{"$f":"IF(ISBLANK($R1601)=TRUE,\"\",VLOOKUP($R1601,TAXONOMY!$A$1:$H$959,2,FALSE))","v":""}]
[null,null,null,null,null,null,null,null,null,null,null,{"$f":"IF(ISBLANK($R1602)=TRUE,\"\",VLOOKUP($R1602,TAXONOMY!$A$1:$G$959,7,FALSE))","v":""},{"$f":"IF(ISBLANK($R1602)=TRUE,\"\",VLOOKUP($R1602,TAXONOMY!$A$1:$G$959,6,FALSE))","v":""},{"$f":"IF(ISBLANK($R1602)=TRUE,\"\",VLOOKUP($R1602,TAXONOMY!$A$1:$G$959,5,FALSE))","v":""},{"$f":"IF(ISBLANK($R1602)=TRUE,\"\",VLOOKUP($R1602,TAXONOMY!$A$1:$G$959,4,FALSE))","v":""},{"$f":"IF(ISBLANK($R1602)=TRUE,\"\",VLOOKUP($R1602,TAXONOMY!$A$1:$G$959,3,FALSE))","v":""},{"$f":"IF(ISBLANK($R1602)=TRUE,\"\",VLOOKUP($R1602,TAXONOMY!$A$1:$H$959,2,FALSE))","v":""}]
[null,null,null,null,null,null,null,null,null,null,null,{"$f":"IF(ISBLANK($R1603)=TRUE,\"\",VLOOKUP($R1603,TAXONOMY!$A$1:$G$959,7,FALSE))","v":""},{"$f":"IF(ISBLANK($R1603)=TRUE,\"\",VLOOKUP($R1603,TAXONOMY!$A$1:$G$959,6,FALSE))","v":""},{"$f":"IF(ISBLANK($R1603)=TRUE,\"\",VLOOKUP($R1603,TAXONOMY!$A$1:$G$959,5,FALSE))","v":""},{"$f":"IF(ISBLANK($R1603)=TRUE,\"\",VLOOKUP($R1603,TAXONOMY!$A$1:$G$959,4,FALSE))","v":""},{"$f":"IF(ISBLANK($R1603)=TRUE,\"\",VLOOKUP($R1603,TAXONOMY!$A$1:$G$959,3,FALSE))","v":""},{"$f":"IF(ISBLANK($R1603)=TRUE,\"\",VLOOKUP($R1603,TAXONOMY!$A$1:$H$959,2,FALSE))","v":""}]
[null,null,null,null,null,null,null,null,null,null,null,{"$f":"IF(ISBLANK($R1604)=TRUE,\"\",VLOOKUP($R1604,TAXONOMY!$A$1:$G$959,7,FALSE))","v":""},{"$f":"IF(ISBLANK($R1604)=TRUE,\"\",VLOOKUP($R1604,TAXONOMY!$A$1:$G$959,6,FALSE))","v":""},{"$f":"IF(ISBLANK($R1604)=TRUE,\"\",VLOOKUP($R1604,TAXONOMY!$A$1:$G$959,5,FALSE))","v":""},{"$f":"IF(ISBLANK($R1604)=TRUE,\"\",VLOOKUP($R1604,TAXONOMY!$A$1:$G$959,4,FALSE))","v":""},{"$f":"IF(ISBLANK($R1604)=TRUE,\"\",VLOOKUP($R1604,TAXONOMY!$A$1:$G$959,3,FALSE))","v":""},{"$f":"IF(ISBLANK($R1604)=TRUE,\"\",VLOOKUP($R1604,TAXONOMY!$A$1:$H$959,2,FALSE))","v":""}]
[null,null,null,null,null,null,null,null,null,null,null,{"$f":"IF(ISBLANK($R1605)=TRUE,\"\",VLOOKUP($R1605,TAXONOMY!$A$1:$G$959,7,FALSE))","v":""},{"$f":"IF(ISBLANK($R1605)=TRUE,\"\",VLOOKUP($R1605,TAXONOMY!$A$1:$G$959,6,FALSE))","v":""},{"$f":"IF(ISBLANK($R1605)=TRUE,\"\",VLOOKUP($R1605,TAXONOMY!$A$1:$G$959,5,FALSE))","v":""},{"$f":"IF(ISBLANK($R1605)=TRUE,\"\",VLOOKUP($R1605,TAXONOMY!$A$1:$G$959,4,FALSE))","v":""},{"$f":"IF(ISBLANK($R1605)=TRUE,\"\",VLOOKUP($R1605,TAXONOMY!$A$1:$G$959,3,FALSE))","v":""},{"$f":"IF(ISBLANK($R1605)=TRUE,\"\",VLOOKUP($R1605,TAXONOMY!$A$1:$H$959,2,FALSE))","v":""}]
[null,null,null,null,null,null,null,null,null,null,null,{"$f":"IF(ISBLANK($R1606)=TRUE,\"\",VLOOKUP($R1606,TAXONOMY!$A$1:$G$959,7,FALSE))","v":""},{"$f":"IF(ISBLANK($R1606)=TRUE,\"\",VLOOKUP($R1606,TAXONOMY!$A$1:$G$959,6,FALSE))","v":""},{"$f":"IF(ISBLANK($R1606)=TRUE,\"\",VLOOKUP($R1606,TAXONOMY!$A$1:$G$959,5,FALSE))","v":""},{"$f":"IF(ISBLANK($R1606)=TRUE,\"\",VLOOKUP($R1606,TAXONOMY!$A$1:$G$959,4,FALSE))","v":""},{"$f":"IF(ISBLANK($R1606)=TRUE,\"\",VLOOKUP($R1606,TAXONOMY!$A$1:$G$959,3,FALSE))","v":""},{"$f":"IF(ISBLANK($R1606)=TRUE,\"\",VLOOKUP($R1606,TAXONOMY!$A$1:$H$959,2,FALSE))","v":""}]
[null,null,null,null,null,null,null,null,null,null,null,{"$f":"IF(ISBLANK($R1607)=TRUE,\"\",VLOOKUP($R1607,TAXONOMY!$A$1:$G$959,7,FALSE))","v":""},{"$f":"IF(ISBLANK($R1607)=TRUE,\"\",VLOOKUP($R1607,TAXONOMY!$A$1:$G$959,6,FALSE))","v":""},{"$f":"IF(ISBLANK($R1607)=TRUE,\"\",VLOOKUP($R1607,TAXONOMY!$A$1:$G$959,5,FALSE))","v":""},{"$f":"IF(ISBLANK($R1607)=TRUE,\"\",VLOOKUP($R1607,TAXONOMY!$A$1:$G$959,4,FALSE))","v":""},{"$f":"IF(ISBLANK($R1607)=TRUE,\"\",VLOOKUP($R1607,TAXONOMY!$A$1:$G$959,3,FALSE))","v":""},{"$f":"IF(ISBLANK($R1607)=TRUE,\"\",VLOOKUP($R1607,TAXONOMY!$A$1:$H$959,2,FALSE))","v":""}]
[null,null,null,null,null,null,null,null,null,null,null,{"$f":"IF(ISBLANK($R1608)=TRUE,\"\",VLOOKUP($R1608,TAXONOMY!$A$1:$G$959,7,FALSE))","v":""},{"$f":"IF(ISBLANK($R1608)=TRUE,\"\",VLOOKUP($R1608,TAXONOMY!$A$1:$G$959,6,FALSE))","v":""},{"$f":"IF(ISBLANK($R1608)=TRUE,\"\",VLOOKUP($R1608,TAXONOMY!$A$1:$G$959,5,FALSE))","v":""},{"$f":"IF(ISBLANK($R1608)=TRUE,\"\",VLOOKUP($R1608,TAXONOMY!$A$1:$G$959,4,FALSE))","v":""},{"$f":"IF(ISBLANK($R1608)=TRUE,\"\",VLOOKUP($R1608,TAXONOMY!$A$1:$G$959,3,FALSE))","v":""},{"$f":"IF(ISBLANK($R1608)=TRUE,\"\",VLOOKUP($R1608,TAXONOMY!$A$1:$H$959,2,FALSE))","v":""}]
[null,null,null,null,null,null,null,null,null,null,null,{"$f":"IF(ISBLANK($R1609)=TRUE,\"\",VLOOKUP($R1609,TAXONOMY!$A$1:$G$959,7,FALSE))","v":""},{"$f":"IF(ISBLANK($R1609)=TRUE,\"\",VLOOKUP($R1609,TAXONOMY!$A$1:$G$959,6,FALSE))","v":""},{"$f":"IF(ISBLANK($R1609)=TRUE,\"\",VLOOKUP($R1609,TAXONOMY!$A$1:$G$959,5,FALSE))","v":""},{"$f":"IF(ISBLANK($R1609)=TRUE,\"\",VLOOKUP($R1609,TAXONOMY!$A$1:$G$959,4,FALSE))","v":""},{"$f":"IF(ISBLANK($R1609)=TRUE,\"\",VLOOKUP($R1609,TAXONOMY!$A$1:$G$959,3,FALSE))","v":""},{"$f":"IF(ISBLANK($R1609)=TRUE,\"\",VLOOKUP($R1609,TAXONOMY!$A$1:$H$959,2,FALSE))","v":""}]
[null,null,null,null,null,null,null,null,null,null,null,{"$f":"IF(ISBLANK($R1610)=TRUE,\"\",VLOOKUP($R1610,TAXONOMY!$A$1:$G$959,7,FALSE))","v":""},{"$f":"IF(ISBLANK($R1610)=TRUE,\"\",VLOOKUP($R1610,TAXONOMY!$A$1:$G$959,6,FALSE))","v":""},{"$f":"IF(ISBLANK($R1610)=TRUE,\"\",VLOOKUP($R1610,TAXONOMY!$A$1:$G$959,5,FALSE))","v":""},{"$f":"IF(ISBLANK($R1610)=TRUE,\"\",VLOOKUP($R1610,TAXONOMY!$A$1:$G$959,4,FALSE))","v":""},{"$f":"IF(ISBLANK($R1610)=TRUE,\"\",VLOOKUP($R1610,TAXONOMY!$A$1:$G$959,3,FALSE))","v":""},{"$f":"IF(ISBLANK($R1610)=TRUE,\"\",VLOOKUP($R1610,TAXONOMY!$A$1:$H$959,2,FALSE))","v":""}]
[null,null,null,null,null,null,null,null,null,null,null,{"$f":"IF(ISBLANK($R1611)=TRUE,\"\",VLOOKUP($R1611,TAXONOMY!$A$1:$G$959,7,FALSE))","v":""},{"$f":"IF(ISBLANK($R1611)=TRUE,\"\",VLOOKUP($R1611,TAXONOMY!$A$1:$G$959,6,FALSE))","v":""},{"$f":"IF(ISBLANK($R1611)=TRUE,\"\",VLOOKUP($R1611,TAXONOMY!$A$1:$G$959,5,FALSE))","v":""},{"$f":"IF(ISBLANK($R1611)=TRUE,\"\",VLOOKUP($R1611,TAXONOMY!$A$1:$G$959,4,FALSE))","v":""},{"$f":"IF(ISBLANK($R1611)=TRUE,\"\",VLOOKUP($R1611,TAXONOMY!$A$1:$G$959,3,FALSE))","v":""},{"$f":"IF(ISBLANK($R1611)=TRUE,\"\",VLOOKUP($R1611,TAXONOMY!$A$1:$H$959,2,FALSE))","v":""}]
[null,null,null,null,null,null,null,null,null,null,null,{"$f":"IF(ISBLANK($R1612)=TRUE,\"\",VLOOKUP($R1612,TAXONOMY!$A$1:$G$959,7,FALSE))","v":""},{"$f":"IF(ISBLANK($R1612)=TRUE,\"\",VLOOKUP($R1612,TAXONOMY!$A$1:$G$959,6,FALSE))","v":""},{"$f":"IF(ISBLANK($R1612)=TRUE,\"\",VLOOKUP($R1612,TAXONOMY!$A$1:$G$959,5,FALSE))","v":""},{"$f":"IF(ISBLANK($R1612)=TRUE,\"\",VLOOKUP($R1612,TAXONOMY!$A$1:$G$959,4,FALSE))","v":""},{"$f":"IF(ISBLANK($R1612)=TRUE,\"\",VLOOKUP($R1612,TAXONOMY!$A$1:$G$959,3,FALSE))","v":""},{"$f":"IF(ISBLANK($R1612)=TRUE,\"\",VLOOKUP($R1612,TAXONOMY!$A$1:$H$959,2,FALSE))","v":""}]
[null,null,null,null,null,null,null,null,null,null,null,{"$f":"IF(ISBLANK($R1613)=TRUE,\"\",VLOOKUP($R1613,TAXONOMY!$A$1:$G$959,7,FALSE))","v":""},{"$f":"IF(ISBLANK($R1613)=TRUE,\"\",VLOOKUP($R1613,TAXONOMY!$A$1:$G$959,6,FALSE))","v":""},{"$f":"IF(ISBLANK($R1613)=TRUE,\"\",VLOOKUP($R1613,TAXONOMY!$A$1:$G$959,5,FALSE))","v":""},{"$f":"IF(ISBLANK($R1613)=TRUE,\"\",VLOOKUP($R1613,TAXONOMY!$A$1:$G$959,4,FALSE))","v":""},{"$f":"IF(ISBLANK($R1613)=TRUE,\"\",VLOOKUP($R1613,TAXONOMY!$A$1:$G$959,3,FALSE))","v":""},{"$f":"IF(ISBLANK($R1613)=TRUE,\"\",VLOOKUP($R1613,TAXONOMY!$A$1:$H$959,2,FALSE))","v":""}]
[null,null,null,null,null,null,null,null,null,null,null,{"$f":"IF(ISBLANK($R1614)=TRUE,\"\",VLOOKUP($R1614,TAXONOMY!$A$1:$G$959,7,FALSE))","v":""},{"$f":"IF(ISBLANK($R1614)=TRUE,\"\",VLOOKUP($R1614,TAXONOMY!$A$1:$G$959,6,FALSE))","v":""},{"$f":"IF(ISBLANK($R1614)=TRUE,\"\",VLOOKUP($R1614,TAXONOMY!$A$1:$G$959,5,FALSE))","v":""},{"$f":"IF(ISBLANK($R1614)=TRUE,\"\",VLOOKUP($R1614,TAXONOMY!$A$1:$G$959,4,FALSE))","v":""},{"$f":"IF(ISBLANK($R1614)=TRUE,\"\",VLOOKUP($R1614,TAXONOMY!$A$1:$G$959,3,FALSE))","v":""},{"$f":"IF(ISBLANK($R1614)=TRUE,\"\",VLOOKUP($R1614,TAXONOMY!$A$1:$H$959,2,FALSE))","v":""}]
[null,null,null,null,null,null,null,null,null,null,null,{"$f":"IF(ISBLANK($R1615)=TRUE,\"\",VLOOKUP($R1615,TAXONOMY!$A$1:$G$959,7,FALSE))","v":""},{"$f":"IF(ISBLANK($R1615)=TRUE,\"\",VLOOKUP($R1615,TAXONOMY!$A$1:$G$959,6,FALSE))","v":""},{"$f":"IF(ISBLANK($R1615)=TRUE,\"\",VLOOKUP($R1615,TAXONOMY!$A$1:$G$959,5,FALSE))","v":""},{"$f":"IF(ISBLANK($R1615)=TRUE,\"\",VLOOKUP($R1615,TAXONOMY!$A$1:$G$959,4,FALSE))","v":""},{"$f":"IF(ISBLANK($R1615)=TRUE,\"\",VLOOKUP($R1615,TAXONOMY!$A$1:$G$959,3,FALSE))","v":""},{"$f":"IF(ISBLANK($R1615)=TRUE,\"\",VLOOKUP($R1615,TAXONOMY!$A$1:$H$959,2,FALSE))","v":""}]
[null,null,null,null,null,null,null,null,null,null,null,{"$f":"IF(ISBLANK($R1616)=TRUE,\"\",VLOOKUP($R1616,TAXONOMY!$A$1:$G$959,7,FALSE))","v":""},{"$f":"IF(ISBLANK($R1616)=TRUE,\"\",VLOOKUP($R1616,TAXONOMY!$A$1:$G$959,6,FALSE))","v":""},{"$f":"IF(ISBLANK($R1616)=TRUE,\"\",VLOOKUP($R1616,TAXONOMY!$A$1:$G$959,5,FALSE))","v":""},{"$f":"IF(ISBLANK($R1616)=TRUE,\"\",VLOOKUP($R1616,TAXONOMY!$A$1:$G$959,4,FALSE))","v":""},{"$f":"IF(ISBLANK($R1616)=TRUE,\"\",VLOOKUP($R1616,TAXONOMY!$A$1:$G$959,3,FALSE))","v":""},{"$f":"IF(ISBLANK($R1616)=TRUE,\"\",VLOOKUP($R1616,TAXONOMY!$A$1:$H$959,2,FALSE))","v":""}]
[null,null,null,null,null,null,null,null,null,null,null,{"$f":"IF(ISBLANK($R1617)=TRUE,\"\",VLOOKUP($R1617,TAXONOMY!$A$1:$G$959,7,FALSE))","v":""},{"$f":"IF(ISBLANK($R1617)=TRUE,\"\",VLOOKUP($R1617,TAXONOMY!$A$1:$G$959,6,FALSE))","v":""},{"$f":"IF(ISBLANK($R1617)=TRUE,\"\",VLOOKUP($R1617,TAXONOMY!$A$1:$G$959,5,FALSE))","v":""},{"$f":"IF(ISBLANK($R1617)=TRUE,\"\",VLOOKUP($R1617,TAXONOMY!$A$1:$G$959,4,FALSE))","v":""},{"$f":"IF(ISBLANK($R1617)=TRUE,\"\",VLOOKUP($R1617,TAXONOMY!$A$1:$G$959,3,FALSE))","v":""},{"$f":"IF(ISBLANK($R1617)=TRUE,\"\",VLOOKUP($R1617,TAXONOMY!$A$1:$H$959,2,FALSE))","v":""}]
[null,null,null,null,null,null,null,null,null,null,null,{"$f":"IF(ISBLANK($R1618)=TRUE,\"\",VLOOKUP($R1618,TAXONOMY!$A$1:$G$959,7,FALSE))","v":""},{"$f":"IF(ISBLANK($R1618)=TRUE,\"\",VLOOKUP($R1618,TAXONOMY!$A$1:$G$959,6,FALSE))","v":""},{"$f":"IF(ISBLANK($R1618)=TRUE,\"\",VLOOKUP($R1618,TAXONOMY!$A$1:$G$959,5,FALSE))","v":""},{"$f":"IF(ISBLANK($R1618)=TRUE,\"\",VLOOKUP($R1618,TAXONOMY!$A$1:$G$959,4,FALSE))","v":""},{"$f":"IF(ISBLANK($R1618)=TRUE,\"\",VLOOKUP($R1618,TAXONOMY!$A$1:$G$959,3,FALSE))","v":""},{"$f":"IF(ISBLANK($R1618)=TRUE,\"\",VLOOKUP($R1618,TAXONOMY!$A$1:$H$959,2,FALSE))","v":""}]
[null,null,null,null,null,null,null,null,null,null,null,{"$f":"IF(ISBLANK($R1619)=TRUE,\"\",VLOOKUP($R1619,TAXONOMY!$A$1:$G$959,7,FALSE))","v":""},{"$f":"IF(ISBLANK($R1619)=TRUE,\"\",VLOOKUP($R1619,TAXONOMY!$A$1:$G$959,6,FALSE))","v":""},{"$f":"IF(ISBLANK($R1619)=TRUE,\"\",VLOOKUP($R1619,TAXONOMY!$A$1:$G$959,5,FALSE))","v":""},{"$f":"IF(ISBLANK($R1619)=TRUE,\"\",VLOOKUP($R1619,TAXONOMY!$A$1:$G$959,4,FALSE))","v":""},{"$f":"IF(ISBLANK($R1619)=TRUE,\"\",VLOOKUP($R1619,TAXONOMY!$A$1:$G$959,3,FALSE))","v":""},{"$f":"IF(ISBLANK($R1619)=TRUE,\"\",VLOOKUP($R1619,TAXONOMY!$A$1:$H$959,2,FALSE))","v":""}]
[null,null,null,null,null,null,null,null,null,null,null,{"$f":"IF(ISBLANK($R1620)=TRUE,\"\",VLOOKUP($R1620,TAXONOMY!$A$1:$G$959,7,FALSE))","v":""},{"$f":"IF(ISBLANK($R1620)=TRUE,\"\",VLOOKUP($R1620,TAXONOMY!$A$1:$G$959,6,FALSE))","v":""},{"$f":"IF(ISBLANK($R1620)=TRUE,\"\",VLOOKUP($R1620,TAXONOMY!$A$1:$G$959,5,FALSE))","v":""},{"$f":"IF(ISBLANK($R1620)=TRUE,\"\",VLOOKUP($R1620,TAXONOMY!$A$1:$G$959,4,FALSE))","v":""},{"$f":"IF(ISBLANK($R1620)=TRUE,\"\",VLOOKUP($R1620,TAXONOMY!$A$1:$G$959,3,FALSE))","v":""},{"$f":"IF(ISBLANK($R1620)=TRUE,\"\",VLOOKUP($R1620,TAXONOMY!$A$1:$H$959,2,FALSE))","v":""}]
[null,null,null,null,null,null,null,null,null,null,null,{"$f":"IF(ISBLANK($R1621)=TRUE,\"\",VLOOKUP($R1621,TAXONOMY!$A$1:$G$959,7,FALSE))","v":""},{"$f":"IF(ISBLANK($R1621)=TRUE,\"\",VLOOKUP($R1621,TAXONOMY!$A$1:$G$959,6,FALSE))","v":""},{"$f":"IF(ISBLANK($R1621)=TRUE,\"\",VLOOKUP($R1621,TAXONOMY!$A$1:$G$959,5,FALSE))","v":""},{"$f":"IF(ISBLANK($R1621)=TRUE,\"\",VLOOKUP($R1621,TAXONOMY!$A$1:$G$959,4,FALSE))","v":""},{"$f":"IF(ISBLANK($R1621)=TRUE,\"\",VLOOKUP($R1621,TAXONOMY!$A$1:$G$959,3,FALSE))","v":""},{"$f":"IF(ISBLANK($R1621)=TRUE,\"\",VLOOKUP($R1621,TAXONOMY!$A$1:$H$959,2,FALSE))","v":""}]
[null,null,null,null,null,null,null,null,null,null,null,{"$f":"IF(ISBLANK($R1622)=TRUE,\"\",VLOOKUP($R1622,TAXONOMY!$A$1:$G$959,7,FALSE))","v":""},{"$f":"IF(ISBLANK($R1622)=TRUE,\"\",VLOOKUP($R1622,TAXONOMY!$A$1:$G$959,6,FALSE))","v":""},{"$f":"IF(ISBLANK($R1622)=TRUE,\"\",VLOOKUP($R1622,TAXONOMY!$A$1:$G$959,5,FALSE))","v":""},{"$f":"IF(ISBLANK($R1622)=TRUE,\"\",VLOOKUP($R1622,TAXONOMY!$A$1:$G$959,4,FALSE))","v":""},{"$f":"IF(ISBLANK($R1622)=TRUE,\"\",VLOOKUP($R1622,TAXONOMY!$A$1:$G$959,3,FALSE))","v":""},{"$f":"IF(ISBLANK($R1622)=TRUE,\"\",VLOOKUP($R1622,TAXONOMY!$A$1:$H$959,2,FALSE))","v":""}]
[null,null,null,null,null,null,null,null,null,null,null,{"$f":"IF(ISBLANK($R1623)=TRUE,\"\",VLOOKUP($R1623,TAXONOMY!$A$1:$G$959,7,FALSE))","v":""},{"$f":"IF(ISBLANK($R1623)=TRUE,\"\",VLOOKUP($R1623,TAXONOMY!$A$1:$G$959,6,FALSE))","v":""},{"$f":"IF(ISBLANK($R1623)=TRUE,\"\",VLOOKUP($R1623,TAXONOMY!$A$1:$G$959,5,FALSE))","v":""},{"$f":"IF(ISBLANK($R1623)=TRUE,\"\",VLOOKUP($R1623,TAXONOMY!$A$1:$G$959,4,FALSE))","v":""},{"$f":"IF(ISBLANK($R1623)=TRUE,\"\",VLOOKUP($R1623,TAXONOMY!$A$1:$G$959,3,FALSE))","v":""},{"$f":"IF(ISBLANK($R1623)=TRUE,\"\",VLOOKUP($R1623,TAXONOMY!$A$1:$H$959,2,FALSE))","v":""}]
[null,null,null,null,null,null,null,null,null,null,null,{"$f":"IF(ISBLANK($R1624)=TRUE,\"\",VLOOKUP($R1624,TAXONOMY!$A$1:$G$959,7,FALSE))","v":""},{"$f":"IF(ISBLANK($R1624)=TRUE,\"\",VLOOKUP($R1624,TAXONOMY!$A$1:$G$959,6,FALSE))","v":""},{"$f":"IF(ISBLANK($R1624)=TRUE,\"\",VLOOKUP($R1624,TAXONOMY!$A$1:$G$959,5,FALSE))","v":""},{"$f":"IF(ISBLANK($R1624)=TRUE,\"\",VLOOKUP($R1624,TAXONOMY!$A$1:$G$959,4,FALSE))","v":""},{"$f":"IF(ISBLANK($R1624)=TRUE,\"\",VLOOKUP($R1624,TAXONOMY!$A$1:$G$959,3,FALSE))","v":""},{"$f":"IF(ISBLANK($R1624)=TRUE,\"\",VLOOKUP($R1624,TAXONOMY!$A$1:$H$959,2,FALSE))","v":""}]
[null,null,null,null,null,null,null,null,null,null,null,{"$f":"IF(ISBLANK($R1625)=TRUE,\"\",VLOOKUP($R1625,TAXONOMY!$A$1:$G$959,7,FALSE))","v":""},{"$f":"IF(ISBLANK($R1625)=TRUE,\"\",VLOOKUP($R1625,TAXONOMY!$A$1:$G$959,6,FALSE))","v":""},{"$f":"IF(ISBLANK($R1625)=TRUE,\"\",VLOOKUP($R1625,TAXONOMY!$A$1:$G$959,5,FALSE))","v":""},{"$f":"IF(ISBLANK($R1625)=TRUE,\"\",VLOOKUP($R1625,TAXONOMY!$A$1:$G$959,4,FALSE))","v":""},{"$f":"IF(ISBLANK($R1625)=TRUE,\"\",VLOOKUP($R1625,TAXONOMY!$A$1:$G$959,3,FALSE))","v":""},{"$f":"IF(ISBLANK($R1625)=TRUE,\"\",VLOOKUP($R1625,TAXONOMY!$A$1:$H$959,2,FALSE))","v":""}]
[null,null,null,null,null,null,null,null,null,null,null,{"$f":"IF(ISBLANK($R1626)=TRUE,\"\",VLOOKUP($R1626,TAXONOMY!$A$1:$G$959,7,FALSE))","v":""},{"$f":"IF(ISBLANK($R1626)=TRUE,\"\",VLOOKUP($R1626,TAXONOMY!$A$1:$G$959,6,FALSE))","v":""},{"$f":"IF(ISBLANK($R1626)=TRUE,\"\",VLOOKUP($R1626,TAXONOMY!$A$1:$G$959,5,FALSE))","v":""},{"$f":"IF(ISBLANK($R1626)=TRUE,\"\",VLOOKUP($R1626,TAXONOMY!$A$1:$G$959,4,FALSE))","v":""},{"$f":"IF(ISBLANK($R1626)=TRUE,\"\",VLOOKUP($R1626,TAXONOMY!$A$1:$G$959,3,FALSE))","v":""},{"$f":"IF(ISBLANK($R1626)=TRUE,\"\",VLOOKUP($R1626,TAXONOMY!$A$1:$H$959,2,FALSE))","v":""}]
[null,null,null,null,null,null,null,null,null,null,null,{"$f":"IF(ISBLANK($R1627)=TRUE,\"\",VLOOKUP($R1627,TAXONOMY!$A$1:$G$959,7,FALSE))","v":""},{"$f":"IF(ISBLANK($R1627)=TRUE,\"\",VLOOKUP($R1627,TAXONOMY!$A$1:$G$959,6,FALSE))","v":""},{"$f":"IF(ISBLANK($R1627)=TRUE,\"\",VLOOKUP($R1627,TAXONOMY!$A$1:$G$959,5,FALSE))","v":""},{"$f":"IF(ISBLANK($R1627)=TRUE,\"\",VLOOKUP($R1627,TAXONOMY!$A$1:$G$959,4,FALSE))","v":""},{"$f":"IF(ISBLANK($R1627)=TRUE,\"\",VLOOKUP($R1627,TAXONOMY!$A$1:$G$959,3,FALSE))","v":""},{"$f":"IF(ISBLANK($R1627)=TRUE,\"\",VLOOKUP($R1627,TAXONOMY!$A$1:$H$959,2,FALSE))","v":""}]
[null,null,null,null,null,null,null,null,null,null,null,{"$f":"IF(ISBLANK($R1628)=TRUE,\"\",VLOOKUP($R1628,TAXONOMY!$A$1:$G$959,7,FALSE))","v":""},{"$f":"IF(ISBLANK($R1628)=TRUE,\"\",VLOOKUP($R1628,TAXONOMY!$A$1:$G$959,6,FALSE))","v":""},{"$f":"IF(ISBLANK($R1628)=TRUE,\"\",VLOOKUP($R1628,TAXONOMY!$A$1:$G$959,5,FALSE))","v":""},{"$f":"IF(ISBLANK($R1628)=TRUE,\"\",VLOOKUP($R1628,TAXONOMY!$A$1:$G$959,4,FALSE))","v":""},{"$f":"IF(ISBLANK($R1628)=TRUE,\"\",VLOOKUP($R1628,TAXONOMY!$A$1:$G$959,3,FALSE))","v":""},{"$f":"IF(ISBLANK($R1628)=TRUE,\"\",VLOOKUP($R1628,TAXONOMY!$A$1:$H$959,2,FALSE))","v":""}]
[null,null,null,null,null,null,null,null,null,null,null,{"$f":"IF(ISBLANK($R1629)=TRUE,\"\",VLOOKUP($R1629,TAXONOMY!$A$1:$G$959,7,FALSE))","v":""},{"$f":"IF(ISBLANK($R1629)=TRUE,\"\",VLOOKUP($R1629,TAXONOMY!$A$1:$G$959,6,FALSE))","v":""},{"$f":"IF(ISBLANK($R1629)=TRUE,\"\",VLOOKUP($R1629,TAXONOMY!$A$1:$G$959,5,FALSE))","v":""},{"$f":"IF(ISBLANK($R1629)=TRUE,\"\",VLOOKUP($R1629,TAXONOMY!$A$1:$G$959,4,FALSE))","v":""},{"$f":"IF(ISBLANK($R1629)=TRUE,\"\",VLOOKUP($R1629,TAXONOMY!$A$1:$G$959,3,FALSE))","v":""},{"$f":"IF(ISBLANK($R1629)=TRUE,\"\",VLOOKUP($R1629,TAXONOMY!$A$1:$H$959,2,FALSE))","v":""}]
[null,null,null,null,null,null,null,null,null,null,null,{"$f":"IF(ISBLANK($R1630)=TRUE,\"\",VLOOKUP($R1630,TAXONOMY!$A$1:$G$959,7,FALSE))","v":""},{"$f":"IF(ISBLANK($R1630)=TRUE,\"\",VLOOKUP($R1630,TAXONOMY!$A$1:$G$959,6,FALSE))","v":""},{"$f":"IF(ISBLANK($R1630)=TRUE,\"\",VLOOKUP($R1630,TAXONOMY!$A$1:$G$959,5,FALSE))","v":""},{"$f":"IF(ISBLANK($R1630)=TRUE,\"\",VLOOKUP($R1630,TAXONOMY!$A$1:$G$959,4,FALSE))","v":""},{"$f":"IF(ISBLANK($R1630)=TRUE,\"\",VLOOKUP($R1630,TAXONOMY!$A$1:$G$959,3,FALSE))","v":""},{"$f":"IF(ISBLANK($R1630)=TRUE,\"\",VLOOKUP($R1630,TAXONOMY!$A$1:$H$959,2,FALSE))","v":""}]
[null,null,null,null,null,null,null,null,null,null,null,{"$f":"IF(ISBLANK($R1631)=TRUE,\"\",VLOOKUP($R1631,TAXONOMY!$A$1:$G$959,7,FALSE))","v":""},{"$f":"IF(ISBLANK($R1631)=TRUE,\"\",VLOOKUP($R1631,TAXONOMY!$A$1:$G$959,6,FALSE))","v":""},{"$f":"IF(ISBLANK($R1631)=TRUE,\"\",VLOOKUP($R1631,TAXONOMY!$A$1:$G$959,5,FALSE))","v":""},{"$f":"IF(ISBLANK($R1631)=TRUE,\"\",VLOOKUP($R1631,TAXONOMY!$A$1:$G$959,4,FALSE))","v":""},{"$f":"IF(ISBLANK($R1631)=TRUE,\"\",VLOOKUP($R1631,TAXONOMY!$A$1:$G$959,3,FALSE))","v":""},{"$f":"IF(ISBLANK($R1631)=TRUE,\"\",VLOOKUP($R1631,TAXONOMY!$A$1:$H$959,2,FALSE))","v":""}]
[null,null,null,null,null,null,null,null,null,null,null,{"$f":"IF(ISBLANK($R1632)=TRUE,\"\",VLOOKUP($R1632,TAXONOMY!$A$1:$G$959,7,FALSE))","v":""},{"$f":"IF(ISBLANK($R1632)=TRUE,\"\",VLOOKUP($R1632,TAXONOMY!$A$1:$G$959,6,FALSE))","v":""},{"$f":"IF(ISBLANK($R1632)=TRUE,\"\",VLOOKUP($R1632,TAXONOMY!$A$1:$G$959,5,FALSE))","v":""},{"$f":"IF(ISBLANK($R1632)=TRUE,\"\",VLOOKUP($R1632,TAXONOMY!$A$1:$G$959,4,FALSE))","v":""},{"$f":"IF(ISBLANK($R1632)=TRUE,\"\",VLOOKUP($R1632,TAXONOMY!$A$1:$G$959,3,FALSE))","v":""},{"$f":"IF(ISBLANK($R1632)=TRUE,\"\",VLOOKUP($R1632,TAXONOMY!$A$1:$H$959,2,FALSE))","v":""}]
[null,null,null,null,null,null,null,null,null,null,null,{"$f":"IF(ISBLANK($R1633)=TRUE,\"\",VLOOKUP($R1633,TAXONOMY!$A$1:$G$959,7,FALSE))","v":""},{"$f":"IF(ISBLANK($R1633)=TRUE,\"\",VLOOKUP($R1633,TAXONOMY!$A$1:$G$959,6,FALSE))","v":""},{"$f":"IF(ISBLANK($R1633)=TRUE,\"\",VLOOKUP($R1633,TAXONOMY!$A$1:$G$959,5,FALSE))","v":""},{"$f":"IF(ISBLANK($R1633)=TRUE,\"\",VLOOKUP($R1633,TAXONOMY!$A$1:$G$959,4,FALSE))","v":""},{"$f":"IF(ISBLANK($R1633)=TRUE,\"\",VLOOKUP($R1633,TAXONOMY!$A$1:$G$959,3,FALSE))","v":""},{"$f":"IF(ISBLANK($R1633)=TRUE,\"\",VLOOKUP($R1633,TAXONOMY!$A$1:$H$959,2,FALSE))","v":""}]
[null,null,null,null,null,null,null,null,null,null,null,{"$f":"IF(ISBLANK($R1634)=TRUE,\"\",VLOOKUP($R1634,TAXONOMY!$A$1:$G$959,7,FALSE))","v":""},{"$f":"IF(ISBLANK($R1634)=TRUE,\"\",VLOOKUP($R1634,TAXONOMY!$A$1:$G$959,6,FALSE))","v":""},{"$f":"IF(ISBLANK($R1634)=TRUE,\"\",VLOOKUP($R1634,TAXONOMY!$A$1:$G$959,5,FALSE))","v":""},{"$f":"IF(ISBLANK($R1634)=TRUE,\"\",VLOOKUP($R1634,TAXONOMY!$A$1:$G$959,4,FALSE))","v":""},{"$f":"IF(ISBLANK($R1634)=TRUE,\"\",VLOOKUP($R1634,TAXONOMY!$A$1:$G$959,3,FALSE))","v":""},{"$f":"IF(ISBLANK($R1634)=TRUE,\"\",VLOOKUP($R1634,TAXONOMY!$A$1:$H$959,2,FALSE))","v":""}]
[null,null,null,null,null,null,null,null,null,null,null,{"$f":"IF(ISBLANK($R1635)=TRUE,\"\",VLOOKUP($R1635,TAXONOMY!$A$1:$G$959,7,FALSE))","v":""},{"$f":"IF(ISBLANK($R1635)=TRUE,\"\",VLOOKUP($R1635,TAXONOMY!$A$1:$G$959,6,FALSE))","v":""},{"$f":"IF(ISBLANK($R1635)=TRUE,\"\",VLOOKUP($R1635,TAXONOMY!$A$1:$G$959,5,FALSE))","v":""},{"$f":"IF(ISBLANK($R1635)=TRUE,\"\",VLOOKUP($R1635,TAXONOMY!$A$1:$G$959,4,FALSE))","v":""},{"$f":"IF(ISBLANK($R1635)=TRUE,\"\",VLOOKUP($R1635,TAXONOMY!$A$1:$G$959,3,FALSE))","v":""},{"$f":"IF(ISBLANK($R1635)=TRUE,\"\",VLOOKUP($R1635,TAXONOMY!$A$1:$H$959,2,FALSE))","v":""}]
[null,null,null,null,null,null,null,null,null,null,null,{"$f":"IF(ISBLANK($R1636)=TRUE,\"\",VLOOKUP($R1636,TAXONOMY!$A$1:$G$959,7,FALSE))","v":""},{"$f":"IF(ISBLANK($R1636)=TRUE,\"\",VLOOKUP($R1636,TAXONOMY!$A$1:$G$959,6,FALSE))","v":""},{"$f":"IF(ISBLANK($R1636)=TRUE,\"\",VLOOKUP($R1636,TAXONOMY!$A$1:$G$959,5,FALSE))","v":""},{"$f":"IF(ISBLANK($R1636)=TRUE,\"\",VLOOKUP($R1636,TAXONOMY!$A$1:$G$959,4,FALSE))","v":""},{"$f":"IF(ISBLANK($R1636)=TRUE,\"\",VLOOKUP($R1636,TAXONOMY!$A$1:$G$959,3,FALSE))","v":""},{"$f":"IF(ISBLANK($R1636)=TRUE,\"\",VLOOKUP($R1636,TAXONOMY!$A$1:$H$959,2,FALSE))","v":""}]
[null,null,null,null,null,null,null,null,null,null,null,{"$f":"IF(ISBLANK($R1637)=TRUE,\"\",VLOOKUP($R1637,TAXONOMY!$A$1:$G$959,7,FALSE))","v":""},{"$f":"IF(ISBLANK($R1637)=TRUE,\"\",VLOOKUP($R1637,TAXONOMY!$A$1:$G$959,6,FALSE))","v":""},{"$f":"IF(ISBLANK($R1637)=TRUE,\"\",VLOOKUP($R1637,TAXONOMY!$A$1:$G$959,5,FALSE))","v":""},{"$f":"IF(ISBLANK($R1637)=TRUE,\"\",VLOOKUP($R1637,TAXONOMY!$A$1:$G$959,4,FALSE))","v":""},{"$f":"IF(ISBLANK($R1637)=TRUE,\"\",VLOOKUP($R1637,TAXONOMY!$A$1:$G$959,3,FALSE))","v":""},{"$f":"IF(ISBLANK($R1637)=TRUE,\"\",VLOOKUP($R1637,TAXONOMY!$A$1:$H$959,2,FALSE))","v":""}]
[null,null,null,null,null,null,null,null,null,null,null,{"$f":"IF(ISBLANK($R1638)=TRUE,\"\",VLOOKUP($R1638,TAXONOMY!$A$1:$G$959,7,FALSE))","v":""},{"$f":"IF(ISBLANK($R1638)=TRUE,\"\",VLOOKUP($R1638,TAXONOMY!$A$1:$G$959,6,FALSE))","v":""},{"$f":"IF(ISBLANK($R1638)=TRUE,\"\",VLOOKUP($R1638,TAXONOMY!$A$1:$G$959,5,FALSE))","v":""},{"$f":"IF(ISBLANK($R1638)=TRUE,\"\",VLOOKUP($R1638,TAXONOMY!$A$1:$G$959,4,FALSE))","v":""},{"$f":"IF(ISBLANK($R1638)=TRUE,\"\",VLOOKUP($R1638,TAXONOMY!$A$1:$G$959,3,FALSE))","v":""},{"$f":"IF(ISBLANK($R1638)=TRUE,\"\",VLOOKUP($R1638,TAXONOMY!$A$1:$H$959,2,FALSE))","v":""}]
[null,null,null,null,null,null,null,null,null,null,null,{"$f":"IF(ISBLANK($R1639)=TRUE,\"\",VLOOKUP($R1639,TAXONOMY!$A$1:$G$959,7,FALSE))","v":""},{"$f":"IF(ISBLANK($R1639)=TRUE,\"\",VLOOKUP($R1639,TAXONOMY!$A$1:$G$959,6,FALSE))","v":""},{"$f":"IF(ISBLANK($R1639)=TRUE,\"\",VLOOKUP($R1639,TAXONOMY!$A$1:$G$959,5,FALSE))","v":""},{"$f":"IF(ISBLANK($R1639)=TRUE,\"\",VLOOKUP($R1639,TAXONOMY!$A$1:$G$959,4,FALSE))","v":""},{"$f":"IF(ISBLANK($R1639)=TRUE,\"\",VLOOKUP($R1639,TAXONOMY!$A$1:$G$959,3,FALSE))","v":""},{"$f":"IF(ISBLANK($R1639)=TRUE,\"\",VLOOKUP($R1639,TAXONOMY!$A$1:$H$959,2,FALSE))","v":""}]
[null,null,null,null,null,null,null,null,null,null,null,{"$f":"IF(ISBLANK($R1640)=TRUE,\"\",VLOOKUP($R1640,TAXONOMY!$A$1:$G$959,7,FALSE))","v":""},{"$f":"IF(ISBLANK($R1640)=TRUE,\"\",VLOOKUP($R1640,TAXONOMY!$A$1:$G$959,6,FALSE))","v":""},{"$f":"IF(ISBLANK($R1640)=TRUE,\"\",VLOOKUP($R1640,TAXONOMY!$A$1:$G$959,5,FALSE))","v":""},{"$f":"IF(ISBLANK($R1640)=TRUE,\"\",VLOOKUP($R1640,TAXONOMY!$A$1:$G$959,4,FALSE))","v":""},{"$f":"IF(ISBLANK($R1640)=TRUE,\"\",VLOOKUP($R1640,TAXONOMY!$A$1:$G$959,3,FALSE))","v":""},{"$f":"IF(ISBLANK($R1640)=TRUE,\"\",VLOOKUP($R1640,TAXONOMY!$A$1:$H$959,2,FALSE))","v":""}]
[null,null,null,null,null,null,null,null,null,null,null,{"$f":"IF(ISBLANK($R1641)=TRUE,\"\",VLOOKUP($R1641,TAXONOMY!$A$1:$G$959,7,FALSE))","v":""},{"$f":"IF(ISBLANK($R1641)=TRUE,\"\",VLOOKUP($R1641,TAXONOMY!$A$1:$G$959,6,FALSE))","v":""},{"$f":"IF(ISBLANK($R1641)=TRUE,\"\",VLOOKUP($R1641,TAXONOMY!$A$1:$G$959,5,FALSE))","v":""},{"$f":"IF(ISBLANK($R1641)=TRUE,\"\",VLOOKUP($R1641,TAXONOMY!$A$1:$G$959,4,FALSE))","v":""},{"$f":"IF(ISBLANK($R1641)=TRUE,\"\",VLOOKUP($R1641,TAXONOMY!$A$1:$G$959,3,FALSE))","v":""},{"$f":"IF(ISBLANK($R1641)=TRUE,\"\",VLOOKUP($R1641,TAXONOMY!$A$1:$H$959,2,FALSE))","v":""}]
[null,null,null,null,null,null,null,null,null,null,null,{"$f":"IF(ISBLANK($R1642)=TRUE,\"\",VLOOKUP($R1642,TAXONOMY!$A$1:$G$959,7,FALSE))","v":""},{"$f":"IF(ISBLANK($R1642)=TRUE,\"\",VLOOKUP($R1642,TAXONOMY!$A$1:$G$959,6,FALSE))","v":""},{"$f":"IF(ISBLANK($R1642)=TRUE,\"\",VLOOKUP($R1642,TAXONOMY!$A$1:$G$959,5,FALSE))","v":""},{"$f":"IF(ISBLANK($R1642)=TRUE,\"\",VLOOKUP($R1642,TAXONOMY!$A$1:$G$959,4,FALSE))","v":""},{"$f":"IF(ISBLANK($R1642)=TRUE,\"\",VLOOKUP($R1642,TAXONOMY!$A$1:$G$959,3,FALSE))","v":""},{"$f":"IF(ISBLANK($R1642)=TRUE,\"\",VLOOKUP($R1642,TAXONOMY!$A$1:$H$959,2,FALSE))","v":""}]
[null,null,null,null,null,null,null,null,null,null,null,{"$f":"IF(ISBLANK($R1643)=TRUE,\"\",VLOOKUP($R1643,TAXONOMY!$A$1:$G$959,7,FALSE))","v":""},{"$f":"IF(ISBLANK($R1643)=TRUE,\"\",VLOOKUP($R1643,TAXONOMY!$A$1:$G$959,6,FALSE))","v":""},{"$f":"IF(ISBLANK($R1643)=TRUE,\"\",VLOOKUP($R1643,TAXONOMY!$A$1:$G$959,5,FALSE))","v":""},{"$f":"IF(ISBLANK($R1643)=TRUE,\"\",VLOOKUP($R1643,TAXONOMY!$A$1:$G$959,4,FALSE))","v":""},{"$f":"IF(ISBLANK($R1643)=TRUE,\"\",VLOOKUP($R1643,TAXONOMY!$A$1:$G$959,3,FALSE))","v":""},{"$f":"IF(ISBLANK($R1643)=TRUE,\"\",VLOOKUP($R1643,TAXONOMY!$A$1:$H$959,2,FALSE))","v":""}]
[null,null,null,null,null,null,null,null,null,null,null,{"$f":"IF(ISBLANK($R1644)=TRUE,\"\",VLOOKUP($R1644,TAXONOMY!$A$1:$G$959,7,FALSE))","v":""},{"$f":"IF(ISBLANK($R1644)=TRUE,\"\",VLOOKUP($R1644,TAXONOMY!$A$1:$G$959,6,FALSE))","v":""},{"$f":"IF(ISBLANK($R1644)=TRUE,\"\",VLOOKUP($R1644,TAXONOMY!$A$1:$G$959,5,FALSE))","v":""},{"$f":"IF(ISBLANK($R1644)=TRUE,\"\",VLOOKUP($R1644,TAXONOMY!$A$1:$G$959,4,FALSE))","v":""},{"$f":"IF(ISBLANK($R1644)=TRUE,\"\",VLOOKUP($R1644,TAXONOMY!$A$1:$G$959,3,FALSE))","v":""},{"$f":"IF(ISBLANK($R1644)=TRUE,\"\",VLOOKUP($R1644,TAXONOMY!$A$1:$H$959,2,FALSE))","v":""}]
[null,null,null,null,null,null,null,null,null,null,null,{"$f":"IF(ISBLANK($R1645)=TRUE,\"\",VLOOKUP($R1645,TAXONOMY!$A$1:$G$959,7,FALSE))","v":""},{"$f":"IF(ISBLANK($R1645)=TRUE,\"\",VLOOKUP($R1645,TAXONOMY!$A$1:$G$959,6,FALSE))","v":""},{"$f":"IF(ISBLANK($R1645)=TRUE,\"\",VLOOKUP($R1645,TAXONOMY!$A$1:$G$959,5,FALSE))","v":""},{"$f":"IF(ISBLANK($R1645)=TRUE,\"\",VLOOKUP($R1645,TAXONOMY!$A$1:$G$959,4,FALSE))","v":""},{"$f":"IF(ISBLANK($R1645)=TRUE,\"\",VLOOKUP($R1645,TAXONOMY!$A$1:$G$959,3,FALSE))","v":""},{"$f":"IF(ISBLANK($R1645)=TRUE,\"\",VLOOKUP($R1645,TAXONOMY!$A$1:$H$959,2,FALSE))","v":""}]
[null,null,null,null,null,null,null,null,null,null,null,{"$f":"IF(ISBLANK($R1646)=TRUE,\"\",VLOOKUP($R1646,TAXONOMY!$A$1:$G$959,7,FALSE))","v":""},{"$f":"IF(ISBLANK($R1646)=TRUE,\"\",VLOOKUP($R1646,TAXONOMY!$A$1:$G$959,6,FALSE))","v":""},{"$f":"IF(ISBLANK($R1646)=TRUE,\"\",VLOOKUP($R1646,TAXONOMY!$A$1:$G$959,5,FALSE))","v":""},{"$f":"IF(ISBLANK($R1646)=TRUE,\"\",VLOOKUP($R1646,TAXONOMY!$A$1:$G$959,4,FALSE))","v":""},{"$f":"IF(ISBLANK($R1646)=TRUE,\"\",VLOOKUP($R1646,TAXONOMY!$A$1:$G$959,3,FALSE))","v":""},{"$f":"IF(ISBLANK($R1646)=TRUE,\"\",VLOOKUP($R1646,TAXONOMY!$A$1:$H$959,2,FALSE))","v":""}]
[null,null,null,null,null,null,null,null,null,null,null,{"$f":"IF(ISBLANK($R1647)=TRUE,\"\",VLOOKUP($R1647,TAXONOMY!$A$1:$G$959,7,FALSE))","v":""},{"$f":"IF(ISBLANK($R1647)=TRUE,\"\",VLOOKUP($R1647,TAXONOMY!$A$1:$G$959,6,FALSE))","v":""},{"$f":"IF(ISBLANK($R1647)=TRUE,\"\",VLOOKUP($R1647,TAXONOMY!$A$1:$G$959,5,FALSE))","v":""},{"$f":"IF(ISBLANK($R1647)=TRUE,\"\",VLOOKUP($R1647,TAXONOMY!$A$1:$G$959,4,FALSE))","v":""},{"$f":"IF(ISBLANK($R1647)=TRUE,\"\",VLOOKUP($R1647,TAXONOMY!$A$1:$G$959,3,FALSE))","v":""},{"$f":"IF(ISBLANK($R1647)=TRUE,\"\",VLOOKUP($R1647,TAXONOMY!$A$1:$H$959,2,FALSE))","v":""}]
[null,null,null,null,null,null,null,null,null,null,null,{"$f":"IF(ISBLANK($R1648)=TRUE,\"\",VLOOKUP($R1648,TAXONOMY!$A$1:$G$959,7,FALSE))","v":""},{"$f":"IF(ISBLANK($R1648)=TRUE,\"\",VLOOKUP($R1648,TAXONOMY!$A$1:$G$959,6,FALSE))","v":""},{"$f":"IF(ISBLANK($R1648)=TRUE,\"\",VLOOKUP($R1648,TAXONOMY!$A$1:$G$959,5,FALSE))","v":""},{"$f":"IF(ISBLANK($R1648)=TRUE,\"\",VLOOKUP($R1648,TAXONOMY!$A$1:$G$959,4,FALSE))","v":""},{"$f":"IF(ISBLANK($R1648)=TRUE,\"\",VLOOKUP($R1648,TAXONOMY!$A$1:$G$959,3,FALSE))","v":""},{"$f":"IF(ISBLANK($R1648)=TRUE,\"\",VLOOKUP($R1648,TAXONOMY!$A$1:$H$959,2,FALSE))","v":""}]
[null,null,null,null,null,null,null,null,null,null,null,{"$f":"IF(ISBLANK($R1649)=TRUE,\"\",VLOOKUP($R1649,TAXONOMY!$A$1:$G$959,7,FALSE))","v":""},{"$f":"IF(ISBLANK($R1649)=TRUE,\"\",VLOOKUP($R1649,TAXONOMY!$A$1:$G$959,6,FALSE))","v":""},{"$f":"IF(ISBLANK($R1649)=TRUE,\"\",VLOOKUP($R1649,TAXONOMY!$A$1:$G$959,5,FALSE))","v":""},{"$f":"IF(ISBLANK($R1649)=TRUE,\"\",VLOOKUP($R1649,TAXONOMY!$A$1:$G$959,4,FALSE))","v":""},{"$f":"IF(ISBLANK($R1649)=TRUE,\"\",VLOOKUP($R1649,TAXONOMY!$A$1:$G$959,3,FALSE))","v":""},{"$f":"IF(ISBLANK($R1649)=TRUE,\"\",VLOOKUP($R1649,TAXONOMY!$A$1:$H$959,2,FALSE))","v":""}]
[null,null,null,null,null,null,null,null,null,null,null,{"$f":"IF(ISBLANK($R1650)=TRUE,\"\",VLOOKUP($R1650,TAXONOMY!$A$1:$G$959,7,FALSE))","v":""},{"$f":"IF(ISBLANK($R1650)=TRUE,\"\",VLOOKUP($R1650,TAXONOMY!$A$1:$G$959,6,FALSE))","v":""},{"$f":"IF(ISBLANK($R1650)=TRUE,\"\",VLOOKUP($R1650,TAXONOMY!$A$1:$G$959,5,FALSE))","v":""},{"$f":"IF(ISBLANK($R1650)=TRUE,\"\",VLOOKUP($R1650,TAXONOMY!$A$1:$G$959,4,FALSE))","v":""},{"$f":"IF(ISBLANK($R1650)=TRUE,\"\",VLOOKUP($R1650,TAXONOMY!$A$1:$G$959,3,FALSE))","v":""},{"$f":"IF(ISBLANK($R1650)=TRUE,\"\",VLOOKUP($R1650,TAXONOMY!$A$1:$H$959,2,FALSE))","v":""}]
[null,null,null,null,null,null,null,null,null,null,null,{"$f":"IF(ISBLANK($R1651)=TRUE,\"\",VLOOKUP($R1651,TAXONOMY!$A$1:$G$959,7,FALSE))","v":""},{"$f":"IF(ISBLANK($R1651)=TRUE,\"\",VLOOKUP($R1651,TAXONOMY!$A$1:$G$959,6,FALSE))","v":""},{"$f":"IF(ISBLANK($R1651)=TRUE,\"\",VLOOKUP($R1651,TAXONOMY!$A$1:$G$959,5,FALSE))","v":""},{"$f":"IF(ISBLANK($R1651)=TRUE,\"\",VLOOKUP($R1651,TAXONOMY!$A$1:$G$959,4,FALSE))","v":""},{"$f":"IF(ISBLANK($R1651)=TRUE,\"\",VLOOKUP($R1651,TAXONOMY!$A$1:$G$959,3,FALSE))","v":""},{"$f":"IF(ISBLANK($R1651)=TRUE,\"\",VLOOKUP($R1651,TAXONOMY!$A$1:$H$959,2,FALSE))","v":""}]
[null,null,null,null,null,null,null,null,null,null,null,{"$f":"IF(ISBLANK($R1652)=TRUE,\"\",VLOOKUP($R1652,TAXONOMY!$A$1:$G$959,7,FALSE))","v":""},{"$f":"IF(ISBLANK($R1652)=TRUE,\"\",VLOOKUP($R1652,TAXONOMY!$A$1:$G$959,6,FALSE))","v":""},{"$f":"IF(ISBLANK($R1652)=TRUE,\"\",VLOOKUP($R1652,TAXONOMY!$A$1:$G$959,5,FALSE))","v":""},{"$f":"IF(ISBLANK($R1652)=TRUE,\"\",VLOOKUP($R1652,TAXONOMY!$A$1:$G$959,4,FALSE))","v":""},{"$f":"IF(ISBLANK($R1652)=TRUE,\"\",VLOOKUP($R1652,TAXONOMY!$A$1:$G$959,3,FALSE))","v":""},{"$f":"IF(ISBLANK($R1652)=TRUE,\"\",VLOOKUP($R1652,TAXONOMY!$A$1:$H$959,2,FALSE))","v":""}]
[null,null,null,null,null,null,null,null,null,null,null,{"$f":"IF(ISBLANK($R1653)=TRUE,\"\",VLOOKUP($R1653,TAXONOMY!$A$1:$G$959,7,FALSE))","v":""},{"$f":"IF(ISBLANK($R1653)=TRUE,\"\",VLOOKUP($R1653,TAXONOMY!$A$1:$G$959,6,FALSE))","v":""},{"$f":"IF(ISBLANK($R1653)=TRUE,\"\",VLOOKUP($R1653,TAXONOMY!$A$1:$G$959,5,FALSE))","v":""},{"$f":"IF(ISBLANK($R1653)=TRUE,\"\",VLOOKUP($R1653,TAXONOMY!$A$1:$G$959,4,FALSE))","v":""},{"$f":"IF(ISBLANK($R1653)=TRUE,\"\",VLOOKUP($R1653,TAXONOMY!$A$1:$G$959,3,FALSE))","v":""},{"$f":"IF(ISBLANK($R1653)=TRUE,\"\",VLOOKUP($R1653,TAXONOMY!$A$1:$H$959,2,FALSE))","v":""}]
[null,null,null,null,null,null,null,null,null,null,null,{"$f":"IF(ISBLANK($R1654)=TRUE,\"\",VLOOKUP($R1654,TAXONOMY!$A$1:$G$959,7,FALSE))","v":""},{"$f":"IF(ISBLANK($R1654)=TRUE,\"\",VLOOKUP($R1654,TAXONOMY!$A$1:$G$959,6,FALSE))","v":""},{"$f":"IF(ISBLANK($R1654)=TRUE,\"\",VLOOKUP($R1654,TAXONOMY!$A$1:$G$959,5,FALSE))","v":""},{"$f":"IF(ISBLANK($R1654)=TRUE,\"\",VLOOKUP($R1654,TAXONOMY!$A$1:$G$959,4,FALSE))","v":""},{"$f":"IF(ISBLANK($R1654)=TRUE,\"\",VLOOKUP($R1654,TAXONOMY!$A$1:$G$959,3,FALSE))","v":""},{"$f":"IF(ISBLANK($R1654)=TRUE,\"\",VLOOKUP($R1654,TAXONOMY!$A$1:$H$959,2,FALSE))","v":""}]
[null,null,null,null,null,null,null,null,null,null,null,{"$f":"IF(ISBLANK($R1655)=TRUE,\"\",VLOOKUP($R1655,TAXONOMY!$A$1:$G$959,7,FALSE))","v":""},{"$f":"IF(ISBLANK($R1655)=TRUE,\"\",VLOOKUP($R1655,TAXONOMY!$A$1:$G$959,6,FALSE))","v":""},{"$f":"IF(ISBLANK($R1655)=TRUE,\"\",VLOOKUP($R1655,TAXONOMY!$A$1:$G$959,5,FALSE))","v":""},{"$f":"IF(ISBLANK($R1655)=TRUE,\"\",VLOOKUP($R1655,TAXONOMY!$A$1:$G$959,4,FALSE))","v":""},{"$f":"IF(ISBLANK($R1655)=TRUE,\"\",VLOOKUP($R1655,TAXONOMY!$A$1:$G$959,3,FALSE))","v":""},{"$f":"IF(ISBLANK($R1655)=TRUE,\"\",VLOOKUP($R1655,TAXONOMY!$A$1:$H$959,2,FALSE))","v":""}]
[null,null,null,null,null,null,null,null,null,null,null,{"$f":"IF(ISBLANK($R1656)=TRUE,\"\",VLOOKUP($R1656,TAXONOMY!$A$1:$G$959,7,FALSE))","v":""},{"$f":"IF(ISBLANK($R1656)=TRUE,\"\",VLOOKUP($R1656,TAXONOMY!$A$1:$G$959,6,FALSE))","v":""},{"$f":"IF(ISBLANK($R1656)=TRUE,\"\",VLOOKUP($R1656,TAXONOMY!$A$1:$G$959,5,FALSE))","v":""},{"$f":"IF(ISBLANK($R1656)=TRUE,\"\",VLOOKUP($R1656,TAXONOMY!$A$1:$G$959,4,FALSE))","v":""},{"$f":"IF(ISBLANK($R1656)=TRUE,\"\",VLOOKUP($R1656,TAXONOMY!$A$1:$G$959,3,FALSE))","v":""},{"$f":"IF(ISBLANK($R1656)=TRUE,\"\",VLOOKUP($R1656,TAXONOMY!$A$1:$H$959,2,FALSE))","v":""}]
[null,null,null,null,null,null,null,null,null,null,null,{"$f":"IF(ISBLANK($R1657)=TRUE,\"\",VLOOKUP($R1657,TAXONOMY!$A$1:$G$959,7,FALSE))","v":""},{"$f":"IF(ISBLANK($R1657)=TRUE,\"\",VLOOKUP($R1657,TAXONOMY!$A$1:$G$959,6,FALSE))","v":""},{"$f":"IF(ISBLANK($R1657)=TRUE,\"\",VLOOKUP($R1657,TAXONOMY!$A$1:$G$959,5,FALSE))","v":""},{"$f":"IF(ISBLANK($R1657)=TRUE,\"\",VLOOKUP($R1657,TAXONOMY!$A$1:$G$959,4,FALSE))","v":""},{"$f":"IF(ISBLANK($R1657)=TRUE,\"\",VLOOKUP($R1657,TAXONOMY!$A$1:$G$959,3,FALSE))","v":""},{"$f":"IF(ISBLANK($R1657)=TRUE,\"\",VLOOKUP($R1657,TAXONOMY!$A$1:$H$959,2,FALSE))","v":""}]
[null,null,null,null,null,null,null,null,null,null,null,{"$f":"IF(ISBLANK($R1658)=TRUE,\"\",VLOOKUP($R1658,TAXONOMY!$A$1:$G$959,7,FALSE))","v":""},{"$f":"IF(ISBLANK($R1658)=TRUE,\"\",VLOOKUP($R1658,TAXONOMY!$A$1:$G$959,6,FALSE))","v":""},{"$f":"IF(ISBLANK($R1658)=TRUE,\"\",VLOOKUP($R1658,TAXONOMY!$A$1:$G$959,5,FALSE))","v":""},{"$f":"IF(ISBLANK($R1658)=TRUE,\"\",VLOOKUP($R1658,TAXONOMY!$A$1:$G$959,4,FALSE))","v":""},{"$f":"IF(ISBLANK($R1658)=TRUE,\"\",VLOOKUP($R1658,TAXONOMY!$A$1:$G$959,3,FALSE))","v":""},{"$f":"IF(ISBLANK($R1658)=TRUE,\"\",VLOOKUP($R1658,TAXONOMY!$A$1:$H$959,2,FALSE))","v":""}]
[null,null,null,null,null,null,null,null,null,null,null,{"$f":"IF(ISBLANK($R1659)=TRUE,\"\",VLOOKUP($R1659,TAXONOMY!$A$1:$G$959,7,FALSE))","v":""},{"$f":"IF(ISBLANK($R1659)=TRUE,\"\",VLOOKUP($R1659,TAXONOMY!$A$1:$G$959,6,FALSE))","v":""},{"$f":"IF(ISBLANK($R1659)=TRUE,\"\",VLOOKUP($R1659,TAXONOMY!$A$1:$G$959,5,FALSE))","v":""},{"$f":"IF(ISBLANK($R1659)=TRUE,\"\",VLOOKUP($R1659,TAXONOMY!$A$1:$G$959,4,FALSE))","v":""},{"$f":"IF(ISBLANK($R1659)=TRUE,\"\",VLOOKUP($R1659,TAXONOMY!$A$1:$G$959,3,FALSE))","v":""},{"$f":"IF(ISBLANK($R1659)=TRUE,\"\",VLOOKUP($R1659,TAXONOMY!$A$1:$H$959,2,FALSE))","v":""}]
[null,null,null,null,null,null,null,null,null,null,null,{"$f":"IF(ISBLANK($R1660)=TRUE,\"\",VLOOKUP($R1660,TAXONOMY!$A$1:$G$959,7,FALSE))","v":""},{"$f":"IF(ISBLANK($R1660)=TRUE,\"\",VLOOKUP($R1660,TAXONOMY!$A$1:$G$959,6,FALSE))","v":""},{"$f":"IF(ISBLANK($R1660)=TRUE,\"\",VLOOKUP($R1660,TAXONOMY!$A$1:$G$959,5,FALSE))","v":""},{"$f":"IF(ISBLANK($R1660)=TRUE,\"\",VLOOKUP($R1660,TAXONOMY!$A$1:$G$959,4,FALSE))","v":""},{"$f":"IF(ISBLANK($R1660)=TRUE,\"\",VLOOKUP($R1660,TAXONOMY!$A$1:$G$959,3,FALSE))","v":""},{"$f":"IF(ISBLANK($R1660)=TRUE,\"\",VLOOKUP($R1660,TAXONOMY!$A$1:$H$959,2,FALSE))","v":""}]
[null,null,null,null,null,null,null,null,null,null,null,{"$f":"IF(ISBLANK($R1661)=TRUE,\"\",VLOOKUP($R1661,TAXONOMY!$A$1:$G$959,7,FALSE))","v":""},{"$f":"IF(ISBLANK($R1661)=TRUE,\"\",VLOOKUP($R1661,TAXONOMY!$A$1:$G$959,6,FALSE))","v":""},{"$f":"IF(ISBLANK($R1661)=TRUE,\"\",VLOOKUP($R1661,TAXONOMY!$A$1:$G$959,5,FALSE))","v":""},{"$f":"IF(ISBLANK($R1661)=TRUE,\"\",VLOOKUP($R1661,TAXONOMY!$A$1:$G$959,4,FALSE))","v":""},{"$f":"IF(ISBLANK($R1661)=TRUE,\"\",VLOOKUP($R1661,TAXONOMY!$A$1:$G$959,3,FALSE))","v":""},{"$f":"IF(ISBLANK($R1661)=TRUE,\"\",VLOOKUP($R1661,TAXONOMY!$A$1:$H$959,2,FALSE))","v":""}]
[null,null,null,null,null,null,null,null,null,null,null,{"$f":"IF(ISBLANK($R1662)=TRUE,\"\",VLOOKUP($R1662,TAXONOMY!$A$1:$G$959,7,FALSE))","v":""},{"$f":"IF(ISBLANK($R1662)=TRUE,\"\",VLOOKUP($R1662,TAXONOMY!$A$1:$G$959,6,FALSE))","v":""},{"$f":"IF(ISBLANK($R1662)=TRUE,\"\",VLOOKUP($R1662,TAXONOMY!$A$1:$G$959,5,FALSE))","v":""},{"$f":"IF(ISBLANK($R1662)=TRUE,\"\",VLOOKUP($R1662,TAXONOMY!$A$1:$G$959,4,FALSE))","v":""},{"$f":"IF(ISBLANK($R1662)=TRUE,\"\",VLOOKUP($R1662,TAXONOMY!$A$1:$G$959,3,FALSE))","v":""},{"$f":"IF(ISBLANK($R1662)=TRUE,\"\",VLOOKUP($R1662,TAXONOMY!$A$1:$H$959,2,FALSE))","v":""}]
[null,null,null,null,null,null,null,null,null,null,null,{"$f":"IF(ISBLANK($R1663)=TRUE,\"\",VLOOKUP($R1663,TAXONOMY!$A$1:$G$959,7,FALSE))","v":""},{"$f":"IF(ISBLANK($R1663)=TRUE,\"\",VLOOKUP($R1663,TAXONOMY!$A$1:$G$959,6,FALSE))","v":""},{"$f":"IF(ISBLANK($R1663)=TRUE,\"\",VLOOKUP($R1663,TAXONOMY!$A$1:$G$959,5,FALSE))","v":""},{"$f":"IF(ISBLANK($R1663)=TRUE,\"\",VLOOKUP($R1663,TAXONOMY!$A$1:$G$959,4,FALSE))","v":""},{"$f":"IF(ISBLANK($R1663)=TRUE,\"\",VLOOKUP($R1663,TAXONOMY!$A$1:$G$959,3,FALSE))","v":""},{"$f":"IF(ISBLANK($R1663)=TRUE,\"\",VLOOKUP($R1663,TAXONOMY!$A$1:$H$959,2,FALSE))","v":""}]
[null,null,null,null,null,null,null,null,null,null,null,{"$f":"IF(ISBLANK($R1664)=TRUE,\"\",VLOOKUP($R1664,TAXONOMY!$A$1:$G$959,7,FALSE))","v":""},{"$f":"IF(ISBLANK($R1664)=TRUE,\"\",VLOOKUP($R1664,TAXONOMY!$A$1:$G$959,6,FALSE))","v":""},{"$f":"IF(ISBLANK($R1664)=TRUE,\"\",VLOOKUP($R1664,TAXONOMY!$A$1:$G$959,5,FALSE))","v":""},{"$f":"IF(ISBLANK($R1664)=TRUE,\"\",VLOOKUP($R1664,TAXONOMY!$A$1:$G$959,4,FALSE))","v":""},{"$f":"IF(ISBLANK($R1664)=TRUE,\"\",VLOOKUP($R1664,TAXONOMY!$A$1:$G$959,3,FALSE))","v":""},{"$f":"IF(ISBLANK($R1664)=TRUE,\"\",VLOOKUP($R1664,TAXONOMY!$A$1:$H$959,2,FALSE))","v":""}]
[null,null,null,null,null,null,null,null,null,null,null,{"$f":"IF(ISBLANK($R1665)=TRUE,\"\",VLOOKUP($R1665,TAXONOMY!$A$1:$G$959,7,FALSE))","v":""},{"$f":"IF(ISBLANK($R1665)=TRUE,\"\",VLOOKUP($R1665,TAXONOMY!$A$1:$G$959,6,FALSE))","v":""},{"$f":"IF(ISBLANK($R1665)=TRUE,\"\",VLOOKUP($R1665,TAXONOMY!$A$1:$G$959,5,FALSE))","v":""},{"$f":"IF(ISBLANK($R1665)=TRUE,\"\",VLOOKUP($R1665,TAXONOMY!$A$1:$G$959,4,FALSE))","v":""},{"$f":"IF(ISBLANK($R1665)=TRUE,\"\",VLOOKUP($R1665,TAXONOMY!$A$1:$G$959,3,FALSE))","v":""},{"$f":"IF(ISBLANK($R1665)=TRUE,\"\",VLOOKUP($R1665,TAXONOMY!$A$1:$H$959,2,FALSE))","v":""}]
[null,null,null,null,null,null,null,null,null,null,null,{"$f":"IF(ISBLANK($R1666)=TRUE,\"\",VLOOKUP($R1666,TAXONOMY!$A$1:$G$959,7,FALSE))","v":""},{"$f":"IF(ISBLANK($R1666)=TRUE,\"\",VLOOKUP($R1666,TAXONOMY!$A$1:$G$959,6,FALSE))","v":""},{"$f":"IF(ISBLANK($R1666)=TRUE,\"\",VLOOKUP($R1666,TAXONOMY!$A$1:$G$959,5,FALSE))","v":""},{"$f":"IF(ISBLANK($R1666)=TRUE,\"\",VLOOKUP($R1666,TAXONOMY!$A$1:$G$959,4,FALSE))","v":""},{"$f":"IF(ISBLANK($R1666)=TRUE,\"\",VLOOKUP($R1666,TAXONOMY!$A$1:$G$959,3,FALSE))","v":""},{"$f":"IF(ISBLANK($R1666)=TRUE,\"\",VLOOKUP($R1666,TAXONOMY!$A$1:$H$959,2,FALSE))","v":""}]
[null,null,null,null,null,null,null,null,null,null,null,{"$f":"IF(ISBLANK($R1667)=TRUE,\"\",VLOOKUP($R1667,TAXONOMY!$A$1:$G$959,7,FALSE))","v":""},{"$f":"IF(ISBLANK($R1667)=TRUE,\"\",VLOOKUP($R1667,TAXONOMY!$A$1:$G$959,6,FALSE))","v":""},{"$f":"IF(ISBLANK($R1667)=TRUE,\"\",VLOOKUP($R1667,TAXONOMY!$A$1:$G$959,5,FALSE))","v":""},{"$f":"IF(ISBLANK($R1667)=TRUE,\"\",VLOOKUP($R1667,TAXONOMY!$A$1:$G$959,4,FALSE))","v":""},{"$f":"IF(ISBLANK($R1667)=TRUE,\"\",VLOOKUP($R1667,TAXONOMY!$A$1:$G$959,3,FALSE))","v":""},{"$f":"IF(ISBLANK($R1667)=TRUE,\"\",VLOOKUP($R1667,TAXONOMY!$A$1:$H$959,2,FALSE))","v":""}]
[null,null,null,null,null,null,null,null,null,null,null,{"$f":"IF(ISBLANK($R1668)=TRUE,\"\",VLOOKUP($R1668,TAXONOMY!$A$1:$G$959,7,FALSE))","v":""},{"$f":"IF(ISBLANK($R1668)=TRUE,\"\",VLOOKUP($R1668,TAXONOMY!$A$1:$G$959,6,FALSE))","v":""},{"$f":"IF(ISBLANK($R1668)=TRUE,\"\",VLOOKUP($R1668,TAXONOMY!$A$1:$G$959,5,FALSE))","v":""},{"$f":"IF(ISBLANK($R1668)=TRUE,\"\",VLOOKUP($R1668,TAXONOMY!$A$1:$G$959,4,FALSE))","v":""},{"$f":"IF(ISBLANK($R1668)=TRUE,\"\",VLOOKUP($R1668,TAXONOMY!$A$1:$G$959,3,FALSE))","v":""},{"$f":"IF(ISBLANK($R1668)=TRUE,\"\",VLOOKUP($R1668,TAXONOMY!$A$1:$H$959,2,FALSE))","v":""}]
[null,null,null,null,null,null,null,null,null,null,null,{"$f":"IF(ISBLANK($R1669)=TRUE,\"\",VLOOKUP($R1669,TAXONOMY!$A$1:$G$959,7,FALSE))","v":""},{"$f":"IF(ISBLANK($R1669)=TRUE,\"\",VLOOKUP($R1669,TAXONOMY!$A$1:$G$959,6,FALSE))","v":""},{"$f":"IF(ISBLANK($R1669)=TRUE,\"\",VLOOKUP($R1669,TAXONOMY!$A$1:$G$959,5,FALSE))","v":""},{"$f":"IF(ISBLANK($R1669)=TRUE,\"\",VLOOKUP($R1669,TAXONOMY!$A$1:$G$959,4,FALSE))","v":""},{"$f":"IF(ISBLANK($R1669)=TRUE,\"\",VLOOKUP($R1669,TAXONOMY!$A$1:$G$959,3,FALSE))","v":""},{"$f":"IF(ISBLANK($R1669)=TRUE,\"\",VLOOKUP($R1669,TAXONOMY!$A$1:$H$959,2,FALSE))","v":""}]
[null,null,null,null,null,null,null,null,null,null,null,{"$f":"IF(ISBLANK($R1670)=TRUE,\"\",VLOOKUP($R1670,TAXONOMY!$A$1:$G$959,7,FALSE))","v":""},{"$f":"IF(ISBLANK($R1670)=TRUE,\"\",VLOOKUP($R1670,TAXONOMY!$A$1:$G$959,6,FALSE))","v":""},{"$f":"IF(ISBLANK($R1670)=TRUE,\"\",VLOOKUP($R1670,TAXONOMY!$A$1:$G$959,5,FALSE))","v":""},{"$f":"IF(ISBLANK($R1670)=TRUE,\"\",VLOOKUP($R1670,TAXONOMY!$A$1:$G$959,4,FALSE))","v":""},{"$f":"IF(ISBLANK($R1670)=TRUE,\"\",VLOOKUP($R1670,TAXONOMY!$A$1:$G$959,3,FALSE))","v":""},{"$f":"IF(ISBLANK($R1670)=TRUE,\"\",VLOOKUP($R1670,TAXONOMY!$A$1:$H$959,2,FALSE))","v":""}]
[null,null,null,null,null,null,null,null,null,null,null,{"$f":"IF(ISBLANK($R1671)=TRUE,\"\",VLOOKUP($R1671,TAXONOMY!$A$1:$G$959,7,FALSE))","v":""},{"$f":"IF(ISBLANK($R1671)=TRUE,\"\",VLOOKUP($R1671,TAXONOMY!$A$1:$G$959,6,FALSE))","v":""},{"$f":"IF(ISBLANK($R1671)=TRUE,\"\",VLOOKUP($R1671,TAXONOMY!$A$1:$G$959,5,FALSE))","v":""},{"$f":"IF(ISBLANK($R1671)=TRUE,\"\",VLOOKUP($R1671,TAXONOMY!$A$1:$G$959,4,FALSE))","v":""},{"$f":"IF(ISBLANK($R1671)=TRUE,\"\",VLOOKUP($R1671,TAXONOMY!$A$1:$G$959,3,FALSE))","v":""},{"$f":"IF(ISBLANK($R1671)=TRUE,\"\",VLOOKUP($R1671,TAXONOMY!$A$1:$H$959,2,FALSE))","v":""}]
[null,null,null,null,null,null,null,null,null,null,null,{"$f":"IF(ISBLANK($R1672)=TRUE,\"\",VLOOKUP($R1672,TAXONOMY!$A$1:$G$959,7,FALSE))","v":""},{"$f":"IF(ISBLANK($R1672)=TRUE,\"\",VLOOKUP($R1672,TAXONOMY!$A$1:$G$959,6,FALSE))","v":""},{"$f":"IF(ISBLANK($R1672)=TRUE,\"\",VLOOKUP($R1672,TAXONOMY!$A$1:$G$959,5,FALSE))","v":""},{"$f":"IF(ISBLANK($R1672)=TRUE,\"\",VLOOKUP($R1672,TAXONOMY!$A$1:$G$959,4,FALSE))","v":""},{"$f":"IF(ISBLANK($R1672)=TRUE,\"\",VLOOKUP($R1672,TAXONOMY!$A$1:$G$959,3,FALSE))","v":""},{"$f":"IF(ISBLANK($R1672)=TRUE,\"\",VLOOKUP($R1672,TAXONOMY!$A$1:$H$959,2,FALSE))","v":""}]
[null,null,null,null,null,null,null,null,null,null,null,{"$f":"IF(ISBLANK($R1673)=TRUE,\"\",VLOOKUP($R1673,TAXONOMY!$A$1:$G$959,7,FALSE))","v":""},{"$f":"IF(ISBLANK($R1673)=TRUE,\"\",VLOOKUP($R1673,TAXONOMY!$A$1:$G$959,6,FALSE))","v":""},{"$f":"IF(ISBLANK($R1673)=TRUE,\"\",VLOOKUP($R1673,TAXONOMY!$A$1:$G$959,5,FALSE))","v":""},{"$f":"IF(ISBLANK($R1673)=TRUE,\"\",VLOOKUP($R1673,TAXONOMY!$A$1:$G$959,4,FALSE))","v":""},{"$f":"IF(ISBLANK($R1673)=TRUE,\"\",VLOOKUP($R1673,TAXONOMY!$A$1:$G$959,3,FALSE))","v":""},{"$f":"IF(ISBLANK($R1673)=TRUE,\"\",VLOOKUP($R1673,TAXONOMY!$A$1:$H$959,2,FALSE))","v":""}]
[null,null,null,null,null,null,null,null,null,null,null,{"$f":"IF(ISBLANK($R1674)=TRUE,\"\",VLOOKUP($R1674,TAXONOMY!$A$1:$G$959,7,FALSE))","v":""},{"$f":"IF(ISBLANK($R1674)=TRUE,\"\",VLOOKUP($R1674,TAXONOMY!$A$1:$G$959,6,FALSE))","v":""},{"$f":"IF(ISBLANK($R1674)=TRUE,\"\",VLOOKUP($R1674,TAXONOMY!$A$1:$G$959,5,FALSE))","v":""},{"$f":"IF(ISBLANK($R1674)=TRUE,\"\",VLOOKUP($R1674,TAXONOMY!$A$1:$G$959,4,FALSE))","v":""},{"$f":"IF(ISBLANK($R1674)=TRUE,\"\",VLOOKUP($R1674,TAXONOMY!$A$1:$G$959,3,FALSE))","v":""},{"$f":"IF(ISBLANK($R1674)=TRUE,\"\",VLOOKUP($R1674,TAXONOMY!$A$1:$H$959,2,FALSE))","v":""}]
[null,null,null,null,null,null,null,null,null,null,null,{"$f":"IF(ISBLANK($R1675)=TRUE,\"\",VLOOKUP($R1675,TAXONOMY!$A$1:$G$959,7,FALSE))","v":""},{"$f":"IF(ISBLANK($R1675)=TRUE,\"\",VLOOKUP($R1675,TAXONOMY!$A$1:$G$959,6,FALSE))","v":""},{"$f":"IF(ISBLANK($R1675)=TRUE,\"\",VLOOKUP($R1675,TAXONOMY!$A$1:$G$959,5,FALSE))","v":""},{"$f":"IF(ISBLANK($R1675)=TRUE,\"\",VLOOKUP($R1675,TAXONOMY!$A$1:$G$959,4,FALSE))","v":""},{"$f":"IF(ISBLANK($R1675)=TRUE,\"\",VLOOKUP($R1675,TAXONOMY!$A$1:$G$959,3,FALSE))","v":""},{"$f":"IF(ISBLANK($R1675)=TRUE,\"\",VLOOKUP($R1675,TAXONOMY!$A$1:$H$959,2,FALSE))","v":""}]
[null,null,null,null,null,null,null,null,null,null,null,{"$f":"IF(ISBLANK($R1676)=TRUE,\"\",VLOOKUP($R1676,TAXONOMY!$A$1:$G$959,7,FALSE))","v":""},{"$f":"IF(ISBLANK($R1676)=TRUE,\"\",VLOOKUP($R1676,TAXONOMY!$A$1:$G$959,6,FALSE))","v":""},{"$f":"IF(ISBLANK($R1676)=TRUE,\"\",VLOOKUP($R1676,TAXONOMY!$A$1:$G$959,5,FALSE))","v":""},{"$f":"IF(ISBLANK($R1676)=TRUE,\"\",VLOOKUP($R1676,TAXONOMY!$A$1:$G$959,4,FALSE))","v":""},{"$f":"IF(ISBLANK($R1676)=TRUE,\"\",VLOOKUP($R1676,TAXONOMY!$A$1:$G$959,3,FALSE))","v":""},{"$f":"IF(ISBLANK($R1676)=TRUE,\"\",VLOOKUP($R1676,TAXONOMY!$A$1:$H$959,2,FALSE))","v":""}]
[null,null,null,null,null,null,null,null,null,null,null,{"$f":"IF(ISBLANK($R1677)=TRUE,\"\",VLOOKUP($R1677,TAXONOMY!$A$1:$G$959,7,FALSE))","v":""},{"$f":"IF(ISBLANK($R1677)=TRUE,\"\",VLOOKUP($R1677,TAXONOMY!$A$1:$G$959,6,FALSE))","v":""},{"$f":"IF(ISBLANK($R1677)=TRUE,\"\",VLOOKUP($R1677,TAXONOMY!$A$1:$G$959,5,FALSE))","v":""},{"$f":"IF(ISBLANK($R1677)=TRUE,\"\",VLOOKUP($R1677,TAXONOMY!$A$1:$G$959,4,FALSE))","v":""},{"$f":"IF(ISBLANK($R1677)=TRUE,\"\",VLOOKUP($R1677,TAXONOMY!$A$1:$G$959,3,FALSE))","v":""},{"$f":"IF(ISBLANK($R1677)=TRUE,\"\",VLOOKUP($R1677,TAXONOMY!$A$1:$H$959,2,FALSE))","v":""}]
[null,null,null,null,null,null,null,null,null,null,null,{"$f":"IF(ISBLANK($R1678)=TRUE,\"\",VLOOKUP($R1678,TAXONOMY!$A$1:$G$959,7,FALSE))","v":""},{"$f":"IF(ISBLANK($R1678)=TRUE,\"\",VLOOKUP($R1678,TAXONOMY!$A$1:$G$959,6,FALSE))","v":""},{"$f":"IF(ISBLANK($R1678)=TRUE,\"\",VLOOKUP($R1678,TAXONOMY!$A$1:$G$959,5,FALSE))","v":""},{"$f":"IF(ISBLANK($R1678)=TRUE,\"\",VLOOKUP($R1678,TAXONOMY!$A$1:$G$959,4,FALSE))","v":""},{"$f":"IF(ISBLANK($R1678)=TRUE,\"\",VLOOKUP($R1678,TAXONOMY!$A$1:$G$959,3,FALSE))","v":""},{"$f":"IF(ISBLANK($R1678)=TRUE,\"\",VLOOKUP($R1678,TAXONOMY!$A$1:$H$959,2,FALSE))","v":""}]
[null,null,null,null,null,null,null,null,null,null,null,{"$f":"IF(ISBLANK($R1679)=TRUE,\"\",VLOOKUP($R1679,TAXONOMY!$A$1:$G$959,7,FALSE))","v":""},{"$f":"IF(ISBLANK($R1679)=TRUE,\"\",VLOOKUP($R1679,TAXONOMY!$A$1:$G$959,6,FALSE))","v":""},{"$f":"IF(ISBLANK($R1679)=TRUE,\"\",VLOOKUP($R1679,TAXONOMY!$A$1:$G$959,5,FALSE))","v":""},{"$f":"IF(ISBLANK($R1679)=TRUE,\"\",VLOOKUP($R1679,TAXONOMY!$A$1:$G$959,4,FALSE))","v":""},{"$f":"IF(ISBLANK($R1679)=TRUE,\"\",VLOOKUP($R1679,TAXONOMY!$A$1:$G$959,3,FALSE))","v":""},{"$f":"IF(ISBLANK($R1679)=TRUE,\"\",VLOOKUP($R1679,TAXONOMY!$A$1:$H$959,2,FALSE))","v":""}]
[null,null,null,null,null,null,null,null,null,null,null,{"$f":"IF(ISBLANK($R1680)=TRUE,\"\",VLOOKUP($R1680,TAXONOMY!$A$1:$G$959,7,FALSE))","v":""},{"$f":"IF(ISBLANK($R1680)=TRUE,\"\",VLOOKUP($R1680,TAXONOMY!$A$1:$G$959,6,FALSE))","v":""},{"$f":"IF(ISBLANK($R1680)=TRUE,\"\",VLOOKUP($R1680,TAXONOMY!$A$1:$G$959,5,FALSE))","v":""},{"$f":"IF(ISBLANK($R1680)=TRUE,\"\",VLOOKUP($R1680,TAXONOMY!$A$1:$G$959,4,FALSE))","v":""},{"$f":"IF(ISBLANK($R1680)=TRUE,\"\",VLOOKUP($R1680,TAXONOMY!$A$1:$G$959,3,FALSE))","v":""},{"$f":"IF(ISBLANK($R1680)=TRUE,\"\",VLOOKUP($R1680,TAXONOMY!$A$1:$H$959,2,FALSE))","v":""}]
[null,null,null,null,null,null,null,null,null,null,null,{"$f":"IF(ISBLANK($R1681)=TRUE,\"\",VLOOKUP($R1681,TAXONOMY!$A$1:$G$959,7,FALSE))","v":""},{"$f":"IF(ISBLANK($R1681)=TRUE,\"\",VLOOKUP($R1681,TAXONOMY!$A$1:$G$959,6,FALSE))","v":""},{"$f":"IF(ISBLANK($R1681)=TRUE,\"\",VLOOKUP($R1681,TAXONOMY!$A$1:$G$959,5,FALSE))","v":""},{"$f":"IF(ISBLANK($R1681)=TRUE,\"\",VLOOKUP($R1681,TAXONOMY!$A$1:$G$959,4,FALSE))","v":""},{"$f":"IF(ISBLANK($R1681)=TRUE,\"\",VLOOKUP($R1681,TAXONOMY!$A$1:$G$959,3,FALSE))","v":""},{"$f":"IF(ISBLANK($R1681)=TRUE,\"\",VLOOKUP($R1681,TAXONOMY!$A$1:$H$959,2,FALSE))","v":""}]
[null,null,null,null,null,null,null,null,null,null,null,{"$f":"IF(ISBLANK($R1682)=TRUE,\"\",VLOOKUP($R1682,TAXONOMY!$A$1:$G$959,7,FALSE))","v":""},{"$f":"IF(ISBLANK($R1682)=TRUE,\"\",VLOOKUP($R1682,TAXONOMY!$A$1:$G$959,6,FALSE))","v":""},{"$f":"IF(ISBLANK($R1682)=TRUE,\"\",VLOOKUP($R1682,TAXONOMY!$A$1:$G$959,5,FALSE))","v":""},{"$f":"IF(ISBLANK($R1682)=TRUE,\"\",VLOOKUP($R1682,TAXONOMY!$A$1:$G$959,4,FALSE))","v":""},{"$f":"IF(ISBLANK($R1682)=TRUE,\"\",VLOOKUP($R1682,TAXONOMY!$A$1:$G$959,3,FALSE))","v":""},{"$f":"IF(ISBLANK($R1682)=TRUE,\"\",VLOOKUP($R1682,TAXONOMY!$A$1:$H$959,2,FALSE))","v":""}]
[null,null,null,null,null,null,null,null,null,null,null,{"$f":"IF(ISBLANK($R1683)=TRUE,\"\",VLOOKUP($R1683,TAXONOMY!$A$1:$G$959,7,FALSE))","v":""},{"$f":"IF(ISBLANK($R1683)=TRUE,\"\",VLOOKUP($R1683,TAXONOMY!$A$1:$G$959,6,FALSE))","v":""},{"$f":"IF(ISBLANK($R1683)=TRUE,\"\",VLOOKUP($R1683,TAXONOMY!$A$1:$G$959,5,FALSE))","v":""},{"$f":"IF(ISBLANK($R1683)=TRUE,\"\",VLOOKUP($R1683,TAXONOMY!$A$1:$G$959,4,FALSE))","v":""},{"$f":"IF(ISBLANK($R1683)=TRUE,\"\",VLOOKUP($R1683,TAXONOMY!$A$1:$G$959,3,FALSE))","v":""},{"$f":"IF(ISBLANK($R1683)=TRUE,\"\",VLOOKUP($R1683,TAXONOMY!$A$1:$H$959,2,FALSE))","v":""}]
[null,null,null,null,null,null,null,null,null,null,null,{"$f":"IF(ISBLANK($R1684)=TRUE,\"\",VLOOKUP($R1684,TAXONOMY!$A$1:$G$959,7,FALSE))","v":""},{"$f":"IF(ISBLANK($R1684)=TRUE,\"\",VLOOKUP($R1684,TAXONOMY!$A$1:$G$959,6,FALSE))","v":""},{"$f":"IF(ISBLANK($R1684)=TRUE,\"\",VLOOKUP($R1684,TAXONOMY!$A$1:$G$959,5,FALSE))","v":""},{"$f":"IF(ISBLANK($R1684)=TRUE,\"\",VLOOKUP($R1684,TAXONOMY!$A$1:$G$959,4,FALSE))","v":""},{"$f":"IF(ISBLANK($R1684)=TRUE,\"\",VLOOKUP($R1684,TAXONOMY!$A$1:$G$959,3,FALSE))","v":""},{"$f":"IF(ISBLANK($R1684)=TRUE,\"\",VLOOKUP($R1684,TAXONOMY!$A$1:$H$959,2,FALSE))","v":""}]
[null,null,null,null,null,null,null,null,null,null,null,{"$f":"IF(ISBLANK($R1685)=TRUE,\"\",VLOOKUP($R1685,TAXONOMY!$A$1:$G$959,7,FALSE))","v":""},{"$f":"IF(ISBLANK($R1685)=TRUE,\"\",VLOOKUP($R1685,TAXONOMY!$A$1:$G$959,6,FALSE))","v":""},{"$f":"IF(ISBLANK($R1685)=TRUE,\"\",VLOOKUP($R1685,TAXONOMY!$A$1:$G$959,5,FALSE))","v":""},{"$f":"IF(ISBLANK($R1685)=TRUE,\"\",VLOOKUP($R1685,TAXONOMY!$A$1:$G$959,4,FALSE))","v":""},{"$f":"IF(ISBLANK($R1685)=TRUE,\"\",VLOOKUP($R1685,TAXONOMY!$A$1:$G$959,3,FALSE))","v":""},{"$f":"IF(ISBLANK($R1685)=TRUE,\"\",VLOOKUP($R1685,TAXONOMY!$A$1:$H$959,2,FALSE))","v":""}]
[null,null,null,null,null,null,null,null,null,null,null,{"$f":"IF(ISBLANK($R1686)=TRUE,\"\",VLOOKUP($R1686,TAXONOMY!$A$1:$G$959,7,FALSE))","v":""},{"$f":"IF(ISBLANK($R1686)=TRUE,\"\",VLOOKUP($R1686,TAXONOMY!$A$1:$G$959,6,FALSE))","v":""},{"$f":"IF(ISBLANK($R1686)=TRUE,\"\",VLOOKUP($R1686,TAXONOMY!$A$1:$G$959,5,FALSE))","v":""},{"$f":"IF(ISBLANK($R1686)=TRUE,\"\",VLOOKUP($R1686,TAXONOMY!$A$1:$G$959,4,FALSE))","v":""},{"$f":"IF(ISBLANK($R1686)=TRUE,\"\",VLOOKUP($R1686,TAXONOMY!$A$1:$G$959,3,FALSE))","v":""},{"$f":"IF(ISBLANK($R1686)=TRUE,\"\",VLOOKUP($R1686,TAXONOMY!$A$1:$H$959,2,FALSE))","v":""}]
[null,null,null,null,null,null,null,null,null,null,null,{"$f":"IF(ISBLANK($R1687)=TRUE,\"\",VLOOKUP($R1687,TAXONOMY!$A$1:$G$959,7,FALSE))","v":""},{"$f":"IF(ISBLANK($R1687)=TRUE,\"\",VLOOKUP($R1687,TAXONOMY!$A$1:$G$959,6,FALSE))","v":""},{"$f":"IF(ISBLANK($R1687)=TRUE,\"\",VLOOKUP($R1687,TAXONOMY!$A$1:$G$959,5,FALSE))","v":""},{"$f":"IF(ISBLANK($R1687)=TRUE,\"\",VLOOKUP($R1687,TAXONOMY!$A$1:$G$959,4,FALSE))","v":""},{"$f":"IF(ISBLANK($R1687)=TRUE,\"\",VLOOKUP($R1687,TAXONOMY!$A$1:$G$959,3,FALSE))","v":""},{"$f":"IF(ISBLANK($R1687)=TRUE,\"\",VLOOKUP($R1687,TAXONOMY!$A$1:$H$959,2,FALSE))","v":""}]
[null,null,null,null,null,null,null,null,null,null,null,{"$f":"IF(ISBLANK($R1688)=TRUE,\"\",VLOOKUP($R1688,TAXONOMY!$A$1:$G$959,7,FALSE))","v":""},{"$f":"IF(ISBLANK($R1688)=TRUE,\"\",VLOOKUP($R1688,TAXONOMY!$A$1:$G$959,6,FALSE))","v":""},{"$f":"IF(ISBLANK($R1688)=TRUE,\"\",VLOOKUP($R1688,TAXONOMY!$A$1:$G$959,5,FALSE))","v":""},{"$f":"IF(ISBLANK($R1688)=TRUE,\"\",VLOOKUP($R1688,TAXONOMY!$A$1:$G$959,4,FALSE))","v":""},{"$f":"IF(ISBLANK($R1688)=TRUE,\"\",VLOOKUP($R1688,TAXONOMY!$A$1:$G$959,3,FALSE))","v":""},{"$f":"IF(ISBLANK($R1688)=TRUE,\"\",VLOOKUP($R1688,TAXONOMY!$A$1:$H$959,2,FALSE))","v":""}]
[null,null,null,null,null,null,null,null,null,null,null,{"$f":"IF(ISBLANK($R1689)=TRUE,\"\",VLOOKUP($R1689,TAXONOMY!$A$1:$G$959,7,FALSE))","v":""},{"$f":"IF(ISBLANK($R1689)=TRUE,\"\",VLOOKUP($R1689,TAXONOMY!$A$1:$G$959,6,FALSE))","v":""},{"$f":"IF(ISBLANK($R1689)=TRUE,\"\",VLOOKUP($R1689,TAXONOMY!$A$1:$G$959,5,FALSE))","v":""},{"$f":"IF(ISBLANK($R1689)=TRUE,\"\",VLOOKUP($R1689,TAXONOMY!$A$1:$G$959,4,FALSE))","v":""},{"$f":"IF(ISBLANK($R1689)=TRUE,\"\",VLOOKUP($R1689,TAXONOMY!$A$1:$G$959,3,FALSE))","v":""},{"$f":"IF(ISBLANK($R1689)=TRUE,\"\",VLOOKUP($R1689,TAXONOMY!$A$1:$H$959,2,FALSE))","v":""}]
[null,null,null,null,null,null,null,null,null,null,null,{"$f":"IF(ISBLANK($R1690)=TRUE,\"\",VLOOKUP($R1690,TAXONOMY!$A$1:$G$959,7,FALSE))","v":""},{"$f":"IF(ISBLANK($R1690)=TRUE,\"\",VLOOKUP($R1690,TAXONOMY!$A$1:$G$959,6,FALSE))","v":""},{"$f":"IF(ISBLANK($R1690)=TRUE,\"\",VLOOKUP($R1690,TAXONOMY!$A$1:$G$959,5,FALSE))","v":""},{"$f":"IF(ISBLANK($R1690)=TRUE,\"\",VLOOKUP($R1690,TAXONOMY!$A$1:$G$959,4,FALSE))","v":""},{"$f":"IF(ISBLANK($R1690)=TRUE,\"\",VLOOKUP($R1690,TAXONOMY!$A$1:$G$959,3,FALSE))","v":""},{"$f":"IF(ISBLANK($R1690)=TRUE,\"\",VLOOKUP($R1690,TAXONOMY!$A$1:$H$959,2,FALSE))","v":""}]
[null,null,null,null,null,null,null,null,null,null,null,{"$f":"IF(ISBLANK($R1691)=TRUE,\"\",VLOOKUP($R1691,TAXONOMY!$A$1:$G$959,7,FALSE))","v":""},{"$f":"IF(ISBLANK($R1691)=TRUE,\"\",VLOOKUP($R1691,TAXONOMY!$A$1:$G$959,6,FALSE))","v":""},{"$f":"IF(ISBLANK($R1691)=TRUE,\"\",VLOOKUP($R1691,TAXONOMY!$A$1:$G$959,5,FALSE))","v":""},{"$f":"IF(ISBLANK($R1691)=TRUE,\"\",VLOOKUP($R1691,TAXONOMY!$A$1:$G$959,4,FALSE))","v":""},{"$f":"IF(ISBLANK($R1691)=TRUE,\"\",VLOOKUP($R1691,TAXONOMY!$A$1:$G$959,3,FALSE))","v":""},{"$f":"IF(ISBLANK($R1691)=TRUE,\"\",VLOOKUP($R1691,TAXONOMY!$A$1:$H$959,2,FALSE))","v":""}]
[null,null,null,null,null,null,null,null,null,null,null,{"$f":"IF(ISBLANK($R1692)=TRUE,\"\",VLOOKUP($R1692,TAXONOMY!$A$1:$G$959,7,FALSE))","v":""},{"$f":"IF(ISBLANK($R1692)=TRUE,\"\",VLOOKUP($R1692,TAXONOMY!$A$1:$G$959,6,FALSE))","v":""},{"$f":"IF(ISBLANK($R1692)=TRUE,\"\",VLOOKUP($R1692,TAXONOMY!$A$1:$G$959,5,FALSE))","v":""},{"$f":"IF(ISBLANK($R1692)=TRUE,\"\",VLOOKUP($R1692,TAXONOMY!$A$1:$G$959,4,FALSE))","v":""},{"$f":"IF(ISBLANK($R1692)=TRUE,\"\",VLOOKUP($R1692,TAXONOMY!$A$1:$G$959,3,FALSE))","v":""},{"$f":"IF(ISBLANK($R1692)=TRUE,\"\",VLOOKUP($R1692,TAXONOMY!$A$1:$H$959,2,FALSE))","v":""}]
[null,null,null,null,null,null,null,null,null,null,null,{"$f":"IF(ISBLANK($R1693)=TRUE,\"\",VLOOKUP($R1693,TAXONOMY!$A$1:$G$959,7,FALSE))","v":""},{"$f":"IF(ISBLANK($R1693)=TRUE,\"\",VLOOKUP($R1693,TAXONOMY!$A$1:$G$959,6,FALSE))","v":""},{"$f":"IF(ISBLANK($R1693)=TRUE,\"\",VLOOKUP($R1693,TAXONOMY!$A$1:$G$959,5,FALSE))","v":""},{"$f":"IF(ISBLANK($R1693)=TRUE,\"\",VLOOKUP($R1693,TAXONOMY!$A$1:$G$959,4,FALSE))","v":""},{"$f":"IF(ISBLANK($R1693)=TRUE,\"\",VLOOKUP($R1693,TAXONOMY!$A$1:$G$959,3,FALSE))","v":""},{"$f":"IF(ISBLANK($R1693)=TRUE,\"\",VLOOKUP($R1693,TAXONOMY!$A$1:$H$959,2,FALSE))","v":""}]
[null,null,null,null,null,null,null,null,null,null,null,{"$f":"IF(ISBLANK($R1694)=TRUE,\"\",VLOOKUP($R1694,TAXONOMY!$A$1:$G$959,7,FALSE))","v":""},{"$f":"IF(ISBLANK($R1694)=TRUE,\"\",VLOOKUP($R1694,TAXONOMY!$A$1:$G$959,6,FALSE))","v":""},{"$f":"IF(ISBLANK($R1694)=TRUE,\"\",VLOOKUP($R1694,TAXONOMY!$A$1:$G$959,5,FALSE))","v":""},{"$f":"IF(ISBLANK($R1694)=TRUE,\"\",VLOOKUP($R1694,TAXONOMY!$A$1:$G$959,4,FALSE))","v":""},{"$f":"IF(ISBLANK($R1694)=TRUE,\"\",VLOOKUP($R1694,TAXONOMY!$A$1:$G$959,3,FALSE))","v":""},{"$f":"IF(ISBLANK($R1694)=TRUE,\"\",VLOOKUP($R1694,TAXONOMY!$A$1:$H$959,2,FALSE))","v":""}]
[null,null,null,null,null,null,null,null,null,null,null,{"$f":"IF(ISBLANK($R1695)=TRUE,\"\",VLOOKUP($R1695,TAXONOMY!$A$1:$G$959,7,FALSE))","v":""},{"$f":"IF(ISBLANK($R1695)=TRUE,\"\",VLOOKUP($R1695,TAXONOMY!$A$1:$G$959,6,FALSE))","v":""},{"$f":"IF(ISBLANK($R1695)=TRUE,\"\",VLOOKUP($R1695,TAXONOMY!$A$1:$G$959,5,FALSE))","v":""},{"$f":"IF(ISBLANK($R1695)=TRUE,\"\",VLOOKUP($R1695,TAXONOMY!$A$1:$G$959,4,FALSE))","v":""},{"$f":"IF(ISBLANK($R1695)=TRUE,\"\",VLOOKUP($R1695,TAXONOMY!$A$1:$G$959,3,FALSE))","v":""},{"$f":"IF(ISBLANK($R1695)=TRUE,\"\",VLOOKUP($R1695,TAXONOMY!$A$1:$H$959,2,FALSE))","v":""}]
[null,null,null,null,null,null,null,null,null,null,null,{"$f":"IF(ISBLANK($R1696)=TRUE,\"\",VLOOKUP($R1696,TAXONOMY!$A$1:$G$959,7,FALSE))","v":""},{"$f":"IF(ISBLANK($R1696)=TRUE,\"\",VLOOKUP($R1696,TAXONOMY!$A$1:$G$959,6,FALSE))","v":""},{"$f":"IF(ISBLANK($R1696)=TRUE,\"\",VLOOKUP($R1696,TAXONOMY!$A$1:$G$959,5,FALSE))","v":""},{"$f":"IF(ISBLANK($R1696)=TRUE,\"\",VLOOKUP($R1696,TAXONOMY!$A$1:$G$959,4,FALSE))","v":""},{"$f":"IF(ISBLANK($R1696)=TRUE,\"\",VLOOKUP($R1696,TAXONOMY!$A$1:$G$959,3,FALSE))","v":""},{"$f":"IF(ISBLANK($R1696)=TRUE,\"\",VLOOKUP($R1696,TAXONOMY!$A$1:$H$959,2,FALSE))","v":""}]
[null,null,null,null,null,null,null,null,null,null,null,{"$f":"IF(ISBLANK($R1697)=TRUE,\"\",VLOOKUP($R1697,TAXONOMY!$A$1:$G$959,7,FALSE))","v":""},{"$f":"IF(ISBLANK($R1697)=TRUE,\"\",VLOOKUP($R1697,TAXONOMY!$A$1:$G$959,6,FALSE))","v":""},{"$f":"IF(ISBLANK($R1697)=TRUE,\"\",VLOOKUP($R1697,TAXONOMY!$A$1:$G$959,5,FALSE))","v":""},{"$f":"IF(ISBLANK($R1697)=TRUE,\"\",VLOOKUP($R1697,TAXONOMY!$A$1:$G$959,4,FALSE))","v":""},{"$f":"IF(ISBLANK($R1697)=TRUE,\"\",VLOOKUP($R1697,TAXONOMY!$A$1:$G$959,3,FALSE))","v":""},{"$f":"IF(ISBLANK($R1697)=TRUE,\"\",VLOOKUP($R1697,TAXONOMY!$A$1:$H$959,2,FALSE))","v":""}]
[null,null,null,null,null,null,null,null,null,null,null,{"$f":"IF(ISBLANK($R1698)=TRUE,\"\",VLOOKUP($R1698,TAXONOMY!$A$1:$G$959,7,FALSE))","v":""},{"$f":"IF(ISBLANK($R1698)=TRUE,\"\",VLOOKUP($R1698,TAXONOMY!$A$1:$G$959,6,FALSE))","v":""},{"$f":"IF(ISBLANK($R1698)=TRUE,\"\",VLOOKUP($R1698,TAXONOMY!$A$1:$G$959,5,FALSE))","v":""},{"$f":"IF(ISBLANK($R1698)=TRUE,\"\",VLOOKUP($R1698,TAXONOMY!$A$1:$G$959,4,FALSE))","v":""},{"$f":"IF(ISBLANK($R1698)=TRUE,\"\",VLOOKUP($R1698,TAXONOMY!$A$1:$G$959,3,FALSE))","v":""},{"$f":"IF(ISBLANK($R1698)=TRUE,\"\",VLOOKUP($R1698,TAXONOMY!$A$1:$H$959,2,FALSE))","v":""}]
[null,null,null,null,null,null,null,null,null,null,null,{"$f":"IF(ISBLANK($R1699)=TRUE,\"\",VLOOKUP($R1699,TAXONOMY!$A$1:$G$959,7,FALSE))","v":""},{"$f":"IF(ISBLANK($R1699)=TRUE,\"\",VLOOKUP($R1699,TAXONOMY!$A$1:$G$959,6,FALSE))","v":""},{"$f":"IF(ISBLANK($R1699)=TRUE,\"\",VLOOKUP($R1699,TAXONOMY!$A$1:$G$959,5,FALSE))","v":""},{"$f":"IF(ISBLANK($R1699)=TRUE,\"\",VLOOKUP($R1699,TAXONOMY!$A$1:$G$959,4,FALSE))","v":""},{"$f":"IF(ISBLANK($R1699)=TRUE,\"\",VLOOKUP($R1699,TAXONOMY!$A$1:$G$959,3,FALSE))","v":""},{"$f":"IF(ISBLANK($R1699)=TRUE,\"\",VLOOKUP($R1699,TAXONOMY!$A$1:$H$959,2,FALSE))","v":""}]
[null,null,null,null,null,null,null,null,null,null,null,{"$f":"IF(ISBLANK($R1700)=TRUE,\"\",VLOOKUP($R1700,TAXONOMY!$A$1:$G$959,7,FALSE))","v":""},{"$f":"IF(ISBLANK($R1700)=TRUE,\"\",VLOOKUP($R1700,TAXONOMY!$A$1:$G$959,6,FALSE))","v":""},{"$f":"IF(ISBLANK($R1700)=TRUE,\"\",VLOOKUP($R1700,TAXONOMY!$A$1:$G$959,5,FALSE))","v":""},{"$f":"IF(ISBLANK($R1700)=TRUE,\"\",VLOOKUP($R1700,TAXONOMY!$A$1:$G$959,4,FALSE))","v":""},{"$f":"IF(ISBLANK($R1700)=TRUE,\"\",VLOOKUP($R1700,TAXONOMY!$A$1:$G$959,3,FALSE))","v":""},{"$f":"IF(ISBLANK($R1700)=TRUE,\"\",VLOOKUP($R1700,TAXONOMY!$A$1:$H$959,2,FALSE))","v":""}]
[null,null,null,null,null,null,null,null,null,null,null,{"$f":"IF(ISBLANK($R1701)=TRUE,\"\",VLOOKUP($R1701,TAXONOMY!$A$1:$G$959,7,FALSE))","v":""},{"$f":"IF(ISBLANK($R1701)=TRUE,\"\",VLOOKUP($R1701,TAXONOMY!$A$1:$G$959,6,FALSE))","v":""},{"$f":"IF(ISBLANK($R1701)=TRUE,\"\",VLOOKUP($R1701,TAXONOMY!$A$1:$G$959,5,FALSE))","v":""},{"$f":"IF(ISBLANK($R1701)=TRUE,\"\",VLOOKUP($R1701,TAXONOMY!$A$1:$G$959,4,FALSE))","v":""},{"$f":"IF(ISBLANK($R1701)=TRUE,\"\",VLOOKUP($R1701,TAXONOMY!$A$1:$G$959,3,FALSE))","v":""},{"$f":"IF(ISBLANK($R1701)=TRUE,\"\",VLOOKUP($R1701,TAXONOMY!$A$1:$H$959,2,FALSE))","v":""}]
[null,null,null,null,null,null,null,null,null,null,null,{"$f":"IF(ISBLANK($R1702)=TRUE,\"\",VLOOKUP($R1702,TAXONOMY!$A$1:$G$959,7,FALSE))","v":""},{"$f":"IF(ISBLANK($R1702)=TRUE,\"\",VLOOKUP($R1702,TAXONOMY!$A$1:$G$959,6,FALSE))","v":""},{"$f":"IF(ISBLANK($R1702)=TRUE,\"\",VLOOKUP($R1702,TAXONOMY!$A$1:$G$959,5,FALSE))","v":""},{"$f":"IF(ISBLANK($R1702)=TRUE,\"\",VLOOKUP($R1702,TAXONOMY!$A$1:$G$959,4,FALSE))","v":""},{"$f":"IF(ISBLANK($R1702)=TRUE,\"\",VLOOKUP($R1702,TAXONOMY!$A$1:$G$959,3,FALSE))","v":""},{"$f":"IF(ISBLANK($R1702)=TRUE,\"\",VLOOKUP($R1702,TAXONOMY!$A$1:$H$959,2,FALSE))","v":""}]
[null,null,null,null,null,null,null,null,null,null,null,{"$f":"IF(ISBLANK($R1703)=TRUE,\"\",VLOOKUP($R1703,TAXONOMY!$A$1:$G$959,7,FALSE))","v":""},{"$f":"IF(ISBLANK($R1703)=TRUE,\"\",VLOOKUP($R1703,TAXONOMY!$A$1:$G$959,6,FALSE))","v":""},{"$f":"IF(ISBLANK($R1703)=TRUE,\"\",VLOOKUP($R1703,TAXONOMY!$A$1:$G$959,5,FALSE))","v":""},{"$f":"IF(ISBLANK($R1703)=TRUE,\"\",VLOOKUP($R1703,TAXONOMY!$A$1:$G$959,4,FALSE))","v":""},{"$f":"IF(ISBLANK($R1703)=TRUE,\"\",VLOOKUP($R1703,TAXONOMY!$A$1:$G$959,3,FALSE))","v":""},{"$f":"IF(ISBLANK($R1703)=TRUE,\"\",VLOOKUP($R1703,TAXONOMY!$A$1:$H$959,2,FALSE))","v":""}]
[null,null,null,null,null,null,null,null,null,null,null,{"$f":"IF(ISBLANK($R1704)=TRUE,\"\",VLOOKUP($R1704,TAXONOMY!$A$1:$G$959,7,FALSE))","v":""},{"$f":"IF(ISBLANK($R1704)=TRUE,\"\",VLOOKUP($R1704,TAXONOMY!$A$1:$G$959,6,FALSE))","v":""},{"$f":"IF(ISBLANK($R1704)=TRUE,\"\",VLOOKUP($R1704,TAXONOMY!$A$1:$G$959,5,FALSE))","v":""},{"$f":"IF(ISBLANK($R1704)=TRUE,\"\",VLOOKUP($R1704,TAXONOMY!$A$1:$G$959,4,FALSE))","v":""},{"$f":"IF(ISBLANK($R1704)=TRUE,\"\",VLOOKUP($R1704,TAXONOMY!$A$1:$G$959,3,FALSE))","v":""},{"$f":"IF(ISBLANK($R1704)=TRUE,\"\",VLOOKUP($R1704,TAXONOMY!$A$1:$H$959,2,FALSE))","v":""}]
[null,null,null,null,null,null,null,null,null,null,null,{"$f":"IF(ISBLANK($R1705)=TRUE,\"\",VLOOKUP($R1705,TAXONOMY!$A$1:$G$959,7,FALSE))","v":""},{"$f":"IF(ISBLANK($R1705)=TRUE,\"\",VLOOKUP($R1705,TAXONOMY!$A$1:$G$959,6,FALSE))","v":""},{"$f":"IF(ISBLANK($R1705)=TRUE,\"\",VLOOKUP($R1705,TAXONOMY!$A$1:$G$959,5,FALSE))","v":""},{"$f":"IF(ISBLANK($R1705)=TRUE,\"\",VLOOKUP($R1705,TAXONOMY!$A$1:$G$959,4,FALSE))","v":""},{"$f":"IF(ISBLANK($R1705)=TRUE,\"\",VLOOKUP($R1705,TAXONOMY!$A$1:$G$959,3,FALSE))","v":""},{"$f":"IF(ISBLANK($R1705)=TRUE,\"\",VLOOKUP($R1705,TAXONOMY!$A$1:$H$959,2,FALSE))","v":""}]
[null,null,null,null,null,null,null,null,null,null,null,{"$f":"IF(ISBLANK($R1706)=TRUE,\"\",VLOOKUP($R1706,TAXONOMY!$A$1:$G$959,7,FALSE))","v":""},{"$f":"IF(ISBLANK($R1706)=TRUE,\"\",VLOOKUP($R1706,TAXONOMY!$A$1:$G$959,6,FALSE))","v":""},{"$f":"IF(ISBLANK($R1706)=TRUE,\"\",VLOOKUP($R1706,TAXONOMY!$A$1:$G$959,5,FALSE))","v":""},{"$f":"IF(ISBLANK($R1706)=TRUE,\"\",VLOOKUP($R1706,TAXONOMY!$A$1:$G$959,4,FALSE))","v":""},{"$f":"IF(ISBLANK($R1706)=TRUE,\"\",VLOOKUP($R1706,TAXONOMY!$A$1:$G$959,3,FALSE))","v":""},{"$f":"IF(ISBLANK($R1706)=TRUE,\"\",VLOOKUP($R1706,TAXONOMY!$A$1:$H$959,2,FALSE))","v":""}]
[null,null,null,null,null,null,null,null,null,null,null,{"$f":"IF(ISBLANK($R1707)=TRUE,\"\",VLOOKUP($R1707,TAXONOMY!$A$1:$G$959,7,FALSE))","v":""},{"$f":"IF(ISBLANK($R1707)=TRUE,\"\",VLOOKUP($R1707,TAXONOMY!$A$1:$G$959,6,FALSE))","v":""},{"$f":"IF(ISBLANK($R1707)=TRUE,\"\",VLOOKUP($R1707,TAXONOMY!$A$1:$G$959,5,FALSE))","v":""},{"$f":"IF(ISBLANK($R1707)=TRUE,\"\",VLOOKUP($R1707,TAXONOMY!$A$1:$G$959,4,FALSE))","v":""},{"$f":"IF(ISBLANK($R1707)=TRUE,\"\",VLOOKUP($R1707,TAXONOMY!$A$1:$G$959,3,FALSE))","v":""},{"$f":"IF(ISBLANK($R1707)=TRUE,\"\",VLOOKUP($R1707,TAXONOMY!$A$1:$H$959,2,FALSE))","v":""}]
[null,null,null,null,null,null,null,null,null,null,null,{"$f":"IF(ISBLANK($R1708)=TRUE,\"\",VLOOKUP($R1708,TAXONOMY!$A$1:$G$959,7,FALSE))","v":""},{"$f":"IF(ISBLANK($R1708)=TRUE,\"\",VLOOKUP($R1708,TAXONOMY!$A$1:$G$959,6,FALSE))","v":""},{"$f":"IF(ISBLANK($R1708)=TRUE,\"\",VLOOKUP($R1708,TAXONOMY!$A$1:$G$959,5,FALSE))","v":""},{"$f":"IF(ISBLANK($R1708)=TRUE,\"\",VLOOKUP($R1708,TAXONOMY!$A$1:$G$959,4,FALSE))","v":""},{"$f":"IF(ISBLANK($R1708)=TRUE,\"\",VLOOKUP($R1708,TAXONOMY!$A$1:$G$959,3,FALSE))","v":""},{"$f":"IF(ISBLANK($R1708)=TRUE,\"\",VLOOKUP($R1708,TAXONOMY!$A$1:$H$959,2,FALSE))","v":""}]
[null,null,null,null,null,null,null,null,null,null,null,{"$f":"IF(ISBLANK($R1709)=TRUE,\"\",VLOOKUP($R1709,TAXONOMY!$A$1:$G$959,7,FALSE))","v":""},{"$f":"IF(ISBLANK($R1709)=TRUE,\"\",VLOOKUP($R1709,TAXONOMY!$A$1:$G$959,6,FALSE))","v":""},{"$f":"IF(ISBLANK($R1709)=TRUE,\"\",VLOOKUP($R1709,TAXONOMY!$A$1:$G$959,5,FALSE))","v":""},{"$f":"IF(ISBLANK($R1709)=TRUE,\"\",VLOOKUP($R1709,TAXONOMY!$A$1:$G$959,4,FALSE))","v":""},{"$f":"IF(ISBLANK($R1709)=TRUE,\"\",VLOOKUP($R1709,TAXONOMY!$A$1:$G$959,3,FALSE))","v":""},{"$f":"IF(ISBLANK($R1709)=TRUE,\"\",VLOOKUP($R1709,TAXONOMY!$A$1:$H$959,2,FALSE))","v":""}]
[null,null,null,null,null,null,null,null,null,null,null,{"$f":"IF(ISBLANK($R1710)=TRUE,\"\",VLOOKUP($R1710,TAXONOMY!$A$1:$G$959,7,FALSE))","v":""},{"$f":"IF(ISBLANK($R1710)=TRUE,\"\",VLOOKUP($R1710,TAXONOMY!$A$1:$G$959,6,FALSE))","v":""},{"$f":"IF(ISBLANK($R1710)=TRUE,\"\",VLOOKUP($R1710,TAXONOMY!$A$1:$G$959,5,FALSE))","v":""},{"$f":"IF(ISBLANK($R1710)=TRUE,\"\",VLOOKUP($R1710,TAXONOMY!$A$1:$G$959,4,FALSE))","v":""},{"$f":"IF(ISBLANK($R1710)=TRUE,\"\",VLOOKUP($R1710,TAXONOMY!$A$1:$G$959,3,FALSE))","v":""},{"$f":"IF(ISBLANK($R1710)=TRUE,\"\",VLOOKUP($R1710,TAXONOMY!$A$1:$H$959,2,FALSE))","v":""}]
[null,null,null,null,null,null,null,null,null,null,null,{"$f":"IF(ISBLANK($R1711)=TRUE,\"\",VLOOKUP($R1711,TAXONOMY!$A$1:$G$959,7,FALSE))","v":""},{"$f":"IF(ISBLANK($R1711)=TRUE,\"\",VLOOKUP($R1711,TAXONOMY!$A$1:$G$959,6,FALSE))","v":""},{"$f":"IF(ISBLANK($R1711)=TRUE,\"\",VLOOKUP($R1711,TAXONOMY!$A$1:$G$959,5,FALSE))","v":""},{"$f":"IF(ISBLANK($R1711)=TRUE,\"\",VLOOKUP($R1711,TAXONOMY!$A$1:$G$959,4,FALSE))","v":""},{"$f":"IF(ISBLANK($R1711)=TRUE,\"\",VLOOKUP($R1711,TAXONOMY!$A$1:$G$959,3,FALSE))","v":""},{"$f":"IF(ISBLANK($R1711)=TRUE,\"\",VLOOKUP($R1711,TAXONOMY!$A$1:$H$959,2,FALSE))","v":""}]
[null,null,null,null,null,null,null,null,null,null,null,{"$f":"IF(ISBLANK($R1712)=TRUE,\"\",VLOOKUP($R1712,TAXONOMY!$A$1:$G$959,7,FALSE))","v":""},{"$f":"IF(ISBLANK($R1712)=TRUE,\"\",VLOOKUP($R1712,TAXONOMY!$A$1:$G$959,6,FALSE))","v":""},{"$f":"IF(ISBLANK($R1712)=TRUE,\"\",VLOOKUP($R1712,TAXONOMY!$A$1:$G$959,5,FALSE))","v":""},{"$f":"IF(ISBLANK($R1712)=TRUE,\"\",VLOOKUP($R1712,TAXONOMY!$A$1:$G$959,4,FALSE))","v":""},{"$f":"IF(ISBLANK($R1712)=TRUE,\"\",VLOOKUP($R1712,TAXONOMY!$A$1:$G$959,3,FALSE))","v":""},{"$f":"IF(ISBLANK($R1712)=TRUE,\"\",VLOOKUP($R1712,TAXONOMY!$A$1:$H$959,2,FALSE))","v":""}]
[null,null,null,null,null,null,null,null,null,null,null,{"$f":"IF(ISBLANK($R1713)=TRUE,\"\",VLOOKUP($R1713,TAXONOMY!$A$1:$G$959,7,FALSE))","v":""},{"$f":"IF(ISBLANK($R1713)=TRUE,\"\",VLOOKUP($R1713,TAXONOMY!$A$1:$G$959,6,FALSE))","v":""},{"$f":"IF(ISBLANK($R1713)=TRUE,\"\",VLOOKUP($R1713,TAXONOMY!$A$1:$G$959,5,FALSE))","v":""},{"$f":"IF(ISBLANK($R1713)=TRUE,\"\",VLOOKUP($R1713,TAXONOMY!$A$1:$G$959,4,FALSE))","v":""},{"$f":"IF(ISBLANK($R1713)=TRUE,\"\",VLOOKUP($R1713,TAXONOMY!$A$1:$G$959,3,FALSE))","v":""},{"$f":"IF(ISBLANK($R1713)=TRUE,\"\",VLOOKUP($R1713,TAXONOMY!$A$1:$H$959,2,FALSE))","v":""}]
[null,null,null,null,null,null,null,null,null,null,null,{"$f":"IF(ISBLANK($R1714)=TRUE,\"\",VLOOKUP($R1714,TAXONOMY!$A$1:$G$959,7,FALSE))","v":""},{"$f":"IF(ISBLANK($R1714)=TRUE,\"\",VLOOKUP($R1714,TAXONOMY!$A$1:$G$959,6,FALSE))","v":""},{"$f":"IF(ISBLANK($R1714)=TRUE,\"\",VLOOKUP($R1714,TAXONOMY!$A$1:$G$959,5,FALSE))","v":""},{"$f":"IF(ISBLANK($R1714)=TRUE,\"\",VLOOKUP($R1714,TAXONOMY!$A$1:$G$959,4,FALSE))","v":""},{"$f":"IF(ISBLANK($R1714)=TRUE,\"\",VLOOKUP($R1714,TAXONOMY!$A$1:$G$959,3,FALSE))","v":""},{"$f":"IF(ISBLANK($R1714)=TRUE,\"\",VLOOKUP($R1714,TAXONOMY!$A$1:$H$959,2,FALSE))","v":""}]
[null,null,null,null,null,null,null,null,null,null,null,{"$f":"IF(ISBLANK($R1715)=TRUE,\"\",VLOOKUP($R1715,TAXONOMY!$A$1:$G$959,7,FALSE))","v":""},{"$f":"IF(ISBLANK($R1715)=TRUE,\"\",VLOOKUP($R1715,TAXONOMY!$A$1:$G$959,6,FALSE))","v":""},{"$f":"IF(ISBLANK($R1715)=TRUE,\"\",VLOOKUP($R1715,TAXONOMY!$A$1:$G$959,5,FALSE))","v":""},{"$f":"IF(ISBLANK($R1715)=TRUE,\"\",VLOOKUP($R1715,TAXONOMY!$A$1:$G$959,4,FALSE))","v":""},{"$f":"IF(ISBLANK($R1715)=TRUE,\"\",VLOOKUP($R1715,TAXONOMY!$A$1:$G$959,3,FALSE))","v":""},{"$f":"IF(ISBLANK($R1715)=TRUE,\"\",VLOOKUP($R1715,TAXONOMY!$A$1:$H$959,2,FALSE))","v":""}]
[null,null,null,null,null,null,null,null,null,null,null,{"$f":"IF(ISBLANK($R1716)=TRUE,\"\",VLOOKUP($R1716,TAXONOMY!$A$1:$G$959,7,FALSE))","v":""},{"$f":"IF(ISBLANK($R1716)=TRUE,\"\",VLOOKUP($R1716,TAXONOMY!$A$1:$G$959,6,FALSE))","v":""},{"$f":"IF(ISBLANK($R1716)=TRUE,\"\",VLOOKUP($R1716,TAXONOMY!$A$1:$G$959,5,FALSE))","v":""},{"$f":"IF(ISBLANK($R1716)=TRUE,\"\",VLOOKUP($R1716,TAXONOMY!$A$1:$G$959,4,FALSE))","v":""},{"$f":"IF(ISBLANK($R1716)=TRUE,\"\",VLOOKUP($R1716,TAXONOMY!$A$1:$G$959,3,FALSE))","v":""},{"$f":"IF(ISBLANK($R1716)=TRUE,\"\",VLOOKUP($R1716,TAXONOMY!$A$1:$H$959,2,FALSE))","v":""}]
[null,null,null,null,null,null,null,null,null,null,null,{"$f":"IF(ISBLANK($R1717)=TRUE,\"\",VLOOKUP($R1717,TAXONOMY!$A$1:$G$959,7,FALSE))","v":""},{"$f":"IF(ISBLANK($R1717)=TRUE,\"\",VLOOKUP($R1717,TAXONOMY!$A$1:$G$959,6,FALSE))","v":""},{"$f":"IF(ISBLANK($R1717)=TRUE,\"\",VLOOKUP($R1717,TAXONOMY!$A$1:$G$959,5,FALSE))","v":""},{"$f":"IF(ISBLANK($R1717)=TRUE,\"\",VLOOKUP($R1717,TAXONOMY!$A$1:$G$959,4,FALSE))","v":""},{"$f":"IF(ISBLANK($R1717)=TRUE,\"\",VLOOKUP($R1717,TAXONOMY!$A$1:$G$959,3,FALSE))","v":""},{"$f":"IF(ISBLANK($R1717)=TRUE,\"\",VLOOKUP($R1717,TAXONOMY!$A$1:$H$959,2,FALSE))","v":""}]
[null,null,null,null,null,null,null,null,null,null,null,{"$f":"IF(ISBLANK($R1718)=TRUE,\"\",VLOOKUP($R1718,TAXONOMY!$A$1:$G$959,7,FALSE))","v":""},{"$f":"IF(ISBLANK($R1718)=TRUE,\"\",VLOOKUP($R1718,TAXONOMY!$A$1:$G$959,6,FALSE))","v":""},{"$f":"IF(ISBLANK($R1718)=TRUE,\"\",VLOOKUP($R1718,TAXONOMY!$A$1:$G$959,5,FALSE))","v":""},{"$f":"IF(ISBLANK($R1718)=TRUE,\"\",VLOOKUP($R1718,TAXONOMY!$A$1:$G$959,4,FALSE))","v":""},{"$f":"IF(ISBLANK($R1718)=TRUE,\"\",VLOOKUP($R1718,TAXONOMY!$A$1:$G$959,3,FALSE))","v":""},{"$f":"IF(ISBLANK($R1718)=TRUE,\"\",VLOOKUP($R1718,TAXONOMY!$A$1:$H$959,2,FALSE))","v":""}]
[null,null,null,null,null,null,null,null,null,null,null,{"$f":"IF(ISBLANK($R1719)=TRUE,\"\",VLOOKUP($R1719,TAXONOMY!$A$1:$G$959,7,FALSE))","v":""},{"$f":"IF(ISBLANK($R1719)=TRUE,\"\",VLOOKUP($R1719,TAXONOMY!$A$1:$G$959,6,FALSE))","v":""},{"$f":"IF(ISBLANK($R1719)=TRUE,\"\",VLOOKUP($R1719,TAXONOMY!$A$1:$G$959,5,FALSE))","v":""},{"$f":"IF(ISBLANK($R1719)=TRUE,\"\",VLOOKUP($R1719,TAXONOMY!$A$1:$G$959,4,FALSE))","v":""},{"$f":"IF(ISBLANK($R1719)=TRUE,\"\",VLOOKUP($R1719,TAXONOMY!$A$1:$G$959,3,FALSE))","v":""},{"$f":"IF(ISBLANK($R1719)=TRUE,\"\",VLOOKUP($R1719,TAXONOMY!$A$1:$H$959,2,FALSE))","v":""}]
[null,null,null,null,null,null,null,null,null,null,null,{"$f":"IF(ISBLANK($R1720)=TRUE,\"\",VLOOKUP($R1720,TAXONOMY!$A$1:$G$959,7,FALSE))","v":""},{"$f":"IF(ISBLANK($R1720)=TRUE,\"\",VLOOKUP($R1720,TAXONOMY!$A$1:$G$959,6,FALSE))","v":""},{"$f":"IF(ISBLANK($R1720)=TRUE,\"\",VLOOKUP($R1720,TAXONOMY!$A$1:$G$959,5,FALSE))","v":""},{"$f":"IF(ISBLANK($R1720)=TRUE,\"\",VLOOKUP($R1720,TAXONOMY!$A$1:$G$959,4,FALSE))","v":""},{"$f":"IF(ISBLANK($R1720)=TRUE,\"\",VLOOKUP($R1720,TAXONOMY!$A$1:$G$959,3,FALSE))","v":""},{"$f":"IF(ISBLANK($R1720)=TRUE,\"\",VLOOKUP($R1720,TAXONOMY!$A$1:$H$959,2,FALSE))","v":""}]
[null,null,null,null,null,null,null,null,null,null,null,{"$f":"IF(ISBLANK($R1721)=TRUE,\"\",VLOOKUP($R1721,TAXONOMY!$A$1:$G$959,7,FALSE))","v":""},{"$f":"IF(ISBLANK($R1721)=TRUE,\"\",VLOOKUP($R1721,TAXONOMY!$A$1:$G$959,6,FALSE))","v":""},{"$f":"IF(ISBLANK($R1721)=TRUE,\"\",VLOOKUP($R1721,TAXONOMY!$A$1:$G$959,5,FALSE))","v":""},{"$f":"IF(ISBLANK($R1721)=TRUE,\"\",VLOOKUP($R1721,TAXONOMY!$A$1:$G$959,4,FALSE))","v":""},{"$f":"IF(ISBLANK($R1721)=TRUE,\"\",VLOOKUP($R1721,TAXONOMY!$A$1:$G$959,3,FALSE))","v":""},{"$f":"IF(ISBLANK($R1721)=TRUE,\"\",VLOOKUP($R1721,TAXONOMY!$A$1:$H$959,2,FALSE))","v":""}]
[null,null,null,null,null,null,null,null,null,null,null,{"$f":"IF(ISBLANK($R1722)=TRUE,\"\",VLOOKUP($R1722,TAXONOMY!$A$1:$G$959,7,FALSE))","v":""},{"$f":"IF(ISBLANK($R1722)=TRUE,\"\",VLOOKUP($R1722,TAXONOMY!$A$1:$G$959,6,FALSE))","v":""},{"$f":"IF(ISBLANK($R1722)=TRUE,\"\",VLOOKUP($R1722,TAXONOMY!$A$1:$G$959,5,FALSE))","v":""},{"$f":"IF(ISBLANK($R1722)=TRUE,\"\",VLOOKUP($R1722,TAXONOMY!$A$1:$G$959,4,FALSE))","v":""},{"$f":"IF(ISBLANK($R1722)=TRUE,\"\",VLOOKUP($R1722,TAXONOMY!$A$1:$G$959,3,FALSE))","v":""},{"$f":"IF(ISBLANK($R1722)=TRUE,\"\",VLOOKUP($R1722,TAXONOMY!$A$1:$H$959,2,FALSE))","v":""}]
[null,null,null,null,null,null,null,null,null,null,null,{"$f":"IF(ISBLANK($R1723)=TRUE,\"\",VLOOKUP($R1723,TAXONOMY!$A$1:$G$959,7,FALSE))","v":""},{"$f":"IF(ISBLANK($R1723)=TRUE,\"\",VLOOKUP($R1723,TAXONOMY!$A$1:$G$959,6,FALSE))","v":""},{"$f":"IF(ISBLANK($R1723)=TRUE,\"\",VLOOKUP($R1723,TAXONOMY!$A$1:$G$959,5,FALSE))","v":""},{"$f":"IF(ISBLANK($R1723)=TRUE,\"\",VLOOKUP($R1723,TAXONOMY!$A$1:$G$959,4,FALSE))","v":""},{"$f":"IF(ISBLANK($R1723)=TRUE,\"\",VLOOKUP($R1723,TAXONOMY!$A$1:$G$959,3,FALSE))","v":""},{"$f":"IF(ISBLANK($R1723)=TRUE,\"\",VLOOKUP($R1723,TAXONOMY!$A$1:$H$959,2,FALSE))","v":""}]
[null,null,null,null,null,null,null,null,null,null,null,{"$f":"IF(ISBLANK($R1724)=TRUE,\"\",VLOOKUP($R1724,TAXONOMY!$A$1:$G$959,7,FALSE))","v":""},{"$f":"IF(ISBLANK($R1724)=TRUE,\"\",VLOOKUP($R1724,TAXONOMY!$A$1:$G$959,6,FALSE))","v":""},{"$f":"IF(ISBLANK($R1724)=TRUE,\"\",VLOOKUP($R1724,TAXONOMY!$A$1:$G$959,5,FALSE))","v":""},{"$f":"IF(ISBLANK($R1724)=TRUE,\"\",VLOOKUP($R1724,TAXONOMY!$A$1:$G$959,4,FALSE))","v":""},{"$f":"IF(ISBLANK($R1724)=TRUE,\"\",VLOOKUP($R1724,TAXONOMY!$A$1:$G$959,3,FALSE))","v":""},{"$f":"IF(ISBLANK($R1724)=TRUE,\"\",VLOOKUP($R1724,TAXONOMY!$A$1:$H$959,2,FALSE))","v":""}]
[null,null,null,null,null,null,null,null,null,null,null,{"$f":"IF(ISBLANK($R1725)=TRUE,\"\",VLOOKUP($R1725,TAXONOMY!$A$1:$G$959,7,FALSE))","v":""},{"$f":"IF(ISBLANK($R1725)=TRUE,\"\",VLOOKUP($R1725,TAXONOMY!$A$1:$G$959,6,FALSE))","v":""},{"$f":"IF(ISBLANK($R1725)=TRUE,\"\",VLOOKUP($R1725,TAXONOMY!$A$1:$G$959,5,FALSE))","v":""},{"$f":"IF(ISBLANK($R1725)=TRUE,\"\",VLOOKUP($R1725,TAXONOMY!$A$1:$G$959,4,FALSE))","v":""},{"$f":"IF(ISBLANK($R1725)=TRUE,\"\",VLOOKUP($R1725,TAXONOMY!$A$1:$G$959,3,FALSE))","v":""},{"$f":"IF(ISBLANK($R1725)=TRUE,\"\",VLOOKUP($R1725,TAXONOMY!$A$1:$H$959,2,FALSE))","v":""}]
[null,null,null,null,null,null,null,null,null,null,null,{"$f":"IF(ISBLANK($R1726)=TRUE,\"\",VLOOKUP($R1726,TAXONOMY!$A$1:$G$959,7,FALSE))","v":""},{"$f":"IF(ISBLANK($R1726)=TRUE,\"\",VLOOKUP($R1726,TAXONOMY!$A$1:$G$959,6,FALSE))","v":""},{"$f":"IF(ISBLANK($R1726)=TRUE,\"\",VLOOKUP($R1726,TAXONOMY!$A$1:$G$959,5,FALSE))","v":""},{"$f":"IF(ISBLANK($R1726)=TRUE,\"\",VLOOKUP($R1726,TAXONOMY!$A$1:$G$959,4,FALSE))","v":""},{"$f":"IF(ISBLANK($R1726)=TRUE,\"\",VLOOKUP($R1726,TAXONOMY!$A$1:$G$959,3,FALSE))","v":""},{"$f":"IF(ISBLANK($R1726)=TRUE,\"\",VLOOKUP($R1726,TAXONOMY!$A$1:$H$959,2,FALSE))","v":""}]
[null,null,null,null,null,null,null,null,null,null,null,{"$f":"IF(ISBLANK($R1727)=TRUE,\"\",VLOOKUP($R1727,TAXONOMY!$A$1:$G$959,7,FALSE))","v":""},{"$f":"IF(ISBLANK($R1727)=TRUE,\"\",VLOOKUP($R1727,TAXONOMY!$A$1:$G$959,6,FALSE))","v":""},{"$f":"IF(ISBLANK($R1727)=TRUE,\"\",VLOOKUP($R1727,TAXONOMY!$A$1:$G$959,5,FALSE))","v":""},{"$f":"IF(ISBLANK($R1727)=TRUE,\"\",VLOOKUP($R1727,TAXONOMY!$A$1:$G$959,4,FALSE))","v":""},{"$f":"IF(ISBLANK($R1727)=TRUE,\"\",VLOOKUP($R1727,TAXONOMY!$A$1:$G$959,3,FALSE))","v":""},{"$f":"IF(ISBLANK($R1727)=TRUE,\"\",VLOOKUP($R1727,TAXONOMY!$A$1:$H$959,2,FALSE))","v":""}]
[null,null,null,null,null,null,null,null,null,null,null,{"$f":"IF(ISBLANK($R1728)=TRUE,\"\",VLOOKUP($R1728,TAXONOMY!$A$1:$G$959,7,FALSE))","v":""},{"$f":"IF(ISBLANK($R1728)=TRUE,\"\",VLOOKUP($R1728,TAXONOMY!$A$1:$G$959,6,FALSE))","v":""},{"$f":"IF(ISBLANK($R1728)=TRUE,\"\",VLOOKUP($R1728,TAXONOMY!$A$1:$G$959,5,FALSE))","v":""},{"$f":"IF(ISBLANK($R1728)=TRUE,\"\",VLOOKUP($R1728,TAXONOMY!$A$1:$G$959,4,FALSE))","v":""},{"$f":"IF(ISBLANK($R1728)=TRUE,\"\",VLOOKUP($R1728,TAXONOMY!$A$1:$G$959,3,FALSE))","v":""},{"$f":"IF(ISBLANK($R1728)=TRUE,\"\",VLOOKUP($R1728,TAXONOMY!$A$1:$H$959,2,FALSE))","v":""}]
[null,null,null,null,null,null,null,null,null,null,null,{"$f":"IF(ISBLANK($R1729)=TRUE,\"\",VLOOKUP($R1729,TAXONOMY!$A$1:$G$959,7,FALSE))","v":""},{"$f":"IF(ISBLANK($R1729)=TRUE,\"\",VLOOKUP($R1729,TAXONOMY!$A$1:$G$959,6,FALSE))","v":""},{"$f":"IF(ISBLANK($R1729)=TRUE,\"\",VLOOKUP($R1729,TAXONOMY!$A$1:$G$959,5,FALSE))","v":""},{"$f":"IF(ISBLANK($R1729)=TRUE,\"\",VLOOKUP($R1729,TAXONOMY!$A$1:$G$959,4,FALSE))","v":""},{"$f":"IF(ISBLANK($R1729)=TRUE,\"\",VLOOKUP($R1729,TAXONOMY!$A$1:$G$959,3,FALSE))","v":""},{"$f":"IF(ISBLANK($R1729)=TRUE,\"\",VLOOKUP($R1729,TAXONOMY!$A$1:$H$959,2,FALSE))","v":""}]
[null,null,null,null,null,null,null,null,null,null,null,{"$f":"IF(ISBLANK($R1730)=TRUE,\"\",VLOOKUP($R1730,TAXONOMY!$A$1:$G$959,7,FALSE))","v":""},{"$f":"IF(ISBLANK($R1730)=TRUE,\"\",VLOOKUP($R1730,TAXONOMY!$A$1:$G$959,6,FALSE))","v":""},{"$f":"IF(ISBLANK($R1730)=TRUE,\"\",VLOOKUP($R1730,TAXONOMY!$A$1:$G$959,5,FALSE))","v":""},{"$f":"IF(ISBLANK($R1730)=TRUE,\"\",VLOOKUP($R1730,TAXONOMY!$A$1:$G$959,4,FALSE))","v":""},{"$f":"IF(ISBLANK($R1730)=TRUE,\"\",VLOOKUP($R1730,TAXONOMY!$A$1:$G$959,3,FALSE))","v":""},{"$f":"IF(ISBLANK($R1730)=TRUE,\"\",VLOOKUP($R1730,TAXONOMY!$A$1:$H$959,2,FALSE))","v":""}]
[null,null,null,null,null,null,null,null,null,null,null,{"$f":"IF(ISBLANK($R1731)=TRUE,\"\",VLOOKUP($R1731,TAXONOMY!$A$1:$G$959,7,FALSE))","v":""},{"$f":"IF(ISBLANK($R1731)=TRUE,\"\",VLOOKUP($R1731,TAXONOMY!$A$1:$G$959,6,FALSE))","v":""},{"$f":"IF(ISBLANK($R1731)=TRUE,\"\",VLOOKUP($R1731,TAXONOMY!$A$1:$G$959,5,FALSE))","v":""},{"$f":"IF(ISBLANK($R1731)=TRUE,\"\",VLOOKUP($R1731,TAXONOMY!$A$1:$G$959,4,FALSE))","v":""},{"$f":"IF(ISBLANK($R1731)=TRUE,\"\",VLOOKUP($R1731,TAXONOMY!$A$1:$G$959,3,FALSE))","v":""},{"$f":"IF(ISBLANK($R1731)=TRUE,\"\",VLOOKUP($R1731,TAXONOMY!$A$1:$H$959,2,FALSE))","v":""}]
[null,null,null,null,null,null,null,null,null,null,null,{"$f":"IF(ISBLANK($R1732)=TRUE,\"\",VLOOKUP($R1732,TAXONOMY!$A$1:$G$959,7,FALSE))","v":""},{"$f":"IF(ISBLANK($R1732)=TRUE,\"\",VLOOKUP($R1732,TAXONOMY!$A$1:$G$959,6,FALSE))","v":""},{"$f":"IF(ISBLANK($R1732)=TRUE,\"\",VLOOKUP($R1732,TAXONOMY!$A$1:$G$959,5,FALSE))","v":""},{"$f":"IF(ISBLANK($R1732)=TRUE,\"\",VLOOKUP($R1732,TAXONOMY!$A$1:$G$959,4,FALSE))","v":""},{"$f":"IF(ISBLANK($R1732)=TRUE,\"\",VLOOKUP($R1732,TAXONOMY!$A$1:$G$959,3,FALSE))","v":""},{"$f":"IF(ISBLANK($R1732)=TRUE,\"\",VLOOKUP($R1732,TAXONOMY!$A$1:$H$959,2,FALSE))","v":""}]
[null,null,null,null,null,null,null,null,null,null,null,{"$f":"IF(ISBLANK($R1733)=TRUE,\"\",VLOOKUP($R1733,TAXONOMY!$A$1:$G$959,7,FALSE))","v":""},{"$f":"IF(ISBLANK($R1733)=TRUE,\"\",VLOOKUP($R1733,TAXONOMY!$A$1:$G$959,6,FALSE))","v":""},{"$f":"IF(ISBLANK($R1733)=TRUE,\"\",VLOOKUP($R1733,TAXONOMY!$A$1:$G$959,5,FALSE))","v":""},{"$f":"IF(ISBLANK($R1733)=TRUE,\"\",VLOOKUP($R1733,TAXONOMY!$A$1:$G$959,4,FALSE))","v":""},{"$f":"IF(ISBLANK($R1733)=TRUE,\"\",VLOOKUP($R1733,TAXONOMY!$A$1:$G$959,3,FALSE))","v":""},{"$f":"IF(ISBLANK($R1733)=TRUE,\"\",VLOOKUP($R1733,TAXONOMY!$A$1:$H$959,2,FALSE))","v":""}]
[null,null,null,null,null,null,null,null,null,null,null,{"$f":"IF(ISBLANK($R1734)=TRUE,\"\",VLOOKUP($R1734,TAXONOMY!$A$1:$G$959,7,FALSE))","v":""},{"$f":"IF(ISBLANK($R1734)=TRUE,\"\",VLOOKUP($R1734,TAXONOMY!$A$1:$G$959,6,FALSE))","v":""},{"$f":"IF(ISBLANK($R1734)=TRUE,\"\",VLOOKUP($R1734,TAXONOMY!$A$1:$G$959,5,FALSE))","v":""},{"$f":"IF(ISBLANK($R1734)=TRUE,\"\",VLOOKUP($R1734,TAXONOMY!$A$1:$G$959,4,FALSE))","v":""},{"$f":"IF(ISBLANK($R1734)=TRUE,\"\",VLOOKUP($R1734,TAXONOMY!$A$1:$G$959,3,FALSE))","v":""},{"$f":"IF(ISBLANK($R1734)=TRUE,\"\",VLOOKUP($R1734,TAXONOMY!$A$1:$H$959,2,FALSE))","v":""}]
[null,null,null,null,null,null,null,null,null,null,null,{"$f":"IF(ISBLANK($R1735)=TRUE,\"\",VLOOKUP($R1735,TAXONOMY!$A$1:$G$959,7,FALSE))","v":""},{"$f":"IF(ISBLANK($R1735)=TRUE,\"\",VLOOKUP($R1735,TAXONOMY!$A$1:$G$959,6,FALSE))","v":""},{"$f":"IF(ISBLANK($R1735)=TRUE,\"\",VLOOKUP($R1735,TAXONOMY!$A$1:$G$959,5,FALSE))","v":""},{"$f":"IF(ISBLANK($R1735)=TRUE,\"\",VLOOKUP($R1735,TAXONOMY!$A$1:$G$959,4,FALSE))","v":""},{"$f":"IF(ISBLANK($R1735)=TRUE,\"\",VLOOKUP($R1735,TAXONOMY!$A$1:$G$959,3,FALSE))","v":""},{"$f":"IF(ISBLANK($R1735)=TRUE,\"\",VLOOKUP($R1735,TAXONOMY!$A$1:$H$959,2,FALSE))","v":""}]
[null,null,null,null,null,null,null,null,null,null,null,{"$f":"IF(ISBLANK($R1736)=TRUE,\"\",VLOOKUP($R1736,TAXONOMY!$A$1:$G$959,7,FALSE))","v":""},{"$f":"IF(ISBLANK($R1736)=TRUE,\"\",VLOOKUP($R1736,TAXONOMY!$A$1:$G$959,6,FALSE))","v":""},{"$f":"IF(ISBLANK($R1736)=TRUE,\"\",VLOOKUP($R1736,TAXONOMY!$A$1:$G$959,5,FALSE))","v":""},{"$f":"IF(ISBLANK($R1736)=TRUE,\"\",VLOOKUP($R1736,TAXONOMY!$A$1:$G$959,4,FALSE))","v":""},{"$f":"IF(ISBLANK($R1736)=TRUE,\"\",VLOOKUP($R1736,TAXONOMY!$A$1:$G$959,3,FALSE))","v":""},{"$f":"IF(ISBLANK($R1736)=TRUE,\"\",VLOOKUP($R1736,TAXONOMY!$A$1:$H$959,2,FALSE))","v":""}]
[null,null,null,null,null,null,null,null,null,null,null,{"$f":"IF(ISBLANK($R1737)=TRUE,\"\",VLOOKUP($R1737,TAXONOMY!$A$1:$G$959,7,FALSE))","v":""},{"$f":"IF(ISBLANK($R1737)=TRUE,\"\",VLOOKUP($R1737,TAXONOMY!$A$1:$G$959,6,FALSE))","v":""},{"$f":"IF(ISBLANK($R1737)=TRUE,\"\",VLOOKUP($R1737,TAXONOMY!$A$1:$G$959,5,FALSE))","v":""},{"$f":"IF(ISBLANK($R1737)=TRUE,\"\",VLOOKUP($R1737,TAXONOMY!$A$1:$G$959,4,FALSE))","v":""},{"$f":"IF(ISBLANK($R1737)=TRUE,\"\",VLOOKUP($R1737,TAXONOMY!$A$1:$G$959,3,FALSE))","v":""},{"$f":"IF(ISBLANK($R1737)=TRUE,\"\",VLOOKUP($R1737,TAXONOMY!$A$1:$H$959,2,FALSE))","v":""}]
[null,null,null,null,null,null,null,null,null,null,null,{"$f":"IF(ISBLANK($R1738)=TRUE,\"\",VLOOKUP($R1738,TAXONOMY!$A$1:$G$959,7,FALSE))","v":""},{"$f":"IF(ISBLANK($R1738)=TRUE,\"\",VLOOKUP($R1738,TAXONOMY!$A$1:$G$959,6,FALSE))","v":""},{"$f":"IF(ISBLANK($R1738)=TRUE,\"\",VLOOKUP($R1738,TAXONOMY!$A$1:$G$959,5,FALSE))","v":""},{"$f":"IF(ISBLANK($R1738)=TRUE,\"\",VLOOKUP($R1738,TAXONOMY!$A$1:$G$959,4,FALSE))","v":""},{"$f":"IF(ISBLANK($R1738)=TRUE,\"\",VLOOKUP($R1738,TAXONOMY!$A$1:$G$959,3,FALSE))","v":""},{"$f":"IF(ISBLANK($R1738)=TRUE,\"\",VLOOKUP($R1738,TAXONOMY!$A$1:$H$959,2,FALSE))","v":""}]
[null,null,null,null,null,null,null,null,null,null,null,{"$f":"IF(ISBLANK($R1739)=TRUE,\"\",VLOOKUP($R1739,TAXONOMY!$A$1:$G$959,7,FALSE))","v":""},{"$f":"IF(ISBLANK($R1739)=TRUE,\"\",VLOOKUP($R1739,TAXONOMY!$A$1:$G$959,6,FALSE))","v":""},{"$f":"IF(ISBLANK($R1739)=TRUE,\"\",VLOOKUP($R1739,TAXONOMY!$A$1:$G$959,5,FALSE))","v":""},{"$f":"IF(ISBLANK($R1739)=TRUE,\"\",VLOOKUP($R1739,TAXONOMY!$A$1:$G$959,4,FALSE))","v":""},{"$f":"IF(ISBLANK($R1739)=TRUE,\"\",VLOOKUP($R1739,TAXONOMY!$A$1:$G$959,3,FALSE))","v":""},{"$f":"IF(ISBLANK($R1739)=TRUE,\"\",VLOOKUP($R1739,TAXONOMY!$A$1:$H$959,2,FALSE))","v":""}]
[null,null,null,null,null,null,null,null,null,null,null,{"$f":"IF(ISBLANK($R1740)=TRUE,\"\",VLOOKUP($R1740,TAXONOMY!$A$1:$G$959,7,FALSE))","v":""},{"$f":"IF(ISBLANK($R1740)=TRUE,\"\",VLOOKUP($R1740,TAXONOMY!$A$1:$G$959,6,FALSE))","v":""},{"$f":"IF(ISBLANK($R1740)=TRUE,\"\",VLOOKUP($R1740,TAXONOMY!$A$1:$G$959,5,FALSE))","v":""},{"$f":"IF(ISBLANK($R1740)=TRUE,\"\",VLOOKUP($R1740,TAXONOMY!$A$1:$G$959,4,FALSE))","v":""},{"$f":"IF(ISBLANK($R1740)=TRUE,\"\",VLOOKUP($R1740,TAXONOMY!$A$1:$G$959,3,FALSE))","v":""},{"$f":"IF(ISBLANK($R1740)=TRUE,\"\",VLOOKUP($R1740,TAXONOMY!$A$1:$H$959,2,FALSE))","v":""}]
[null,null,null,null,null,null,null,null,null,null,null,{"$f":"IF(ISBLANK($R1741)=TRUE,\"\",VLOOKUP($R1741,TAXONOMY!$A$1:$G$959,7,FALSE))","v":""},{"$f":"IF(ISBLANK($R1741)=TRUE,\"\",VLOOKUP($R1741,TAXONOMY!$A$1:$G$959,6,FALSE))","v":""},{"$f":"IF(ISBLANK($R1741)=TRUE,\"\",VLOOKUP($R1741,TAXONOMY!$A$1:$G$959,5,FALSE))","v":""},{"$f":"IF(ISBLANK($R1741)=TRUE,\"\",VLOOKUP($R1741,TAXONOMY!$A$1:$G$959,4,FALSE))","v":""},{"$f":"IF(ISBLANK($R1741)=TRUE,\"\",VLOOKUP($R1741,TAXONOMY!$A$1:$G$959,3,FALSE))","v":""},{"$f":"IF(ISBLANK($R1741)=TRUE,\"\",VLOOKUP($R1741,TAXONOMY!$A$1:$H$959,2,FALSE))","v":""}]
[null,null,null,null,null,null,null,null,null,null,null,{"$f":"IF(ISBLANK($R1742)=TRUE,\"\",VLOOKUP($R1742,TAXONOMY!$A$1:$G$959,7,FALSE))","v":""},{"$f":"IF(ISBLANK($R1742)=TRUE,\"\",VLOOKUP($R1742,TAXONOMY!$A$1:$G$959,6,FALSE))","v":""},{"$f":"IF(ISBLANK($R1742)=TRUE,\"\",VLOOKUP($R1742,TAXONOMY!$A$1:$G$959,5,FALSE))","v":""},{"$f":"IF(ISBLANK($R1742)=TRUE,\"\",VLOOKUP($R1742,TAXONOMY!$A$1:$G$959,4,FALSE))","v":""},{"$f":"IF(ISBLANK($R1742)=TRUE,\"\",VLOOKUP($R1742,TAXONOMY!$A$1:$G$959,3,FALSE))","v":""},{"$f":"IF(ISBLANK($R1742)=TRUE,\"\",VLOOKUP($R1742,TAXONOMY!$A$1:$H$959,2,FALSE))","v":""}]
[null,null,null,null,null,null,null,null,null,null,null,{"$f":"IF(ISBLANK($R1743)=TRUE,\"\",VLOOKUP($R1743,TAXONOMY!$A$1:$G$959,7,FALSE))","v":""},{"$f":"IF(ISBLANK($R1743)=TRUE,\"\",VLOOKUP($R1743,TAXONOMY!$A$1:$G$959,6,FALSE))","v":""},{"$f":"IF(ISBLANK($R1743)=TRUE,\"\",VLOOKUP($R1743,TAXONOMY!$A$1:$G$959,5,FALSE))","v":""},{"$f":"IF(ISBLANK($R1743)=TRUE,\"\",VLOOKUP($R1743,TAXONOMY!$A$1:$G$959,4,FALSE))","v":""},{"$f":"IF(ISBLANK($R1743)=TRUE,\"\",VLOOKUP($R1743,TAXONOMY!$A$1:$G$959,3,FALSE))","v":""},{"$f":"IF(ISBLANK($R1743)=TRUE,\"\",VLOOKUP($R1743,TAXONOMY!$A$1:$H$959,2,FALSE))","v":""}]
[null,null,null,null,null,null,null,null,null,null,null,{"$f":"IF(ISBLANK($R1744)=TRUE,\"\",VLOOKUP($R1744,TAXONOMY!$A$1:$G$959,7,FALSE))","v":""},{"$f":"IF(ISBLANK($R1744)=TRUE,\"\",VLOOKUP($R1744,TAXONOMY!$A$1:$G$959,6,FALSE))","v":""},{"$f":"IF(ISBLANK($R1744)=TRUE,\"\",VLOOKUP($R1744,TAXONOMY!$A$1:$G$959,5,FALSE))","v":""},{"$f":"IF(ISBLANK($R1744)=TRUE,\"\",VLOOKUP($R1744,TAXONOMY!$A$1:$G$959,4,FALSE))","v":""},{"$f":"IF(ISBLANK($R1744)=TRUE,\"\",VLOOKUP($R1744,TAXONOMY!$A$1:$G$959,3,FALSE))","v":""},{"$f":"IF(ISBLANK($R1744)=TRUE,\"\",VLOOKUP($R1744,TAXONOMY!$A$1:$H$959,2,FALSE))","v":""}]
[null,null,null,null,null,null,null,null,null,null,null,{"$f":"IF(ISBLANK($R1745)=TRUE,\"\",VLOOKUP($R1745,TAXONOMY!$A$1:$G$959,7,FALSE))","v":""},{"$f":"IF(ISBLANK($R1745)=TRUE,\"\",VLOOKUP($R1745,TAXONOMY!$A$1:$G$959,6,FALSE))","v":""},{"$f":"IF(ISBLANK($R1745)=TRUE,\"\",VLOOKUP($R1745,TAXONOMY!$A$1:$G$959,5,FALSE))","v":""},{"$f":"IF(ISBLANK($R1745)=TRUE,\"\",VLOOKUP($R1745,TAXONOMY!$A$1:$G$959,4,FALSE))","v":""},{"$f":"IF(ISBLANK($R1745)=TRUE,\"\",VLOOKUP($R1745,TAXONOMY!$A$1:$G$959,3,FALSE))","v":""},{"$f":"IF(ISBLANK($R1745)=TRUE,\"\",VLOOKUP($R1745,TAXONOMY!$A$1:$H$959,2,FALSE))","v":""}]
[null,null,null,null,null,null,null,null,null,null,null,{"$f":"IF(ISBLANK($R1746)=TRUE,\"\",VLOOKUP($R1746,TAXONOMY!$A$1:$G$959,7,FALSE))","v":""},{"$f":"IF(ISBLANK($R1746)=TRUE,\"\",VLOOKUP($R1746,TAXONOMY!$A$1:$G$959,6,FALSE))","v":""},{"$f":"IF(ISBLANK($R1746)=TRUE,\"\",VLOOKUP($R1746,TAXONOMY!$A$1:$G$959,5,FALSE))","v":""},{"$f":"IF(ISBLANK($R1746)=TRUE,\"\",VLOOKUP($R1746,TAXONOMY!$A$1:$G$959,4,FALSE))","v":""},{"$f":"IF(ISBLANK($R1746)=TRUE,\"\",VLOOKUP($R1746,TAXONOMY!$A$1:$G$959,3,FALSE))","v":""},{"$f":"IF(ISBLANK($R1746)=TRUE,\"\",VLOOKUP($R1746,TAXONOMY!$A$1:$H$959,2,FALSE))","v":""}]
[null,null,null,null,null,null,null,null,null,null,null,{"$f":"IF(ISBLANK($R1747)=TRUE,\"\",VLOOKUP($R1747,TAXONOMY!$A$1:$G$959,7,FALSE))","v":""},{"$f":"IF(ISBLANK($R1747)=TRUE,\"\",VLOOKUP($R1747,TAXONOMY!$A$1:$G$959,6,FALSE))","v":""},{"$f":"IF(ISBLANK($R1747)=TRUE,\"\",VLOOKUP($R1747,TAXONOMY!$A$1:$G$959,5,FALSE))","v":""},{"$f":"IF(ISBLANK($R1747)=TRUE,\"\",VLOOKUP($R1747,TAXONOMY!$A$1:$G$959,4,FALSE))","v":""},{"$f":"IF(ISBLANK($R1747)=TRUE,\"\",VLOOKUP($R1747,TAXONOMY!$A$1:$G$959,3,FALSE))","v":""},{"$f":"IF(ISBLANK($R1747)=TRUE,\"\",VLOOKUP($R1747,TAXONOMY!$A$1:$H$959,2,FALSE))","v":""}]
[null,null,null,null,null,null,null,null,null,null,null,{"$f":"IF(ISBLANK($R1748)=TRUE,\"\",VLOOKUP($R1748,TAXONOMY!$A$1:$G$959,7,FALSE))","v":""},{"$f":"IF(ISBLANK($R1748)=TRUE,\"\",VLOOKUP($R1748,TAXONOMY!$A$1:$G$959,6,FALSE))","v":""},{"$f":"IF(ISBLANK($R1748)=TRUE,\"\",VLOOKUP($R1748,TAXONOMY!$A$1:$G$959,5,FALSE))","v":""},{"$f":"IF(ISBLANK($R1748)=TRUE,\"\",VLOOKUP($R1748,TAXONOMY!$A$1:$G$959,4,FALSE))","v":""},{"$f":"IF(ISBLANK($R1748)=TRUE,\"\",VLOOKUP($R1748,TAXONOMY!$A$1:$G$959,3,FALSE))","v":""},{"$f":"IF(ISBLANK($R1748)=TRUE,\"\",VLOOKUP($R1748,TAXONOMY!$A$1:$H$959,2,FALSE))","v":""}]
[null,null,null,null,null,null,null,null,null,null,null,{"$f":"IF(ISBLANK($R1749)=TRUE,\"\",VLOOKUP($R1749,TAXONOMY!$A$1:$G$959,7,FALSE))","v":""},{"$f":"IF(ISBLANK($R1749)=TRUE,\"\",VLOOKUP($R1749,TAXONOMY!$A$1:$G$959,6,FALSE))","v":""},{"$f":"IF(ISBLANK($R1749)=TRUE,\"\",VLOOKUP($R1749,TAXONOMY!$A$1:$G$959,5,FALSE))","v":""},{"$f":"IF(ISBLANK($R1749)=TRUE,\"\",VLOOKUP($R1749,TAXONOMY!$A$1:$G$959,4,FALSE))","v":""},{"$f":"IF(ISBLANK($R1749)=TRUE,\"\",VLOOKUP($R1749,TAXONOMY!$A$1:$G$959,3,FALSE))","v":""},{"$f":"IF(ISBLANK($R1749)=TRUE,\"\",VLOOKUP($R1749,TAXONOMY!$A$1:$H$959,2,FALSE))","v":""}]
[null,null,null,null,null,null,null,null,null,null,null,{"$f":"IF(ISBLANK($R1750)=TRUE,\"\",VLOOKUP($R1750,TAXONOMY!$A$1:$G$959,7,FALSE))","v":""},{"$f":"IF(ISBLANK($R1750)=TRUE,\"\",VLOOKUP($R1750,TAXONOMY!$A$1:$G$959,6,FALSE))","v":""},{"$f":"IF(ISBLANK($R1750)=TRUE,\"\",VLOOKUP($R1750,TAXONOMY!$A$1:$G$959,5,FALSE))","v":""},{"$f":"IF(ISBLANK($R1750)=TRUE,\"\",VLOOKUP($R1750,TAXONOMY!$A$1:$G$959,4,FALSE))","v":""},{"$f":"IF(ISBLANK($R1750)=TRUE,\"\",VLOOKUP($R1750,TAXONOMY!$A$1:$G$959,3,FALSE))","v":""},{"$f":"IF(ISBLANK($R1750)=TRUE,\"\",VLOOKUP($R1750,TAXONOMY!$A$1:$H$959,2,FALSE))","v":""}]
[null,null,null,null,null,null,null,null,null,null,null,{"$f":"IF(ISBLANK($R1751)=TRUE,\"\",VLOOKUP($R1751,TAXONOMY!$A$1:$G$959,7,FALSE))","v":""},{"$f":"IF(ISBLANK($R1751)=TRUE,\"\",VLOOKUP($R1751,TAXONOMY!$A$1:$G$959,6,FALSE))","v":""},{"$f":"IF(ISBLANK($R1751)=TRUE,\"\",VLOOKUP($R1751,TAXONOMY!$A$1:$G$959,5,FALSE))","v":""},{"$f":"IF(ISBLANK($R1751)=TRUE,\"\",VLOOKUP($R1751,TAXONOMY!$A$1:$G$959,4,FALSE))","v":""},{"$f":"IF(ISBLANK($R1751)=TRUE,\"\",VLOOKUP($R1751,TAXONOMY!$A$1:$G$959,3,FALSE))","v":""},{"$f":"IF(ISBLANK($R1751)=TRUE,\"\",VLOOKUP($R1751,TAXONOMY!$A$1:$H$959,2,FALSE))","v":""}]
[null,null,null,null,null,null,null,null,null,null,null,{"$f":"IF(ISBLANK($R1752)=TRUE,\"\",VLOOKUP($R1752,TAXONOMY!$A$1:$G$959,7,FALSE))","v":""},{"$f":"IF(ISBLANK($R1752)=TRUE,\"\",VLOOKUP($R1752,TAXONOMY!$A$1:$G$959,6,FALSE))","v":""},{"$f":"IF(ISBLANK($R1752)=TRUE,\"\",VLOOKUP($R1752,TAXONOMY!$A$1:$G$959,5,FALSE))","v":""},{"$f":"IF(ISBLANK($R1752)=TRUE,\"\",VLOOKUP($R1752,TAXONOMY!$A$1:$G$959,4,FALSE))","v":""},{"$f":"IF(ISBLANK($R1752)=TRUE,\"\",VLOOKUP($R1752,TAXONOMY!$A$1:$G$959,3,FALSE))","v":""},{"$f":"IF(ISBLANK($R1752)=TRUE,\"\",VLOOKUP($R1752,TAXONOMY!$A$1:$H$959,2,FALSE))","v":""}]
[null,null,null,null,null,null,null,null,null,null,null,{"$f":"IF(ISBLANK($R1753)=TRUE,\"\",VLOOKUP($R1753,TAXONOMY!$A$1:$G$959,7,FALSE))","v":""},{"$f":"IF(ISBLANK($R1753)=TRUE,\"\",VLOOKUP($R1753,TAXONOMY!$A$1:$G$959,6,FALSE))","v":""},{"$f":"IF(ISBLANK($R1753)=TRUE,\"\",VLOOKUP($R1753,TAXONOMY!$A$1:$G$959,5,FALSE))","v":""},{"$f":"IF(ISBLANK($R1753)=TRUE,\"\",VLOOKUP($R1753,TAXONOMY!$A$1:$G$959,4,FALSE))","v":""},{"$f":"IF(ISBLANK($R1753)=TRUE,\"\",VLOOKUP($R1753,TAXONOMY!$A$1:$G$959,3,FALSE))","v":""},{"$f":"IF(ISBLANK($R1753)=TRUE,\"\",VLOOKUP($R1753,TAXONOMY!$A$1:$H$959,2,FALSE))","v":""}]
[null,null,null,null,null,null,null,null,null,null,null,{"$f":"IF(ISBLANK($R1754)=TRUE,\"\",VLOOKUP($R1754,TAXONOMY!$A$1:$G$959,7,FALSE))","v":""},{"$f":"IF(ISBLANK($R1754)=TRUE,\"\",VLOOKUP($R1754,TAXONOMY!$A$1:$G$959,6,FALSE))","v":""},{"$f":"IF(ISBLANK($R1754)=TRUE,\"\",VLOOKUP($R1754,TAXONOMY!$A$1:$G$959,5,FALSE))","v":""},{"$f":"IF(ISBLANK($R1754)=TRUE,\"\",VLOOKUP($R1754,TAXONOMY!$A$1:$G$959,4,FALSE))","v":""},{"$f":"IF(ISBLANK($R1754)=TRUE,\"\",VLOOKUP($R1754,TAXONOMY!$A$1:$G$959,3,FALSE))","v":""},{"$f":"IF(ISBLANK($R1754)=TRUE,\"\",VLOOKUP($R1754,TAXONOMY!$A$1:$H$959,2,FALSE))","v":""}]
[null,null,null,null,null,null,null,null,null,null,null,{"$f":"IF(ISBLANK($R1755)=TRUE,\"\",VLOOKUP($R1755,TAXONOMY!$A$1:$G$959,7,FALSE))","v":""},{"$f":"IF(ISBLANK($R1755)=TRUE,\"\",VLOOKUP($R1755,TAXONOMY!$A$1:$G$959,6,FALSE))","v":""},{"$f":"IF(ISBLANK($R1755)=TRUE,\"\",VLOOKUP($R1755,TAXONOMY!$A$1:$G$959,5,FALSE))","v":""},{"$f":"IF(ISBLANK($R1755)=TRUE,\"\",VLOOKUP($R1755,TAXONOMY!$A$1:$G$959,4,FALSE))","v":""},{"$f":"IF(ISBLANK($R1755)=TRUE,\"\",VLOOKUP($R1755,TAXONOMY!$A$1:$G$959,3,FALSE))","v":""},{"$f":"IF(ISBLANK($R1755)=TRUE,\"\",VLOOKUP($R1755,TAXONOMY!$A$1:$H$959,2,FALSE))","v":""}]
[null,null,null,null,null,null,null,null,null,null,null,{"$f":"IF(ISBLANK($R1756)=TRUE,\"\",VLOOKUP($R1756,TAXONOMY!$A$1:$G$959,7,FALSE))","v":""},{"$f":"IF(ISBLANK($R1756)=TRUE,\"\",VLOOKUP($R1756,TAXONOMY!$A$1:$G$959,6,FALSE))","v":""},{"$f":"IF(ISBLANK($R1756)=TRUE,\"\",VLOOKUP($R1756,TAXONOMY!$A$1:$G$959,5,FALSE))","v":""},{"$f":"IF(ISBLANK($R1756)=TRUE,\"\",VLOOKUP($R1756,TAXONOMY!$A$1:$G$959,4,FALSE))","v":""},{"$f":"IF(ISBLANK($R1756)=TRUE,\"\",VLOOKUP($R1756,TAXONOMY!$A$1:$G$959,3,FALSE))","v":""},{"$f":"IF(ISBLANK($R1756)=TRUE,\"\",VLOOKUP($R1756,TAXONOMY!$A$1:$H$959,2,FALSE))","v":""}]
[null,null,null,null,null,null,null,null,null,null,null,{"$f":"IF(ISBLANK($R1757)=TRUE,\"\",VLOOKUP($R1757,TAXONOMY!$A$1:$G$959,7,FALSE))","v":""},{"$f":"IF(ISBLANK($R1757)=TRUE,\"\",VLOOKUP($R1757,TAXONOMY!$A$1:$G$959,6,FALSE))","v":""},{"$f":"IF(ISBLANK($R1757)=TRUE,\"\",VLOOKUP($R1757,TAXONOMY!$A$1:$G$959,5,FALSE))","v":""},{"$f":"IF(ISBLANK($R1757)=TRUE,\"\",VLOOKUP($R1757,TAXONOMY!$A$1:$G$959,4,FALSE))","v":""},{"$f":"IF(ISBLANK($R1757)=TRUE,\"\",VLOOKUP($R1757,TAXONOMY!$A$1:$G$959,3,FALSE))","v":""},{"$f":"IF(ISBLANK($R1757)=TRUE,\"\",VLOOKUP($R1757,TAXONOMY!$A$1:$H$959,2,FALSE))","v":""}]
[null,null,null,null,null,null,null,null,null,null,null,{"$f":"IF(ISBLANK($R1758)=TRUE,\"\",VLOOKUP($R1758,TAXONOMY!$A$1:$G$959,7,FALSE))","v":""},{"$f":"IF(ISBLANK($R1758)=TRUE,\"\",VLOOKUP($R1758,TAXONOMY!$A$1:$G$959,6,FALSE))","v":""},{"$f":"IF(ISBLANK($R1758)=TRUE,\"\",VLOOKUP($R1758,TAXONOMY!$A$1:$G$959,5,FALSE))","v":""},{"$f":"IF(ISBLANK($R1758)=TRUE,\"\",VLOOKUP($R1758,TAXONOMY!$A$1:$G$959,4,FALSE))","v":""},{"$f":"IF(ISBLANK($R1758)=TRUE,\"\",VLOOKUP($R1758,TAXONOMY!$A$1:$G$959,3,FALSE))","v":""},{"$f":"IF(ISBLANK($R1758)=TRUE,\"\",VLOOKUP($R1758,TAXONOMY!$A$1:$H$959,2,FALSE))","v":""}]
[null,null,null,null,null,null,null,null,null,null,null,{"$f":"IF(ISBLANK($R1759)=TRUE,\"\",VLOOKUP($R1759,TAXONOMY!$A$1:$G$959,7,FALSE))","v":""},{"$f":"IF(ISBLANK($R1759)=TRUE,\"\",VLOOKUP($R1759,TAXONOMY!$A$1:$G$959,6,FALSE))","v":""},{"$f":"IF(ISBLANK($R1759)=TRUE,\"\",VLOOKUP($R1759,TAXONOMY!$A$1:$G$959,5,FALSE))","v":""},{"$f":"IF(ISBLANK($R1759)=TRUE,\"\",VLOOKUP($R1759,TAXONOMY!$A$1:$G$959,4,FALSE))","v":""},{"$f":"IF(ISBLANK($R1759)=TRUE,\"\",VLOOKUP($R1759,TAXONOMY!$A$1:$G$959,3,FALSE))","v":""},{"$f":"IF(ISBLANK($R1759)=TRUE,\"\",VLOOKUP($R1759,TAXONOMY!$A$1:$H$959,2,FALSE))","v":""}]
[null,null,null,null,null,null,null,null,null,null,null,{"$f":"IF(ISBLANK($R1760)=TRUE,\"\",VLOOKUP($R1760,TAXONOMY!$A$1:$G$959,7,FALSE))","v":""},{"$f":"IF(ISBLANK($R1760)=TRUE,\"\",VLOOKUP($R1760,TAXONOMY!$A$1:$G$959,6,FALSE))","v":""},{"$f":"IF(ISBLANK($R1760)=TRUE,\"\",VLOOKUP($R1760,TAXONOMY!$A$1:$G$959,5,FALSE))","v":""},{"$f":"IF(ISBLANK($R1760)=TRUE,\"\",VLOOKUP($R1760,TAXONOMY!$A$1:$G$959,4,FALSE))","v":""},{"$f":"IF(ISBLANK($R1760)=TRUE,\"\",VLOOKUP($R1760,TAXONOMY!$A$1:$G$959,3,FALSE))","v":""},{"$f":"IF(ISBLANK($R1760)=TRUE,\"\",VLOOKUP($R1760,TAXONOMY!$A$1:$H$959,2,FALSE))","v":""}]
[null,null,null,null,null,null,null,null,null,null,null,{"$f":"IF(ISBLANK($R1761)=TRUE,\"\",VLOOKUP($R1761,TAXONOMY!$A$1:$G$959,7,FALSE))","v":""},{"$f":"IF(ISBLANK($R1761)=TRUE,\"\",VLOOKUP($R1761,TAXONOMY!$A$1:$G$959,6,FALSE))","v":""},{"$f":"IF(ISBLANK($R1761)=TRUE,\"\",VLOOKUP($R1761,TAXONOMY!$A$1:$G$959,5,FALSE))","v":""},{"$f":"IF(ISBLANK($R1761)=TRUE,\"\",VLOOKUP($R1761,TAXONOMY!$A$1:$G$959,4,FALSE))","v":""},{"$f":"IF(ISBLANK($R1761)=TRUE,\"\",VLOOKUP($R1761,TAXONOMY!$A$1:$G$959,3,FALSE))","v":""},{"$f":"IF(ISBLANK($R1761)=TRUE,\"\",VLOOKUP($R1761,TAXONOMY!$A$1:$H$959,2,FALSE))","v":""}]
[null,null,null,null,null,null,null,null,null,null,null,{"$f":"IF(ISBLANK($R1762)=TRUE,\"\",VLOOKUP($R1762,TAXONOMY!$A$1:$G$959,7,FALSE))","v":""},{"$f":"IF(ISBLANK($R1762)=TRUE,\"\",VLOOKUP($R1762,TAXONOMY!$A$1:$G$959,6,FALSE))","v":""},{"$f":"IF(ISBLANK($R1762)=TRUE,\"\",VLOOKUP($R1762,TAXONOMY!$A$1:$G$959,5,FALSE))","v":""},{"$f":"IF(ISBLANK($R1762)=TRUE,\"\",VLOOKUP($R1762,TAXONOMY!$A$1:$G$959,4,FALSE))","v":""},{"$f":"IF(ISBLANK($R1762)=TRUE,\"\",VLOOKUP($R1762,TAXONOMY!$A$1:$G$959,3,FALSE))","v":""},{"$f":"IF(ISBLANK($R1762)=TRUE,\"\",VLOOKUP($R1762,TAXONOMY!$A$1:$H$959,2,FALSE))","v":""}]
[null,null,null,null,null,null,null,null,null,null,null,{"$f":"IF(ISBLANK($R1763)=TRUE,\"\",VLOOKUP($R1763,TAXONOMY!$A$1:$G$959,7,FALSE))","v":""},{"$f":"IF(ISBLANK($R1763)=TRUE,\"\",VLOOKUP($R1763,TAXONOMY!$A$1:$G$959,6,FALSE))","v":""},{"$f":"IF(ISBLANK($R1763)=TRUE,\"\",VLOOKUP($R1763,TAXONOMY!$A$1:$G$959,5,FALSE))","v":""},{"$f":"IF(ISBLANK($R1763)=TRUE,\"\",VLOOKUP($R1763,TAXONOMY!$A$1:$G$959,4,FALSE))","v":""},{"$f":"IF(ISBLANK($R1763)=TRUE,\"\",VLOOKUP($R1763,TAXONOMY!$A$1:$G$959,3,FALSE))","v":""},{"$f":"IF(ISBLANK($R1763)=TRUE,\"\",VLOOKUP($R1763,TAXONOMY!$A$1:$H$959,2,FALSE))","v":""}]
[null,null,null,null,null,null,null,null,null,null,null,{"$f":"IF(ISBLANK($R1764)=TRUE,\"\",VLOOKUP($R1764,TAXONOMY!$A$1:$G$959,7,FALSE))","v":""},{"$f":"IF(ISBLANK($R1764)=TRUE,\"\",VLOOKUP($R1764,TAXONOMY!$A$1:$G$959,6,FALSE))","v":""},{"$f":"IF(ISBLANK($R1764)=TRUE,\"\",VLOOKUP($R1764,TAXONOMY!$A$1:$G$959,5,FALSE))","v":""},{"$f":"IF(ISBLANK($R1764)=TRUE,\"\",VLOOKUP($R1764,TAXONOMY!$A$1:$G$959,4,FALSE))","v":""},{"$f":"IF(ISBLANK($R1764)=TRUE,\"\",VLOOKUP($R1764,TAXONOMY!$A$1:$G$959,3,FALSE))","v":""},{"$f":"IF(ISBLANK($R1764)=TRUE,\"\",VLOOKUP($R1764,TAXONOMY!$A$1:$H$959,2,FALSE))","v":""}]
[null,null,null,null,null,null,null,null,null,null,null,{"$f":"IF(ISBLANK($R1765)=TRUE,\"\",VLOOKUP($R1765,TAXONOMY!$A$1:$G$959,7,FALSE))","v":""},{"$f":"IF(ISBLANK($R1765)=TRUE,\"\",VLOOKUP($R1765,TAXONOMY!$A$1:$G$959,6,FALSE))","v":""},{"$f":"IF(ISBLANK($R1765)=TRUE,\"\",VLOOKUP($R1765,TAXONOMY!$A$1:$G$959,5,FALSE))","v":""},{"$f":"IF(ISBLANK($R1765)=TRUE,\"\",VLOOKUP($R1765,TAXONOMY!$A$1:$G$959,4,FALSE))","v":""},{"$f":"IF(ISBLANK($R1765)=TRUE,\"\",VLOOKUP($R1765,TAXONOMY!$A$1:$G$959,3,FALSE))","v":""},{"$f":"IF(ISBLANK($R1765)=TRUE,\"\",VLOOKUP($R1765,TAXONOMY!$A$1:$H$959,2,FALSE))","v":""}]
[null,null,null,null,null,null,null,null,null,null,null,{"$f":"IF(ISBLANK($R1766)=TRUE,\"\",VLOOKUP($R1766,TAXONOMY!$A$1:$G$959,7,FALSE))","v":""},{"$f":"IF(ISBLANK($R1766)=TRUE,\"\",VLOOKUP($R1766,TAXONOMY!$A$1:$G$959,6,FALSE))","v":""},{"$f":"IF(ISBLANK($R1766)=TRUE,\"\",VLOOKUP($R1766,TAXONOMY!$A$1:$G$959,5,FALSE))","v":""},{"$f":"IF(ISBLANK($R1766)=TRUE,\"\",VLOOKUP($R1766,TAXONOMY!$A$1:$G$959,4,FALSE))","v":""},{"$f":"IF(ISBLANK($R1766)=TRUE,\"\",VLOOKUP($R1766,TAXONOMY!$A$1:$G$959,3,FALSE))","v":""},{"$f":"IF(ISBLANK($R1766)=TRUE,\"\",VLOOKUP($R1766,TAXONOMY!$A$1:$H$959,2,FALSE))","v":""}]
[null,null,null,null,null,null,null,null,null,null,null,{"$f":"IF(ISBLANK($R1767)=TRUE,\"\",VLOOKUP($R1767,TAXONOMY!$A$1:$G$959,7,FALSE))","v":""},{"$f":"IF(ISBLANK($R1767)=TRUE,\"\",VLOOKUP($R1767,TAXONOMY!$A$1:$G$959,6,FALSE))","v":""},{"$f":"IF(ISBLANK($R1767)=TRUE,\"\",VLOOKUP($R1767,TAXONOMY!$A$1:$G$959,5,FALSE))","v":""},{"$f":"IF(ISBLANK($R1767)=TRUE,\"\",VLOOKUP($R1767,TAXONOMY!$A$1:$G$959,4,FALSE))","v":""},{"$f":"IF(ISBLANK($R1767)=TRUE,\"\",VLOOKUP($R1767,TAXONOMY!$A$1:$G$959,3,FALSE))","v":""},{"$f":"IF(ISBLANK($R1767)=TRUE,\"\",VLOOKUP($R1767,TAXONOMY!$A$1:$H$959,2,FALSE))","v":""}]
[null,null,null,null,null,null,null,null,null,null,null,{"$f":"IF(ISBLANK($R1768)=TRUE,\"\",VLOOKUP($R1768,TAXONOMY!$A$1:$G$959,7,FALSE))","v":""},{"$f":"IF(ISBLANK($R1768)=TRUE,\"\",VLOOKUP($R1768,TAXONOMY!$A$1:$G$959,6,FALSE))","v":""},{"$f":"IF(ISBLANK($R1768)=TRUE,\"\",VLOOKUP($R1768,TAXONOMY!$A$1:$G$959,5,FALSE))","v":""},{"$f":"IF(ISBLANK($R1768)=TRUE,\"\",VLOOKUP($R1768,TAXONOMY!$A$1:$G$959,4,FALSE))","v":""},{"$f":"IF(ISBLANK($R1768)=TRUE,\"\",VLOOKUP($R1768,TAXONOMY!$A$1:$G$959,3,FALSE))","v":""},{"$f":"IF(ISBLANK($R1768)=TRUE,\"\",VLOOKUP($R1768,TAXONOMY!$A$1:$H$959,2,FALSE))","v":""}]
[null,null,null,null,null,null,null,null,null,null,null,{"$f":"IF(ISBLANK($R1769)=TRUE,\"\",VLOOKUP($R1769,TAXONOMY!$A$1:$G$959,7,FALSE))","v":""},{"$f":"IF(ISBLANK($R1769)=TRUE,\"\",VLOOKUP($R1769,TAXONOMY!$A$1:$G$959,6,FALSE))","v":""},{"$f":"IF(ISBLANK($R1769)=TRUE,\"\",VLOOKUP($R1769,TAXONOMY!$A$1:$G$959,5,FALSE))","v":""},{"$f":"IF(ISBLANK($R1769)=TRUE,\"\",VLOOKUP($R1769,TAXONOMY!$A$1:$G$959,4,FALSE))","v":""},{"$f":"IF(ISBLANK($R1769)=TRUE,\"\",VLOOKUP($R1769,TAXONOMY!$A$1:$G$959,3,FALSE))","v":""},{"$f":"IF(ISBLANK($R1769)=TRUE,\"\",VLOOKUP($R1769,TAXONOMY!$A$1:$H$959,2,FALSE))","v":""}]
[null,null,null,null,null,null,null,null,null,null,null,{"$f":"IF(ISBLANK($R1770)=TRUE,\"\",VLOOKUP($R1770,TAXONOMY!$A$1:$G$959,7,FALSE))","v":""},{"$f":"IF(ISBLANK($R1770)=TRUE,\"\",VLOOKUP($R1770,TAXONOMY!$A$1:$G$959,6,FALSE))","v":""},{"$f":"IF(ISBLANK($R1770)=TRUE,\"\",VLOOKUP($R1770,TAXONOMY!$A$1:$G$959,5,FALSE))","v":""},{"$f":"IF(ISBLANK($R1770)=TRUE,\"\",VLOOKUP($R1770,TAXONOMY!$A$1:$G$959,4,FALSE))","v":""},{"$f":"IF(ISBLANK($R1770)=TRUE,\"\",VLOOKUP($R1770,TAXONOMY!$A$1:$G$959,3,FALSE))","v":""},{"$f":"IF(ISBLANK($R1770)=TRUE,\"\",VLOOKUP($R1770,TAXONOMY!$A$1:$H$959,2,FALSE))","v":""}]
[null,null,null,null,null,null,null,null,null,null,null,{"$f":"IF(ISBLANK($R1771)=TRUE,\"\",VLOOKUP($R1771,TAXONOMY!$A$1:$G$959,7,FALSE))","v":""},{"$f":"IF(ISBLANK($R1771)=TRUE,\"\",VLOOKUP($R1771,TAXONOMY!$A$1:$G$959,6,FALSE))","v":""},{"$f":"IF(ISBLANK($R1771)=TRUE,\"\",VLOOKUP($R1771,TAXONOMY!$A$1:$G$959,5,FALSE))","v":""},{"$f":"IF(ISBLANK($R1771)=TRUE,\"\",VLOOKUP($R1771,TAXONOMY!$A$1:$G$959,4,FALSE))","v":""},{"$f":"IF(ISBLANK($R1771)=TRUE,\"\",VLOOKUP($R1771,TAXONOMY!$A$1:$G$959,3,FALSE))","v":""},{"$f":"IF(ISBLANK($R1771)=TRUE,\"\",VLOOKUP($R1771,TAXONOMY!$A$1:$H$959,2,FALSE))","v":""}]
[null,null,null,null,null,null,null,null,null,null,null,{"$f":"IF(ISBLANK($R1772)=TRUE,\"\",VLOOKUP($R1772,TAXONOMY!$A$1:$G$959,7,FALSE))","v":""},{"$f":"IF(ISBLANK($R1772)=TRUE,\"\",VLOOKUP($R1772,TAXONOMY!$A$1:$G$959,6,FALSE))","v":""},{"$f":"IF(ISBLANK($R1772)=TRUE,\"\",VLOOKUP($R1772,TAXONOMY!$A$1:$G$959,5,FALSE))","v":""},{"$f":"IF(ISBLANK($R1772)=TRUE,\"\",VLOOKUP($R1772,TAXONOMY!$A$1:$G$959,4,FALSE))","v":""},{"$f":"IF(ISBLANK($R1772)=TRUE,\"\",VLOOKUP($R1772,TAXONOMY!$A$1:$G$959,3,FALSE))","v":""},{"$f":"IF(ISBLANK($R1772)=TRUE,\"\",VLOOKUP($R1772,TAXONOMY!$A$1:$H$959,2,FALSE))","v":""}]
[null,null,null,null,null,null,null,null,null,null,null,{"$f":"IF(ISBLANK($R1773)=TRUE,\"\",VLOOKUP($R1773,TAXONOMY!$A$1:$G$959,7,FALSE))","v":""},{"$f":"IF(ISBLANK($R1773)=TRUE,\"\",VLOOKUP($R1773,TAXONOMY!$A$1:$G$959,6,FALSE))","v":""},{"$f":"IF(ISBLANK($R1773)=TRUE,\"\",VLOOKUP($R1773,TAXONOMY!$A$1:$G$959,5,FALSE))","v":""},{"$f":"IF(ISBLANK($R1773)=TRUE,\"\",VLOOKUP($R1773,TAXONOMY!$A$1:$G$959,4,FALSE))","v":""},{"$f":"IF(ISBLANK($R1773)=TRUE,\"\",VLOOKUP($R1773,TAXONOMY!$A$1:$G$959,3,FALSE))","v":""},{"$f":"IF(ISBLANK($R1773)=TRUE,\"\",VLOOKUP($R1773,TAXONOMY!$A$1:$H$959,2,FALSE))","v":""}]
[null,null,null,null,null,null,null,null,null,null,null,{"$f":"IF(ISBLANK($R1774)=TRUE,\"\",VLOOKUP($R1774,TAXONOMY!$A$1:$G$959,7,FALSE))","v":""},{"$f":"IF(ISBLANK($R1774)=TRUE,\"\",VLOOKUP($R1774,TAXONOMY!$A$1:$G$959,6,FALSE))","v":""},{"$f":"IF(ISBLANK($R1774)=TRUE,\"\",VLOOKUP($R1774,TAXONOMY!$A$1:$G$959,5,FALSE))","v":""},{"$f":"IF(ISBLANK($R1774)=TRUE,\"\",VLOOKUP($R1774,TAXONOMY!$A$1:$G$959,4,FALSE))","v":""},{"$f":"IF(ISBLANK($R1774)=TRUE,\"\",VLOOKUP($R1774,TAXONOMY!$A$1:$G$959,3,FALSE))","v":""},{"$f":"IF(ISBLANK($R1774)=TRUE,\"\",VLOOKUP($R1774,TAXONOMY!$A$1:$H$959,2,FALSE))","v":""}]
[null,null,null,null,null,null,null,null,null,null,null,{"$f":"IF(ISBLANK($R1775)=TRUE,\"\",VLOOKUP($R1775,TAXONOMY!$A$1:$G$959,7,FALSE))","v":""},{"$f":"IF(ISBLANK($R1775)=TRUE,\"\",VLOOKUP($R1775,TAXONOMY!$A$1:$G$959,6,FALSE))","v":""},{"$f":"IF(ISBLANK($R1775)=TRUE,\"\",VLOOKUP($R1775,TAXONOMY!$A$1:$G$959,5,FALSE))","v":""},{"$f":"IF(ISBLANK($R1775)=TRUE,\"\",VLOOKUP($R1775,TAXONOMY!$A$1:$G$959,4,FALSE))","v":""},{"$f":"IF(ISBLANK($R1775)=TRUE,\"\",VLOOKUP($R1775,TAXONOMY!$A$1:$G$959,3,FALSE))","v":""},{"$f":"IF(ISBLANK($R1775)=TRUE,\"\",VLOOKUP($R1775,TAXONOMY!$A$1:$H$959,2,FALSE))","v":""}]
[null,null,null,null,null,null,null,null,null,null,null,{"$f":"IF(ISBLANK($R1776)=TRUE,\"\",VLOOKUP($R1776,TAXONOMY!$A$1:$G$959,7,FALSE))","v":""},{"$f":"IF(ISBLANK($R1776)=TRUE,\"\",VLOOKUP($R1776,TAXONOMY!$A$1:$G$959,6,FALSE))","v":""},{"$f":"IF(ISBLANK($R1776)=TRUE,\"\",VLOOKUP($R1776,TAXONOMY!$A$1:$G$959,5,FALSE))","v":""},{"$f":"IF(ISBLANK($R1776)=TRUE,\"\",VLOOKUP($R1776,TAXONOMY!$A$1:$G$959,4,FALSE))","v":""},{"$f":"IF(ISBLANK($R1776)=TRUE,\"\",VLOOKUP($R1776,TAXONOMY!$A$1:$G$959,3,FALSE))","v":""},{"$f":"IF(ISBLANK($R1776)=TRUE,\"\",VLOOKUP($R1776,TAXONOMY!$A$1:$H$959,2,FALSE))","v":""}]
[null,null,null,null,null,null,null,null,null,null,null,{"$f":"IF(ISBLANK($R1777)=TRUE,\"\",VLOOKUP($R1777,TAXONOMY!$A$1:$G$959,7,FALSE))","v":""},{"$f":"IF(ISBLANK($R1777)=TRUE,\"\",VLOOKUP($R1777,TAXONOMY!$A$1:$G$959,6,FALSE))","v":""},{"$f":"IF(ISBLANK($R1777)=TRUE,\"\",VLOOKUP($R1777,TAXONOMY!$A$1:$G$959,5,FALSE))","v":""},{"$f":"IF(ISBLANK($R1777)=TRUE,\"\",VLOOKUP($R1777,TAXONOMY!$A$1:$G$959,4,FALSE))","v":""},{"$f":"IF(ISBLANK($R1777)=TRUE,\"\",VLOOKUP($R1777,TAXONOMY!$A$1:$G$959,3,FALSE))","v":""},{"$f":"IF(ISBLANK($R1777)=TRUE,\"\",VLOOKUP($R1777,TAXONOMY!$A$1:$H$959,2,FALSE))","v":""}]
[null,null,null,null,null,null,null,null,null,null,null,{"$f":"IF(ISBLANK($R1778)=TRUE,\"\",VLOOKUP($R1778,TAXONOMY!$A$1:$G$959,7,FALSE))","v":""},{"$f":"IF(ISBLANK($R1778)=TRUE,\"\",VLOOKUP($R1778,TAXONOMY!$A$1:$G$959,6,FALSE))","v":""},{"$f":"IF(ISBLANK($R1778)=TRUE,\"\",VLOOKUP($R1778,TAXONOMY!$A$1:$G$959,5,FALSE))","v":""},{"$f":"IF(ISBLANK($R1778)=TRUE,\"\",VLOOKUP($R1778,TAXONOMY!$A$1:$G$959,4,FALSE))","v":""},{"$f":"IF(ISBLANK($R1778)=TRUE,\"\",VLOOKUP($R1778,TAXONOMY!$A$1:$G$959,3,FALSE))","v":""},{"$f":"IF(ISBLANK($R1778)=TRUE,\"\",VLOOKUP($R1778,TAXONOMY!$A$1:$H$959,2,FALSE))","v":""}]
[null,null,null,null,null,null,null,null,null,null,null,{"$f":"IF(ISBLANK($R1779)=TRUE,\"\",VLOOKUP($R1779,TAXONOMY!$A$1:$G$959,7,FALSE))","v":""},{"$f":"IF(ISBLANK($R1779)=TRUE,\"\",VLOOKUP($R1779,TAXONOMY!$A$1:$G$959,6,FALSE))","v":""},{"$f":"IF(ISBLANK($R1779)=TRUE,\"\",VLOOKUP($R1779,TAXONOMY!$A$1:$G$959,5,FALSE))","v":""},{"$f":"IF(ISBLANK($R1779)=TRUE,\"\",VLOOKUP($R1779,TAXONOMY!$A$1:$G$959,4,FALSE))","v":""},{"$f":"IF(ISBLANK($R1779)=TRUE,\"\",VLOOKUP($R1779,TAXONOMY!$A$1:$G$959,3,FALSE))","v":""},{"$f":"IF(ISBLANK($R1779)=TRUE,\"\",VLOOKUP($R1779,TAXONOMY!$A$1:$H$959,2,FALSE))","v":""}]
[null,null,null,null,null,null,null,null,null,null,null,{"$f":"IF(ISBLANK($R1780)=TRUE,\"\",VLOOKUP($R1780,TAXONOMY!$A$1:$G$959,7,FALSE))","v":""},{"$f":"IF(ISBLANK($R1780)=TRUE,\"\",VLOOKUP($R1780,TAXONOMY!$A$1:$G$959,6,FALSE))","v":""},{"$f":"IF(ISBLANK($R1780)=TRUE,\"\",VLOOKUP($R1780,TAXONOMY!$A$1:$G$959,5,FALSE))","v":""},{"$f":"IF(ISBLANK($R1780)=TRUE,\"\",VLOOKUP($R1780,TAXONOMY!$A$1:$G$959,4,FALSE))","v":""},{"$f":"IF(ISBLANK($R1780)=TRUE,\"\",VLOOKUP($R1780,TAXONOMY!$A$1:$G$959,3,FALSE))","v":""},{"$f":"IF(ISBLANK($R1780)=TRUE,\"\",VLOOKUP($R1780,TAXONOMY!$A$1:$H$959,2,FALSE))","v":""}]
[null,null,null,null,null,null,null,null,null,null,null,{"$f":"IF(ISBLANK($R1781)=TRUE,\"\",VLOOKUP($R1781,TAXONOMY!$A$1:$G$959,7,FALSE))","v":""},{"$f":"IF(ISBLANK($R1781)=TRUE,\"\",VLOOKUP($R1781,TAXONOMY!$A$1:$G$959,6,FALSE))","v":""},{"$f":"IF(ISBLANK($R1781)=TRUE,\"\",VLOOKUP($R1781,TAXONOMY!$A$1:$G$959,5,FALSE))","v":""},{"$f":"IF(ISBLANK($R1781)=TRUE,\"\",VLOOKUP($R1781,TAXONOMY!$A$1:$G$959,4,FALSE))","v":""},{"$f":"IF(ISBLANK($R1781)=TRUE,\"\",VLOOKUP($R1781,TAXONOMY!$A$1:$G$959,3,FALSE))","v":""},{"$f":"IF(ISBLANK($R1781)=TRUE,\"\",VLOOKUP($R1781,TAXONOMY!$A$1:$H$959,2,FALSE))","v":""}]
[null,null,null,null,null,null,null,null,null,null,null,{"$f":"IF(ISBLANK($R1782)=TRUE,\"\",VLOOKUP($R1782,TAXONOMY!$A$1:$G$959,7,FALSE))","v":""},{"$f":"IF(ISBLANK($R1782)=TRUE,\"\",VLOOKUP($R1782,TAXONOMY!$A$1:$G$959,6,FALSE))","v":""},{"$f":"IF(ISBLANK($R1782)=TRUE,\"\",VLOOKUP($R1782,TAXONOMY!$A$1:$G$959,5,FALSE))","v":""},{"$f":"IF(ISBLANK($R1782)=TRUE,\"\",VLOOKUP($R1782,TAXONOMY!$A$1:$G$959,4,FALSE))","v":""},{"$f":"IF(ISBLANK($R1782)=TRUE,\"\",VLOOKUP($R1782,TAXONOMY!$A$1:$G$959,3,FALSE))","v":""},{"$f":"IF(ISBLANK($R1782)=TRUE,\"\",VLOOKUP($R1782,TAXONOMY!$A$1:$H$959,2,FALSE))","v":""}]
[null,null,null,null,null,null,null,null,null,null,null,{"$f":"IF(ISBLANK($R1783)=TRUE,\"\",VLOOKUP($R1783,TAXONOMY!$A$1:$G$959,7,FALSE))","v":""},{"$f":"IF(ISBLANK($R1783)=TRUE,\"\",VLOOKUP($R1783,TAXONOMY!$A$1:$G$959,6,FALSE))","v":""},{"$f":"IF(ISBLANK($R1783)=TRUE,\"\",VLOOKUP($R1783,TAXONOMY!$A$1:$G$959,5,FALSE))","v":""},{"$f":"IF(ISBLANK($R1783)=TRUE,\"\",VLOOKUP($R1783,TAXONOMY!$A$1:$G$959,4,FALSE))","v":""},{"$f":"IF(ISBLANK($R1783)=TRUE,\"\",VLOOKUP($R1783,TAXONOMY!$A$1:$G$959,3,FALSE))","v":""},{"$f":"IF(ISBLANK($R1783)=TRUE,\"\",VLOOKUP($R1783,TAXONOMY!$A$1:$H$959,2,FALSE))","v":""}]
[null,null,null,null,null,null,null,null,null,null,null,{"$f":"IF(ISBLANK($R1784)=TRUE,\"\",VLOOKUP($R1784,TAXONOMY!$A$1:$G$959,7,FALSE))","v":""},{"$f":"IF(ISBLANK($R1784)=TRUE,\"\",VLOOKUP($R1784,TAXONOMY!$A$1:$G$959,6,FALSE))","v":""},{"$f":"IF(ISBLANK($R1784)=TRUE,\"\",VLOOKUP($R1784,TAXONOMY!$A$1:$G$959,5,FALSE))","v":""},{"$f":"IF(ISBLANK($R1784)=TRUE,\"\",VLOOKUP($R1784,TAXONOMY!$A$1:$G$959,4,FALSE))","v":""},{"$f":"IF(ISBLANK($R1784)=TRUE,\"\",VLOOKUP($R1784,TAXONOMY!$A$1:$G$959,3,FALSE))","v":""},{"$f":"IF(ISBLANK($R1784)=TRUE,\"\",VLOOKUP($R1784,TAXONOMY!$A$1:$H$959,2,FALSE))","v":""}]
[null,null,null,null,null,null,null,null,null,null,null,{"$f":"IF(ISBLANK($R1785)=TRUE,\"\",VLOOKUP($R1785,TAXONOMY!$A$1:$G$959,7,FALSE))","v":""},{"$f":"IF(ISBLANK($R1785)=TRUE,\"\",VLOOKUP($R1785,TAXONOMY!$A$1:$G$959,6,FALSE))","v":""},{"$f":"IF(ISBLANK($R1785)=TRUE,\"\",VLOOKUP($R1785,TAXONOMY!$A$1:$G$959,5,FALSE))","v":""},{"$f":"IF(ISBLANK($R1785)=TRUE,\"\",VLOOKUP($R1785,TAXONOMY!$A$1:$G$959,4,FALSE))","v":""},{"$f":"IF(ISBLANK($R1785)=TRUE,\"\",VLOOKUP($R1785,TAXONOMY!$A$1:$G$959,3,FALSE))","v":""},{"$f":"IF(ISBLANK($R1785)=TRUE,\"\",VLOOKUP($R1785,TAXONOMY!$A$1:$H$959,2,FALSE))","v":""}]
[null,null,null,null,null,null,null,null,null,null,null,{"$f":"IF(ISBLANK($R1786)=TRUE,\"\",VLOOKUP($R1786,TAXONOMY!$A$1:$G$959,7,FALSE))","v":""},{"$f":"IF(ISBLANK($R1786)=TRUE,\"\",VLOOKUP($R1786,TAXONOMY!$A$1:$G$959,6,FALSE))","v":""},{"$f":"IF(ISBLANK($R1786)=TRUE,\"\",VLOOKUP($R1786,TAXONOMY!$A$1:$G$959,5,FALSE))","v":""},{"$f":"IF(ISBLANK($R1786)=TRUE,\"\",VLOOKUP($R1786,TAXONOMY!$A$1:$G$959,4,FALSE))","v":""},{"$f":"IF(ISBLANK($R1786)=TRUE,\"\",VLOOKUP($R1786,TAXONOMY!$A$1:$G$959,3,FALSE))","v":""},{"$f":"IF(ISBLANK($R1786)=TRUE,\"\",VLOOKUP($R1786,TAXONOMY!$A$1:$H$959,2,FALSE))","v":""}]
[null,null,null,null,null,null,null,null,null,null,null,{"$f":"IF(ISBLANK($R1787)=TRUE,\"\",VLOOKUP($R1787,TAXONOMY!$A$1:$G$959,7,FALSE))","v":""},{"$f":"IF(ISBLANK($R1787)=TRUE,\"\",VLOOKUP($R1787,TAXONOMY!$A$1:$G$959,6,FALSE))","v":""},{"$f":"IF(ISBLANK($R1787)=TRUE,\"\",VLOOKUP($R1787,TAXONOMY!$A$1:$G$959,5,FALSE))","v":""},{"$f":"IF(ISBLANK($R1787)=TRUE,\"\",VLOOKUP($R1787,TAXONOMY!$A$1:$G$959,4,FALSE))","v":""},{"$f":"IF(ISBLANK($R1787)=TRUE,\"\",VLOOKUP($R1787,TAXONOMY!$A$1:$G$959,3,FALSE))","v":""},{"$f":"IF(ISBLANK($R1787)=TRUE,\"\",VLOOKUP($R1787,TAXONOMY!$A$1:$H$959,2,FALSE))","v":""}]
[null,null,null,null,null,null,null,null,null,null,null,{"$f":"IF(ISBLANK($R1788)=TRUE,\"\",VLOOKUP($R1788,TAXONOMY!$A$1:$G$959,7,FALSE))","v":""},{"$f":"IF(ISBLANK($R1788)=TRUE,\"\",VLOOKUP($R1788,TAXONOMY!$A$1:$G$959,6,FALSE))","v":""},{"$f":"IF(ISBLANK($R1788)=TRUE,\"\",VLOOKUP($R1788,TAXONOMY!$A$1:$G$959,5,FALSE))","v":""},{"$f":"IF(ISBLANK($R1788)=TRUE,\"\",VLOOKUP($R1788,TAXONOMY!$A$1:$G$959,4,FALSE))","v":""},{"$f":"IF(ISBLANK($R1788)=TRUE,\"\",VLOOKUP($R1788,TAXONOMY!$A$1:$G$959,3,FALSE))","v":""},{"$f":"IF(ISBLANK($R1788)=TRUE,\"\",VLOOKUP($R1788,TAXONOMY!$A$1:$H$959,2,FALSE))","v":""}]
[null,null,null,null,null,null,null,null,null,null,null,{"$f":"IF(ISBLANK($R1789)=TRUE,\"\",VLOOKUP($R1789,TAXONOMY!$A$1:$G$959,7,FALSE))","v":""},{"$f":"IF(ISBLANK($R1789)=TRUE,\"\",VLOOKUP($R1789,TAXONOMY!$A$1:$G$959,6,FALSE))","v":""},{"$f":"IF(ISBLANK($R1789)=TRUE,\"\",VLOOKUP($R1789,TAXONOMY!$A$1:$G$959,5,FALSE))","v":""},{"$f":"IF(ISBLANK($R1789)=TRUE,\"\",VLOOKUP($R1789,TAXONOMY!$A$1:$G$959,4,FALSE))","v":""},{"$f":"IF(ISBLANK($R1789)=TRUE,\"\",VLOOKUP($R1789,TAXONOMY!$A$1:$G$959,3,FALSE))","v":""},{"$f":"IF(ISBLANK($R1789)=TRUE,\"\",VLOOKUP($R1789,TAXONOMY!$A$1:$H$959,2,FALSE))","v":""}]
[null,null,null,null,null,null,null,null,null,null,null,{"$f":"IF(ISBLANK($R1790)=TRUE,\"\",VLOOKUP($R1790,TAXONOMY!$A$1:$G$959,7,FALSE))","v":""},{"$f":"IF(ISBLANK($R1790)=TRUE,\"\",VLOOKUP($R1790,TAXONOMY!$A$1:$G$959,6,FALSE))","v":""},{"$f":"IF(ISBLANK($R1790)=TRUE,\"\",VLOOKUP($R1790,TAXONOMY!$A$1:$G$959,5,FALSE))","v":""},{"$f":"IF(ISBLANK($R1790)=TRUE,\"\",VLOOKUP($R1790,TAXONOMY!$A$1:$G$959,4,FALSE))","v":""},{"$f":"IF(ISBLANK($R1790)=TRUE,\"\",VLOOKUP($R1790,TAXONOMY!$A$1:$G$959,3,FALSE))","v":""},{"$f":"IF(ISBLANK($R1790)=TRUE,\"\",VLOOKUP($R1790,TAXONOMY!$A$1:$H$959,2,FALSE))","v":""}]
[null,null,null,null,null,null,null,null,null,null,null,{"$f":"IF(ISBLANK($R1791)=TRUE,\"\",VLOOKUP($R1791,TAXONOMY!$A$1:$G$959,7,FALSE))","v":""},{"$f":"IF(ISBLANK($R1791)=TRUE,\"\",VLOOKUP($R1791,TAXONOMY!$A$1:$G$959,6,FALSE))","v":""},{"$f":"IF(ISBLANK($R1791)=TRUE,\"\",VLOOKUP($R1791,TAXONOMY!$A$1:$G$959,5,FALSE))","v":""},{"$f":"IF(ISBLANK($R1791)=TRUE,\"\",VLOOKUP($R1791,TAXONOMY!$A$1:$G$959,4,FALSE))","v":""},{"$f":"IF(ISBLANK($R1791)=TRUE,\"\",VLOOKUP($R1791,TAXONOMY!$A$1:$G$959,3,FALSE))","v":""},{"$f":"IF(ISBLANK($R1791)=TRUE,\"\",VLOOKUP($R1791,TAXONOMY!$A$1:$H$959,2,FALSE))","v":""}]
[null,null,null,null,null,null,null,null,null,null,null,{"$f":"IF(ISBLANK($R1792)=TRUE,\"\",VLOOKUP($R1792,TAXONOMY!$A$1:$G$959,7,FALSE))","v":""},{"$f":"IF(ISBLANK($R1792)=TRUE,\"\",VLOOKUP($R1792,TAXONOMY!$A$1:$G$959,6,FALSE))","v":""},{"$f":"IF(ISBLANK($R1792)=TRUE,\"\",VLOOKUP($R1792,TAXONOMY!$A$1:$G$959,5,FALSE))","v":""},{"$f":"IF(ISBLANK($R1792)=TRUE,\"\",VLOOKUP($R1792,TAXONOMY!$A$1:$G$959,4,FALSE))","v":""},{"$f":"IF(ISBLANK($R1792)=TRUE,\"\",VLOOKUP($R1792,TAXONOMY!$A$1:$G$959,3,FALSE))","v":""},{"$f":"IF(ISBLANK($R1792)=TRUE,\"\",VLOOKUP($R1792,TAXONOMY!$A$1:$H$959,2,FALSE))","v":""}]
[null,null,null,null,null,null,null,null,null,null,null,{"$f":"IF(ISBLANK($R1793)=TRUE,\"\",VLOOKUP($R1793,TAXONOMY!$A$1:$G$959,7,FALSE))","v":""},{"$f":"IF(ISBLANK($R1793)=TRUE,\"\",VLOOKUP($R1793,TAXONOMY!$A$1:$G$959,6,FALSE))","v":""},{"$f":"IF(ISBLANK($R1793)=TRUE,\"\",VLOOKUP($R1793,TAXONOMY!$A$1:$G$959,5,FALSE))","v":""},{"$f":"IF(ISBLANK($R1793)=TRUE,\"\",VLOOKUP($R1793,TAXONOMY!$A$1:$G$959,4,FALSE))","v":""},{"$f":"IF(ISBLANK($R1793)=TRUE,\"\",VLOOKUP($R1793,TAXONOMY!$A$1:$G$959,3,FALSE))","v":""},{"$f":"IF(ISBLANK($R1793)=TRUE,\"\",VLOOKUP($R1793,TAXONOMY!$A$1:$H$959,2,FALSE))","v":""}]
[null,null,null,null,null,null,null,null,null,null,null,{"$f":"IF(ISBLANK($R1794)=TRUE,\"\",VLOOKUP($R1794,TAXONOMY!$A$1:$G$959,7,FALSE))","v":""},{"$f":"IF(ISBLANK($R1794)=TRUE,\"\",VLOOKUP($R1794,TAXONOMY!$A$1:$G$959,6,FALSE))","v":""},{"$f":"IF(ISBLANK($R1794)=TRUE,\"\",VLOOKUP($R1794,TAXONOMY!$A$1:$G$959,5,FALSE))","v":""},{"$f":"IF(ISBLANK($R1794)=TRUE,\"\",VLOOKUP($R1794,TAXONOMY!$A$1:$G$959,4,FALSE))","v":""},{"$f":"IF(ISBLANK($R1794)=TRUE,\"\",VLOOKUP($R1794,TAXONOMY!$A$1:$G$959,3,FALSE))","v":""},{"$f":"IF(ISBLANK($R1794)=TRUE,\"\",VLOOKUP($R1794,TAXONOMY!$A$1:$H$959,2,FALSE))","v":""}]
[null,null,null,null,null,null,null,null,null,null,null,{"$f":"IF(ISBLANK($R1795)=TRUE,\"\",VLOOKUP($R1795,TAXONOMY!$A$1:$G$959,7,FALSE))","v":""},{"$f":"IF(ISBLANK($R1795)=TRUE,\"\",VLOOKUP($R1795,TAXONOMY!$A$1:$G$959,6,FALSE))","v":""},{"$f":"IF(ISBLANK($R1795)=TRUE,\"\",VLOOKUP($R1795,TAXONOMY!$A$1:$G$959,5,FALSE))","v":""},{"$f":"IF(ISBLANK($R1795)=TRUE,\"\",VLOOKUP($R1795,TAXONOMY!$A$1:$G$959,4,FALSE))","v":""},{"$f":"IF(ISBLANK($R1795)=TRUE,\"\",VLOOKUP($R1795,TAXONOMY!$A$1:$G$959,3,FALSE))","v":""},{"$f":"IF(ISBLANK($R1795)=TRUE,\"\",VLOOKUP($R1795,TAXONOMY!$A$1:$H$959,2,FALSE))","v":""}]
[null,null,null,null,null,null,null,null,null,null,null,{"$f":"IF(ISBLANK($R1796)=TRUE,\"\",VLOOKUP($R1796,TAXONOMY!$A$1:$G$959,7,FALSE))","v":""},{"$f":"IF(ISBLANK($R1796)=TRUE,\"\",VLOOKUP($R1796,TAXONOMY!$A$1:$G$959,6,FALSE))","v":""},{"$f":"IF(ISBLANK($R1796)=TRUE,\"\",VLOOKUP($R1796,TAXONOMY!$A$1:$G$959,5,FALSE))","v":""},{"$f":"IF(ISBLANK($R1796)=TRUE,\"\",VLOOKUP($R1796,TAXONOMY!$A$1:$G$959,4,FALSE))","v":""},{"$f":"IF(ISBLANK($R1796)=TRUE,\"\",VLOOKUP($R1796,TAXONOMY!$A$1:$G$959,3,FALSE))","v":""},{"$f":"IF(ISBLANK($R1796)=TRUE,\"\",VLOOKUP($R1796,TAXONOMY!$A$1:$H$959,2,FALSE))","v":""}]
[null,null,null,null,null,null,null,null,null,null,null,{"$f":"IF(ISBLANK($R1797)=TRUE,\"\",VLOOKUP($R1797,TAXONOMY!$A$1:$G$959,7,FALSE))","v":""},{"$f":"IF(ISBLANK($R1797)=TRUE,\"\",VLOOKUP($R1797,TAXONOMY!$A$1:$G$959,6,FALSE))","v":""},{"$f":"IF(ISBLANK($R1797)=TRUE,\"\",VLOOKUP($R1797,TAXONOMY!$A$1:$G$959,5,FALSE))","v":""},{"$f":"IF(ISBLANK($R1797)=TRUE,\"\",VLOOKUP($R1797,TAXONOMY!$A$1:$G$959,4,FALSE))","v":""},{"$f":"IF(ISBLANK($R1797)=TRUE,\"\",VLOOKUP($R1797,TAXONOMY!$A$1:$G$959,3,FALSE))","v":""},{"$f":"IF(ISBLANK($R1797)=TRUE,\"\",VLOOKUP($R1797,TAXONOMY!$A$1:$H$959,2,FALSE))","v":""}]
[null,null,null,null,null,null,null,null,null,null,null,{"$f":"IF(ISBLANK($R1798)=TRUE,\"\",VLOOKUP($R1798,TAXONOMY!$A$1:$G$959,7,FALSE))","v":""},{"$f":"IF(ISBLANK($R1798)=TRUE,\"\",VLOOKUP($R1798,TAXONOMY!$A$1:$G$959,6,FALSE))","v":""},{"$f":"IF(ISBLANK($R1798)=TRUE,\"\",VLOOKUP($R1798,TAXONOMY!$A$1:$G$959,5,FALSE))","v":""},{"$f":"IF(ISBLANK($R1798)=TRUE,\"\",VLOOKUP($R1798,TAXONOMY!$A$1:$G$959,4,FALSE))","v":""},{"$f":"IF(ISBLANK($R1798)=TRUE,\"\",VLOOKUP($R1798,TAXONOMY!$A$1:$G$959,3,FALSE))","v":""},{"$f":"IF(ISBLANK($R1798)=TRUE,\"\",VLOOKUP($R1798,TAXONOMY!$A$1:$H$959,2,FALSE))","v":""}]
[null,null,null,null,null,null,null,null,null,null,null,{"$f":"IF(ISBLANK($R1799)=TRUE,\"\",VLOOKUP($R1799,TAXONOMY!$A$1:$G$959,7,FALSE))","v":""},{"$f":"IF(ISBLANK($R1799)=TRUE,\"\",VLOOKUP($R1799,TAXONOMY!$A$1:$G$959,6,FALSE))","v":""},{"$f":"IF(ISBLANK($R1799)=TRUE,\"\",VLOOKUP($R1799,TAXONOMY!$A$1:$G$959,5,FALSE))","v":""},{"$f":"IF(ISBLANK($R1799)=TRUE,\"\",VLOOKUP($R1799,TAXONOMY!$A$1:$G$959,4,FALSE))","v":""},{"$f":"IF(ISBLANK($R1799)=TRUE,\"\",VLOOKUP($R1799,TAXONOMY!$A$1:$G$959,3,FALSE))","v":""},{"$f":"IF(ISBLANK($R1799)=TRUE,\"\",VLOOKUP($R1799,TAXONOMY!$A$1:$H$959,2,FALSE))","v":""}]
[null,null,null,null,null,null,null,null,null,null,null,{"$f":"IF(ISBLANK($R1800)=TRUE,\"\",VLOOKUP($R1800,TAXONOMY!$A$1:$G$959,7,FALSE))","v":""},{"$f":"IF(ISBLANK($R1800)=TRUE,\"\",VLOOKUP($R1800,TAXONOMY!$A$1:$G$959,6,FALSE))","v":""},{"$f":"IF(ISBLANK($R1800)=TRUE,\"\",VLOOKUP($R1800,TAXONOMY!$A$1:$G$959,5,FALSE))","v":""},{"$f":"IF(ISBLANK($R1800)=TRUE,\"\",VLOOKUP($R1800,TAXONOMY!$A$1:$G$959,4,FALSE))","v":""},{"$f":"IF(ISBLANK($R1800)=TRUE,\"\",VLOOKUP($R1800,TAXONOMY!$A$1:$G$959,3,FALSE))","v":""},{"$f":"IF(ISBLANK($R1800)=TRUE,\"\",VLOOKUP($R1800,TAXONOMY!$A$1:$H$959,2,FALSE))","v":""}]
[null,null,null,null,null,null,null,null,null,null,null,{"$f":"IF(ISBLANK($R1801)=TRUE,\"\",VLOOKUP($R1801,TAXONOMY!$A$1:$G$959,7,FALSE))","v":""},{"$f":"IF(ISBLANK($R1801)=TRUE,\"\",VLOOKUP($R1801,TAXONOMY!$A$1:$G$959,6,FALSE))","v":""},{"$f":"IF(ISBLANK($R1801)=TRUE,\"\",VLOOKUP($R1801,TAXONOMY!$A$1:$G$959,5,FALSE))","v":""},{"$f":"IF(ISBLANK($R1801)=TRUE,\"\",VLOOKUP($R1801,TAXONOMY!$A$1:$G$959,4,FALSE))","v":""},{"$f":"IF(ISBLANK($R1801)=TRUE,\"\",VLOOKUP($R1801,TAXONOMY!$A$1:$G$959,3,FALSE))","v":""},{"$f":"IF(ISBLANK($R1801)=TRUE,\"\",VLOOKUP($R1801,TAXONOMY!$A$1:$H$959,2,FALSE))","v":""}]
[null,null,null,null,null,null,null,null,null,null,null,{"$f":"IF(ISBLANK($R1802)=TRUE,\"\",VLOOKUP($R1802,TAXONOMY!$A$1:$G$959,7,FALSE))","v":""},{"$f":"IF(ISBLANK($R1802)=TRUE,\"\",VLOOKUP($R1802,TAXONOMY!$A$1:$G$959,6,FALSE))","v":""},{"$f":"IF(ISBLANK($R1802)=TRUE,\"\",VLOOKUP($R1802,TAXONOMY!$A$1:$G$959,5,FALSE))","v":""},{"$f":"IF(ISBLANK($R1802)=TRUE,\"\",VLOOKUP($R1802,TAXONOMY!$A$1:$G$959,4,FALSE))","v":""},{"$f":"IF(ISBLANK($R1802)=TRUE,\"\",VLOOKUP($R1802,TAXONOMY!$A$1:$G$959,3,FALSE))","v":""},{"$f":"IF(ISBLANK($R1802)=TRUE,\"\",VLOOKUP($R1802,TAXONOMY!$A$1:$H$959,2,FALSE))","v":""}]
[null,null,null,null,null,null,null,null,null,null,null,{"$f":"IF(ISBLANK($R1803)=TRUE,\"\",VLOOKUP($R1803,TAXONOMY!$A$1:$G$959,7,FALSE))","v":""},{"$f":"IF(ISBLANK($R1803)=TRUE,\"\",VLOOKUP($R1803,TAXONOMY!$A$1:$G$959,6,FALSE))","v":""},{"$f":"IF(ISBLANK($R1803)=TRUE,\"\",VLOOKUP($R1803,TAXONOMY!$A$1:$G$959,5,FALSE))","v":""},{"$f":"IF(ISBLANK($R1803)=TRUE,\"\",VLOOKUP($R1803,TAXONOMY!$A$1:$G$959,4,FALSE))","v":""},{"$f":"IF(ISBLANK($R1803)=TRUE,\"\",VLOOKUP($R1803,TAXONOMY!$A$1:$G$959,3,FALSE))","v":""},{"$f":"IF(ISBLANK($R1803)=TRUE,\"\",VLOOKUP($R1803,TAXONOMY!$A$1:$H$959,2,FALSE))","v":""}]
[null,null,null,null,null,null,null,null,null,null,null,{"$f":"IF(ISBLANK($R1804)=TRUE,\"\",VLOOKUP($R1804,TAXONOMY!$A$1:$G$959,7,FALSE))","v":""},{"$f":"IF(ISBLANK($R1804)=TRUE,\"\",VLOOKUP($R1804,TAXONOMY!$A$1:$G$959,6,FALSE))","v":""},{"$f":"IF(ISBLANK($R1804)=TRUE,\"\",VLOOKUP($R1804,TAXONOMY!$A$1:$G$959,5,FALSE))","v":""},{"$f":"IF(ISBLANK($R1804)=TRUE,\"\",VLOOKUP($R1804,TAXONOMY!$A$1:$G$959,4,FALSE))","v":""},{"$f":"IF(ISBLANK($R1804)=TRUE,\"\",VLOOKUP($R1804,TAXONOMY!$A$1:$G$959,3,FALSE))","v":""},{"$f":"IF(ISBLANK($R1804)=TRUE,\"\",VLOOKUP($R1804,TAXONOMY!$A$1:$H$959,2,FALSE))","v":""}]
[null,null,null,null,null,null,null,null,null,null,null,{"$f":"IF(ISBLANK($R1805)=TRUE,\"\",VLOOKUP($R1805,TAXONOMY!$A$1:$G$959,7,FALSE))","v":""},{"$f":"IF(ISBLANK($R1805)=TRUE,\"\",VLOOKUP($R1805,TAXONOMY!$A$1:$G$959,6,FALSE))","v":""},{"$f":"IF(ISBLANK($R1805)=TRUE,\"\",VLOOKUP($R1805,TAXONOMY!$A$1:$G$959,5,FALSE))","v":""},{"$f":"IF(ISBLANK($R1805)=TRUE,\"\",VLOOKUP($R1805,TAXONOMY!$A$1:$G$959,4,FALSE))","v":""},{"$f":"IF(ISBLANK($R1805)=TRUE,\"\",VLOOKUP($R1805,TAXONOMY!$A$1:$G$959,3,FALSE))","v":""},{"$f":"IF(ISBLANK($R1805)=TRUE,\"\",VLOOKUP($R1805,TAXONOMY!$A$1:$H$959,2,FALSE))","v":""}]
[null,null,null,null,null,null,null,null,null,null,null,{"$f":"IF(ISBLANK($R1806)=TRUE,\"\",VLOOKUP($R1806,TAXONOMY!$A$1:$G$959,7,FALSE))","v":""},{"$f":"IF(ISBLANK($R1806)=TRUE,\"\",VLOOKUP($R1806,TAXONOMY!$A$1:$G$959,6,FALSE))","v":""},{"$f":"IF(ISBLANK($R1806)=TRUE,\"\",VLOOKUP($R1806,TAXONOMY!$A$1:$G$959,5,FALSE))","v":""},{"$f":"IF(ISBLANK($R1806)=TRUE,\"\",VLOOKUP($R1806,TAXONOMY!$A$1:$G$959,4,FALSE))","v":""},{"$f":"IF(ISBLANK($R1806)=TRUE,\"\",VLOOKUP($R1806,TAXONOMY!$A$1:$G$959,3,FALSE))","v":""},{"$f":"IF(ISBLANK($R1806)=TRUE,\"\",VLOOKUP($R1806,TAXONOMY!$A$1:$H$959,2,FALSE))","v":""}]
[null,null,null,null,null,null,null,null,null,null,null,{"$f":"IF(ISBLANK($R1807)=TRUE,\"\",VLOOKUP($R1807,TAXONOMY!$A$1:$G$959,7,FALSE))","v":""},{"$f":"IF(ISBLANK($R1807)=TRUE,\"\",VLOOKUP($R1807,TAXONOMY!$A$1:$G$959,6,FALSE))","v":""},{"$f":"IF(ISBLANK($R1807)=TRUE,\"\",VLOOKUP($R1807,TAXONOMY!$A$1:$G$959,5,FALSE))","v":""},{"$f":"IF(ISBLANK($R1807)=TRUE,\"\",VLOOKUP($R1807,TAXONOMY!$A$1:$G$959,4,FALSE))","v":""},{"$f":"IF(ISBLANK($R1807)=TRUE,\"\",VLOOKUP($R1807,TAXONOMY!$A$1:$G$959,3,FALSE))","v":""},{"$f":"IF(ISBLANK($R1807)=TRUE,\"\",VLOOKUP($R1807,TAXONOMY!$A$1:$H$959,2,FALSE))","v":""}]
[null,null,null,null,null,null,null,null,null,null,null,{"$f":"IF(ISBLANK($R1808)=TRUE,\"\",VLOOKUP($R1808,TAXONOMY!$A$1:$G$959,7,FALSE))","v":""},{"$f":"IF(ISBLANK($R1808)=TRUE,\"\",VLOOKUP($R1808,TAXONOMY!$A$1:$G$959,6,FALSE))","v":""},{"$f":"IF(ISBLANK($R1808)=TRUE,\"\",VLOOKUP($R1808,TAXONOMY!$A$1:$G$959,5,FALSE))","v":""},{"$f":"IF(ISBLANK($R1808)=TRUE,\"\",VLOOKUP($R1808,TAXONOMY!$A$1:$G$959,4,FALSE))","v":""},{"$f":"IF(ISBLANK($R1808)=TRUE,\"\",VLOOKUP($R1808,TAXONOMY!$A$1:$G$959,3,FALSE))","v":""},{"$f":"IF(ISBLANK($R1808)=TRUE,\"\",VLOOKUP($R1808,TAXONOMY!$A$1:$H$959,2,FALSE))","v":""}]
[null,null,null,null,null,null,null,null,null,null,null,{"$f":"IF(ISBLANK($R1809)=TRUE,\"\",VLOOKUP($R1809,TAXONOMY!$A$1:$G$959,7,FALSE))","v":""},{"$f":"IF(ISBLANK($R1809)=TRUE,\"\",VLOOKUP($R1809,TAXONOMY!$A$1:$G$959,6,FALSE))","v":""},{"$f":"IF(ISBLANK($R1809)=TRUE,\"\",VLOOKUP($R1809,TAXONOMY!$A$1:$G$959,5,FALSE))","v":""},{"$f":"IF(ISBLANK($R1809)=TRUE,\"\",VLOOKUP($R1809,TAXONOMY!$A$1:$G$959,4,FALSE))","v":""},{"$f":"IF(ISBLANK($R1809)=TRUE,\"\",VLOOKUP($R1809,TAXONOMY!$A$1:$G$959,3,FALSE))","v":""},{"$f":"IF(ISBLANK($R1809)=TRUE,\"\",VLOOKUP($R1809,TAXONOMY!$A$1:$H$959,2,FALSE))","v":""}]
[null,null,null,null,null,null,null,null,null,null,null,{"$f":"IF(ISBLANK($R1810)=TRUE,\"\",VLOOKUP($R1810,TAXONOMY!$A$1:$G$959,7,FALSE))","v":""},{"$f":"IF(ISBLANK($R1810)=TRUE,\"\",VLOOKUP($R1810,TAXONOMY!$A$1:$G$959,6,FALSE))","v":""},{"$f":"IF(ISBLANK($R1810)=TRUE,\"\",VLOOKUP($R1810,TAXONOMY!$A$1:$G$959,5,FALSE))","v":""},{"$f":"IF(ISBLANK($R1810)=TRUE,\"\",VLOOKUP($R1810,TAXONOMY!$A$1:$G$959,4,FALSE))","v":""},{"$f":"IF(ISBLANK($R1810)=TRUE,\"\",VLOOKUP($R1810,TAXONOMY!$A$1:$G$959,3,FALSE))","v":""},{"$f":"IF(ISBLANK($R1810)=TRUE,\"\",VLOOKUP($R1810,TAXONOMY!$A$1:$H$959,2,FALSE))","v":""}]
[null,null,null,null,null,null,null,null,null,null,null,{"$f":"IF(ISBLANK($R1811)=TRUE,\"\",VLOOKUP($R1811,TAXONOMY!$A$1:$G$959,7,FALSE))","v":""},{"$f":"IF(ISBLANK($R1811)=TRUE,\"\",VLOOKUP($R1811,TAXONOMY!$A$1:$G$959,6,FALSE))","v":""},{"$f":"IF(ISBLANK($R1811)=TRUE,\"\",VLOOKUP($R1811,TAXONOMY!$A$1:$G$959,5,FALSE))","v":""},{"$f":"IF(ISBLANK($R1811)=TRUE,\"\",VLOOKUP($R1811,TAXONOMY!$A$1:$G$959,4,FALSE))","v":""},{"$f":"IF(ISBLANK($R1811)=TRUE,\"\",VLOOKUP($R1811,TAXONOMY!$A$1:$G$959,3,FALSE))","v":""},{"$f":"IF(ISBLANK($R1811)=TRUE,\"\",VLOOKUP($R1811,TAXONOMY!$A$1:$H$959,2,FALSE))","v":""}]
[null,null,null,null,null,null,null,null,null,null,null,{"$f":"IF(ISBLANK($R1812)=TRUE,\"\",VLOOKUP($R1812,TAXONOMY!$A$1:$G$959,7,FALSE))","v":""},{"$f":"IF(ISBLANK($R1812)=TRUE,\"\",VLOOKUP($R1812,TAXONOMY!$A$1:$G$959,6,FALSE))","v":""},{"$f":"IF(ISBLANK($R1812)=TRUE,\"\",VLOOKUP($R1812,TAXONOMY!$A$1:$G$959,5,FALSE))","v":""},{"$f":"IF(ISBLANK($R1812)=TRUE,\"\",VLOOKUP($R1812,TAXONOMY!$A$1:$G$959,4,FALSE))","v":""},{"$f":"IF(ISBLANK($R1812)=TRUE,\"\",VLOOKUP($R1812,TAXONOMY!$A$1:$G$959,3,FALSE))","v":""},{"$f":"IF(ISBLANK($R1812)=TRUE,\"\",VLOOKUP($R1812,TAXONOMY!$A$1:$H$959,2,FALSE))","v":""}]
[null,null,null,null,null,null,null,null,null,null,null,{"$f":"IF(ISBLANK($R1813)=TRUE,\"\",VLOOKUP($R1813,TAXONOMY!$A$1:$G$959,7,FALSE))","v":""},{"$f":"IF(ISBLANK($R1813)=TRUE,\"\",VLOOKUP($R1813,TAXONOMY!$A$1:$G$959,6,FALSE))","v":""},{"$f":"IF(ISBLANK($R1813)=TRUE,\"\",VLOOKUP($R1813,TAXONOMY!$A$1:$G$959,5,FALSE))","v":""},{"$f":"IF(ISBLANK($R1813)=TRUE,\"\",VLOOKUP($R1813,TAXONOMY!$A$1:$G$959,4,FALSE))","v":""},{"$f":"IF(ISBLANK($R1813)=TRUE,\"\",VLOOKUP($R1813,TAXONOMY!$A$1:$G$959,3,FALSE))","v":""},{"$f":"IF(ISBLANK($R1813)=TRUE,\"\",VLOOKUP($R1813,TAXONOMY!$A$1:$H$959,2,FALSE))","v":""}]
[null,null,null,null,null,null,null,null,null,null,null,{"$f":"IF(ISBLANK($R1814)=TRUE,\"\",VLOOKUP($R1814,TAXONOMY!$A$1:$G$959,7,FALSE))","v":""},{"$f":"IF(ISBLANK($R1814)=TRUE,\"\",VLOOKUP($R1814,TAXONOMY!$A$1:$G$959,6,FALSE))","v":""},{"$f":"IF(ISBLANK($R1814)=TRUE,\"\",VLOOKUP($R1814,TAXONOMY!$A$1:$G$959,5,FALSE))","v":""},{"$f":"IF(ISBLANK($R1814)=TRUE,\"\",VLOOKUP($R1814,TAXONOMY!$A$1:$G$959,4,FALSE))","v":""},{"$f":"IF(ISBLANK($R1814)=TRUE,\"\",VLOOKUP($R1814,TAXONOMY!$A$1:$G$959,3,FALSE))","v":""},{"$f":"IF(ISBLANK($R1814)=TRUE,\"\",VLOOKUP($R1814,TAXONOMY!$A$1:$H$959,2,FALSE))","v":""}]
[null,null,null,null,null,null,null,null,null,null,null,{"$f":"IF(ISBLANK($R1815)=TRUE,\"\",VLOOKUP($R1815,TAXONOMY!$A$1:$G$959,7,FALSE))","v":""},{"$f":"IF(ISBLANK($R1815)=TRUE,\"\",VLOOKUP($R1815,TAXONOMY!$A$1:$G$959,6,FALSE))","v":""},{"$f":"IF(ISBLANK($R1815)=TRUE,\"\",VLOOKUP($R1815,TAXONOMY!$A$1:$G$959,5,FALSE))","v":""},{"$f":"IF(ISBLANK($R1815)=TRUE,\"\",VLOOKUP($R1815,TAXONOMY!$A$1:$G$959,4,FALSE))","v":""},{"$f":"IF(ISBLANK($R1815)=TRUE,\"\",VLOOKUP($R1815,TAXONOMY!$A$1:$G$959,3,FALSE))","v":""},{"$f":"IF(ISBLANK($R1815)=TRUE,\"\",VLOOKUP($R1815,TAXONOMY!$A$1:$H$959,2,FALSE))","v":""}]
[null,null,null,null,null,null,null,null,null,null,null,{"$f":"IF(ISBLANK($R1816)=TRUE,\"\",VLOOKUP($R1816,TAXONOMY!$A$1:$G$959,7,FALSE))","v":""},{"$f":"IF(ISBLANK($R1816)=TRUE,\"\",VLOOKUP($R1816,TAXONOMY!$A$1:$G$959,6,FALSE))","v":""},{"$f":"IF(ISBLANK($R1816)=TRUE,\"\",VLOOKUP($R1816,TAXONOMY!$A$1:$G$959,5,FALSE))","v":""},{"$f":"IF(ISBLANK($R1816)=TRUE,\"\",VLOOKUP($R1816,TAXONOMY!$A$1:$G$959,4,FALSE))","v":""},{"$f":"IF(ISBLANK($R1816)=TRUE,\"\",VLOOKUP($R1816,TAXONOMY!$A$1:$G$959,3,FALSE))","v":""},{"$f":"IF(ISBLANK($R1816)=TRUE,\"\",VLOOKUP($R1816,TAXONOMY!$A$1:$H$959,2,FALSE))","v":""}]
[null,null,null,null,null,null,null,null,null,null,null,{"$f":"IF(ISBLANK($R1817)=TRUE,\"\",VLOOKUP($R1817,TAXONOMY!$A$1:$G$959,7,FALSE))","v":""},{"$f":"IF(ISBLANK($R1817)=TRUE,\"\",VLOOKUP($R1817,TAXONOMY!$A$1:$G$959,6,FALSE))","v":""},{"$f":"IF(ISBLANK($R1817)=TRUE,\"\",VLOOKUP($R1817,TAXONOMY!$A$1:$G$959,5,FALSE))","v":""},{"$f":"IF(ISBLANK($R1817)=TRUE,\"\",VLOOKUP($R1817,TAXONOMY!$A$1:$G$959,4,FALSE))","v":""},{"$f":"IF(ISBLANK($R1817)=TRUE,\"\",VLOOKUP($R1817,TAXONOMY!$A$1:$G$959,3,FALSE))","v":""},{"$f":"IF(ISBLANK($R1817)=TRUE,\"\",VLOOKUP($R1817,TAXONOMY!$A$1:$H$959,2,FALSE))","v":""}]
[null,null,null,null,null,null,null,null,null,null,null,{"$f":"IF(ISBLANK($R1818)=TRUE,\"\",VLOOKUP($R1818,TAXONOMY!$A$1:$G$959,7,FALSE))","v":""},{"$f":"IF(ISBLANK($R1818)=TRUE,\"\",VLOOKUP($R1818,TAXONOMY!$A$1:$G$959,6,FALSE))","v":""},{"$f":"IF(ISBLANK($R1818)=TRUE,\"\",VLOOKUP($R1818,TAXONOMY!$A$1:$G$959,5,FALSE))","v":""},{"$f":"IF(ISBLANK($R1818)=TRUE,\"\",VLOOKUP($R1818,TAXONOMY!$A$1:$G$959,4,FALSE))","v":""},{"$f":"IF(ISBLANK($R1818)=TRUE,\"\",VLOOKUP($R1818,TAXONOMY!$A$1:$G$959,3,FALSE))","v":""},{"$f":"IF(ISBLANK($R1818)=TRUE,\"\",VLOOKUP($R1818,TAXONOMY!$A$1:$H$959,2,FALSE))","v":""}]
[null,null,null,null,null,null,null,null,null,null,null,{"$f":"IF(ISBLANK($R1819)=TRUE,\"\",VLOOKUP($R1819,TAXONOMY!$A$1:$G$959,7,FALSE))","v":""},{"$f":"IF(ISBLANK($R1819)=TRUE,\"\",VLOOKUP($R1819,TAXONOMY!$A$1:$G$959,6,FALSE))","v":""},{"$f":"IF(ISBLANK($R1819)=TRUE,\"\",VLOOKUP($R1819,TAXONOMY!$A$1:$G$959,5,FALSE))","v":""},{"$f":"IF(ISBLANK($R1819)=TRUE,\"\",VLOOKUP($R1819,TAXONOMY!$A$1:$G$959,4,FALSE))","v":""},{"$f":"IF(ISBLANK($R1819)=TRUE,\"\",VLOOKUP($R1819,TAXONOMY!$A$1:$G$959,3,FALSE))","v":""},{"$f":"IF(ISBLANK($R1819)=TRUE,\"\",VLOOKUP($R1819,TAXONOMY!$A$1:$H$959,2,FALSE))","v":""}]
[null,null,null,null,null,null,null,null,null,null,null,{"$f":"IF(ISBLANK($R1820)=TRUE,\"\",VLOOKUP($R1820,TAXONOMY!$A$1:$G$959,7,FALSE))","v":""},{"$f":"IF(ISBLANK($R1820)=TRUE,\"\",VLOOKUP($R1820,TAXONOMY!$A$1:$G$959,6,FALSE))","v":""},{"$f":"IF(ISBLANK($R1820)=TRUE,\"\",VLOOKUP($R1820,TAXONOMY!$A$1:$G$959,5,FALSE))","v":""},{"$f":"IF(ISBLANK($R1820)=TRUE,\"\",VLOOKUP($R1820,TAXONOMY!$A$1:$G$959,4,FALSE))","v":""},{"$f":"IF(ISBLANK($R1820)=TRUE,\"\",VLOOKUP($R1820,TAXONOMY!$A$1:$G$959,3,FALSE))","v":""},{"$f":"IF(ISBLANK($R1820)=TRUE,\"\",VLOOKUP($R1820,TAXONOMY!$A$1:$H$959,2,FALSE))","v":""}]
[null,null,null,null,null,null,null,null,null,null,null,{"$f":"IF(ISBLANK($R1821)=TRUE,\"\",VLOOKUP($R1821,TAXONOMY!$A$1:$G$959,7,FALSE))","v":""},{"$f":"IF(ISBLANK($R1821)=TRUE,\"\",VLOOKUP($R1821,TAXONOMY!$A$1:$G$959,6,FALSE))","v":""},{"$f":"IF(ISBLANK($R1821)=TRUE,\"\",VLOOKUP($R1821,TAXONOMY!$A$1:$G$959,5,FALSE))","v":""},{"$f":"IF(ISBLANK($R1821)=TRUE,\"\",VLOOKUP($R1821,TAXONOMY!$A$1:$G$959,4,FALSE))","v":""},{"$f":"IF(ISBLANK($R1821)=TRUE,\"\",VLOOKUP($R1821,TAXONOMY!$A$1:$G$959,3,FALSE))","v":""},{"$f":"IF(ISBLANK($R1821)=TRUE,\"\",VLOOKUP($R1821,TAXONOMY!$A$1:$H$959,2,FALSE))","v":""}]
[null,null,null,null,null,null,null,null,null,null,null,{"$f":"IF(ISBLANK($R1822)=TRUE,\"\",VLOOKUP($R1822,TAXONOMY!$A$1:$G$959,7,FALSE))","v":""},{"$f":"IF(ISBLANK($R1822)=TRUE,\"\",VLOOKUP($R1822,TAXONOMY!$A$1:$G$959,6,FALSE))","v":""},{"$f":"IF(ISBLANK($R1822)=TRUE,\"\",VLOOKUP($R1822,TAXONOMY!$A$1:$G$959,5,FALSE))","v":""},{"$f":"IF(ISBLANK($R1822)=TRUE,\"\",VLOOKUP($R1822,TAXONOMY!$A$1:$G$959,4,FALSE))","v":""},{"$f":"IF(ISBLANK($R1822)=TRUE,\"\",VLOOKUP($R1822,TAXONOMY!$A$1:$G$959,3,FALSE))","v":""},{"$f":"IF(ISBLANK($R1822)=TRUE,\"\",VLOOKUP($R1822,TAXONOMY!$A$1:$H$959,2,FALSE))","v":""}]
[null,null,null,null,null,null,null,null,null,null,null,{"$f":"IF(ISBLANK($R1823)=TRUE,\"\",VLOOKUP($R1823,TAXONOMY!$A$1:$G$959,7,FALSE))","v":""},{"$f":"IF(ISBLANK($R1823)=TRUE,\"\",VLOOKUP($R1823,TAXONOMY!$A$1:$G$959,6,FALSE))","v":""},{"$f":"IF(ISBLANK($R1823)=TRUE,\"\",VLOOKUP($R1823,TAXONOMY!$A$1:$G$959,5,FALSE))","v":""},{"$f":"IF(ISBLANK($R1823)=TRUE,\"\",VLOOKUP($R1823,TAXONOMY!$A$1:$G$959,4,FALSE))","v":""},{"$f":"IF(ISBLANK($R1823)=TRUE,\"\",VLOOKUP($R1823,TAXONOMY!$A$1:$G$959,3,FALSE))","v":""},{"$f":"IF(ISBLANK($R1823)=TRUE,\"\",VLOOKUP($R1823,TAXONOMY!$A$1:$H$959,2,FALSE))","v":""}]
[null,null,null,null,null,null,null,null,null,null,null,{"$f":"IF(ISBLANK($R1824)=TRUE,\"\",VLOOKUP($R1824,TAXONOMY!$A$1:$G$959,7,FALSE))","v":""},{"$f":"IF(ISBLANK($R1824)=TRUE,\"\",VLOOKUP($R1824,TAXONOMY!$A$1:$G$959,6,FALSE))","v":""},{"$f":"IF(ISBLANK($R1824)=TRUE,\"\",VLOOKUP($R1824,TAXONOMY!$A$1:$G$959,5,FALSE))","v":""},{"$f":"IF(ISBLANK($R1824)=TRUE,\"\",VLOOKUP($R1824,TAXONOMY!$A$1:$G$959,4,FALSE))","v":""},{"$f":"IF(ISBLANK($R1824)=TRUE,\"\",VLOOKUP($R1824,TAXONOMY!$A$1:$G$959,3,FALSE))","v":""},{"$f":"IF(ISBLANK($R1824)=TRUE,\"\",VLOOKUP($R1824,TAXONOMY!$A$1:$H$959,2,FALSE))","v":""}]
[null,null,null,null,null,null,null,null,null,null,null,{"$f":"IF(ISBLANK($R1825)=TRUE,\"\",VLOOKUP($R1825,TAXONOMY!$A$1:$G$959,7,FALSE))","v":""},{"$f":"IF(ISBLANK($R1825)=TRUE,\"\",VLOOKUP($R1825,TAXONOMY!$A$1:$G$959,6,FALSE))","v":""},{"$f":"IF(ISBLANK($R1825)=TRUE,\"\",VLOOKUP($R1825,TAXONOMY!$A$1:$G$959,5,FALSE))","v":""},{"$f":"IF(ISBLANK($R1825)=TRUE,\"\",VLOOKUP($R1825,TAXONOMY!$A$1:$G$959,4,FALSE))","v":""},{"$f":"IF(ISBLANK($R1825)=TRUE,\"\",VLOOKUP($R1825,TAXONOMY!$A$1:$G$959,3,FALSE))","v":""},{"$f":"IF(ISBLANK($R1825)=TRUE,\"\",VLOOKUP($R1825,TAXONOMY!$A$1:$H$959,2,FALSE))","v":""}]
[null,null,null,null,null,null,null,null,null,null,null,{"$f":"IF(ISBLANK($R1826)=TRUE,\"\",VLOOKUP($R1826,TAXONOMY!$A$1:$G$959,7,FALSE))","v":""},{"$f":"IF(ISBLANK($R1826)=TRUE,\"\",VLOOKUP($R1826,TAXONOMY!$A$1:$G$959,6,FALSE))","v":""},{"$f":"IF(ISBLANK($R1826)=TRUE,\"\",VLOOKUP($R1826,TAXONOMY!$A$1:$G$959,5,FALSE))","v":""},{"$f":"IF(ISBLANK($R1826)=TRUE,\"\",VLOOKUP($R1826,TAXONOMY!$A$1:$G$959,4,FALSE))","v":""},{"$f":"IF(ISBLANK($R1826)=TRUE,\"\",VLOOKUP($R1826,TAXONOMY!$A$1:$G$959,3,FALSE))","v":""},{"$f":"IF(ISBLANK($R1826)=TRUE,\"\",VLOOKUP($R1826,TAXONOMY!$A$1:$H$959,2,FALSE))","v":""}]
[null,null,null,null,null,null,null,null,null,null,null,{"$f":"IF(ISBLANK($R1827)=TRUE,\"\",VLOOKUP($R1827,TAXONOMY!$A$1:$G$959,7,FALSE))","v":""},{"$f":"IF(ISBLANK($R1827)=TRUE,\"\",VLOOKUP($R1827,TAXONOMY!$A$1:$G$959,6,FALSE))","v":""},{"$f":"IF(ISBLANK($R1827)=TRUE,\"\",VLOOKUP($R1827,TAXONOMY!$A$1:$G$959,5,FALSE))","v":""},{"$f":"IF(ISBLANK($R1827)=TRUE,\"\",VLOOKUP($R1827,TAXONOMY!$A$1:$G$959,4,FALSE))","v":""},{"$f":"IF(ISBLANK($R1827)=TRUE,\"\",VLOOKUP($R1827,TAXONOMY!$A$1:$G$959,3,FALSE))","v":""},{"$f":"IF(ISBLANK($R1827)=TRUE,\"\",VLOOKUP($R1827,TAXONOMY!$A$1:$H$959,2,FALSE))","v":""}]
[null,null,null,null,null,null,null,null,null,null,null,{"$f":"IF(ISBLANK($R1828)=TRUE,\"\",VLOOKUP($R1828,TAXONOMY!$A$1:$G$959,7,FALSE))","v":""},{"$f":"IF(ISBLANK($R1828)=TRUE,\"\",VLOOKUP($R1828,TAXONOMY!$A$1:$G$959,6,FALSE))","v":""},{"$f":"IF(ISBLANK($R1828)=TRUE,\"\",VLOOKUP($R1828,TAXONOMY!$A$1:$G$959,5,FALSE))","v":""},{"$f":"IF(ISBLANK($R1828)=TRUE,\"\",VLOOKUP($R1828,TAXONOMY!$A$1:$G$959,4,FALSE))","v":""},{"$f":"IF(ISBLANK($R1828)=TRUE,\"\",VLOOKUP($R1828,TAXONOMY!$A$1:$G$959,3,FALSE))","v":""},{"$f":"IF(ISBLANK($R1828)=TRUE,\"\",VLOOKUP($R1828,TAXONOMY!$A$1:$H$959,2,FALSE))","v":""}]
[null,null,null,null,null,null,null,null,null,null,null,{"$f":"IF(ISBLANK($R1829)=TRUE,\"\",VLOOKUP($R1829,TAXONOMY!$A$1:$G$959,7,FALSE))","v":""},{"$f":"IF(ISBLANK($R1829)=TRUE,\"\",VLOOKUP($R1829,TAXONOMY!$A$1:$G$959,6,FALSE))","v":""},{"$f":"IF(ISBLANK($R1829)=TRUE,\"\",VLOOKUP($R1829,TAXONOMY!$A$1:$G$959,5,FALSE))","v":""},{"$f":"IF(ISBLANK($R1829)=TRUE,\"\",VLOOKUP($R1829,TAXONOMY!$A$1:$G$959,4,FALSE))","v":""},{"$f":"IF(ISBLANK($R1829)=TRUE,\"\",VLOOKUP($R1829,TAXONOMY!$A$1:$G$959,3,FALSE))","v":""},{"$f":"IF(ISBLANK($R1829)=TRUE,\"\",VLOOKUP($R1829,TAXONOMY!$A$1:$H$959,2,FALSE))","v":""}]
[null,null,null,null,null,null,null,null,null,null,null,{"$f":"IF(ISBLANK($R1830)=TRUE,\"\",VLOOKUP($R1830,TAXONOMY!$A$1:$G$959,7,FALSE))","v":""},{"$f":"IF(ISBLANK($R1830)=TRUE,\"\",VLOOKUP($R1830,TAXONOMY!$A$1:$G$959,6,FALSE))","v":""},{"$f":"IF(ISBLANK($R1830)=TRUE,\"\",VLOOKUP($R1830,TAXONOMY!$A$1:$G$959,5,FALSE))","v":""},{"$f":"IF(ISBLANK($R1830)=TRUE,\"\",VLOOKUP($R1830,TAXONOMY!$A$1:$G$959,4,FALSE))","v":""},{"$f":"IF(ISBLANK($R1830)=TRUE,\"\",VLOOKUP($R1830,TAXONOMY!$A$1:$G$959,3,FALSE))","v":""},{"$f":"IF(ISBLANK($R1830)=TRUE,\"\",VLOOKUP($R1830,TAXONOMY!$A$1:$H$959,2,FALSE))","v":""}]
[null,null,null,null,null,null,null,null,null,null,null,{"$f":"IF(ISBLANK($R1831)=TRUE,\"\",VLOOKUP($R1831,TAXONOMY!$A$1:$G$959,7,FALSE))","v":""},{"$f":"IF(ISBLANK($R1831)=TRUE,\"\",VLOOKUP($R1831,TAXONOMY!$A$1:$G$959,6,FALSE))","v":""},{"$f":"IF(ISBLANK($R1831)=TRUE,\"\",VLOOKUP($R1831,TAXONOMY!$A$1:$G$959,5,FALSE))","v":""},{"$f":"IF(ISBLANK($R1831)=TRUE,\"\",VLOOKUP($R1831,TAXONOMY!$A$1:$G$959,4,FALSE))","v":""},{"$f":"IF(ISBLANK($R1831)=TRUE,\"\",VLOOKUP($R1831,TAXONOMY!$A$1:$G$959,3,FALSE))","v":""},{"$f":"IF(ISBLANK($R1831)=TRUE,\"\",VLOOKUP($R1831,TAXONOMY!$A$1:$H$959,2,FALSE))","v":""}]
[null,null,null,null,null,null,null,null,null,null,null,{"$f":"IF(ISBLANK($R1832)=TRUE,\"\",VLOOKUP($R1832,TAXONOMY!$A$1:$G$959,7,FALSE))","v":""},{"$f":"IF(ISBLANK($R1832)=TRUE,\"\",VLOOKUP($R1832,TAXONOMY!$A$1:$G$959,6,FALSE))","v":""},{"$f":"IF(ISBLANK($R1832)=TRUE,\"\",VLOOKUP($R1832,TAXONOMY!$A$1:$G$959,5,FALSE))","v":""},{"$f":"IF(ISBLANK($R1832)=TRUE,\"\",VLOOKUP($R1832,TAXONOMY!$A$1:$G$959,4,FALSE))","v":""},{"$f":"IF(ISBLANK($R1832)=TRUE,\"\",VLOOKUP($R1832,TAXONOMY!$A$1:$G$959,3,FALSE))","v":""},{"$f":"IF(ISBLANK($R1832)=TRUE,\"\",VLOOKUP($R1832,TAXONOMY!$A$1:$H$959,2,FALSE))","v":""}]
[null,null,null,null,null,null,null,null,null,null,null,{"$f":"IF(ISBLANK($R1833)=TRUE,\"\",VLOOKUP($R1833,TAXONOMY!$A$1:$G$959,7,FALSE))","v":""},{"$f":"IF(ISBLANK($R1833)=TRUE,\"\",VLOOKUP($R1833,TAXONOMY!$A$1:$G$959,6,FALSE))","v":""},{"$f":"IF(ISBLANK($R1833)=TRUE,\"\",VLOOKUP($R1833,TAXONOMY!$A$1:$G$959,5,FALSE))","v":""},{"$f":"IF(ISBLANK($R1833)=TRUE,\"\",VLOOKUP($R1833,TAXONOMY!$A$1:$G$959,4,FALSE))","v":""},{"$f":"IF(ISBLANK($R1833)=TRUE,\"\",VLOOKUP($R1833,TAXONOMY!$A$1:$G$959,3,FALSE))","v":""},{"$f":"IF(ISBLANK($R1833)=TRUE,\"\",VLOOKUP($R1833,TAXONOMY!$A$1:$H$959,2,FALSE))","v":""}]
[null,null,null,null,null,null,null,null,null,null,null,{"$f":"IF(ISBLANK($R1834)=TRUE,\"\",VLOOKUP($R1834,TAXONOMY!$A$1:$G$959,7,FALSE))","v":""},{"$f":"IF(ISBLANK($R1834)=TRUE,\"\",VLOOKUP($R1834,TAXONOMY!$A$1:$G$959,6,FALSE))","v":""},{"$f":"IF(ISBLANK($R1834)=TRUE,\"\",VLOOKUP($R1834,TAXONOMY!$A$1:$G$959,5,FALSE))","v":""},{"$f":"IF(ISBLANK($R1834)=TRUE,\"\",VLOOKUP($R1834,TAXONOMY!$A$1:$G$959,4,FALSE))","v":""},{"$f":"IF(ISBLANK($R1834)=TRUE,\"\",VLOOKUP($R1834,TAXONOMY!$A$1:$G$959,3,FALSE))","v":""},{"$f":"IF(ISBLANK($R1834)=TRUE,\"\",VLOOKUP($R1834,TAXONOMY!$A$1:$H$959,2,FALSE))","v":""}]
[null,null,null,null,null,null,null,null,null,null,null,{"$f":"IF(ISBLANK($R1835)=TRUE,\"\",VLOOKUP($R1835,TAXONOMY!$A$1:$G$959,7,FALSE))","v":""},{"$f":"IF(ISBLANK($R1835)=TRUE,\"\",VLOOKUP($R1835,TAXONOMY!$A$1:$G$959,6,FALSE))","v":""},{"$f":"IF(ISBLANK($R1835)=TRUE,\"\",VLOOKUP($R1835,TAXONOMY!$A$1:$G$959,5,FALSE))","v":""},{"$f":"IF(ISBLANK($R1835)=TRUE,\"\",VLOOKUP($R1835,TAXONOMY!$A$1:$G$959,4,FALSE))","v":""},{"$f":"IF(ISBLANK($R1835)=TRUE,\"\",VLOOKUP($R1835,TAXONOMY!$A$1:$G$959,3,FALSE))","v":""},{"$f":"IF(ISBLANK($R1835)=TRUE,\"\",VLOOKUP($R1835,TAXONOMY!$A$1:$H$959,2,FALSE))","v":""}]
[null,null,null,null,null,null,null,null,null,null,null,{"$f":"IF(ISBLANK($R1836)=TRUE,\"\",VLOOKUP($R1836,TAXONOMY!$A$1:$G$959,7,FALSE))","v":""},{"$f":"IF(ISBLANK($R1836)=TRUE,\"\",VLOOKUP($R1836,TAXONOMY!$A$1:$G$959,6,FALSE))","v":""},{"$f":"IF(ISBLANK($R1836)=TRUE,\"\",VLOOKUP($R1836,TAXONOMY!$A$1:$G$959,5,FALSE))","v":""},{"$f":"IF(ISBLANK($R1836)=TRUE,\"\",VLOOKUP($R1836,TAXONOMY!$A$1:$G$959,4,FALSE))","v":""},{"$f":"IF(ISBLANK($R1836)=TRUE,\"\",VLOOKUP($R1836,TAXONOMY!$A$1:$G$959,3,FALSE))","v":""},{"$f":"IF(ISBLANK($R1836)=TRUE,\"\",VLOOKUP($R1836,TAXONOMY!$A$1:$H$959,2,FALSE))","v":""}]
[null,null,null,null,null,null,null,null,null,null,null,{"$f":"IF(ISBLANK($R1837)=TRUE,\"\",VLOOKUP($R1837,TAXONOMY!$A$1:$G$959,7,FALSE))","v":""},{"$f":"IF(ISBLANK($R1837)=TRUE,\"\",VLOOKUP($R1837,TAXONOMY!$A$1:$G$959,6,FALSE))","v":""},{"$f":"IF(ISBLANK($R1837)=TRUE,\"\",VLOOKUP($R1837,TAXONOMY!$A$1:$G$959,5,FALSE))","v":""},{"$f":"IF(ISBLANK($R1837)=TRUE,\"\",VLOOKUP($R1837,TAXONOMY!$A$1:$G$959,4,FALSE))","v":""},{"$f":"IF(ISBLANK($R1837)=TRUE,\"\",VLOOKUP($R1837,TAXONOMY!$A$1:$G$959,3,FALSE))","v":""},{"$f":"IF(ISBLANK($R1837)=TRUE,\"\",VLOOKUP($R1837,TAXONOMY!$A$1:$H$959,2,FALSE))","v":""}]
[null,null,null,null,null,null,null,null,null,null,null,{"$f":"IF(ISBLANK($R1838)=TRUE,\"\",VLOOKUP($R1838,TAXONOMY!$A$1:$G$959,7,FALSE))","v":""},{"$f":"IF(ISBLANK($R1838)=TRUE,\"\",VLOOKUP($R1838,TAXONOMY!$A$1:$G$959,6,FALSE))","v":""},{"$f":"IF(ISBLANK($R1838)=TRUE,\"\",VLOOKUP($R1838,TAXONOMY!$A$1:$G$959,5,FALSE))","v":""},{"$f":"IF(ISBLANK($R1838)=TRUE,\"\",VLOOKUP($R1838,TAXONOMY!$A$1:$G$959,4,FALSE))","v":""},{"$f":"IF(ISBLANK($R1838)=TRUE,\"\",VLOOKUP($R1838,TAXONOMY!$A$1:$G$959,3,FALSE))","v":""},{"$f":"IF(ISBLANK($R1838)=TRUE,\"\",VLOOKUP($R1838,TAXONOMY!$A$1:$H$959,2,FALSE))","v":""}]
[null,null,null,null,null,null,null,null,null,null,null,{"$f":"IF(ISBLANK($R1839)=TRUE,\"\",VLOOKUP($R1839,TAXONOMY!$A$1:$G$959,7,FALSE))","v":""},{"$f":"IF(ISBLANK($R1839)=TRUE,\"\",VLOOKUP($R1839,TAXONOMY!$A$1:$G$959,6,FALSE))","v":""},{"$f":"IF(ISBLANK($R1839)=TRUE,\"\",VLOOKUP($R1839,TAXONOMY!$A$1:$G$959,5,FALSE))","v":""},{"$f":"IF(ISBLANK($R1839)=TRUE,\"\",VLOOKUP($R1839,TAXONOMY!$A$1:$G$959,4,FALSE))","v":""},{"$f":"IF(ISBLANK($R1839)=TRUE,\"\",VLOOKUP($R1839,TAXONOMY!$A$1:$G$959,3,FALSE))","v":""},{"$f":"IF(ISBLANK($R1839)=TRUE,\"\",VLOOKUP($R1839,TAXONOMY!$A$1:$H$959,2,FALSE))","v":""}]
[null,null,null,null,null,null,null,null,null,null,null,{"$f":"IF(ISBLANK($R1840)=TRUE,\"\",VLOOKUP($R1840,TAXONOMY!$A$1:$G$959,7,FALSE))","v":""},{"$f":"IF(ISBLANK($R1840)=TRUE,\"\",VLOOKUP($R1840,TAXONOMY!$A$1:$G$959,6,FALSE))","v":""},{"$f":"IF(ISBLANK($R1840)=TRUE,\"\",VLOOKUP($R1840,TAXONOMY!$A$1:$G$959,5,FALSE))","v":""},{"$f":"IF(ISBLANK($R1840)=TRUE,\"\",VLOOKUP($R1840,TAXONOMY!$A$1:$G$959,4,FALSE))","v":""},{"$f":"IF(ISBLANK($R1840)=TRUE,\"\",VLOOKUP($R1840,TAXONOMY!$A$1:$G$959,3,FALSE))","v":""},{"$f":"IF(ISBLANK($R1840)=TRUE,\"\",VLOOKUP($R1840,TAXONOMY!$A$1:$H$959,2,FALSE))","v":""}]
[null,null,null,null,null,null,null,null,null,null,null,{"$f":"IF(ISBLANK($R1841)=TRUE,\"\",VLOOKUP($R1841,TAXONOMY!$A$1:$G$959,7,FALSE))","v":""},{"$f":"IF(ISBLANK($R1841)=TRUE,\"\",VLOOKUP($R1841,TAXONOMY!$A$1:$G$959,6,FALSE))","v":""},{"$f":"IF(ISBLANK($R1841)=TRUE,\"\",VLOOKUP($R1841,TAXONOMY!$A$1:$G$959,5,FALSE))","v":""},{"$f":"IF(ISBLANK($R1841)=TRUE,\"\",VLOOKUP($R1841,TAXONOMY!$A$1:$G$959,4,FALSE))","v":""},{"$f":"IF(ISBLANK($R1841)=TRUE,\"\",VLOOKUP($R1841,TAXONOMY!$A$1:$G$959,3,FALSE))","v":""},{"$f":"IF(ISBLANK($R1841)=TRUE,\"\",VLOOKUP($R1841,TAXONOMY!$A$1:$H$959,2,FALSE))","v":""}]
[null,null,null,null,null,null,null,null,null,null,null,{"$f":"IF(ISBLANK($R1842)=TRUE,\"\",VLOOKUP($R1842,TAXONOMY!$A$1:$G$959,7,FALSE))","v":""},{"$f":"IF(ISBLANK($R1842)=TRUE,\"\",VLOOKUP($R1842,TAXONOMY!$A$1:$G$959,6,FALSE))","v":""},{"$f":"IF(ISBLANK($R1842)=TRUE,\"\",VLOOKUP($R1842,TAXONOMY!$A$1:$G$959,5,FALSE))","v":""},{"$f":"IF(ISBLANK($R1842)=TRUE,\"\",VLOOKUP($R1842,TAXONOMY!$A$1:$G$959,4,FALSE))","v":""},{"$f":"IF(ISBLANK($R1842)=TRUE,\"\",VLOOKUP($R1842,TAXONOMY!$A$1:$G$959,3,FALSE))","v":""},{"$f":"IF(ISBLANK($R1842)=TRUE,\"\",VLOOKUP($R1842,TAXONOMY!$A$1:$H$959,2,FALSE))","v":""}]
[null,null,null,null,null,null,null,null,null,null,null,{"$f":"IF(ISBLANK($R1843)=TRUE,\"\",VLOOKUP($R1843,TAXONOMY!$A$1:$G$959,7,FALSE))","v":""},{"$f":"IF(ISBLANK($R1843)=TRUE,\"\",VLOOKUP($R1843,TAXONOMY!$A$1:$G$959,6,FALSE))","v":""},{"$f":"IF(ISBLANK($R1843)=TRUE,\"\",VLOOKUP($R1843,TAXONOMY!$A$1:$G$959,5,FALSE))","v":""},{"$f":"IF(ISBLANK($R1843)=TRUE,\"\",VLOOKUP($R1843,TAXONOMY!$A$1:$G$959,4,FALSE))","v":""},{"$f":"IF(ISBLANK($R1843)=TRUE,\"\",VLOOKUP($R1843,TAXONOMY!$A$1:$G$959,3,FALSE))","v":""},{"$f":"IF(ISBLANK($R1843)=TRUE,\"\",VLOOKUP($R1843,TAXONOMY!$A$1:$H$959,2,FALSE))","v":""}]
[null,null,null,null,null,null,null,null,null,null,null,{"$f":"IF(ISBLANK($R1844)=TRUE,\"\",VLOOKUP($R1844,TAXONOMY!$A$1:$G$959,7,FALSE))","v":""},{"$f":"IF(ISBLANK($R1844)=TRUE,\"\",VLOOKUP($R1844,TAXONOMY!$A$1:$G$959,6,FALSE))","v":""},{"$f":"IF(ISBLANK($R1844)=TRUE,\"\",VLOOKUP($R1844,TAXONOMY!$A$1:$G$959,5,FALSE))","v":""},{"$f":"IF(ISBLANK($R1844)=TRUE,\"\",VLOOKUP($R1844,TAXONOMY!$A$1:$G$959,4,FALSE))","v":""},{"$f":"IF(ISBLANK($R1844)=TRUE,\"\",VLOOKUP($R1844,TAXONOMY!$A$1:$G$959,3,FALSE))","v":""},{"$f":"IF(ISBLANK($R1844)=TRUE,\"\",VLOOKUP($R1844,TAXONOMY!$A$1:$H$959,2,FALSE))","v":""}]
[null,null,null,null,null,null,null,null,null,null,null,{"$f":"IF(ISBLANK($R1845)=TRUE,\"\",VLOOKUP($R1845,TAXONOMY!$A$1:$G$959,7,FALSE))","v":""},{"$f":"IF(ISBLANK($R1845)=TRUE,\"\",VLOOKUP($R1845,TAXONOMY!$A$1:$G$959,6,FALSE))","v":""},{"$f":"IF(ISBLANK($R1845)=TRUE,\"\",VLOOKUP($R1845,TAXONOMY!$A$1:$G$959,5,FALSE))","v":""},{"$f":"IF(ISBLANK($R1845)=TRUE,\"\",VLOOKUP($R1845,TAXONOMY!$A$1:$G$959,4,FALSE))","v":""},{"$f":"IF(ISBLANK($R1845)=TRUE,\"\",VLOOKUP($R1845,TAXONOMY!$A$1:$G$959,3,FALSE))","v":""},{"$f":"IF(ISBLANK($R1845)=TRUE,\"\",VLOOKUP($R1845,TAXONOMY!$A$1:$H$959,2,FALSE))","v":""}]
[null,null,null,null,null,null,null,null,null,null,null,{"$f":"IF(ISBLANK($R1846)=TRUE,\"\",VLOOKUP($R1846,TAXONOMY!$A$1:$G$959,7,FALSE))","v":""},{"$f":"IF(ISBLANK($R1846)=TRUE,\"\",VLOOKUP($R1846,TAXONOMY!$A$1:$G$959,6,FALSE))","v":""},{"$f":"IF(ISBLANK($R1846)=TRUE,\"\",VLOOKUP($R1846,TAXONOMY!$A$1:$G$959,5,FALSE))","v":""},{"$f":"IF(ISBLANK($R1846)=TRUE,\"\",VLOOKUP($R1846,TAXONOMY!$A$1:$G$959,4,FALSE))","v":""},{"$f":"IF(ISBLANK($R1846)=TRUE,\"\",VLOOKUP($R1846,TAXONOMY!$A$1:$G$959,3,FALSE))","v":""},{"$f":"IF(ISBLANK($R1846)=TRUE,\"\",VLOOKUP($R1846,TAXONOMY!$A$1:$H$959,2,FALSE))","v":""}]
[null,null,null,null,null,null,null,null,null,null,null,{"$f":"IF(ISBLANK($R1847)=TRUE,\"\",VLOOKUP($R1847,TAXONOMY!$A$1:$G$959,7,FALSE))","v":""},{"$f":"IF(ISBLANK($R1847)=TRUE,\"\",VLOOKUP($R1847,TAXONOMY!$A$1:$G$959,6,FALSE))","v":""},{"$f":"IF(ISBLANK($R1847)=TRUE,\"\",VLOOKUP($R1847,TAXONOMY!$A$1:$G$959,5,FALSE))","v":""},{"$f":"IF(ISBLANK($R1847)=TRUE,\"\",VLOOKUP($R1847,TAXONOMY!$A$1:$G$959,4,FALSE))","v":""},{"$f":"IF(ISBLANK($R1847)=TRUE,\"\",VLOOKUP($R1847,TAXONOMY!$A$1:$G$959,3,FALSE))","v":""},{"$f":"IF(ISBLANK($R1847)=TRUE,\"\",VLOOKUP($R1847,TAXONOMY!$A$1:$H$959,2,FALSE))","v":""}]
[null,null,null,null,null,null,null,null,null,null,null,{"$f":"IF(ISBLANK($R1848)=TRUE,\"\",VLOOKUP($R1848,TAXONOMY!$A$1:$G$959,7,FALSE))","v":""},{"$f":"IF(ISBLANK($R1848)=TRUE,\"\",VLOOKUP($R1848,TAXONOMY!$A$1:$G$959,6,FALSE))","v":""},{"$f":"IF(ISBLANK($R1848)=TRUE,\"\",VLOOKUP($R1848,TAXONOMY!$A$1:$G$959,5,FALSE))","v":""},{"$f":"IF(ISBLANK($R1848)=TRUE,\"\",VLOOKUP($R1848,TAXONOMY!$A$1:$G$959,4,FALSE))","v":""},{"$f":"IF(ISBLANK($R1848)=TRUE,\"\",VLOOKUP($R1848,TAXONOMY!$A$1:$G$959,3,FALSE))","v":""},{"$f":"IF(ISBLANK($R1848)=TRUE,\"\",VLOOKUP($R1848,TAXONOMY!$A$1:$H$959,2,FALSE))","v":""}]
[null,null,null,null,null,null,null,null,null,null,null,{"$f":"IF(ISBLANK($R1849)=TRUE,\"\",VLOOKUP($R1849,TAXONOMY!$A$1:$G$959,7,FALSE))","v":""},{"$f":"IF(ISBLANK($R1849)=TRUE,\"\",VLOOKUP($R1849,TAXONOMY!$A$1:$G$959,6,FALSE))","v":""},{"$f":"IF(ISBLANK($R1849)=TRUE,\"\",VLOOKUP($R1849,TAXONOMY!$A$1:$G$959,5,FALSE))","v":""},{"$f":"IF(ISBLANK($R1849)=TRUE,\"\",VLOOKUP($R1849,TAXONOMY!$A$1:$G$959,4,FALSE))","v":""},{"$f":"IF(ISBLANK($R1849)=TRUE,\"\",VLOOKUP($R1849,TAXONOMY!$A$1:$G$959,3,FALSE))","v":""},{"$f":"IF(ISBLANK($R1849)=TRUE,\"\",VLOOKUP($R1849,TAXONOMY!$A$1:$H$959,2,FALSE))","v":""}]
[null,null,null,null,null,null,null,null,null,null,null,{"$f":"IF(ISBLANK($R1850)=TRUE,\"\",VLOOKUP($R1850,TAXONOMY!$A$1:$G$959,7,FALSE))","v":""},{"$f":"IF(ISBLANK($R1850)=TRUE,\"\",VLOOKUP($R1850,TAXONOMY!$A$1:$G$959,6,FALSE))","v":""},{"$f":"IF(ISBLANK($R1850)=TRUE,\"\",VLOOKUP($R1850,TAXONOMY!$A$1:$G$959,5,FALSE))","v":""},{"$f":"IF(ISBLANK($R1850)=TRUE,\"\",VLOOKUP($R1850,TAXONOMY!$A$1:$G$959,4,FALSE))","v":""},{"$f":"IF(ISBLANK($R1850)=TRUE,\"\",VLOOKUP($R1850,TAXONOMY!$A$1:$G$959,3,FALSE))","v":""},{"$f":"IF(ISBLANK($R1850)=TRUE,\"\",VLOOKUP($R1850,TAXONOMY!$A$1:$H$959,2,FALSE))","v":""}]
[null,null,null,null,null,null,null,null,null,null,null,{"$f":"IF(ISBLANK($R1851)=TRUE,\"\",VLOOKUP($R1851,TAXONOMY!$A$1:$G$959,7,FALSE))","v":""},{"$f":"IF(ISBLANK($R1851)=TRUE,\"\",VLOOKUP($R1851,TAXONOMY!$A$1:$G$959,6,FALSE))","v":""},{"$f":"IF(ISBLANK($R1851)=TRUE,\"\",VLOOKUP($R1851,TAXONOMY!$A$1:$G$959,5,FALSE))","v":""},{"$f":"IF(ISBLANK($R1851)=TRUE,\"\",VLOOKUP($R1851,TAXONOMY!$A$1:$G$959,4,FALSE))","v":""},{"$f":"IF(ISBLANK($R1851)=TRUE,\"\",VLOOKUP($R1851,TAXONOMY!$A$1:$G$959,3,FALSE))","v":""},{"$f":"IF(ISBLANK($R1851)=TRUE,\"\",VLOOKUP($R1851,TAXONOMY!$A$1:$H$959,2,FALSE))","v":""}]
[null,null,null,null,null,null,null,null,null,null,null,{"$f":"IF(ISBLANK($R1852)=TRUE,\"\",VLOOKUP($R1852,TAXONOMY!$A$1:$G$959,7,FALSE))","v":""},{"$f":"IF(ISBLANK($R1852)=TRUE,\"\",VLOOKUP($R1852,TAXONOMY!$A$1:$G$959,6,FALSE))","v":""},{"$f":"IF(ISBLANK($R1852)=TRUE,\"\",VLOOKUP($R1852,TAXONOMY!$A$1:$G$959,5,FALSE))","v":""},{"$f":"IF(ISBLANK($R1852)=TRUE,\"\",VLOOKUP($R1852,TAXONOMY!$A$1:$G$959,4,FALSE))","v":""},{"$f":"IF(ISBLANK($R1852)=TRUE,\"\",VLOOKUP($R1852,TAXONOMY!$A$1:$G$959,3,FALSE))","v":""},{"$f":"IF(ISBLANK($R1852)=TRUE,\"\",VLOOKUP($R1852,TAXONOMY!$A$1:$H$959,2,FALSE))","v":""}]
[null,null,null,null,null,null,null,null,null,null,null,{"$f":"IF(ISBLANK($R1853)=TRUE,\"\",VLOOKUP($R1853,TAXONOMY!$A$1:$G$959,7,FALSE))","v":""},{"$f":"IF(ISBLANK($R1853)=TRUE,\"\",VLOOKUP($R1853,TAXONOMY!$A$1:$G$959,6,FALSE))","v":""},{"$f":"IF(ISBLANK($R1853)=TRUE,\"\",VLOOKUP($R1853,TAXONOMY!$A$1:$G$959,5,FALSE))","v":""},{"$f":"IF(ISBLANK($R1853)=TRUE,\"\",VLOOKUP($R1853,TAXONOMY!$A$1:$G$959,4,FALSE))","v":""},{"$f":"IF(ISBLANK($R1853)=TRUE,\"\",VLOOKUP($R1853,TAXONOMY!$A$1:$G$959,3,FALSE))","v":""},{"$f":"IF(ISBLANK($R1853)=TRUE,\"\",VLOOKUP($R1853,TAXONOMY!$A$1:$H$959,2,FALSE))","v":""}]
[null,null,null,null,null,null,null,null,null,null,null,{"$f":"IF(ISBLANK($R1854)=TRUE,\"\",VLOOKUP($R1854,TAXONOMY!$A$1:$G$959,7,FALSE))","v":""},{"$f":"IF(ISBLANK($R1854)=TRUE,\"\",VLOOKUP($R1854,TAXONOMY!$A$1:$G$959,6,FALSE))","v":""},{"$f":"IF(ISBLANK($R1854)=TRUE,\"\",VLOOKUP($R1854,TAXONOMY!$A$1:$G$959,5,FALSE))","v":""},{"$f":"IF(ISBLANK($R1854)=TRUE,\"\",VLOOKUP($R1854,TAXONOMY!$A$1:$G$959,4,FALSE))","v":""},{"$f":"IF(ISBLANK($R1854)=TRUE,\"\",VLOOKUP($R1854,TAXONOMY!$A$1:$G$959,3,FALSE))","v":""},{"$f":"IF(ISBLANK($R1854)=TRUE,\"\",VLOOKUP($R1854,TAXONOMY!$A$1:$H$959,2,FALSE))","v":""}]
[null,null,null,null,null,null,null,null,null,null,null,{"$f":"IF(ISBLANK($R1855)=TRUE,\"\",VLOOKUP($R1855,TAXONOMY!$A$1:$G$959,7,FALSE))","v":""},{"$f":"IF(ISBLANK($R1855)=TRUE,\"\",VLOOKUP($R1855,TAXONOMY!$A$1:$G$959,6,FALSE))","v":""},{"$f":"IF(ISBLANK($R1855)=TRUE,\"\",VLOOKUP($R1855,TAXONOMY!$A$1:$G$959,5,FALSE))","v":""},{"$f":"IF(ISBLANK($R1855)=TRUE,\"\",VLOOKUP($R1855,TAXONOMY!$A$1:$G$959,4,FALSE))","v":""},{"$f":"IF(ISBLANK($R1855)=TRUE,\"\",VLOOKUP($R1855,TAXONOMY!$A$1:$G$959,3,FALSE))","v":""},{"$f":"IF(ISBLANK($R1855)=TRUE,\"\",VLOOKUP($R1855,TAXONOMY!$A$1:$H$959,2,FALSE))","v":""}]
[null,null,null,null,null,null,null,null,null,null,null,{"$f":"IF(ISBLANK($R1856)=TRUE,\"\",VLOOKUP($R1856,TAXONOMY!$A$1:$G$959,7,FALSE))","v":""},{"$f":"IF(ISBLANK($R1856)=TRUE,\"\",VLOOKUP($R1856,TAXONOMY!$A$1:$G$959,6,FALSE))","v":""},{"$f":"IF(ISBLANK($R1856)=TRUE,\"\",VLOOKUP($R1856,TAXONOMY!$A$1:$G$959,5,FALSE))","v":""},{"$f":"IF(ISBLANK($R1856)=TRUE,\"\",VLOOKUP($R1856,TAXONOMY!$A$1:$G$959,4,FALSE))","v":""},{"$f":"IF(ISBLANK($R1856)=TRUE,\"\",VLOOKUP($R1856,TAXONOMY!$A$1:$G$959,3,FALSE))","v":""},{"$f":"IF(ISBLANK($R1856)=TRUE,\"\",VLOOKUP($R1856,TAXONOMY!$A$1:$H$959,2,FALSE))","v":""}]
[null,null,null,null,null,null,null,null,null,null,null,{"$f":"IF(ISBLANK($R1857)=TRUE,\"\",VLOOKUP($R1857,TAXONOMY!$A$1:$G$959,7,FALSE))","v":""},{"$f":"IF(ISBLANK($R1857)=TRUE,\"\",VLOOKUP($R1857,TAXONOMY!$A$1:$G$959,6,FALSE))","v":""},{"$f":"IF(ISBLANK($R1857)=TRUE,\"\",VLOOKUP($R1857,TAXONOMY!$A$1:$G$959,5,FALSE))","v":""},{"$f":"IF(ISBLANK($R1857)=TRUE,\"\",VLOOKUP($R1857,TAXONOMY!$A$1:$G$959,4,FALSE))","v":""},{"$f":"IF(ISBLANK($R1857)=TRUE,\"\",VLOOKUP($R1857,TAXONOMY!$A$1:$G$959,3,FALSE))","v":""},{"$f":"IF(ISBLANK($R1857)=TRUE,\"\",VLOOKUP($R1857,TAXONOMY!$A$1:$H$959,2,FALSE))","v":""}]
[null,null,null,null,null,null,null,null,null,null,null,{"$f":"IF(ISBLANK($R1858)=TRUE,\"\",VLOOKUP($R1858,TAXONOMY!$A$1:$G$959,7,FALSE))","v":""},{"$f":"IF(ISBLANK($R1858)=TRUE,\"\",VLOOKUP($R1858,TAXONOMY!$A$1:$G$959,6,FALSE))","v":""},{"$f":"IF(ISBLANK($R1858)=TRUE,\"\",VLOOKUP($R1858,TAXONOMY!$A$1:$G$959,5,FALSE))","v":""},{"$f":"IF(ISBLANK($R1858)=TRUE,\"\",VLOOKUP($R1858,TAXONOMY!$A$1:$G$959,4,FALSE))","v":""},{"$f":"IF(ISBLANK($R1858)=TRUE,\"\",VLOOKUP($R1858,TAXONOMY!$A$1:$G$959,3,FALSE))","v":""},{"$f":"IF(ISBLANK($R1858)=TRUE,\"\",VLOOKUP($R1858,TAXONOMY!$A$1:$H$959,2,FALSE))","v":""}]
[null,null,null,null,null,null,null,null,null,null,null,{"$f":"IF(ISBLANK($R1859)=TRUE,\"\",VLOOKUP($R1859,TAXONOMY!$A$1:$G$959,7,FALSE))","v":""},{"$f":"IF(ISBLANK($R1859)=TRUE,\"\",VLOOKUP($R1859,TAXONOMY!$A$1:$G$959,6,FALSE))","v":""},{"$f":"IF(ISBLANK($R1859)=TRUE,\"\",VLOOKUP($R1859,TAXONOMY!$A$1:$G$959,5,FALSE))","v":""},{"$f":"IF(ISBLANK($R1859)=TRUE,\"\",VLOOKUP($R1859,TAXONOMY!$A$1:$G$959,4,FALSE))","v":""},{"$f":"IF(ISBLANK($R1859)=TRUE,\"\",VLOOKUP($R1859,TAXONOMY!$A$1:$G$959,3,FALSE))","v":""},{"$f":"IF(ISBLANK($R1859)=TRUE,\"\",VLOOKUP($R1859,TAXONOMY!$A$1:$H$959,2,FALSE))","v":""}]
[null,null,null,null,null,null,null,null,null,null,null,{"$f":"IF(ISBLANK($R1860)=TRUE,\"\",VLOOKUP($R1860,TAXONOMY!$A$1:$G$959,7,FALSE))","v":""},{"$f":"IF(ISBLANK($R1860)=TRUE,\"\",VLOOKUP($R1860,TAXONOMY!$A$1:$G$959,6,FALSE))","v":""},{"$f":"IF(ISBLANK($R1860)=TRUE,\"\",VLOOKUP($R1860,TAXONOMY!$A$1:$G$959,5,FALSE))","v":""},{"$f":"IF(ISBLANK($R1860)=TRUE,\"\",VLOOKUP($R1860,TAXONOMY!$A$1:$G$959,4,FALSE))","v":""},{"$f":"IF(ISBLANK($R1860)=TRUE,\"\",VLOOKUP($R1860,TAXONOMY!$A$1:$G$959,3,FALSE))","v":""},{"$f":"IF(ISBLANK($R1860)=TRUE,\"\",VLOOKUP($R1860,TAXONOMY!$A$1:$H$959,2,FALSE))","v":""}]
[null,null,null,null,null,null,null,null,null,null,null,{"$f":"IF(ISBLANK($R1861)=TRUE,\"\",VLOOKUP($R1861,TAXONOMY!$A$1:$G$959,7,FALSE))","v":""},{"$f":"IF(ISBLANK($R1861)=TRUE,\"\",VLOOKUP($R1861,TAXONOMY!$A$1:$G$959,6,FALSE))","v":""},{"$f":"IF(ISBLANK($R1861)=TRUE,\"\",VLOOKUP($R1861,TAXONOMY!$A$1:$G$959,5,FALSE))","v":""},{"$f":"IF(ISBLANK($R1861)=TRUE,\"\",VLOOKUP($R1861,TAXONOMY!$A$1:$G$959,4,FALSE))","v":""},{"$f":"IF(ISBLANK($R1861)=TRUE,\"\",VLOOKUP($R1861,TAXONOMY!$A$1:$G$959,3,FALSE))","v":""},{"$f":"IF(ISBLANK($R1861)=TRUE,\"\",VLOOKUP($R1861,TAXONOMY!$A$1:$H$959,2,FALSE))","v":""}]
[null,null,null,null,null,null,null,null,null,null,null,{"$f":"IF(ISBLANK($R1862)=TRUE,\"\",VLOOKUP($R1862,TAXONOMY!$A$1:$G$959,7,FALSE))","v":""},{"$f":"IF(ISBLANK($R1862)=TRUE,\"\",VLOOKUP($R1862,TAXONOMY!$A$1:$G$959,6,FALSE))","v":""},{"$f":"IF(ISBLANK($R1862)=TRUE,\"\",VLOOKUP($R1862,TAXONOMY!$A$1:$G$959,5,FALSE))","v":""},{"$f":"IF(ISBLANK($R1862)=TRUE,\"\",VLOOKUP($R1862,TAXONOMY!$A$1:$G$959,4,FALSE))","v":""},{"$f":"IF(ISBLANK($R1862)=TRUE,\"\",VLOOKUP($R1862,TAXONOMY!$A$1:$G$959,3,FALSE))","v":""},{"$f":"IF(ISBLANK($R1862)=TRUE,\"\",VLOOKUP($R1862,TAXONOMY!$A$1:$H$959,2,FALSE))","v":""}]
[null,null,null,null,null,null,null,null,null,null,null,{"$f":"IF(ISBLANK($R1863)=TRUE,\"\",VLOOKUP($R1863,TAXONOMY!$A$1:$G$959,7,FALSE))","v":""},{"$f":"IF(ISBLANK($R1863)=TRUE,\"\",VLOOKUP($R1863,TAXONOMY!$A$1:$G$959,6,FALSE))","v":""},{"$f":"IF(ISBLANK($R1863)=TRUE,\"\",VLOOKUP($R1863,TAXONOMY!$A$1:$G$959,5,FALSE))","v":""},{"$f":"IF(ISBLANK($R1863)=TRUE,\"\",VLOOKUP($R1863,TAXONOMY!$A$1:$G$959,4,FALSE))","v":""},{"$f":"IF(ISBLANK($R1863)=TRUE,\"\",VLOOKUP($R1863,TAXONOMY!$A$1:$G$959,3,FALSE))","v":""},{"$f":"IF(ISBLANK($R1863)=TRUE,\"\",VLOOKUP($R1863,TAXONOMY!$A$1:$H$959,2,FALSE))","v":""}]
[null,null,null,null,null,null,null,null,null,null,null,{"$f":"IF(ISBLANK($R1864)=TRUE,\"\",VLOOKUP($R1864,TAXONOMY!$A$1:$G$959,7,FALSE))","v":""},{"$f":"IF(ISBLANK($R1864)=TRUE,\"\",VLOOKUP($R1864,TAXONOMY!$A$1:$G$959,6,FALSE))","v":""},{"$f":"IF(ISBLANK($R1864)=TRUE,\"\",VLOOKUP($R1864,TAXONOMY!$A$1:$G$959,5,FALSE))","v":""},{"$f":"IF(ISBLANK($R1864)=TRUE,\"\",VLOOKUP($R1864,TAXONOMY!$A$1:$G$959,4,FALSE))","v":""},{"$f":"IF(ISBLANK($R1864)=TRUE,\"\",VLOOKUP($R1864,TAXONOMY!$A$1:$G$959,3,FALSE))","v":""},{"$f":"IF(ISBLANK($R1864)=TRUE,\"\",VLOOKUP($R1864,TAXONOMY!$A$1:$H$959,2,FALSE))","v":""}]
[null,null,null,null,null,null,null,null,null,null,null,{"$f":"IF(ISBLANK($R1865)=TRUE,\"\",VLOOKUP($R1865,TAXONOMY!$A$1:$G$959,7,FALSE))","v":""},{"$f":"IF(ISBLANK($R1865)=TRUE,\"\",VLOOKUP($R1865,TAXONOMY!$A$1:$G$959,6,FALSE))","v":""},{"$f":"IF(ISBLANK($R1865)=TRUE,\"\",VLOOKUP($R1865,TAXONOMY!$A$1:$G$959,5,FALSE))","v":""},{"$f":"IF(ISBLANK($R1865)=TRUE,\"\",VLOOKUP($R1865,TAXONOMY!$A$1:$G$959,4,FALSE))","v":""},{"$f":"IF(ISBLANK($R1865)=TRUE,\"\",VLOOKUP($R1865,TAXONOMY!$A$1:$G$959,3,FALSE))","v":""},{"$f":"IF(ISBLANK($R1865)=TRUE,\"\",VLOOKUP($R1865,TAXONOMY!$A$1:$H$959,2,FALSE))","v":""}]
[null,null,null,null,null,null,null,null,null,null,null,{"$f":"IF(ISBLANK($R1866)=TRUE,\"\",VLOOKUP($R1866,TAXONOMY!$A$1:$G$959,7,FALSE))","v":""},{"$f":"IF(ISBLANK($R1866)=TRUE,\"\",VLOOKUP($R1866,TAXONOMY!$A$1:$G$959,6,FALSE))","v":""},{"$f":"IF(ISBLANK($R1866)=TRUE,\"\",VLOOKUP($R1866,TAXONOMY!$A$1:$G$959,5,FALSE))","v":""},{"$f":"IF(ISBLANK($R1866)=TRUE,\"\",VLOOKUP($R1866,TAXONOMY!$A$1:$G$959,4,FALSE))","v":""},{"$f":"IF(ISBLANK($R1866)=TRUE,\"\",VLOOKUP($R1866,TAXONOMY!$A$1:$G$959,3,FALSE))","v":""},{"$f":"IF(ISBLANK($R1866)=TRUE,\"\",VLOOKUP($R1866,TAXONOMY!$A$1:$H$959,2,FALSE))","v":""}]
[null,null,null,null,null,null,null,null,null,null,null,{"$f":"IF(ISBLANK($R1867)=TRUE,\"\",VLOOKUP($R1867,TAXONOMY!$A$1:$G$959,7,FALSE))","v":""},{"$f":"IF(ISBLANK($R1867)=TRUE,\"\",VLOOKUP($R1867,TAXONOMY!$A$1:$G$959,6,FALSE))","v":""},{"$f":"IF(ISBLANK($R1867)=TRUE,\"\",VLOOKUP($R1867,TAXONOMY!$A$1:$G$959,5,FALSE))","v":""},{"$f":"IF(ISBLANK($R1867)=TRUE,\"\",VLOOKUP($R1867,TAXONOMY!$A$1:$G$959,4,FALSE))","v":""},{"$f":"IF(ISBLANK($R1867)=TRUE,\"\",VLOOKUP($R1867,TAXONOMY!$A$1:$G$959,3,FALSE))","v":""},{"$f":"IF(ISBLANK($R1867)=TRUE,\"\",VLOOKUP($R1867,TAXONOMY!$A$1:$H$959,2,FALSE))","v":""}]
[null,null,null,null,null,null,null,null,null,null,null,{"$f":"IF(ISBLANK($R1868)=TRUE,\"\",VLOOKUP($R1868,TAXONOMY!$A$1:$G$959,7,FALSE))","v":""},{"$f":"IF(ISBLANK($R1868)=TRUE,\"\",VLOOKUP($R1868,TAXONOMY!$A$1:$G$959,6,FALSE))","v":""},{"$f":"IF(ISBLANK($R1868)=TRUE,\"\",VLOOKUP($R1868,TAXONOMY!$A$1:$G$959,5,FALSE))","v":""},{"$f":"IF(ISBLANK($R1868)=TRUE,\"\",VLOOKUP($R1868,TAXONOMY!$A$1:$G$959,4,FALSE))","v":""},{"$f":"IF(ISBLANK($R1868)=TRUE,\"\",VLOOKUP($R1868,TAXONOMY!$A$1:$G$959,3,FALSE))","v":""},{"$f":"IF(ISBLANK($R1868)=TRUE,\"\",VLOOKUP($R1868,TAXONOMY!$A$1:$H$959,2,FALSE))","v":""}]
[null,null,null,null,null,null,null,null,null,null,null,{"$f":"IF(ISBLANK($R1869)=TRUE,\"\",VLOOKUP($R1869,TAXONOMY!$A$1:$G$959,7,FALSE))","v":""},{"$f":"IF(ISBLANK($R1869)=TRUE,\"\",VLOOKUP($R1869,TAXONOMY!$A$1:$G$959,6,FALSE))","v":""},{"$f":"IF(ISBLANK($R1869)=TRUE,\"\",VLOOKUP($R1869,TAXONOMY!$A$1:$G$959,5,FALSE))","v":""},{"$f":"IF(ISBLANK($R1869)=TRUE,\"\",VLOOKUP($R1869,TAXONOMY!$A$1:$G$959,4,FALSE))","v":""},{"$f":"IF(ISBLANK($R1869)=TRUE,\"\",VLOOKUP($R1869,TAXONOMY!$A$1:$G$959,3,FALSE))","v":""},{"$f":"IF(ISBLANK($R1869)=TRUE,\"\",VLOOKUP($R1869,TAXONOMY!$A$1:$H$959,2,FALSE))","v":""}]
[null,null,null,null,null,null,null,null,null,null,null,{"$f":"IF(ISBLANK($R1870)=TRUE,\"\",VLOOKUP($R1870,TAXONOMY!$A$1:$G$959,7,FALSE))","v":""},{"$f":"IF(ISBLANK($R1870)=TRUE,\"\",VLOOKUP($R1870,TAXONOMY!$A$1:$G$959,6,FALSE))","v":""},{"$f":"IF(ISBLANK($R1870)=TRUE,\"\",VLOOKUP($R1870,TAXONOMY!$A$1:$G$959,5,FALSE))","v":""},{"$f":"IF(ISBLANK($R1870)=TRUE,\"\",VLOOKUP($R1870,TAXONOMY!$A$1:$G$959,4,FALSE))","v":""},{"$f":"IF(ISBLANK($R1870)=TRUE,\"\",VLOOKUP($R1870,TAXONOMY!$A$1:$G$959,3,FALSE))","v":""},{"$f":"IF(ISBLANK($R1870)=TRUE,\"\",VLOOKUP($R1870,TAXONOMY!$A$1:$H$959,2,FALSE))","v":""}]
[null,null,null,null,null,null,null,null,null,null,null,{"$f":"IF(ISBLANK($R1871)=TRUE,\"\",VLOOKUP($R1871,TAXONOMY!$A$1:$G$959,7,FALSE))","v":""},{"$f":"IF(ISBLANK($R1871)=TRUE,\"\",VLOOKUP($R1871,TAXONOMY!$A$1:$G$959,6,FALSE))","v":""},{"$f":"IF(ISBLANK($R1871)=TRUE,\"\",VLOOKUP($R1871,TAXONOMY!$A$1:$G$959,5,FALSE))","v":""},{"$f":"IF(ISBLANK($R1871)=TRUE,\"\",VLOOKUP($R1871,TAXONOMY!$A$1:$G$959,4,FALSE))","v":""},{"$f":"IF(ISBLANK($R1871)=TRUE,\"\",VLOOKUP($R1871,TAXONOMY!$A$1:$G$959,3,FALSE))","v":""},{"$f":"IF(ISBLANK($R1871)=TRUE,\"\",VLOOKUP($R1871,TAXONOMY!$A$1:$H$959,2,FALSE))","v":""}]
[null,null,null,null,null,null,null,null,null,null,null,{"$f":"IF(ISBLANK($R1872)=TRUE,\"\",VLOOKUP($R1872,TAXONOMY!$A$1:$G$959,7,FALSE))","v":""},{"$f":"IF(ISBLANK($R1872)=TRUE,\"\",VLOOKUP($R1872,TAXONOMY!$A$1:$G$959,6,FALSE))","v":""},{"$f":"IF(ISBLANK($R1872)=TRUE,\"\",VLOOKUP($R1872,TAXONOMY!$A$1:$G$959,5,FALSE))","v":""},{"$f":"IF(ISBLANK($R1872)=TRUE,\"\",VLOOKUP($R1872,TAXONOMY!$A$1:$G$959,4,FALSE))","v":""},{"$f":"IF(ISBLANK($R1872)=TRUE,\"\",VLOOKUP($R1872,TAXONOMY!$A$1:$G$959,3,FALSE))","v":""},{"$f":"IF(ISBLANK($R1872)=TRUE,\"\",VLOOKUP($R1872,TAXONOMY!$A$1:$H$959,2,FALSE))","v":""}]
[null,null,null,null,null,null,null,null,null,null,null,{"$f":"IF(ISBLANK($R1873)=TRUE,\"\",VLOOKUP($R1873,TAXONOMY!$A$1:$G$959,7,FALSE))","v":""},{"$f":"IF(ISBLANK($R1873)=TRUE,\"\",VLOOKUP($R1873,TAXONOMY!$A$1:$G$959,6,FALSE))","v":""},{"$f":"IF(ISBLANK($R1873)=TRUE,\"\",VLOOKUP($R1873,TAXONOMY!$A$1:$G$959,5,FALSE))","v":""},{"$f":"IF(ISBLANK($R1873)=TRUE,\"\",VLOOKUP($R1873,TAXONOMY!$A$1:$G$959,4,FALSE))","v":""},{"$f":"IF(ISBLANK($R1873)=TRUE,\"\",VLOOKUP($R1873,TAXONOMY!$A$1:$G$959,3,FALSE))","v":""},{"$f":"IF(ISBLANK($R1873)=TRUE,\"\",VLOOKUP($R1873,TAXONOMY!$A$1:$H$959,2,FALSE))","v":""}]
[null,null,null,null,null,null,null,null,null,null,null,{"$f":"IF(ISBLANK($R1874)=TRUE,\"\",VLOOKUP($R1874,TAXONOMY!$A$1:$G$959,7,FALSE))","v":""},{"$f":"IF(ISBLANK($R1874)=TRUE,\"\",VLOOKUP($R1874,TAXONOMY!$A$1:$G$959,6,FALSE))","v":""},{"$f":"IF(ISBLANK($R1874)=TRUE,\"\",VLOOKUP($R1874,TAXONOMY!$A$1:$G$959,5,FALSE))","v":""},{"$f":"IF(ISBLANK($R1874)=TRUE,\"\",VLOOKUP($R1874,TAXONOMY!$A$1:$G$959,4,FALSE))","v":""},{"$f":"IF(ISBLANK($R1874)=TRUE,\"\",VLOOKUP($R1874,TAXONOMY!$A$1:$G$959,3,FALSE))","v":""},{"$f":"IF(ISBLANK($R1874)=TRUE,\"\",VLOOKUP($R1874,TAXONOMY!$A$1:$H$959,2,FALSE))","v":""}]
[null,null,null,null,null,null,null,null,null,null,null,{"$f":"IF(ISBLANK($R1875)=TRUE,\"\",VLOOKUP($R1875,TAXONOMY!$A$1:$G$959,7,FALSE))","v":""},{"$f":"IF(ISBLANK($R1875)=TRUE,\"\",VLOOKUP($R1875,TAXONOMY!$A$1:$G$959,6,FALSE))","v":""},{"$f":"IF(ISBLANK($R1875)=TRUE,\"\",VLOOKUP($R1875,TAXONOMY!$A$1:$G$959,5,FALSE))","v":""},{"$f":"IF(ISBLANK($R1875)=TRUE,\"\",VLOOKUP($R1875,TAXONOMY!$A$1:$G$959,4,FALSE))","v":""},{"$f":"IF(ISBLANK($R1875)=TRUE,\"\",VLOOKUP($R1875,TAXONOMY!$A$1:$G$959,3,FALSE))","v":""},{"$f":"IF(ISBLANK($R1875)=TRUE,\"\",VLOOKUP($R1875,TAXONOMY!$A$1:$H$959,2,FALSE))","v":""}]
[null,null,null,null,null,null,null,null,null,null,null,{"$f":"IF(ISBLANK($R1876)=TRUE,\"\",VLOOKUP($R1876,TAXONOMY!$A$1:$G$959,7,FALSE))","v":""},{"$f":"IF(ISBLANK($R1876)=TRUE,\"\",VLOOKUP($R1876,TAXONOMY!$A$1:$G$959,6,FALSE))","v":""},{"$f":"IF(ISBLANK($R1876)=TRUE,\"\",VLOOKUP($R1876,TAXONOMY!$A$1:$G$959,5,FALSE))","v":""},{"$f":"IF(ISBLANK($R1876)=TRUE,\"\",VLOOKUP($R1876,TAXONOMY!$A$1:$G$959,4,FALSE))","v":""},{"$f":"IF(ISBLANK($R1876)=TRUE,\"\",VLOOKUP($R1876,TAXONOMY!$A$1:$G$959,3,FALSE))","v":""},{"$f":"IF(ISBLANK($R1876)=TRUE,\"\",VLOOKUP($R1876,TAXONOMY!$A$1:$H$959,2,FALSE))","v":""}]
[null,null,null,null,null,null,null,null,null,null,null,{"$f":"IF(ISBLANK($R1877)=TRUE,\"\",VLOOKUP($R1877,TAXONOMY!$A$1:$G$959,7,FALSE))","v":""},{"$f":"IF(ISBLANK($R1877)=TRUE,\"\",VLOOKUP($R1877,TAXONOMY!$A$1:$G$959,6,FALSE))","v":""},{"$f":"IF(ISBLANK($R1877)=TRUE,\"\",VLOOKUP($R1877,TAXONOMY!$A$1:$G$959,5,FALSE))","v":""},{"$f":"IF(ISBLANK($R1877)=TRUE,\"\",VLOOKUP($R1877,TAXONOMY!$A$1:$G$959,4,FALSE))","v":""},{"$f":"IF(ISBLANK($R1877)=TRUE,\"\",VLOOKUP($R1877,TAXONOMY!$A$1:$G$959,3,FALSE))","v":""},{"$f":"IF(ISBLANK($R1877)=TRUE,\"\",VLOOKUP($R1877,TAXONOMY!$A$1:$H$959,2,FALSE))","v":""}]
[null,null,null,null,null,null,null,null,null,null,null,{"$f":"IF(ISBLANK($R1878)=TRUE,\"\",VLOOKUP($R1878,TAXONOMY!$A$1:$G$959,7,FALSE))","v":""},{"$f":"IF(ISBLANK($R1878)=TRUE,\"\",VLOOKUP($R1878,TAXONOMY!$A$1:$G$959,6,FALSE))","v":""},{"$f":"IF(ISBLANK($R1878)=TRUE,\"\",VLOOKUP($R1878,TAXONOMY!$A$1:$G$959,5,FALSE))","v":""},{"$f":"IF(ISBLANK($R1878)=TRUE,\"\",VLOOKUP($R1878,TAXONOMY!$A$1:$G$959,4,FALSE))","v":""},{"$f":"IF(ISBLANK($R1878)=TRUE,\"\",VLOOKUP($R1878,TAXONOMY!$A$1:$G$959,3,FALSE))","v":""},{"$f":"IF(ISBLANK($R1878)=TRUE,\"\",VLOOKUP($R1878,TAXONOMY!$A$1:$H$959,2,FALSE))","v":""}]
[null,null,null,null,null,null,null,null,null,null,null,{"$f":"IF(ISBLANK($R1879)=TRUE,\"\",VLOOKUP($R1879,TAXONOMY!$A$1:$G$959,7,FALSE))","v":""},{"$f":"IF(ISBLANK($R1879)=TRUE,\"\",VLOOKUP($R1879,TAXONOMY!$A$1:$G$959,6,FALSE))","v":""},{"$f":"IF(ISBLANK($R1879)=TRUE,\"\",VLOOKUP($R1879,TAXONOMY!$A$1:$G$959,5,FALSE))","v":""},{"$f":"IF(ISBLANK($R1879)=TRUE,\"\",VLOOKUP($R1879,TAXONOMY!$A$1:$G$959,4,FALSE))","v":""},{"$f":"IF(ISBLANK($R1879)=TRUE,\"\",VLOOKUP($R1879,TAXONOMY!$A$1:$G$959,3,FALSE))","v":""},{"$f":"IF(ISBLANK($R1879)=TRUE,\"\",VLOOKUP($R1879,TAXONOMY!$A$1:$H$959,2,FALSE))","v":""}]
[null,null,null,null,null,null,null,null,null,null,null,{"$f":"IF(ISBLANK($R1880)=TRUE,\"\",VLOOKUP($R1880,TAXONOMY!$A$1:$G$959,7,FALSE))","v":""},{"$f":"IF(ISBLANK($R1880)=TRUE,\"\",VLOOKUP($R1880,TAXONOMY!$A$1:$G$959,6,FALSE))","v":""},{"$f":"IF(ISBLANK($R1880)=TRUE,\"\",VLOOKUP($R1880,TAXONOMY!$A$1:$G$959,5,FALSE))","v":""},{"$f":"IF(ISBLANK($R1880)=TRUE,\"\",VLOOKUP($R1880,TAXONOMY!$A$1:$G$959,4,FALSE))","v":""},{"$f":"IF(ISBLANK($R1880)=TRUE,\"\",VLOOKUP($R1880,TAXONOMY!$A$1:$G$959,3,FALSE))","v":""},{"$f":"IF(ISBLANK($R1880)=TRUE,\"\",VLOOKUP($R1880,TAXONOMY!$A$1:$H$959,2,FALSE))","v":""}]
[null,null,null,null,null,null,null,null,null,null,null,{"$f":"IF(ISBLANK($R1881)=TRUE,\"\",VLOOKUP($R1881,TAXONOMY!$A$1:$G$959,7,FALSE))","v":""},{"$f":"IF(ISBLANK($R1881)=TRUE,\"\",VLOOKUP($R1881,TAXONOMY!$A$1:$G$959,6,FALSE))","v":""},{"$f":"IF(ISBLANK($R1881)=TRUE,\"\",VLOOKUP($R1881,TAXONOMY!$A$1:$G$959,5,FALSE))","v":""},{"$f":"IF(ISBLANK($R1881)=TRUE,\"\",VLOOKUP($R1881,TAXONOMY!$A$1:$G$959,4,FALSE))","v":""},{"$f":"IF(ISBLANK($R1881)=TRUE,\"\",VLOOKUP($R1881,TAXONOMY!$A$1:$G$959,3,FALSE))","v":""},{"$f":"IF(ISBLANK($R1881)=TRUE,\"\",VLOOKUP($R1881,TAXONOMY!$A$1:$H$959,2,FALSE))","v":""}]
[null,null,null,null,null,null,null,null,null,null,null,{"$f":"IF(ISBLANK($R1882)=TRUE,\"\",VLOOKUP($R1882,TAXONOMY!$A$1:$G$959,7,FALSE))","v":""},{"$f":"IF(ISBLANK($R1882)=TRUE,\"\",VLOOKUP($R1882,TAXONOMY!$A$1:$G$959,6,FALSE))","v":""},{"$f":"IF(ISBLANK($R1882)=TRUE,\"\",VLOOKUP($R1882,TAXONOMY!$A$1:$G$959,5,FALSE))","v":""},{"$f":"IF(ISBLANK($R1882)=TRUE,\"\",VLOOKUP($R1882,TAXONOMY!$A$1:$G$959,4,FALSE))","v":""},{"$f":"IF(ISBLANK($R1882)=TRUE,\"\",VLOOKUP($R1882,TAXONOMY!$A$1:$G$959,3,FALSE))","v":""},{"$f":"IF(ISBLANK($R1882)=TRUE,\"\",VLOOKUP($R1882,TAXONOMY!$A$1:$H$959,2,FALSE))","v":""}]
[null,null,null,null,null,null,null,null,null,null,null,{"$f":"IF(ISBLANK($R1883)=TRUE,\"\",VLOOKUP($R1883,TAXONOMY!$A$1:$G$959,7,FALSE))","v":""},{"$f":"IF(ISBLANK($R1883)=TRUE,\"\",VLOOKUP($R1883,TAXONOMY!$A$1:$G$959,6,FALSE))","v":""},{"$f":"IF(ISBLANK($R1883)=TRUE,\"\",VLOOKUP($R1883,TAXONOMY!$A$1:$G$959,5,FALSE))","v":""},{"$f":"IF(ISBLANK($R1883)=TRUE,\"\",VLOOKUP($R1883,TAXONOMY!$A$1:$G$959,4,FALSE))","v":""},{"$f":"IF(ISBLANK($R1883)=TRUE,\"\",VLOOKUP($R1883,TAXONOMY!$A$1:$G$959,3,FALSE))","v":""},{"$f":"IF(ISBLANK($R1883)=TRUE,\"\",VLOOKUP($R1883,TAXONOMY!$A$1:$H$959,2,FALSE))","v":""}]
[null,null,null,null,null,null,null,null,null,null,null,{"$f":"IF(ISBLANK($R1884)=TRUE,\"\",VLOOKUP($R1884,TAXONOMY!$A$1:$G$959,7,FALSE))","v":""},{"$f":"IF(ISBLANK($R1884)=TRUE,\"\",VLOOKUP($R1884,TAXONOMY!$A$1:$G$959,6,FALSE))","v":""},{"$f":"IF(ISBLANK($R1884)=TRUE,\"\",VLOOKUP($R1884,TAXONOMY!$A$1:$G$959,5,FALSE))","v":""},{"$f":"IF(ISBLANK($R1884)=TRUE,\"\",VLOOKUP($R1884,TAXONOMY!$A$1:$G$959,4,FALSE))","v":""},{"$f":"IF(ISBLANK($R1884)=TRUE,\"\",VLOOKUP($R1884,TAXONOMY!$A$1:$G$959,3,FALSE))","v":""},{"$f":"IF(ISBLANK($R1884)=TRUE,\"\",VLOOKUP($R1884,TAXONOMY!$A$1:$H$959,2,FALSE))","v":""}]
[null,null,null,null,null,null,null,null,null,null,null,{"$f":"IF(ISBLANK($R1885)=TRUE,\"\",VLOOKUP($R1885,TAXONOMY!$A$1:$G$959,7,FALSE))","v":""},{"$f":"IF(ISBLANK($R1885)=TRUE,\"\",VLOOKUP($R1885,TAXONOMY!$A$1:$G$959,6,FALSE))","v":""},{"$f":"IF(ISBLANK($R1885)=TRUE,\"\",VLOOKUP($R1885,TAXONOMY!$A$1:$G$959,5,FALSE))","v":""},{"$f":"IF(ISBLANK($R1885)=TRUE,\"\",VLOOKUP($R1885,TAXONOMY!$A$1:$G$959,4,FALSE))","v":""},{"$f":"IF(ISBLANK($R1885)=TRUE,\"\",VLOOKUP($R1885,TAXONOMY!$A$1:$G$959,3,FALSE))","v":""},{"$f":"IF(ISBLANK($R1885)=TRUE,\"\",VLOOKUP($R1885,TAXONOMY!$A$1:$H$959,2,FALSE))","v":""}]
[null,null,null,null,null,null,null,null,null,null,null,{"$f":"IF(ISBLANK($R1886)=TRUE,\"\",VLOOKUP($R1886,TAXONOMY!$A$1:$G$959,7,FALSE))","v":""},{"$f":"IF(ISBLANK($R1886)=TRUE,\"\",VLOOKUP($R1886,TAXONOMY!$A$1:$G$959,6,FALSE))","v":""},{"$f":"IF(ISBLANK($R1886)=TRUE,\"\",VLOOKUP($R1886,TAXONOMY!$A$1:$G$959,5,FALSE))","v":""},{"$f":"IF(ISBLANK($R1886)=TRUE,\"\",VLOOKUP($R1886,TAXONOMY!$A$1:$G$959,4,FALSE))","v":""},{"$f":"IF(ISBLANK($R1886)=TRUE,\"\",VLOOKUP($R1886,TAXONOMY!$A$1:$G$959,3,FALSE))","v":""},{"$f":"IF(ISBLANK($R1886)=TRUE,\"\",VLOOKUP($R1886,TAXONOMY!$A$1:$H$959,2,FALSE))","v":""}]
[null,null,null,null,null,null,null,null,null,null,null,{"$f":"IF(ISBLANK($R1887)=TRUE,\"\",VLOOKUP($R1887,TAXONOMY!$A$1:$G$959,7,FALSE))","v":""},{"$f":"IF(ISBLANK($R1887)=TRUE,\"\",VLOOKUP($R1887,TAXONOMY!$A$1:$G$959,6,FALSE))","v":""},{"$f":"IF(ISBLANK($R1887)=TRUE,\"\",VLOOKUP($R1887,TAXONOMY!$A$1:$G$959,5,FALSE))","v":""},{"$f":"IF(ISBLANK($R1887)=TRUE,\"\",VLOOKUP($R1887,TAXONOMY!$A$1:$G$959,4,FALSE))","v":""},{"$f":"IF(ISBLANK($R1887)=TRUE,\"\",VLOOKUP($R1887,TAXONOMY!$A$1:$G$959,3,FALSE))","v":""},{"$f":"IF(ISBLANK($R1887)=TRUE,\"\",VLOOKUP($R1887,TAXONOMY!$A$1:$H$959,2,FALSE))","v":""}]
[null,null,null,null,null,null,null,null,null,null,null,{"$f":"IF(ISBLANK($R1888)=TRUE,\"\",VLOOKUP($R1888,TAXONOMY!$A$1:$G$959,7,FALSE))","v":""},{"$f":"IF(ISBLANK($R1888)=TRUE,\"\",VLOOKUP($R1888,TAXONOMY!$A$1:$G$959,6,FALSE))","v":""},{"$f":"IF(ISBLANK($R1888)=TRUE,\"\",VLOOKUP($R1888,TAXONOMY!$A$1:$G$959,5,FALSE))","v":""},{"$f":"IF(ISBLANK($R1888)=TRUE,\"\",VLOOKUP($R1888,TAXONOMY!$A$1:$G$959,4,FALSE))","v":""},{"$f":"IF(ISBLANK($R1888)=TRUE,\"\",VLOOKUP($R1888,TAXONOMY!$A$1:$G$959,3,FALSE))","v":""},{"$f":"IF(ISBLANK($R1888)=TRUE,\"\",VLOOKUP($R1888,TAXONOMY!$A$1:$H$959,2,FALSE))","v":""}]
[null,null,null,null,null,null,null,null,null,null,null,{"$f":"IF(ISBLANK($R1889)=TRUE,\"\",VLOOKUP($R1889,TAXONOMY!$A$1:$G$959,7,FALSE))","v":""},{"$f":"IF(ISBLANK($R1889)=TRUE,\"\",VLOOKUP($R1889,TAXONOMY!$A$1:$G$959,6,FALSE))","v":""},{"$f":"IF(ISBLANK($R1889)=TRUE,\"\",VLOOKUP($R1889,TAXONOMY!$A$1:$G$959,5,FALSE))","v":""},{"$f":"IF(ISBLANK($R1889)=TRUE,\"\",VLOOKUP($R1889,TAXONOMY!$A$1:$G$959,4,FALSE))","v":""},{"$f":"IF(ISBLANK($R1889)=TRUE,\"\",VLOOKUP($R1889,TAXONOMY!$A$1:$G$959,3,FALSE))","v":""},{"$f":"IF(ISBLANK($R1889)=TRUE,\"\",VLOOKUP($R1889,TAXONOMY!$A$1:$H$959,2,FALSE))","v":""}]
[null,null,null,null,null,null,null,null,null,null,null,{"$f":"IF(ISBLANK($R1890)=TRUE,\"\",VLOOKUP($R1890,TAXONOMY!$A$1:$G$959,7,FALSE))","v":""},{"$f":"IF(ISBLANK($R1890)=TRUE,\"\",VLOOKUP($R1890,TAXONOMY!$A$1:$G$959,6,FALSE))","v":""},{"$f":"IF(ISBLANK($R1890)=TRUE,\"\",VLOOKUP($R1890,TAXONOMY!$A$1:$G$959,5,FALSE))","v":""},{"$f":"IF(ISBLANK($R1890)=TRUE,\"\",VLOOKUP($R1890,TAXONOMY!$A$1:$G$959,4,FALSE))","v":""},{"$f":"IF(ISBLANK($R1890)=TRUE,\"\",VLOOKUP($R1890,TAXONOMY!$A$1:$G$959,3,FALSE))","v":""},{"$f":"IF(ISBLANK($R1890)=TRUE,\"\",VLOOKUP($R1890,TAXONOMY!$A$1:$H$959,2,FALSE))","v":""}]
[null,null,null,null,null,null,null,null,null,null,null,{"$f":"IF(ISBLANK($R1891)=TRUE,\"\",VLOOKUP($R1891,TAXONOMY!$A$1:$G$959,7,FALSE))","v":""},{"$f":"IF(ISBLANK($R1891)=TRUE,\"\",VLOOKUP($R1891,TAXONOMY!$A$1:$G$959,6,FALSE))","v":""},{"$f":"IF(ISBLANK($R1891)=TRUE,\"\",VLOOKUP($R1891,TAXONOMY!$A$1:$G$959,5,FALSE))","v":""},{"$f":"IF(ISBLANK($R1891)=TRUE,\"\",VLOOKUP($R1891,TAXONOMY!$A$1:$G$959,4,FALSE))","v":""},{"$f":"IF(ISBLANK($R1891)=TRUE,\"\",VLOOKUP($R1891,TAXONOMY!$A$1:$G$959,3,FALSE))","v":""},{"$f":"IF(ISBLANK($R1891)=TRUE,\"\",VLOOKUP($R1891,TAXONOMY!$A$1:$H$959,2,FALSE))","v":""}]
[null,null,null,null,null,null,null,null,null,null,null,{"$f":"IF(ISBLANK($R1892)=TRUE,\"\",VLOOKUP($R1892,TAXONOMY!$A$1:$G$959,7,FALSE))","v":""},{"$f":"IF(ISBLANK($R1892)=TRUE,\"\",VLOOKUP($R1892,TAXONOMY!$A$1:$G$959,6,FALSE))","v":""},{"$f":"IF(ISBLANK($R1892)=TRUE,\"\",VLOOKUP($R1892,TAXONOMY!$A$1:$G$959,5,FALSE))","v":""},{"$f":"IF(ISBLANK($R1892)=TRUE,\"\",VLOOKUP($R1892,TAXONOMY!$A$1:$G$959,4,FALSE))","v":""},{"$f":"IF(ISBLANK($R1892)=TRUE,\"\",VLOOKUP($R1892,TAXONOMY!$A$1:$G$959,3,FALSE))","v":""},{"$f":"IF(ISBLANK($R1892)=TRUE,\"\",VLOOKUP($R1892,TAXONOMY!$A$1:$H$959,2,FALSE))","v":""}]
[null,null,null,null,null,null,null,null,null,null,null,{"$f":"IF(ISBLANK($R1893)=TRUE,\"\",VLOOKUP($R1893,TAXONOMY!$A$1:$G$959,7,FALSE))","v":""},{"$f":"IF(ISBLANK($R1893)=TRUE,\"\",VLOOKUP($R1893,TAXONOMY!$A$1:$G$959,6,FALSE))","v":""},{"$f":"IF(ISBLANK($R1893)=TRUE,\"\",VLOOKUP($R1893,TAXONOMY!$A$1:$G$959,5,FALSE))","v":""},{"$f":"IF(ISBLANK($R1893)=TRUE,\"\",VLOOKUP($R1893,TAXONOMY!$A$1:$G$959,4,FALSE))","v":""},{"$f":"IF(ISBLANK($R1893)=TRUE,\"\",VLOOKUP($R1893,TAXONOMY!$A$1:$G$959,3,FALSE))","v":""},{"$f":"IF(ISBLANK($R1893)=TRUE,\"\",VLOOKUP($R1893,TAXONOMY!$A$1:$H$959,2,FALSE))","v":""}]
[null,null,null,null,null,null,null,null,null,null,null,{"$f":"IF(ISBLANK($R1894)=TRUE,\"\",VLOOKUP($R1894,TAXONOMY!$A$1:$G$959,7,FALSE))","v":""},{"$f":"IF(ISBLANK($R1894)=TRUE,\"\",VLOOKUP($R1894,TAXONOMY!$A$1:$G$959,6,FALSE))","v":""},{"$f":"IF(ISBLANK($R1894)=TRUE,\"\",VLOOKUP($R1894,TAXONOMY!$A$1:$G$959,5,FALSE))","v":""},{"$f":"IF(ISBLANK($R1894)=TRUE,\"\",VLOOKUP($R1894,TAXONOMY!$A$1:$G$959,4,FALSE))","v":""},{"$f":"IF(ISBLANK($R1894)=TRUE,\"\",VLOOKUP($R1894,TAXONOMY!$A$1:$G$959,3,FALSE))","v":""},{"$f":"IF(ISBLANK($R1894)=TRUE,\"\",VLOOKUP($R1894,TAXONOMY!$A$1:$H$959,2,FALSE))","v":""}]
[null,null,null,null,null,null,null,null,null,null,null,{"$f":"IF(ISBLANK($R1895)=TRUE,\"\",VLOOKUP($R1895,TAXONOMY!$A$1:$G$959,7,FALSE))","v":""},{"$f":"IF(ISBLANK($R1895)=TRUE,\"\",VLOOKUP($R1895,TAXONOMY!$A$1:$G$959,6,FALSE))","v":""},{"$f":"IF(ISBLANK($R1895)=TRUE,\"\",VLOOKUP($R1895,TAXONOMY!$A$1:$G$959,5,FALSE))","v":""},{"$f":"IF(ISBLANK($R1895)=TRUE,\"\",VLOOKUP($R1895,TAXONOMY!$A$1:$G$959,4,FALSE))","v":""},{"$f":"IF(ISBLANK($R1895)=TRUE,\"\",VLOOKUP($R1895,TAXONOMY!$A$1:$G$959,3,FALSE))","v":""},{"$f":"IF(ISBLANK($R1895)=TRUE,\"\",VLOOKUP($R1895,TAXONOMY!$A$1:$H$959,2,FALSE))","v":""}]
[null,null,null,null,null,null,null,null,null,null,null,{"$f":"IF(ISBLANK($R1896)=TRUE,\"\",VLOOKUP($R1896,TAXONOMY!$A$1:$G$959,7,FALSE))","v":""},{"$f":"IF(ISBLANK($R1896)=TRUE,\"\",VLOOKUP($R1896,TAXONOMY!$A$1:$G$959,6,FALSE))","v":""},{"$f":"IF(ISBLANK($R1896)=TRUE,\"\",VLOOKUP($R1896,TAXONOMY!$A$1:$G$959,5,FALSE))","v":""},{"$f":"IF(ISBLANK($R1896)=TRUE,\"\",VLOOKUP($R1896,TAXONOMY!$A$1:$G$959,4,FALSE))","v":""},{"$f":"IF(ISBLANK($R1896)=TRUE,\"\",VLOOKUP($R1896,TAXONOMY!$A$1:$G$959,3,FALSE))","v":""},{"$f":"IF(ISBLANK($R1896)=TRUE,\"\",VLOOKUP($R1896,TAXONOMY!$A$1:$H$959,2,FALSE))","v":""}]
[null,null,null,null,null,null,null,null,null,null,null,{"$f":"IF(ISBLANK($R1897)=TRUE,\"\",VLOOKUP($R1897,TAXONOMY!$A$1:$G$959,7,FALSE))","v":""},{"$f":"IF(ISBLANK($R1897)=TRUE,\"\",VLOOKUP($R1897,TAXONOMY!$A$1:$G$959,6,FALSE))","v":""},{"$f":"IF(ISBLANK($R1897)=TRUE,\"\",VLOOKUP($R1897,TAXONOMY!$A$1:$G$959,5,FALSE))","v":""},{"$f":"IF(ISBLANK($R1897)=TRUE,\"\",VLOOKUP($R1897,TAXONOMY!$A$1:$G$959,4,FALSE))","v":""},{"$f":"IF(ISBLANK($R1897)=TRUE,\"\",VLOOKUP($R1897,TAXONOMY!$A$1:$G$959,3,FALSE))","v":""},{"$f":"IF(ISBLANK($R1897)=TRUE,\"\",VLOOKUP($R1897,TAXONOMY!$A$1:$H$959,2,FALSE))","v":""}]
[null,null,null,null,null,null,null,null,null,null,null,{"$f":"IF(ISBLANK($R1898)=TRUE,\"\",VLOOKUP($R1898,TAXONOMY!$A$1:$G$959,7,FALSE))","v":""},{"$f":"IF(ISBLANK($R1898)=TRUE,\"\",VLOOKUP($R1898,TAXONOMY!$A$1:$G$959,6,FALSE))","v":""},{"$f":"IF(ISBLANK($R1898)=TRUE,\"\",VLOOKUP($R1898,TAXONOMY!$A$1:$G$959,5,FALSE))","v":""},{"$f":"IF(ISBLANK($R1898)=TRUE,\"\",VLOOKUP($R1898,TAXONOMY!$A$1:$G$959,4,FALSE))","v":""},{"$f":"IF(ISBLANK($R1898)=TRUE,\"\",VLOOKUP($R1898,TAXONOMY!$A$1:$G$959,3,FALSE))","v":""},{"$f":"IF(ISBLANK($R1898)=TRUE,\"\",VLOOKUP($R1898,TAXONOMY!$A$1:$H$959,2,FALSE))","v":""}]
[null,null,null,null,null,null,null,null,null,null,null,{"$f":"IF(ISBLANK($R1899)=TRUE,\"\",VLOOKUP($R1899,TAXONOMY!$A$1:$G$959,7,FALSE))","v":""},{"$f":"IF(ISBLANK($R1899)=TRUE,\"\",VLOOKUP($R1899,TAXONOMY!$A$1:$G$959,6,FALSE))","v":""},{"$f":"IF(ISBLANK($R1899)=TRUE,\"\",VLOOKUP($R1899,TAXONOMY!$A$1:$G$959,5,FALSE))","v":""},{"$f":"IF(ISBLANK($R1899)=TRUE,\"\",VLOOKUP($R1899,TAXONOMY!$A$1:$G$959,4,FALSE))","v":""},{"$f":"IF(ISBLANK($R1899)=TRUE,\"\",VLOOKUP($R1899,TAXONOMY!$A$1:$G$959,3,FALSE))","v":""},{"$f":"IF(ISBLANK($R1899)=TRUE,\"\",VLOOKUP($R1899,TAXONOMY!$A$1:$H$959,2,FALSE))","v":""}]
[null,null,null,null,null,null,null,null,null,null,null,{"$f":"IF(ISBLANK($R1900)=TRUE,\"\",VLOOKUP($R1900,TAXONOMY!$A$1:$G$959,7,FALSE))","v":""},{"$f":"IF(ISBLANK($R1900)=TRUE,\"\",VLOOKUP($R1900,TAXONOMY!$A$1:$G$959,6,FALSE))","v":""},{"$f":"IF(ISBLANK($R1900)=TRUE,\"\",VLOOKUP($R1900,TAXONOMY!$A$1:$G$959,5,FALSE))","v":""},{"$f":"IF(ISBLANK($R1900)=TRUE,\"\",VLOOKUP($R1900,TAXONOMY!$A$1:$G$959,4,FALSE))","v":""},{"$f":"IF(ISBLANK($R1900)=TRUE,\"\",VLOOKUP($R1900,TAXONOMY!$A$1:$G$959,3,FALSE))","v":""},{"$f":"IF(ISBLANK($R1900)=TRUE,\"\",VLOOKUP($R1900,TAXONOMY!$A$1:$H$959,2,FALSE))","v":""}]
[null,null,null,null,null,null,null,null,null,null,null,{"$f":"IF(ISBLANK($R1901)=TRUE,\"\",VLOOKUP($R1901,TAXONOMY!$A$1:$G$959,7,FALSE))","v":""},{"$f":"IF(ISBLANK($R1901)=TRUE,\"\",VLOOKUP($R1901,TAXONOMY!$A$1:$G$959,6,FALSE))","v":""},{"$f":"IF(ISBLANK($R1901)=TRUE,\"\",VLOOKUP($R1901,TAXONOMY!$A$1:$G$959,5,FALSE))","v":""},{"$f":"IF(ISBLANK($R1901)=TRUE,\"\",VLOOKUP($R1901,TAXONOMY!$A$1:$G$959,4,FALSE))","v":""},{"$f":"IF(ISBLANK($R1901)=TRUE,\"\",VLOOKUP($R1901,TAXONOMY!$A$1:$G$959,3,FALSE))","v":""},{"$f":"IF(ISBLANK($R1901)=TRUE,\"\",VLOOKUP($R1901,TAXONOMY!$A$1:$H$959,2,FALSE))","v":""}]
[null,null,null,null,null,null,null,null,null,null,null,{"$f":"IF(ISBLANK($R1902)=TRUE,\"\",VLOOKUP($R1902,TAXONOMY!$A$1:$G$959,7,FALSE))","v":""},{"$f":"IF(ISBLANK($R1902)=TRUE,\"\",VLOOKUP($R1902,TAXONOMY!$A$1:$G$959,6,FALSE))","v":""},{"$f":"IF(ISBLANK($R1902)=TRUE,\"\",VLOOKUP($R1902,TAXONOMY!$A$1:$G$959,5,FALSE))","v":""},{"$f":"IF(ISBLANK($R1902)=TRUE,\"\",VLOOKUP($R1902,TAXONOMY!$A$1:$G$959,4,FALSE))","v":""},{"$f":"IF(ISBLANK($R1902)=TRUE,\"\",VLOOKUP($R1902,TAXONOMY!$A$1:$G$959,3,FALSE))","v":""},{"$f":"IF(ISBLANK($R1902)=TRUE,\"\",VLOOKUP($R1902,TAXONOMY!$A$1:$H$959,2,FALSE))","v":""}]
[null,null,null,null,null,null,null,null,null,null,null,{"$f":"IF(ISBLANK($R1903)=TRUE,\"\",VLOOKUP($R1903,TAXONOMY!$A$1:$G$959,7,FALSE))","v":""},{"$f":"IF(ISBLANK($R1903)=TRUE,\"\",VLOOKUP($R1903,TAXONOMY!$A$1:$G$959,6,FALSE))","v":""},{"$f":"IF(ISBLANK($R1903)=TRUE,\"\",VLOOKUP($R1903,TAXONOMY!$A$1:$G$959,5,FALSE))","v":""},{"$f":"IF(ISBLANK($R1903)=TRUE,\"\",VLOOKUP($R1903,TAXONOMY!$A$1:$G$959,4,FALSE))","v":""},{"$f":"IF(ISBLANK($R1903)=TRUE,\"\",VLOOKUP($R1903,TAXONOMY!$A$1:$G$959,3,FALSE))","v":""},{"$f":"IF(ISBLANK($R1903)=TRUE,\"\",VLOOKUP($R1903,TAXONOMY!$A$1:$H$959,2,FALSE))","v":""}]
[null,null,null,null,null,null,null,null,null,null,null,{"$f":"IF(ISBLANK($R1904)=TRUE,\"\",VLOOKUP($R1904,TAXONOMY!$A$1:$G$959,7,FALSE))","v":""},{"$f":"IF(ISBLANK($R1904)=TRUE,\"\",VLOOKUP($R1904,TAXONOMY!$A$1:$G$959,6,FALSE))","v":""},{"$f":"IF(ISBLANK($R1904)=TRUE,\"\",VLOOKUP($R1904,TAXONOMY!$A$1:$G$959,5,FALSE))","v":""},{"$f":"IF(ISBLANK($R1904)=TRUE,\"\",VLOOKUP($R1904,TAXONOMY!$A$1:$G$959,4,FALSE))","v":""},{"$f":"IF(ISBLANK($R1904)=TRUE,\"\",VLOOKUP($R1904,TAXONOMY!$A$1:$G$959,3,FALSE))","v":""},{"$f":"IF(ISBLANK($R1904)=TRUE,\"\",VLOOKUP($R1904,TAXONOMY!$A$1:$H$959,2,FALSE))","v":""}]
[null,null,null,null,null,null,null,null,null,null,null,{"$f":"IF(ISBLANK($R1905)=TRUE,\"\",VLOOKUP($R1905,TAXONOMY!$A$1:$G$959,7,FALSE))","v":""},{"$f":"IF(ISBLANK($R1905)=TRUE,\"\",VLOOKUP($R1905,TAXONOMY!$A$1:$G$959,6,FALSE))","v":""},{"$f":"IF(ISBLANK($R1905)=TRUE,\"\",VLOOKUP($R1905,TAXONOMY!$A$1:$G$959,5,FALSE))","v":""},{"$f":"IF(ISBLANK($R1905)=TRUE,\"\",VLOOKUP($R1905,TAXONOMY!$A$1:$G$959,4,FALSE))","v":""},{"$f":"IF(ISBLANK($R1905)=TRUE,\"\",VLOOKUP($R1905,TAXONOMY!$A$1:$G$959,3,FALSE))","v":""},{"$f":"IF(ISBLANK($R1905)=TRUE,\"\",VLOOKUP($R1905,TAXONOMY!$A$1:$H$959,2,FALSE))","v":""}]
[null,null,null,null,null,null,null,null,null,null,null,{"$f":"IF(ISBLANK($R1906)=TRUE,\"\",VLOOKUP($R1906,TAXONOMY!$A$1:$G$959,7,FALSE))","v":""},{"$f":"IF(ISBLANK($R1906)=TRUE,\"\",VLOOKUP($R1906,TAXONOMY!$A$1:$G$959,6,FALSE))","v":""},{"$f":"IF(ISBLANK($R1906)=TRUE,\"\",VLOOKUP($R1906,TAXONOMY!$A$1:$G$959,5,FALSE))","v":""},{"$f":"IF(ISBLANK($R1906)=TRUE,\"\",VLOOKUP($R1906,TAXONOMY!$A$1:$G$959,4,FALSE))","v":""},{"$f":"IF(ISBLANK($R1906)=TRUE,\"\",VLOOKUP($R1906,TAXONOMY!$A$1:$G$959,3,FALSE))","v":""},{"$f":"IF(ISBLANK($R1906)=TRUE,\"\",VLOOKUP($R1906,TAXONOMY!$A$1:$H$959,2,FALSE))","v":""}]
[null,null,null,null,null,null,null,null,null,null,null,{"$f":"IF(ISBLANK($R1907)=TRUE,\"\",VLOOKUP($R1907,TAXONOMY!$A$1:$G$959,7,FALSE))","v":""},{"$f":"IF(ISBLANK($R1907)=TRUE,\"\",VLOOKUP($R1907,TAXONOMY!$A$1:$G$959,6,FALSE))","v":""},{"$f":"IF(ISBLANK($R1907)=TRUE,\"\",VLOOKUP($R1907,TAXONOMY!$A$1:$G$959,5,FALSE))","v":""},{"$f":"IF(ISBLANK($R1907)=TRUE,\"\",VLOOKUP($R1907,TAXONOMY!$A$1:$G$959,4,FALSE))","v":""},{"$f":"IF(ISBLANK($R1907)=TRUE,\"\",VLOOKUP($R1907,TAXONOMY!$A$1:$G$959,3,FALSE))","v":""},{"$f":"IF(ISBLANK($R1907)=TRUE,\"\",VLOOKUP($R1907,TAXONOMY!$A$1:$H$959,2,FALSE))","v":""}]
[null,null,null,null,null,null,null,null,null,null,null,{"$f":"IF(ISBLANK($R1908)=TRUE,\"\",VLOOKUP($R1908,TAXONOMY!$A$1:$G$959,7,FALSE))","v":""},{"$f":"IF(ISBLANK($R1908)=TRUE,\"\",VLOOKUP($R1908,TAXONOMY!$A$1:$G$959,6,FALSE))","v":""},{"$f":"IF(ISBLANK($R1908)=TRUE,\"\",VLOOKUP($R1908,TAXONOMY!$A$1:$G$959,5,FALSE))","v":""},{"$f":"IF(ISBLANK($R1908)=TRUE,\"\",VLOOKUP($R1908,TAXONOMY!$A$1:$G$959,4,FALSE))","v":""},{"$f":"IF(ISBLANK($R1908)=TRUE,\"\",VLOOKUP($R1908,TAXONOMY!$A$1:$G$959,3,FALSE))","v":""},{"$f":"IF(ISBLANK($R1908)=TRUE,\"\",VLOOKUP($R1908,TAXONOMY!$A$1:$H$959,2,FALSE))","v":""}]
[null,null,null,null,null,null,null,null,null,null,null,{"$f":"IF(ISBLANK($R1909)=TRUE,\"\",VLOOKUP($R1909,TAXONOMY!$A$1:$G$959,7,FALSE))","v":""},{"$f":"IF(ISBLANK($R1909)=TRUE,\"\",VLOOKUP($R1909,TAXONOMY!$A$1:$G$959,6,FALSE))","v":""},{"$f":"IF(ISBLANK($R1909)=TRUE,\"\",VLOOKUP($R1909,TAXONOMY!$A$1:$G$959,5,FALSE))","v":""},{"$f":"IF(ISBLANK($R1909)=TRUE,\"\",VLOOKUP($R1909,TAXONOMY!$A$1:$G$959,4,FALSE))","v":""},{"$f":"IF(ISBLANK($R1909)=TRUE,\"\",VLOOKUP($R1909,TAXONOMY!$A$1:$G$959,3,FALSE))","v":""},{"$f":"IF(ISBLANK($R1909)=TRUE,\"\",VLOOKUP($R1909,TAXONOMY!$A$1:$H$959,2,FALSE))","v":""}]
[null,null,null,null,null,null,null,null,null,null,null,{"$f":"IF(ISBLANK($R1910)=TRUE,\"\",VLOOKUP($R1910,TAXONOMY!$A$1:$G$959,7,FALSE))","v":""},{"$f":"IF(ISBLANK($R1910)=TRUE,\"\",VLOOKUP($R1910,TAXONOMY!$A$1:$G$959,6,FALSE))","v":""},{"$f":"IF(ISBLANK($R1910)=TRUE,\"\",VLOOKUP($R1910,TAXONOMY!$A$1:$G$959,5,FALSE))","v":""},{"$f":"IF(ISBLANK($R1910)=TRUE,\"\",VLOOKUP($R1910,TAXONOMY!$A$1:$G$959,4,FALSE))","v":""},{"$f":"IF(ISBLANK($R1910)=TRUE,\"\",VLOOKUP($R1910,TAXONOMY!$A$1:$G$959,3,FALSE))","v":""},{"$f":"IF(ISBLANK($R1910)=TRUE,\"\",VLOOKUP($R1910,TAXONOMY!$A$1:$H$959,2,FALSE))","v":""}]
[null,null,null,null,null,null,null,null,null,null,null,{"$f":"IF(ISBLANK($R1911)=TRUE,\"\",VLOOKUP($R1911,TAXONOMY!$A$1:$G$959,7,FALSE))","v":""},{"$f":"IF(ISBLANK($R1911)=TRUE,\"\",VLOOKUP($R1911,TAXONOMY!$A$1:$G$959,6,FALSE))","v":""},{"$f":"IF(ISBLANK($R1911)=TRUE,\"\",VLOOKUP($R1911,TAXONOMY!$A$1:$G$959,5,FALSE))","v":""},{"$f":"IF(ISBLANK($R1911)=TRUE,\"\",VLOOKUP($R1911,TAXONOMY!$A$1:$G$959,4,FALSE))","v":""},{"$f":"IF(ISBLANK($R1911)=TRUE,\"\",VLOOKUP($R1911,TAXONOMY!$A$1:$G$959,3,FALSE))","v":""},{"$f":"IF(ISBLANK($R1911)=TRUE,\"\",VLOOKUP($R1911,TAXONOMY!$A$1:$H$959,2,FALSE))","v":""}]
[null,null,null,null,null,null,null,null,null,null,null,{"$f":"IF(ISBLANK($R1912)=TRUE,\"\",VLOOKUP($R1912,TAXONOMY!$A$1:$G$959,7,FALSE))","v":""},{"$f":"IF(ISBLANK($R1912)=TRUE,\"\",VLOOKUP($R1912,TAXONOMY!$A$1:$G$959,6,FALSE))","v":""},{"$f":"IF(ISBLANK($R1912)=TRUE,\"\",VLOOKUP($R1912,TAXONOMY!$A$1:$G$959,5,FALSE))","v":""},{"$f":"IF(ISBLANK($R1912)=TRUE,\"\",VLOOKUP($R1912,TAXONOMY!$A$1:$G$959,4,FALSE))","v":""},{"$f":"IF(ISBLANK($R1912)=TRUE,\"\",VLOOKUP($R1912,TAXONOMY!$A$1:$G$959,3,FALSE))","v":""},{"$f":"IF(ISBLANK($R1912)=TRUE,\"\",VLOOKUP($R1912,TAXONOMY!$A$1:$H$959,2,FALSE))","v":""}]
[null,null,null,null,null,null,null,null,null,null,null,{"$f":"IF(ISBLANK($R1913)=TRUE,\"\",VLOOKUP($R1913,TAXONOMY!$A$1:$G$959,7,FALSE))","v":""},{"$f":"IF(ISBLANK($R1913)=TRUE,\"\",VLOOKUP($R1913,TAXONOMY!$A$1:$G$959,6,FALSE))","v":""},{"$f":"IF(ISBLANK($R1913)=TRUE,\"\",VLOOKUP($R1913,TAXONOMY!$A$1:$G$959,5,FALSE))","v":""},{"$f":"IF(ISBLANK($R1913)=TRUE,\"\",VLOOKUP($R1913,TAXONOMY!$A$1:$G$959,4,FALSE))","v":""},{"$f":"IF(ISBLANK($R1913)=TRUE,\"\",VLOOKUP($R1913,TAXONOMY!$A$1:$G$959,3,FALSE))","v":""},{"$f":"IF(ISBLANK($R1913)=TRUE,\"\",VLOOKUP($R1913,TAXONOMY!$A$1:$H$959,2,FALSE))","v":""}]
[null,null,null,null,null,null,null,null,null,null,null,{"$f":"IF(ISBLANK($R1914)=TRUE,\"\",VLOOKUP($R1914,TAXONOMY!$A$1:$G$959,7,FALSE))","v":""},{"$f":"IF(ISBLANK($R1914)=TRUE,\"\",VLOOKUP($R1914,TAXONOMY!$A$1:$G$959,6,FALSE))","v":""},{"$f":"IF(ISBLANK($R1914)=TRUE,\"\",VLOOKUP($R1914,TAXONOMY!$A$1:$G$959,5,FALSE))","v":""},{"$f":"IF(ISBLANK($R1914)=TRUE,\"\",VLOOKUP($R1914,TAXONOMY!$A$1:$G$959,4,FALSE))","v":""},{"$f":"IF(ISBLANK($R1914)=TRUE,\"\",VLOOKUP($R1914,TAXONOMY!$A$1:$G$959,3,FALSE))","v":""},{"$f":"IF(ISBLANK($R1914)=TRUE,\"\",VLOOKUP($R1914,TAXONOMY!$A$1:$H$959,2,FALSE))","v":""}]
[null,null,null,null,null,null,null,null,null,null,null,{"$f":"IF(ISBLANK($R1915)=TRUE,\"\",VLOOKUP($R1915,TAXONOMY!$A$1:$G$959,7,FALSE))","v":""},{"$f":"IF(ISBLANK($R1915)=TRUE,\"\",VLOOKUP($R1915,TAXONOMY!$A$1:$G$959,6,FALSE))","v":""},{"$f":"IF(ISBLANK($R1915)=TRUE,\"\",VLOOKUP($R1915,TAXONOMY!$A$1:$G$959,5,FALSE))","v":""},{"$f":"IF(ISBLANK($R1915)=TRUE,\"\",VLOOKUP($R1915,TAXONOMY!$A$1:$G$959,4,FALSE))","v":""},{"$f":"IF(ISBLANK($R1915)=TRUE,\"\",VLOOKUP($R1915,TAXONOMY!$A$1:$G$959,3,FALSE))","v":""},{"$f":"IF(ISBLANK($R1915)=TRUE,\"\",VLOOKUP($R1915,TAXONOMY!$A$1:$H$959,2,FALSE))","v":""}]
[null,null,null,null,null,null,null,null,null,null,null,{"$f":"IF(ISBLANK($R1916)=TRUE,\"\",VLOOKUP($R1916,TAXONOMY!$A$1:$G$959,7,FALSE))","v":""},{"$f":"IF(ISBLANK($R1916)=TRUE,\"\",VLOOKUP($R1916,TAXONOMY!$A$1:$G$959,6,FALSE))","v":""},{"$f":"IF(ISBLANK($R1916)=TRUE,\"\",VLOOKUP($R1916,TAXONOMY!$A$1:$G$959,5,FALSE))","v":""},{"$f":"IF(ISBLANK($R1916)=TRUE,\"\",VLOOKUP($R1916,TAXONOMY!$A$1:$G$959,4,FALSE))","v":""},{"$f":"IF(ISBLANK($R1916)=TRUE,\"\",VLOOKUP($R1916,TAXONOMY!$A$1:$G$959,3,FALSE))","v":""},{"$f":"IF(ISBLANK($R1916)=TRUE,\"\",VLOOKUP($R1916,TAXONOMY!$A$1:$H$959,2,FALSE))","v":""}]
[null,null,null,null,null,null,null,null,null,null,null,{"$f":"IF(ISBLANK($R1917)=TRUE,\"\",VLOOKUP($R1917,TAXONOMY!$A$1:$G$959,7,FALSE))","v":""},{"$f":"IF(ISBLANK($R1917)=TRUE,\"\",VLOOKUP($R1917,TAXONOMY!$A$1:$G$959,6,FALSE))","v":""},{"$f":"IF(ISBLANK($R1917)=TRUE,\"\",VLOOKUP($R1917,TAXONOMY!$A$1:$G$959,5,FALSE))","v":""},{"$f":"IF(ISBLANK($R1917)=TRUE,\"\",VLOOKUP($R1917,TAXONOMY!$A$1:$G$959,4,FALSE))","v":""},{"$f":"IF(ISBLANK($R1917)=TRUE,\"\",VLOOKUP($R1917,TAXONOMY!$A$1:$G$959,3,FALSE))","v":""},{"$f":"IF(ISBLANK($R1917)=TRUE,\"\",VLOOKUP($R1917,TAXONOMY!$A$1:$H$959,2,FALSE))","v":""}]
[null,null,null,null,null,null,null,null,null,null,null,{"$f":"IF(ISBLANK($R1918)=TRUE,\"\",VLOOKUP($R1918,TAXONOMY!$A$1:$G$959,7,FALSE))","v":""},{"$f":"IF(ISBLANK($R1918)=TRUE,\"\",VLOOKUP($R1918,TAXONOMY!$A$1:$G$959,6,FALSE))","v":""},{"$f":"IF(ISBLANK($R1918)=TRUE,\"\",VLOOKUP($R1918,TAXONOMY!$A$1:$G$959,5,FALSE))","v":""},{"$f":"IF(ISBLANK($R1918)=TRUE,\"\",VLOOKUP($R1918,TAXONOMY!$A$1:$G$959,4,FALSE))","v":""},{"$f":"IF(ISBLANK($R1918)=TRUE,\"\",VLOOKUP($R1918,TAXONOMY!$A$1:$G$959,3,FALSE))","v":""},{"$f":"IF(ISBLANK($R1918)=TRUE,\"\",VLOOKUP($R1918,TAXONOMY!$A$1:$H$959,2,FALSE))","v":""}]
[null,null,null,null,null,null,null,null,null,null,null,{"$f":"IF(ISBLANK($R1919)=TRUE,\"\",VLOOKUP($R1919,TAXONOMY!$A$1:$G$959,7,FALSE))","v":""},{"$f":"IF(ISBLANK($R1919)=TRUE,\"\",VLOOKUP($R1919,TAXONOMY!$A$1:$G$959,6,FALSE))","v":""},{"$f":"IF(ISBLANK($R1919)=TRUE,\"\",VLOOKUP($R1919,TAXONOMY!$A$1:$G$959,5,FALSE))","v":""},{"$f":"IF(ISBLANK($R1919)=TRUE,\"\",VLOOKUP($R1919,TAXONOMY!$A$1:$G$959,4,FALSE))","v":""},{"$f":"IF(ISBLANK($R1919)=TRUE,\"\",VLOOKUP($R1919,TAXONOMY!$A$1:$G$959,3,FALSE))","v":""},{"$f":"IF(ISBLANK($R1919)=TRUE,\"\",VLOOKUP($R1919,TAXONOMY!$A$1:$H$959,2,FALSE))","v":""}]
[null,null,null,null,null,null,null,null,null,null,null,{"$f":"IF(ISBLANK($R1920)=TRUE,\"\",VLOOKUP($R1920,TAXONOMY!$A$1:$G$959,7,FALSE))","v":""},{"$f":"IF(ISBLANK($R1920)=TRUE,\"\",VLOOKUP($R1920,TAXONOMY!$A$1:$G$959,6,FALSE))","v":""},{"$f":"IF(ISBLANK($R1920)=TRUE,\"\",VLOOKUP($R1920,TAXONOMY!$A$1:$G$959,5,FALSE))","v":""},{"$f":"IF(ISBLANK($R1920)=TRUE,\"\",VLOOKUP($R1920,TAXONOMY!$A$1:$G$959,4,FALSE))","v":""},{"$f":"IF(ISBLANK($R1920)=TRUE,\"\",VLOOKUP($R1920,TAXONOMY!$A$1:$G$959,3,FALSE))","v":""},{"$f":"IF(ISBLANK($R1920)=TRUE,\"\",VLOOKUP($R1920,TAXONOMY!$A$1:$H$959,2,FALSE))","v":""}]
[null,null,null,null,null,null,null,null,null,null,null,{"$f":"IF(ISBLANK($R1921)=TRUE,\"\",VLOOKUP($R1921,TAXONOMY!$A$1:$G$959,7,FALSE))","v":""},{"$f":"IF(ISBLANK($R1921)=TRUE,\"\",VLOOKUP($R1921,TAXONOMY!$A$1:$G$959,6,FALSE))","v":""},{"$f":"IF(ISBLANK($R1921)=TRUE,\"\",VLOOKUP($R1921,TAXONOMY!$A$1:$G$959,5,FALSE))","v":""},{"$f":"IF(ISBLANK($R1921)=TRUE,\"\",VLOOKUP($R1921,TAXONOMY!$A$1:$G$959,4,FALSE))","v":""},{"$f":"IF(ISBLANK($R1921)=TRUE,\"\",VLOOKUP($R1921,TAXONOMY!$A$1:$G$959,3,FALSE))","v":""},{"$f":"IF(ISBLANK($R1921)=TRUE,\"\",VLOOKUP($R1921,TAXONOMY!$A$1:$H$959,2,FALSE))","v":""}]
[null,null,null,null,null,null,null,null,null,null,null,{"$f":"IF(ISBLANK($R1922)=TRUE,\"\",VLOOKUP($R1922,TAXONOMY!$A$1:$G$959,7,FALSE))","v":""},{"$f":"IF(ISBLANK($R1922)=TRUE,\"\",VLOOKUP($R1922,TAXONOMY!$A$1:$G$959,6,FALSE))","v":""},{"$f":"IF(ISBLANK($R1922)=TRUE,\"\",VLOOKUP($R1922,TAXONOMY!$A$1:$G$959,5,FALSE))","v":""},{"$f":"IF(ISBLANK($R1922)=TRUE,\"\",VLOOKUP($R1922,TAXONOMY!$A$1:$G$959,4,FALSE))","v":""},{"$f":"IF(ISBLANK($R1922)=TRUE,\"\",VLOOKUP($R1922,TAXONOMY!$A$1:$G$959,3,FALSE))","v":""},{"$f":"IF(ISBLANK($R1922)=TRUE,\"\",VLOOKUP($R1922,TAXONOMY!$A$1:$H$959,2,FALSE))","v":""}]
[null,null,null,null,null,null,null,null,null,null,null,{"$f":"IF(ISBLANK($R1923)=TRUE,\"\",VLOOKUP($R1923,TAXONOMY!$A$1:$G$959,7,FALSE))","v":""},{"$f":"IF(ISBLANK($R1923)=TRUE,\"\",VLOOKUP($R1923,TAXONOMY!$A$1:$G$959,6,FALSE))","v":""},{"$f":"IF(ISBLANK($R1923)=TRUE,\"\",VLOOKUP($R1923,TAXONOMY!$A$1:$G$959,5,FALSE))","v":""},{"$f":"IF(ISBLANK($R1923)=TRUE,\"\",VLOOKUP($R1923,TAXONOMY!$A$1:$G$959,4,FALSE))","v":""},{"$f":"IF(ISBLANK($R1923)=TRUE,\"\",VLOOKUP($R1923,TAXONOMY!$A$1:$G$959,3,FALSE))","v":""},{"$f":"IF(ISBLANK($R1923)=TRUE,\"\",VLOOKUP($R1923,TAXONOMY!$A$1:$H$959,2,FALSE))","v":""}]
[null,null,null,null,null,null,null,null,null,null,null,{"$f":"IF(ISBLANK($R1924)=TRUE,\"\",VLOOKUP($R1924,TAXONOMY!$A$1:$G$959,7,FALSE))","v":""},{"$f":"IF(ISBLANK($R1924)=TRUE,\"\",VLOOKUP($R1924,TAXONOMY!$A$1:$G$959,6,FALSE))","v":""},{"$f":"IF(ISBLANK($R1924)=TRUE,\"\",VLOOKUP($R1924,TAXONOMY!$A$1:$G$959,5,FALSE))","v":""},{"$f":"IF(ISBLANK($R1924)=TRUE,\"\",VLOOKUP($R1924,TAXONOMY!$A$1:$G$959,4,FALSE))","v":""},{"$f":"IF(ISBLANK($R1924)=TRUE,\"\",VLOOKUP($R1924,TAXONOMY!$A$1:$G$959,3,FALSE))","v":""},{"$f":"IF(ISBLANK($R1924)=TRUE,\"\",VLOOKUP($R1924,TAXONOMY!$A$1:$H$959,2,FALSE))","v":""}]
[null,null,null,null,null,null,null,null,null,null,null,{"$f":"IF(ISBLANK($R1925)=TRUE,\"\",VLOOKUP($R1925,TAXONOMY!$A$1:$G$959,7,FALSE))","v":""},{"$f":"IF(ISBLANK($R1925)=TRUE,\"\",VLOOKUP($R1925,TAXONOMY!$A$1:$G$959,6,FALSE))","v":""},{"$f":"IF(ISBLANK($R1925)=TRUE,\"\",VLOOKUP($R1925,TAXONOMY!$A$1:$G$959,5,FALSE))","v":""},{"$f":"IF(ISBLANK($R1925)=TRUE,\"\",VLOOKUP($R1925,TAXONOMY!$A$1:$G$959,4,FALSE))","v":""},{"$f":"IF(ISBLANK($R1925)=TRUE,\"\",VLOOKUP($R1925,TAXONOMY!$A$1:$G$959,3,FALSE))","v":""},{"$f":"IF(ISBLANK($R1925)=TRUE,\"\",VLOOKUP($R1925,TAXONOMY!$A$1:$H$959,2,FALSE))","v":""}]
[null,null,null,null,null,null,null,null,null,null,null,{"$f":"IF(ISBLANK($R1926)=TRUE,\"\",VLOOKUP($R1926,TAXONOMY!$A$1:$G$959,7,FALSE))","v":""},{"$f":"IF(ISBLANK($R1926)=TRUE,\"\",VLOOKUP($R1926,TAXONOMY!$A$1:$G$959,6,FALSE))","v":""},{"$f":"IF(ISBLANK($R1926)=TRUE,\"\",VLOOKUP($R1926,TAXONOMY!$A$1:$G$959,5,FALSE))","v":""},{"$f":"IF(ISBLANK($R1926)=TRUE,\"\",VLOOKUP($R1926,TAXONOMY!$A$1:$G$959,4,FALSE))","v":""},{"$f":"IF(ISBLANK($R1926)=TRUE,\"\",VLOOKUP($R1926,TAXONOMY!$A$1:$G$959,3,FALSE))","v":""},{"$f":"IF(ISBLANK($R1926)=TRUE,\"\",VLOOKUP($R1926,TAXONOMY!$A$1:$H$959,2,FALSE))","v":""}]
[null,null,null,null,null,null,null,null,null,null,null,{"$f":"IF(ISBLANK($R1927)=TRUE,\"\",VLOOKUP($R1927,TAXONOMY!$A$1:$G$959,7,FALSE))","v":""},{"$f":"IF(ISBLANK($R1927)=TRUE,\"\",VLOOKUP($R1927,TAXONOMY!$A$1:$G$959,6,FALSE))","v":""},{"$f":"IF(ISBLANK($R1927)=TRUE,\"\",VLOOKUP($R1927,TAXONOMY!$A$1:$G$959,5,FALSE))","v":""},{"$f":"IF(ISBLANK($R1927)=TRUE,\"\",VLOOKUP($R1927,TAXONOMY!$A$1:$G$959,4,FALSE))","v":""},{"$f":"IF(ISBLANK($R1927)=TRUE,\"\",VLOOKUP($R1927,TAXONOMY!$A$1:$G$959,3,FALSE))","v":""},{"$f":"IF(ISBLANK($R1927)=TRUE,\"\",VLOOKUP($R1927,TAXONOMY!$A$1:$H$959,2,FALSE))","v":""}]
[null,null,null,null,null,null,null,null,null,null,null,{"$f":"IF(ISBLANK($R1928)=TRUE,\"\",VLOOKUP($R1928,TAXONOMY!$A$1:$G$959,7,FALSE))","v":""},{"$f":"IF(ISBLANK($R1928)=TRUE,\"\",VLOOKUP($R1928,TAXONOMY!$A$1:$G$959,6,FALSE))","v":""},{"$f":"IF(ISBLANK($R1928)=TRUE,\"\",VLOOKUP($R1928,TAXONOMY!$A$1:$G$959,5,FALSE))","v":""},{"$f":"IF(ISBLANK($R1928)=TRUE,\"\",VLOOKUP($R1928,TAXONOMY!$A$1:$G$959,4,FALSE))","v":""},{"$f":"IF(ISBLANK($R1928)=TRUE,\"\",VLOOKUP($R1928,TAXONOMY!$A$1:$G$959,3,FALSE))","v":""},{"$f":"IF(ISBLANK($R1928)=TRUE,\"\",VLOOKUP($R1928,TAXONOMY!$A$1:$H$959,2,FALSE))","v":""}]
[null,null,null,null,null,null,null,null,null,null,null,{"$f":"IF(ISBLANK($R1929)=TRUE,\"\",VLOOKUP($R1929,TAXONOMY!$A$1:$G$959,7,FALSE))","v":""},{"$f":"IF(ISBLANK($R1929)=TRUE,\"\",VLOOKUP($R1929,TAXONOMY!$A$1:$G$959,6,FALSE))","v":""},{"$f":"IF(ISBLANK($R1929)=TRUE,\"\",VLOOKUP($R1929,TAXONOMY!$A$1:$G$959,5,FALSE))","v":""},{"$f":"IF(ISBLANK($R1929)=TRUE,\"\",VLOOKUP($R1929,TAXONOMY!$A$1:$G$959,4,FALSE))","v":""},{"$f":"IF(ISBLANK($R1929)=TRUE,\"\",VLOOKUP($R1929,TAXONOMY!$A$1:$G$959,3,FALSE))","v":""},{"$f":"IF(ISBLANK($R1929)=TRUE,\"\",VLOOKUP($R1929,TAXONOMY!$A$1:$H$959,2,FALSE))","v":""}]
[null,null,null,null,null,null,null,null,null,null,null,{"$f":"IF(ISBLANK($R1930)=TRUE,\"\",VLOOKUP($R1930,TAXONOMY!$A$1:$G$959,7,FALSE))","v":""},{"$f":"IF(ISBLANK($R1930)=TRUE,\"\",VLOOKUP($R1930,TAXONOMY!$A$1:$G$959,6,FALSE))","v":""},{"$f":"IF(ISBLANK($R1930)=TRUE,\"\",VLOOKUP($R1930,TAXONOMY!$A$1:$G$959,5,FALSE))","v":""},{"$f":"IF(ISBLANK($R1930)=TRUE,\"\",VLOOKUP($R1930,TAXONOMY!$A$1:$G$959,4,FALSE))","v":""},{"$f":"IF(ISBLANK($R1930)=TRUE,\"\",VLOOKUP($R1930,TAXONOMY!$A$1:$G$959,3,FALSE))","v":""},{"$f":"IF(ISBLANK($R1930)=TRUE,\"\",VLOOKUP($R1930,TAXONOMY!$A$1:$H$959,2,FALSE))","v":""}]
[null,null,null,null,null,null,null,null,null,null,null,{"$f":"IF(ISBLANK($R1931)=TRUE,\"\",VLOOKUP($R1931,TAXONOMY!$A$1:$G$959,7,FALSE))","v":""},{"$f":"IF(ISBLANK($R1931)=TRUE,\"\",VLOOKUP($R1931,TAXONOMY!$A$1:$G$959,6,FALSE))","v":""},{"$f":"IF(ISBLANK($R1931)=TRUE,\"\",VLOOKUP($R1931,TAXONOMY!$A$1:$G$959,5,FALSE))","v":""},{"$f":"IF(ISBLANK($R1931)=TRUE,\"\",VLOOKUP($R1931,TAXONOMY!$A$1:$G$959,4,FALSE))","v":""},{"$f":"IF(ISBLANK($R1931)=TRUE,\"\",VLOOKUP($R1931,TAXONOMY!$A$1:$G$959,3,FALSE))","v":""},{"$f":"IF(ISBLANK($R1931)=TRUE,\"\",VLOOKUP($R1931,TAXONOMY!$A$1:$H$959,2,FALSE))","v":""}]
[null,null,null,null,null,null,null,null,null,null,null,{"$f":"IF(ISBLANK($R1932)=TRUE,\"\",VLOOKUP($R1932,TAXONOMY!$A$1:$G$959,7,FALSE))","v":""},{"$f":"IF(ISBLANK($R1932)=TRUE,\"\",VLOOKUP($R1932,TAXONOMY!$A$1:$G$959,6,FALSE))","v":""},{"$f":"IF(ISBLANK($R1932)=TRUE,\"\",VLOOKUP($R1932,TAXONOMY!$A$1:$G$959,5,FALSE))","v":""},{"$f":"IF(ISBLANK($R1932)=TRUE,\"\",VLOOKUP($R1932,TAXONOMY!$A$1:$G$959,4,FALSE))","v":""},{"$f":"IF(ISBLANK($R1932)=TRUE,\"\",VLOOKUP($R1932,TAXONOMY!$A$1:$G$959,3,FALSE))","v":""},{"$f":"IF(ISBLANK($R1932)=TRUE,\"\",VLOOKUP($R1932,TAXONOMY!$A$1:$H$959,2,FALSE))","v":""}]
[null,null,null,null,null,null,null,null,null,null,null,{"$f":"IF(ISBLANK($R1933)=TRUE,\"\",VLOOKUP($R1933,TAXONOMY!$A$1:$G$959,7,FALSE))","v":""},{"$f":"IF(ISBLANK($R1933)=TRUE,\"\",VLOOKUP($R1933,TAXONOMY!$A$1:$G$959,6,FALSE))","v":""},{"$f":"IF(ISBLANK($R1933)=TRUE,\"\",VLOOKUP($R1933,TAXONOMY!$A$1:$G$959,5,FALSE))","v":""},{"$f":"IF(ISBLANK($R1933)=TRUE,\"\",VLOOKUP($R1933,TAXONOMY!$A$1:$G$959,4,FALSE))","v":""},{"$f":"IF(ISBLANK($R1933)=TRUE,\"\",VLOOKUP($R1933,TAXONOMY!$A$1:$G$959,3,FALSE))","v":""},{"$f":"IF(ISBLANK($R1933)=TRUE,\"\",VLOOKUP($R1933,TAXONOMY!$A$1:$H$959,2,FALSE))","v":""}]
[null,null,null,null,null,null,null,null,null,null,null,{"$f":"IF(ISBLANK($R1934)=TRUE,\"\",VLOOKUP($R1934,TAXONOMY!$A$1:$G$959,7,FALSE))","v":""},{"$f":"IF(ISBLANK($R1934)=TRUE,\"\",VLOOKUP($R1934,TAXONOMY!$A$1:$G$959,6,FALSE))","v":""},{"$f":"IF(ISBLANK($R1934)=TRUE,\"\",VLOOKUP($R1934,TAXONOMY!$A$1:$G$959,5,FALSE))","v":""},{"$f":"IF(ISBLANK($R1934)=TRUE,\"\",VLOOKUP($R1934,TAXONOMY!$A$1:$G$959,4,FALSE))","v":""},{"$f":"IF(ISBLANK($R1934)=TRUE,\"\",VLOOKUP($R1934,TAXONOMY!$A$1:$G$959,3,FALSE))","v":""},{"$f":"IF(ISBLANK($R1934)=TRUE,\"\",VLOOKUP($R1934,TAXONOMY!$A$1:$H$959,2,FALSE))","v":""}]
[null,null,null,null,null,null,null,null,null,null,null,{"$f":"IF(ISBLANK($R1935)=TRUE,\"\",VLOOKUP($R1935,TAXONOMY!$A$1:$G$959,7,FALSE))","v":""},{"$f":"IF(ISBLANK($R1935)=TRUE,\"\",VLOOKUP($R1935,TAXONOMY!$A$1:$G$959,6,FALSE))","v":""},{"$f":"IF(ISBLANK($R1935)=TRUE,\"\",VLOOKUP($R1935,TAXONOMY!$A$1:$G$959,5,FALSE))","v":""},{"$f":"IF(ISBLANK($R1935)=TRUE,\"\",VLOOKUP($R1935,TAXONOMY!$A$1:$G$959,4,FALSE))","v":""},{"$f":"IF(ISBLANK($R1935)=TRUE,\"\",VLOOKUP($R1935,TAXONOMY!$A$1:$G$959,3,FALSE))","v":""},{"$f":"IF(ISBLANK($R1935)=TRUE,\"\",VLOOKUP($R1935,TAXONOMY!$A$1:$H$959,2,FALSE))","v":""}]
[null,null,null,null,null,null,null,null,null,null,null,{"$f":"IF(ISBLANK($R1936)=TRUE,\"\",VLOOKUP($R1936,TAXONOMY!$A$1:$G$959,7,FALSE))","v":""},{"$f":"IF(ISBLANK($R1936)=TRUE,\"\",VLOOKUP($R1936,TAXONOMY!$A$1:$G$959,6,FALSE))","v":""},{"$f":"IF(ISBLANK($R1936)=TRUE,\"\",VLOOKUP($R1936,TAXONOMY!$A$1:$G$959,5,FALSE))","v":""},{"$f":"IF(ISBLANK($R1936)=TRUE,\"\",VLOOKUP($R1936,TAXONOMY!$A$1:$G$959,4,FALSE))","v":""},{"$f":"IF(ISBLANK($R1936)=TRUE,\"\",VLOOKUP($R1936,TAXONOMY!$A$1:$G$959,3,FALSE))","v":""},{"$f":"IF(ISBLANK($R1936)=TRUE,\"\",VLOOKUP($R1936,TAXONOMY!$A$1:$H$959,2,FALSE))","v":""}]
[null,null,null,null,null,null,null,null,null,null,null,{"$f":"IF(ISBLANK($R1937)=TRUE,\"\",VLOOKUP($R1937,TAXONOMY!$A$1:$G$959,7,FALSE))","v":""},{"$f":"IF(ISBLANK($R1937)=TRUE,\"\",VLOOKUP($R1937,TAXONOMY!$A$1:$G$959,6,FALSE))","v":""},{"$f":"IF(ISBLANK($R1937)=TRUE,\"\",VLOOKUP($R1937,TAXONOMY!$A$1:$G$959,5,FALSE))","v":""},{"$f":"IF(ISBLANK($R1937)=TRUE,\"\",VLOOKUP($R1937,TAXONOMY!$A$1:$G$959,4,FALSE))","v":""},{"$f":"IF(ISBLANK($R1937)=TRUE,\"\",VLOOKUP($R1937,TAXONOMY!$A$1:$G$959,3,FALSE))","v":""},{"$f":"IF(ISBLANK($R1937)=TRUE,\"\",VLOOKUP($R1937,TAXONOMY!$A$1:$H$959,2,FALSE))","v":""}]
[null,null,null,null,null,null,null,null,null,null,null,{"$f":"IF(ISBLANK($R1938)=TRUE,\"\",VLOOKUP($R1938,TAXONOMY!$A$1:$G$959,7,FALSE))","v":""},{"$f":"IF(ISBLANK($R1938)=TRUE,\"\",VLOOKUP($R1938,TAXONOMY!$A$1:$G$959,6,FALSE))","v":""},{"$f":"IF(ISBLANK($R1938)=TRUE,\"\",VLOOKUP($R1938,TAXONOMY!$A$1:$G$959,5,FALSE))","v":""},{"$f":"IF(ISBLANK($R1938)=TRUE,\"\",VLOOKUP($R1938,TAXONOMY!$A$1:$G$959,4,FALSE))","v":""},{"$f":"IF(ISBLANK($R1938)=TRUE,\"\",VLOOKUP($R1938,TAXONOMY!$A$1:$G$959,3,FALSE))","v":""},{"$f":"IF(ISBLANK($R1938)=TRUE,\"\",VLOOKUP($R1938,TAXONOMY!$A$1:$H$959,2,FALSE))","v":""}]
[null,null,null,null,null,null,null,null,null,null,null,{"$f":"IF(ISBLANK($R1939)=TRUE,\"\",VLOOKUP($R1939,TAXONOMY!$A$1:$G$959,7,FALSE))","v":""},{"$f":"IF(ISBLANK($R1939)=TRUE,\"\",VLOOKUP($R1939,TAXONOMY!$A$1:$G$959,6,FALSE))","v":""},{"$f":"IF(ISBLANK($R1939)=TRUE,\"\",VLOOKUP($R1939,TAXONOMY!$A$1:$G$959,5,FALSE))","v":""},{"$f":"IF(ISBLANK($R1939)=TRUE,\"\",VLOOKUP($R1939,TAXONOMY!$A$1:$G$959,4,FALSE))","v":""},{"$f":"IF(ISBLANK($R1939)=TRUE,\"\",VLOOKUP($R1939,TAXONOMY!$A$1:$G$959,3,FALSE))","v":""},{"$f":"IF(ISBLANK($R1939)=TRUE,\"\",VLOOKUP($R1939,TAXONOMY!$A$1:$H$959,2,FALSE))","v":""}]
[null,null,null,null,null,null,null,null,null,null,null,{"$f":"IF(ISBLANK($R1940)=TRUE,\"\",VLOOKUP($R1940,TAXONOMY!$A$1:$G$959,7,FALSE))","v":""},{"$f":"IF(ISBLANK($R1940)=TRUE,\"\",VLOOKUP($R1940,TAXONOMY!$A$1:$G$959,6,FALSE))","v":""},{"$f":"IF(ISBLANK($R1940)=TRUE,\"\",VLOOKUP($R1940,TAXONOMY!$A$1:$G$959,5,FALSE))","v":""},{"$f":"IF(ISBLANK($R1940)=TRUE,\"\",VLOOKUP($R1940,TAXONOMY!$A$1:$G$959,4,FALSE))","v":""},{"$f":"IF(ISBLANK($R1940)=TRUE,\"\",VLOOKUP($R1940,TAXONOMY!$A$1:$G$959,3,FALSE))","v":""},{"$f":"IF(ISBLANK($R1940)=TRUE,\"\",VLOOKUP($R1940,TAXONOMY!$A$1:$H$959,2,FALSE))","v":""}]
[null,null,null,null,null,null,null,null,null,null,null,{"$f":"IF(ISBLANK($R1941)=TRUE,\"\",VLOOKUP($R1941,TAXONOMY!$A$1:$G$959,7,FALSE))","v":""},{"$f":"IF(ISBLANK($R1941)=TRUE,\"\",VLOOKUP($R1941,TAXONOMY!$A$1:$G$959,6,FALSE))","v":""},{"$f":"IF(ISBLANK($R1941)=TRUE,\"\",VLOOKUP($R1941,TAXONOMY!$A$1:$G$959,5,FALSE))","v":""},{"$f":"IF(ISBLANK($R1941)=TRUE,\"\",VLOOKUP($R1941,TAXONOMY!$A$1:$G$959,4,FALSE))","v":""},{"$f":"IF(ISBLANK($R1941)=TRUE,\"\",VLOOKUP($R1941,TAXONOMY!$A$1:$G$959,3,FALSE))","v":""},{"$f":"IF(ISBLANK($R1941)=TRUE,\"\",VLOOKUP($R1941,TAXONOMY!$A$1:$H$959,2,FALSE))","v":""}]
[null,null,null,null,null,null,null,null,null,null,null,{"$f":"IF(ISBLANK($R1942)=TRUE,\"\",VLOOKUP($R1942,TAXONOMY!$A$1:$G$959,7,FALSE))","v":""},{"$f":"IF(ISBLANK($R1942)=TRUE,\"\",VLOOKUP($R1942,TAXONOMY!$A$1:$G$959,6,FALSE))","v":""},{"$f":"IF(ISBLANK($R1942)=TRUE,\"\",VLOOKUP($R1942,TAXONOMY!$A$1:$G$959,5,FALSE))","v":""},{"$f":"IF(ISBLANK($R1942)=TRUE,\"\",VLOOKUP($R1942,TAXONOMY!$A$1:$G$959,4,FALSE))","v":""},{"$f":"IF(ISBLANK($R1942)=TRUE,\"\",VLOOKUP($R1942,TAXONOMY!$A$1:$G$959,3,FALSE))","v":""},{"$f":"IF(ISBLANK($R1942)=TRUE,\"\",VLOOKUP($R1942,TAXONOMY!$A$1:$H$959,2,FALSE))","v":""}]
[null,null,null,null,null,null,null,null,null,null,null,{"$f":"IF(ISBLANK($R1943)=TRUE,\"\",VLOOKUP($R1943,TAXONOMY!$A$1:$G$959,7,FALSE))","v":""},{"$f":"IF(ISBLANK($R1943)=TRUE,\"\",VLOOKUP($R1943,TAXONOMY!$A$1:$G$959,6,FALSE))","v":""},{"$f":"IF(ISBLANK($R1943)=TRUE,\"\",VLOOKUP($R1943,TAXONOMY!$A$1:$G$959,5,FALSE))","v":""},{"$f":"IF(ISBLANK($R1943)=TRUE,\"\",VLOOKUP($R1943,TAXONOMY!$A$1:$G$959,4,FALSE))","v":""},{"$f":"IF(ISBLANK($R1943)=TRUE,\"\",VLOOKUP($R1943,TAXONOMY!$A$1:$G$959,3,FALSE))","v":""},{"$f":"IF(ISBLANK($R1943)=TRUE,\"\",VLOOKUP($R1943,TAXONOMY!$A$1:$H$959,2,FALSE))","v":""}]
[null,null,null,null,null,null,null,null,null,null,null,{"$f":"IF(ISBLANK($R1944)=TRUE,\"\",VLOOKUP($R1944,TAXONOMY!$A$1:$G$959,7,FALSE))","v":""},{"$f":"IF(ISBLANK($R1944)=TRUE,\"\",VLOOKUP($R1944,TAXONOMY!$A$1:$G$959,6,FALSE))","v":""},{"$f":"IF(ISBLANK($R1944)=TRUE,\"\",VLOOKUP($R1944,TAXONOMY!$A$1:$G$959,5,FALSE))","v":""},{"$f":"IF(ISBLANK($R1944)=TRUE,\"\",VLOOKUP($R1944,TAXONOMY!$A$1:$G$959,4,FALSE))","v":""},{"$f":"IF(ISBLANK($R1944)=TRUE,\"\",VLOOKUP($R1944,TAXONOMY!$A$1:$G$959,3,FALSE))","v":""},{"$f":"IF(ISBLANK($R1944)=TRUE,\"\",VLOOKUP($R1944,TAXONOMY!$A$1:$H$959,2,FALSE))","v":""}]
[null,null,null,null,null,null,null,null,null,null,null,{"$f":"IF(ISBLANK($R1945)=TRUE,\"\",VLOOKUP($R1945,TAXONOMY!$A$1:$G$959,7,FALSE))","v":""},{"$f":"IF(ISBLANK($R1945)=TRUE,\"\",VLOOKUP($R1945,TAXONOMY!$A$1:$G$959,6,FALSE))","v":""},{"$f":"IF(ISBLANK($R1945)=TRUE,\"\",VLOOKUP($R1945,TAXONOMY!$A$1:$G$959,5,FALSE))","v":""},{"$f":"IF(ISBLANK($R1945)=TRUE,\"\",VLOOKUP($R1945,TAXONOMY!$A$1:$G$959,4,FALSE))","v":""},{"$f":"IF(ISBLANK($R1945)=TRUE,\"\",VLOOKUP($R1945,TAXONOMY!$A$1:$G$959,3,FALSE))","v":""},{"$f":"IF(ISBLANK($R1945)=TRUE,\"\",VLOOKUP($R1945,TAXONOMY!$A$1:$H$959,2,FALSE))","v":""}]
[null,null,null,null,null,null,null,null,null,null,null,{"$f":"IF(ISBLANK($R1946)=TRUE,\"\",VLOOKUP($R1946,TAXONOMY!$A$1:$G$959,7,FALSE))","v":""},{"$f":"IF(ISBLANK($R1946)=TRUE,\"\",VLOOKUP($R1946,TAXONOMY!$A$1:$G$959,6,FALSE))","v":""},{"$f":"IF(ISBLANK($R1946)=TRUE,\"\",VLOOKUP($R1946,TAXONOMY!$A$1:$G$959,5,FALSE))","v":""},{"$f":"IF(ISBLANK($R1946)=TRUE,\"\",VLOOKUP($R1946,TAXONOMY!$A$1:$G$959,4,FALSE))","v":""},{"$f":"IF(ISBLANK($R1946)=TRUE,\"\",VLOOKUP($R1946,TAXONOMY!$A$1:$G$959,3,FALSE))","v":""},{"$f":"IF(ISBLANK($R1946)=TRUE,\"\",VLOOKUP($R1946,TAXONOMY!$A$1:$H$959,2,FALSE))","v":""}]
[null,null,null,null,null,null,null,null,null,null,null,{"$f":"IF(ISBLANK($R1947)=TRUE,\"\",VLOOKUP($R1947,TAXONOMY!$A$1:$G$959,7,FALSE))","v":""},{"$f":"IF(ISBLANK($R1947)=TRUE,\"\",VLOOKUP($R1947,TAXONOMY!$A$1:$G$959,6,FALSE))","v":""},{"$f":"IF(ISBLANK($R1947)=TRUE,\"\",VLOOKUP($R1947,TAXONOMY!$A$1:$G$959,5,FALSE))","v":""},{"$f":"IF(ISBLANK($R1947)=TRUE,\"\",VLOOKUP($R1947,TAXONOMY!$A$1:$G$959,4,FALSE))","v":""},{"$f":"IF(ISBLANK($R1947)=TRUE,\"\",VLOOKUP($R1947,TAXONOMY!$A$1:$G$959,3,FALSE))","v":""},{"$f":"IF(ISBLANK($R1947)=TRUE,\"\",VLOOKUP($R1947,TAXONOMY!$A$1:$H$959,2,FALSE))","v":""}]
[null,null,null,null,null,null,null,null,null,null,null,{"$f":"IF(ISBLANK($R1948)=TRUE,\"\",VLOOKUP($R1948,TAXONOMY!$A$1:$G$959,7,FALSE))","v":""},{"$f":"IF(ISBLANK($R1948)=TRUE,\"\",VLOOKUP($R1948,TAXONOMY!$A$1:$G$959,6,FALSE))","v":""},{"$f":"IF(ISBLANK($R1948)=TRUE,\"\",VLOOKUP($R1948,TAXONOMY!$A$1:$G$959,5,FALSE))","v":""},{"$f":"IF(ISBLANK($R1948)=TRUE,\"\",VLOOKUP($R1948,TAXONOMY!$A$1:$G$959,4,FALSE))","v":""},{"$f":"IF(ISBLANK($R1948)=TRUE,\"\",VLOOKUP($R1948,TAXONOMY!$A$1:$G$959,3,FALSE))","v":""},{"$f":"IF(ISBLANK($R1948)=TRUE,\"\",VLOOKUP($R1948,TAXONOMY!$A$1:$H$959,2,FALSE))","v":""}]
[null,null,null,null,null,null,null,null,null,null,null,{"$f":"IF(ISBLANK($R1949)=TRUE,\"\",VLOOKUP($R1949,TAXONOMY!$A$1:$G$959,7,FALSE))","v":""},{"$f":"IF(ISBLANK($R1949)=TRUE,\"\",VLOOKUP($R1949,TAXONOMY!$A$1:$G$959,6,FALSE))","v":""},{"$f":"IF(ISBLANK($R1949)=TRUE,\"\",VLOOKUP($R1949,TAXONOMY!$A$1:$G$959,5,FALSE))","v":""},{"$f":"IF(ISBLANK($R1949)=TRUE,\"\",VLOOKUP($R1949,TAXONOMY!$A$1:$G$959,4,FALSE))","v":""},{"$f":"IF(ISBLANK($R1949)=TRUE,\"\",VLOOKUP($R1949,TAXONOMY!$A$1:$G$959,3,FALSE))","v":""},{"$f":"IF(ISBLANK($R1949)=TRUE,\"\",VLOOKUP($R1949,TAXONOMY!$A$1:$H$959,2,FALSE))","v":""}]
[null,null,null,null,null,null,null,null,null,null,null,{"$f":"IF(ISBLANK($R1950)=TRUE,\"\",VLOOKUP($R1950,TAXONOMY!$A$1:$G$959,7,FALSE))","v":""},{"$f":"IF(ISBLANK($R1950)=TRUE,\"\",VLOOKUP($R1950,TAXONOMY!$A$1:$G$959,6,FALSE))","v":""},{"$f":"IF(ISBLANK($R1950)=TRUE,\"\",VLOOKUP($R1950,TAXONOMY!$A$1:$G$959,5,FALSE))","v":""},{"$f":"IF(ISBLANK($R1950)=TRUE,\"\",VLOOKUP($R1950,TAXONOMY!$A$1:$G$959,4,FALSE))","v":""},{"$f":"IF(ISBLANK($R1950)=TRUE,\"\",VLOOKUP($R1950,TAXONOMY!$A$1:$G$959,3,FALSE))","v":""},{"$f":"IF(ISBLANK($R1950)=TRUE,\"\",VLOOKUP($R1950,TAXONOMY!$A$1:$H$959,2,FALSE))","v":""}]
[null,null,null,null,null,null,null,null,null,null,null,{"$f":"IF(ISBLANK($R1951)=TRUE,\"\",VLOOKUP($R1951,TAXONOMY!$A$1:$G$959,7,FALSE))","v":""},{"$f":"IF(ISBLANK($R1951)=TRUE,\"\",VLOOKUP($R1951,TAXONOMY!$A$1:$G$959,6,FALSE))","v":""},{"$f":"IF(ISBLANK($R1951)=TRUE,\"\",VLOOKUP($R1951,TAXONOMY!$A$1:$G$959,5,FALSE))","v":""},{"$f":"IF(ISBLANK($R1951)=TRUE,\"\",VLOOKUP($R1951,TAXONOMY!$A$1:$G$959,4,FALSE))","v":""},{"$f":"IF(ISBLANK($R1951)=TRUE,\"\",VLOOKUP($R1951,TAXONOMY!$A$1:$G$959,3,FALSE))","v":""},{"$f":"IF(ISBLANK($R1951)=TRUE,\"\",VLOOKUP($R1951,TAXONOMY!$A$1:$H$959,2,FALSE))","v":""}]
[null,null,null,null,null,null,null,null,null,null,null,{"$f":"IF(ISBLANK($R1952)=TRUE,\"\",VLOOKUP($R1952,TAXONOMY!$A$1:$G$959,7,FALSE))","v":""},{"$f":"IF(ISBLANK($R1952)=TRUE,\"\",VLOOKUP($R1952,TAXONOMY!$A$1:$G$959,6,FALSE))","v":""},{"$f":"IF(ISBLANK($R1952)=TRUE,\"\",VLOOKUP($R1952,TAXONOMY!$A$1:$G$959,5,FALSE))","v":""},{"$f":"IF(ISBLANK($R1952)=TRUE,\"\",VLOOKUP($R1952,TAXONOMY!$A$1:$G$959,4,FALSE))","v":""},{"$f":"IF(ISBLANK($R1952)=TRUE,\"\",VLOOKUP($R1952,TAXONOMY!$A$1:$G$959,3,FALSE))","v":""},{"$f":"IF(ISBLANK($R1952)=TRUE,\"\",VLOOKUP($R1952,TAXONOMY!$A$1:$H$959,2,FALSE))","v":""}]
[null,null,null,null,null,null,null,null,null,null,null,{"$f":"IF(ISBLANK($R1953)=TRUE,\"\",VLOOKUP($R1953,TAXONOMY!$A$1:$G$959,7,FALSE))","v":""},{"$f":"IF(ISBLANK($R1953)=TRUE,\"\",VLOOKUP($R1953,TAXONOMY!$A$1:$G$959,6,FALSE))","v":""},{"$f":"IF(ISBLANK($R1953)=TRUE,\"\",VLOOKUP($R1953,TAXONOMY!$A$1:$G$959,5,FALSE))","v":""},{"$f":"IF(ISBLANK($R1953)=TRUE,\"\",VLOOKUP($R1953,TAXONOMY!$A$1:$G$959,4,FALSE))","v":""},{"$f":"IF(ISBLANK($R1953)=TRUE,\"\",VLOOKUP($R1953,TAXONOMY!$A$1:$G$959,3,FALSE))","v":""},{"$f":"IF(ISBLANK($R1953)=TRUE,\"\",VLOOKUP($R1953,TAXONOMY!$A$1:$H$959,2,FALSE))","v":""}]
[null,null,null,null,null,null,null,null,null,null,null,{"$f":"IF(ISBLANK($R1954)=TRUE,\"\",VLOOKUP($R1954,TAXONOMY!$A$1:$G$959,7,FALSE))","v":""},{"$f":"IF(ISBLANK($R1954)=TRUE,\"\",VLOOKUP($R1954,TAXONOMY!$A$1:$G$959,6,FALSE))","v":""},{"$f":"IF(ISBLANK($R1954)=TRUE,\"\",VLOOKUP($R1954,TAXONOMY!$A$1:$G$959,5,FALSE))","v":""},{"$f":"IF(ISBLANK($R1954)=TRUE,\"\",VLOOKUP($R1954,TAXONOMY!$A$1:$G$959,4,FALSE))","v":""},{"$f":"IF(ISBLANK($R1954)=TRUE,\"\",VLOOKUP($R1954,TAXONOMY!$A$1:$G$959,3,FALSE))","v":""},{"$f":"IF(ISBLANK($R1954)=TRUE,\"\",VLOOKUP($R1954,TAXONOMY!$A$1:$H$959,2,FALSE))","v":""}]
[null,null,null,null,null,null,null,null,null,null,null,{"$f":"IF(ISBLANK($R1955)=TRUE,\"\",VLOOKUP($R1955,TAXONOMY!$A$1:$G$959,7,FALSE))","v":""},{"$f":"IF(ISBLANK($R1955)=TRUE,\"\",VLOOKUP($R1955,TAXONOMY!$A$1:$G$959,6,FALSE))","v":""},{"$f":"IF(ISBLANK($R1955)=TRUE,\"\",VLOOKUP($R1955,TAXONOMY!$A$1:$G$959,5,FALSE))","v":""},{"$f":"IF(ISBLANK($R1955)=TRUE,\"\",VLOOKUP($R1955,TAXONOMY!$A$1:$G$959,4,FALSE))","v":""},{"$f":"IF(ISBLANK($R1955)=TRUE,\"\",VLOOKUP($R1955,TAXONOMY!$A$1:$G$959,3,FALSE))","v":""},{"$f":"IF(ISBLANK($R1955)=TRUE,\"\",VLOOKUP($R1955,TAXONOMY!$A$1:$H$959,2,FALSE))","v":""}]
[null,null,null,null,null,null,null,null,null,null,null,{"$f":"IF(ISBLANK($R1956)=TRUE,\"\",VLOOKUP($R1956,TAXONOMY!$A$1:$G$959,7,FALSE))","v":""},{"$f":"IF(ISBLANK($R1956)=TRUE,\"\",VLOOKUP($R1956,TAXONOMY!$A$1:$G$959,6,FALSE))","v":""},{"$f":"IF(ISBLANK($R1956)=TRUE,\"\",VLOOKUP($R1956,TAXONOMY!$A$1:$G$959,5,FALSE))","v":""},{"$f":"IF(ISBLANK($R1956)=TRUE,\"\",VLOOKUP($R1956,TAXONOMY!$A$1:$G$959,4,FALSE))","v":""},{"$f":"IF(ISBLANK($R1956)=TRUE,\"\",VLOOKUP($R1956,TAXONOMY!$A$1:$G$959,3,FALSE))","v":""},{"$f":"IF(ISBLANK($R1956)=TRUE,\"\",VLOOKUP($R1956,TAXONOMY!$A$1:$H$959,2,FALSE))","v":""}]
[null,null,null,null,null,null,null,null,null,null,null,{"$f":"IF(ISBLANK($R1957)=TRUE,\"\",VLOOKUP($R1957,TAXONOMY!$A$1:$G$959,7,FALSE))","v":""},{"$f":"IF(ISBLANK($R1957)=TRUE,\"\",VLOOKUP($R1957,TAXONOMY!$A$1:$G$959,6,FALSE))","v":""},{"$f":"IF(ISBLANK($R1957)=TRUE,\"\",VLOOKUP($R1957,TAXONOMY!$A$1:$G$959,5,FALSE))","v":""},{"$f":"IF(ISBLANK($R1957)=TRUE,\"\",VLOOKUP($R1957,TAXONOMY!$A$1:$G$959,4,FALSE))","v":""},{"$f":"IF(ISBLANK($R1957)=TRUE,\"\",VLOOKUP($R1957,TAXONOMY!$A$1:$G$959,3,FALSE))","v":""},{"$f":"IF(ISBLANK($R1957)=TRUE,\"\",VLOOKUP($R1957,TAXONOMY!$A$1:$H$959,2,FALSE))","v":""}]
[null,null,null,null,null,null,null,null,null,null,null,{"$f":"IF(ISBLANK($R1958)=TRUE,\"\",VLOOKUP($R1958,TAXONOMY!$A$1:$G$959,7,FALSE))","v":""},{"$f":"IF(ISBLANK($R1958)=TRUE,\"\",VLOOKUP($R1958,TAXONOMY!$A$1:$G$959,6,FALSE))","v":""},{"$f":"IF(ISBLANK($R1958)=TRUE,\"\",VLOOKUP($R1958,TAXONOMY!$A$1:$G$959,5,FALSE))","v":""},{"$f":"IF(ISBLANK($R1958)=TRUE,\"\",VLOOKUP($R1958,TAXONOMY!$A$1:$G$959,4,FALSE))","v":""},{"$f":"IF(ISBLANK($R1958)=TRUE,\"\",VLOOKUP($R1958,TAXONOMY!$A$1:$G$959,3,FALSE))","v":""},{"$f":"IF(ISBLANK($R1958)=TRUE,\"\",VLOOKUP($R1958,TAXONOMY!$A$1:$H$959,2,FALSE))","v":""}]
[null,null,null,null,null,null,null,null,null,null,null,{"$f":"IF(ISBLANK($R1959)=TRUE,\"\",VLOOKUP($R1959,TAXONOMY!$A$1:$G$959,7,FALSE))","v":""},{"$f":"IF(ISBLANK($R1959)=TRUE,\"\",VLOOKUP($R1959,TAXONOMY!$A$1:$G$959,6,FALSE))","v":""},{"$f":"IF(ISBLANK($R1959)=TRUE,\"\",VLOOKUP($R1959,TAXONOMY!$A$1:$G$959,5,FALSE))","v":""},{"$f":"IF(ISBLANK($R1959)=TRUE,\"\",VLOOKUP($R1959,TAXONOMY!$A$1:$G$959,4,FALSE))","v":""},{"$f":"IF(ISBLANK($R1959)=TRUE,\"\",VLOOKUP($R1959,TAXONOMY!$A$1:$G$959,3,FALSE))","v":""},{"$f":"IF(ISBLANK($R1959)=TRUE,\"\",VLOOKUP($R1959,TAXONOMY!$A$1:$H$959,2,FALSE))","v":""}]
[null,null,null,null,null,null,null,null,null,null,null,{"$f":"IF(ISBLANK($R1960)=TRUE,\"\",VLOOKUP($R1960,TAXONOMY!$A$1:$G$959,7,FALSE))","v":""},{"$f":"IF(ISBLANK($R1960)=TRUE,\"\",VLOOKUP($R1960,TAXONOMY!$A$1:$G$959,6,FALSE))","v":""},{"$f":"IF(ISBLANK($R1960)=TRUE,\"\",VLOOKUP($R1960,TAXONOMY!$A$1:$G$959,5,FALSE))","v":""},{"$f":"IF(ISBLANK($R1960)=TRUE,\"\",VLOOKUP($R1960,TAXONOMY!$A$1:$G$959,4,FALSE))","v":""},{"$f":"IF(ISBLANK($R1960)=TRUE,\"\",VLOOKUP($R1960,TAXONOMY!$A$1:$G$959,3,FALSE))","v":""},{"$f":"IF(ISBLANK($R1960)=TRUE,\"\",VLOOKUP($R1960,TAXONOMY!$A$1:$H$959,2,FALSE))","v":""}]
[null,null,null,null,null,null,null,null,null,null,null,{"$f":"IF(ISBLANK($R1961)=TRUE,\"\",VLOOKUP($R1961,TAXONOMY!$A$1:$G$959,7,FALSE))","v":""},{"$f":"IF(ISBLANK($R1961)=TRUE,\"\",VLOOKUP($R1961,TAXONOMY!$A$1:$G$959,6,FALSE))","v":""},{"$f":"IF(ISBLANK($R1961)=TRUE,\"\",VLOOKUP($R1961,TAXONOMY!$A$1:$G$959,5,FALSE))","v":""},{"$f":"IF(ISBLANK($R1961)=TRUE,\"\",VLOOKUP($R1961,TAXONOMY!$A$1:$G$959,4,FALSE))","v":""},{"$f":"IF(ISBLANK($R1961)=TRUE,\"\",VLOOKUP($R1961,TAXONOMY!$A$1:$G$959,3,FALSE))","v":""},{"$f":"IF(ISBLANK($R1961)=TRUE,\"\",VLOOKUP($R1961,TAXONOMY!$A$1:$H$959,2,FALSE))","v":""}]
[null,null,null,null,null,null,null,null,null,null,null,{"$f":"IF(ISBLANK($R1962)=TRUE,\"\",VLOOKUP($R1962,TAXONOMY!$A$1:$G$959,7,FALSE))","v":""},{"$f":"IF(ISBLANK($R1962)=TRUE,\"\",VLOOKUP($R1962,TAXONOMY!$A$1:$G$959,6,FALSE))","v":""},{"$f":"IF(ISBLANK($R1962)=TRUE,\"\",VLOOKUP($R1962,TAXONOMY!$A$1:$G$959,5,FALSE))","v":""},{"$f":"IF(ISBLANK($R1962)=TRUE,\"\",VLOOKUP($R1962,TAXONOMY!$A$1:$G$959,4,FALSE))","v":""},{"$f":"IF(ISBLANK($R1962)=TRUE,\"\",VLOOKUP($R1962,TAXONOMY!$A$1:$G$959,3,FALSE))","v":""},{"$f":"IF(ISBLANK($R1962)=TRUE,\"\",VLOOKUP($R1962,TAXONOMY!$A$1:$H$959,2,FALSE))","v":""}]
[null,null,null,null,null,null,null,null,null,null,null,{"$f":"IF(ISBLANK($R1963)=TRUE,\"\",VLOOKUP($R1963,TAXONOMY!$A$1:$G$959,7,FALSE))","v":""},{"$f":"IF(ISBLANK($R1963)=TRUE,\"\",VLOOKUP($R1963,TAXONOMY!$A$1:$G$959,6,FALSE))","v":""},{"$f":"IF(ISBLANK($R1963)=TRUE,\"\",VLOOKUP($R1963,TAXONOMY!$A$1:$G$959,5,FALSE))","v":""},{"$f":"IF(ISBLANK($R1963)=TRUE,\"\",VLOOKUP($R1963,TAXONOMY!$A$1:$G$959,4,FALSE))","v":""},{"$f":"IF(ISBLANK($R1963)=TRUE,\"\",VLOOKUP($R1963,TAXONOMY!$A$1:$G$959,3,FALSE))","v":""},{"$f":"IF(ISBLANK($R1963)=TRUE,\"\",VLOOKUP($R1963,TAXONOMY!$A$1:$H$959,2,FALSE))","v":""}]
[null,null,null,null,null,null,null,null,null,null,null,{"$f":"IF(ISBLANK($R1964)=TRUE,\"\",VLOOKUP($R1964,TAXONOMY!$A$1:$G$959,7,FALSE))","v":""},{"$f":"IF(ISBLANK($R1964)=TRUE,\"\",VLOOKUP($R1964,TAXONOMY!$A$1:$G$959,6,FALSE))","v":""},{"$f":"IF(ISBLANK($R1964)=TRUE,\"\",VLOOKUP($R1964,TAXONOMY!$A$1:$G$959,5,FALSE))","v":""},{"$f":"IF(ISBLANK($R1964)=TRUE,\"\",VLOOKUP($R1964,TAXONOMY!$A$1:$G$959,4,FALSE))","v":""},{"$f":"IF(ISBLANK($R1964)=TRUE,\"\",VLOOKUP($R1964,TAXONOMY!$A$1:$G$959,3,FALSE))","v":""},{"$f":"IF(ISBLANK($R1964)=TRUE,\"\",VLOOKUP($R1964,TAXONOMY!$A$1:$H$959,2,FALSE))","v":""}]
[null,null,null,null,null,null,null,null,null,null,null,{"$f":"IF(ISBLANK($R1965)=TRUE,\"\",VLOOKUP($R1965,TAXONOMY!$A$1:$G$959,7,FALSE))","v":""},{"$f":"IF(ISBLANK($R1965)=TRUE,\"\",VLOOKUP($R1965,TAXONOMY!$A$1:$G$959,6,FALSE))","v":""},{"$f":"IF(ISBLANK($R1965)=TRUE,\"\",VLOOKUP($R1965,TAXONOMY!$A$1:$G$959,5,FALSE))","v":""},{"$f":"IF(ISBLANK($R1965)=TRUE,\"\",VLOOKUP($R1965,TAXONOMY!$A$1:$G$959,4,FALSE))","v":""},{"$f":"IF(ISBLANK($R1965)=TRUE,\"\",VLOOKUP($R1965,TAXONOMY!$A$1:$G$959,3,FALSE))","v":""},{"$f":"IF(ISBLANK($R1965)=TRUE,\"\",VLOOKUP($R1965,TAXONOMY!$A$1:$H$959,2,FALSE))","v":""}]
[null,null,null,null,null,null,null,null,null,null,null,{"$f":"IF(ISBLANK($R1966)=TRUE,\"\",VLOOKUP($R1966,TAXONOMY!$A$1:$G$959,7,FALSE))","v":""},{"$f":"IF(ISBLANK($R1966)=TRUE,\"\",VLOOKUP($R1966,TAXONOMY!$A$1:$G$959,6,FALSE))","v":""},{"$f":"IF(ISBLANK($R1966)=TRUE,\"\",VLOOKUP($R1966,TAXONOMY!$A$1:$G$959,5,FALSE))","v":""},{"$f":"IF(ISBLANK($R1966)=TRUE,\"\",VLOOKUP($R1966,TAXONOMY!$A$1:$G$959,4,FALSE))","v":""},{"$f":"IF(ISBLANK($R1966)=TRUE,\"\",VLOOKUP($R1966,TAXONOMY!$A$1:$G$959,3,FALSE))","v":""},{"$f":"IF(ISBLANK($R1966)=TRUE,\"\",VLOOKUP($R1966,TAXONOMY!$A$1:$H$959,2,FALSE))","v":""}]
[null,null,null,null,null,null,null,null,null,null,null,{"$f":"IF(ISBLANK($R1967)=TRUE,\"\",VLOOKUP($R1967,TAXONOMY!$A$1:$G$959,7,FALSE))","v":""},{"$f":"IF(ISBLANK($R1967)=TRUE,\"\",VLOOKUP($R1967,TAXONOMY!$A$1:$G$959,6,FALSE))","v":""},{"$f":"IF(ISBLANK($R1967)=TRUE,\"\",VLOOKUP($R1967,TAXONOMY!$A$1:$G$959,5,FALSE))","v":""},{"$f":"IF(ISBLANK($R1967)=TRUE,\"\",VLOOKUP($R1967,TAXONOMY!$A$1:$G$959,4,FALSE))","v":""},{"$f":"IF(ISBLANK($R1967)=TRUE,\"\",VLOOKUP($R1967,TAXONOMY!$A$1:$G$959,3,FALSE))","v":""},{"$f":"IF(ISBLANK($R1967)=TRUE,\"\",VLOOKUP($R1967,TAXONOMY!$A$1:$H$959,2,FALSE))","v":""}]
[null,null,null,null,null,null,null,null,null,null,null,{"$f":"IF(ISBLANK($R1968)=TRUE,\"\",VLOOKUP($R1968,TAXONOMY!$A$1:$G$959,7,FALSE))","v":""},{"$f":"IF(ISBLANK($R1968)=TRUE,\"\",VLOOKUP($R1968,TAXONOMY!$A$1:$G$959,6,FALSE))","v":""},{"$f":"IF(ISBLANK($R1968)=TRUE,\"\",VLOOKUP($R1968,TAXONOMY!$A$1:$G$959,5,FALSE))","v":""},{"$f":"IF(ISBLANK($R1968)=TRUE,\"\",VLOOKUP($R1968,TAXONOMY!$A$1:$G$959,4,FALSE))","v":""},{"$f":"IF(ISBLANK($R1968)=TRUE,\"\",VLOOKUP($R1968,TAXONOMY!$A$1:$G$959,3,FALSE))","v":""},{"$f":"IF(ISBLANK($R1968)=TRUE,\"\",VLOOKUP($R1968,TAXONOMY!$A$1:$H$959,2,FALSE))","v":""}]
[null,null,null,null,null,null,null,null,null,null,null,{"$f":"IF(ISBLANK($R1969)=TRUE,\"\",VLOOKUP($R1969,TAXONOMY!$A$1:$G$959,7,FALSE))","v":""},{"$f":"IF(ISBLANK($R1969)=TRUE,\"\",VLOOKUP($R1969,TAXONOMY!$A$1:$G$959,6,FALSE))","v":""},{"$f":"IF(ISBLANK($R1969)=TRUE,\"\",VLOOKUP($R1969,TAXONOMY!$A$1:$G$959,5,FALSE))","v":""},{"$f":"IF(ISBLANK($R1969)=TRUE,\"\",VLOOKUP($R1969,TAXONOMY!$A$1:$G$959,4,FALSE))","v":""},{"$f":"IF(ISBLANK($R1969)=TRUE,\"\",VLOOKUP($R1969,TAXONOMY!$A$1:$G$959,3,FALSE))","v":""},{"$f":"IF(ISBLANK($R1969)=TRUE,\"\",VLOOKUP($R1969,TAXONOMY!$A$1:$H$959,2,FALSE))","v":""}]
[null,null,null,null,null,null,null,null,null,null,null,{"$f":"IF(ISBLANK($R1970)=TRUE,\"\",VLOOKUP($R1970,TAXONOMY!$A$1:$G$959,7,FALSE))","v":""},{"$f":"IF(ISBLANK($R1970)=TRUE,\"\",VLOOKUP($R1970,TAXONOMY!$A$1:$G$959,6,FALSE))","v":""},{"$f":"IF(ISBLANK($R1970)=TRUE,\"\",VLOOKUP($R1970,TAXONOMY!$A$1:$G$959,5,FALSE))","v":""},{"$f":"IF(ISBLANK($R1970)=TRUE,\"\",VLOOKUP($R1970,TAXONOMY!$A$1:$G$959,4,FALSE))","v":""},{"$f":"IF(ISBLANK($R1970)=TRUE,\"\",VLOOKUP($R1970,TAXONOMY!$A$1:$G$959,3,FALSE))","v":""},{"$f":"IF(ISBLANK($R1970)=TRUE,\"\",VLOOKUP($R1970,TAXONOMY!$A$1:$H$959,2,FALSE))","v":""}]
[null,null,null,null,null,null,null,null,null,null,null,{"$f":"IF(ISBLANK($R1971)=TRUE,\"\",VLOOKUP($R1971,TAXONOMY!$A$1:$G$959,7,FALSE))","v":""},{"$f":"IF(ISBLANK($R1971)=TRUE,\"\",VLOOKUP($R1971,TAXONOMY!$A$1:$G$959,6,FALSE))","v":""},{"$f":"IF(ISBLANK($R1971)=TRUE,\"\",VLOOKUP($R1971,TAXONOMY!$A$1:$G$959,5,FALSE))","v":""},{"$f":"IF(ISBLANK($R1971)=TRUE,\"\",VLOOKUP($R1971,TAXONOMY!$A$1:$G$959,4,FALSE))","v":""},{"$f":"IF(ISBLANK($R1971)=TRUE,\"\",VLOOKUP($R1971,TAXONOMY!$A$1:$G$959,3,FALSE))","v":""},{"$f":"IF(ISBLANK($R1971)=TRUE,\"\",VLOOKUP($R1971,TAXONOMY!$A$1:$H$959,2,FALSE))","v":""}]
[null,null,null,null,null,null,null,null,null,null,null,{"$f":"IF(ISBLANK($R1972)=TRUE,\"\",VLOOKUP($R1972,TAXONOMY!$A$1:$G$959,7,FALSE))","v":""},{"$f":"IF(ISBLANK($R1972)=TRUE,\"\",VLOOKUP($R1972,TAXONOMY!$A$1:$G$959,6,FALSE))","v":""},{"$f":"IF(ISBLANK($R1972)=TRUE,\"\",VLOOKUP($R1972,TAXONOMY!$A$1:$G$959,5,FALSE))","v":""},{"$f":"IF(ISBLANK($R1972)=TRUE,\"\",VLOOKUP($R1972,TAXONOMY!$A$1:$G$959,4,FALSE))","v":""},{"$f":"IF(ISBLANK($R1972)=TRUE,\"\",VLOOKUP($R1972,TAXONOMY!$A$1:$G$959,3,FALSE))","v":""},{"$f":"IF(ISBLANK($R1972)=TRUE,\"\",VLOOKUP($R1972,TAXONOMY!$A$1:$H$959,2,FALSE))","v":""}]
[null,null,null,null,null,null,null,null,null,null,null,{"$f":"IF(ISBLANK($R1973)=TRUE,\"\",VLOOKUP($R1973,TAXONOMY!$A$1:$G$959,7,FALSE))","v":""},{"$f":"IF(ISBLANK($R1973)=TRUE,\"\",VLOOKUP($R1973,TAXONOMY!$A$1:$G$959,6,FALSE))","v":""},{"$f":"IF(ISBLANK($R1973)=TRUE,\"\",VLOOKUP($R1973,TAXONOMY!$A$1:$G$959,5,FALSE))","v":""},{"$f":"IF(ISBLANK($R1973)=TRUE,\"\",VLOOKUP($R1973,TAXONOMY!$A$1:$G$959,4,FALSE))","v":""},{"$f":"IF(ISBLANK($R1973)=TRUE,\"\",VLOOKUP($R1973,TAXONOMY!$A$1:$G$959,3,FALSE))","v":""},{"$f":"IF(ISBLANK($R1973)=TRUE,\"\",VLOOKUP($R1973,TAXONOMY!$A$1:$H$959,2,FALSE))","v":""}]
[null,null,null,null,null,null,null,null,null,null,null,{"$f":"IF(ISBLANK($R1974)=TRUE,\"\",VLOOKUP($R1974,TAXONOMY!$A$1:$G$959,7,FALSE))","v":""},{"$f":"IF(ISBLANK($R1974)=TRUE,\"\",VLOOKUP($R1974,TAXONOMY!$A$1:$G$959,6,FALSE))","v":""},{"$f":"IF(ISBLANK($R1974)=TRUE,\"\",VLOOKUP($R1974,TAXONOMY!$A$1:$G$959,5,FALSE))","v":""},{"$f":"IF(ISBLANK($R1974)=TRUE,\"\",VLOOKUP($R1974,TAXONOMY!$A$1:$G$959,4,FALSE))","v":""},{"$f":"IF(ISBLANK($R1974)=TRUE,\"\",VLOOKUP($R1974,TAXONOMY!$A$1:$G$959,3,FALSE))","v":""},{"$f":"IF(ISBLANK($R1974)=TRUE,\"\",VLOOKUP($R1974,TAXONOMY!$A$1:$H$959,2,FALSE))","v":""}]
[null,null,null,null,null,null,null,null,null,null,null,{"$f":"IF(ISBLANK($R1975)=TRUE,\"\",VLOOKUP($R1975,TAXONOMY!$A$1:$G$959,7,FALSE))","v":""},{"$f":"IF(ISBLANK($R1975)=TRUE,\"\",VLOOKUP($R1975,TAXONOMY!$A$1:$G$959,6,FALSE))","v":""},{"$f":"IF(ISBLANK($R1975)=TRUE,\"\",VLOOKUP($R1975,TAXONOMY!$A$1:$G$959,5,FALSE))","v":""},{"$f":"IF(ISBLANK($R1975)=TRUE,\"\",VLOOKUP($R1975,TAXONOMY!$A$1:$G$959,4,FALSE))","v":""},{"$f":"IF(ISBLANK($R1975)=TRUE,\"\",VLOOKUP($R1975,TAXONOMY!$A$1:$G$959,3,FALSE))","v":""},{"$f":"IF(ISBLANK($R1975)=TRUE,\"\",VLOOKUP($R1975,TAXONOMY!$A$1:$H$959,2,FALSE))","v":""}]
[null,null,null,null,null,null,null,null,null,null,null,{"$f":"IF(ISBLANK($R1976)=TRUE,\"\",VLOOKUP($R1976,TAXONOMY!$A$1:$G$959,7,FALSE))","v":""},{"$f":"IF(ISBLANK($R1976)=TRUE,\"\",VLOOKUP($R1976,TAXONOMY!$A$1:$G$959,6,FALSE))","v":""},{"$f":"IF(ISBLANK($R1976)=TRUE,\"\",VLOOKUP($R1976,TAXONOMY!$A$1:$G$959,5,FALSE))","v":""},{"$f":"IF(ISBLANK($R1976)=TRUE,\"\",VLOOKUP($R1976,TAXONOMY!$A$1:$G$959,4,FALSE))","v":""},{"$f":"IF(ISBLANK($R1976)=TRUE,\"\",VLOOKUP($R1976,TAXONOMY!$A$1:$G$959,3,FALSE))","v":""},{"$f":"IF(ISBLANK($R1976)=TRUE,\"\",VLOOKUP($R1976,TAXONOMY!$A$1:$H$959,2,FALSE))","v":""}]
[null,null,null,null,null,null,null,null,null,null,null,{"$f":"IF(ISBLANK($R1977)=TRUE,\"\",VLOOKUP($R1977,TAXONOMY!$A$1:$G$959,7,FALSE))","v":""},{"$f":"IF(ISBLANK($R1977)=TRUE,\"\",VLOOKUP($R1977,TAXONOMY!$A$1:$G$959,6,FALSE))","v":""},{"$f":"IF(ISBLANK($R1977)=TRUE,\"\",VLOOKUP($R1977,TAXONOMY!$A$1:$G$959,5,FALSE))","v":""},{"$f":"IF(ISBLANK($R1977)=TRUE,\"\",VLOOKUP($R1977,TAXONOMY!$A$1:$G$959,4,FALSE))","v":""},{"$f":"IF(ISBLANK($R1977)=TRUE,\"\",VLOOKUP($R1977,TAXONOMY!$A$1:$G$959,3,FALSE))","v":""},{"$f":"IF(ISBLANK($R1977)=TRUE,\"\",VLOOKUP($R1977,TAXONOMY!$A$1:$H$959,2,FALSE))","v":""}]
[null,null,null,null,null,null,null,null,null,null,null,{"$f":"IF(ISBLANK($R1978)=TRUE,\"\",VLOOKUP($R1978,TAXONOMY!$A$1:$G$959,7,FALSE))","v":""},{"$f":"IF(ISBLANK($R1978)=TRUE,\"\",VLOOKUP($R1978,TAXONOMY!$A$1:$G$959,6,FALSE))","v":""},{"$f":"IF(ISBLANK($R1978)=TRUE,\"\",VLOOKUP($R1978,TAXONOMY!$A$1:$G$959,5,FALSE))","v":""},{"$f":"IF(ISBLANK($R1978)=TRUE,\"\",VLOOKUP($R1978,TAXONOMY!$A$1:$G$959,4,FALSE))","v":""},{"$f":"IF(ISBLANK($R1978)=TRUE,\"\",VLOOKUP($R1978,TAXONOMY!$A$1:$G$959,3,FALSE))","v":""},{"$f":"IF(ISBLANK($R1978)=TRUE,\"\",VLOOKUP($R1978,TAXONOMY!$A$1:$H$959,2,FALSE))","v":""}]
[null,null,null,null,null,null,null,null,null,null,null,{"$f":"IF(ISBLANK($R1979)=TRUE,\"\",VLOOKUP($R1979,TAXONOMY!$A$1:$G$959,7,FALSE))","v":""},{"$f":"IF(ISBLANK($R1979)=TRUE,\"\",VLOOKUP($R1979,TAXONOMY!$A$1:$G$959,6,FALSE))","v":""},{"$f":"IF(ISBLANK($R1979)=TRUE,\"\",VLOOKUP($R1979,TAXONOMY!$A$1:$G$959,5,FALSE))","v":""},{"$f":"IF(ISBLANK($R1979)=TRUE,\"\",VLOOKUP($R1979,TAXONOMY!$A$1:$G$959,4,FALSE))","v":""},{"$f":"IF(ISBLANK($R1979)=TRUE,\"\",VLOOKUP($R1979,TAXONOMY!$A$1:$G$959,3,FALSE))","v":""},{"$f":"IF(ISBLANK($R1979)=TRUE,\"\",VLOOKUP($R1979,TAXONOMY!$A$1:$H$959,2,FALSE))","v":""}]
[null,null,null,null,null,null,null,null,null,null,null,{"$f":"IF(ISBLANK($R1980)=TRUE,\"\",VLOOKUP($R1980,TAXONOMY!$A$1:$G$959,7,FALSE))","v":""},{"$f":"IF(ISBLANK($R1980)=TRUE,\"\",VLOOKUP($R1980,TAXONOMY!$A$1:$G$959,6,FALSE))","v":""},{"$f":"IF(ISBLANK($R1980)=TRUE,\"\",VLOOKUP($R1980,TAXONOMY!$A$1:$G$959,5,FALSE))","v":""},{"$f":"IF(ISBLANK($R1980)=TRUE,\"\",VLOOKUP($R1980,TAXONOMY!$A$1:$G$959,4,FALSE))","v":""},{"$f":"IF(ISBLANK($R1980)=TRUE,\"\",VLOOKUP($R1980,TAXONOMY!$A$1:$G$959,3,FALSE))","v":""},{"$f":"IF(ISBLANK($R1980)=TRUE,\"\",VLOOKUP($R1980,TAXONOMY!$A$1:$H$959,2,FALSE))","v":""}]
[null,null,null,null,null,null,null,null,null,null,null,{"$f":"IF(ISBLANK($R1981)=TRUE,\"\",VLOOKUP($R1981,TAXONOMY!$A$1:$G$959,7,FALSE))","v":""},{"$f":"IF(ISBLANK($R1981)=TRUE,\"\",VLOOKUP($R1981,TAXONOMY!$A$1:$G$959,6,FALSE))","v":""},{"$f":"IF(ISBLANK($R1981)=TRUE,\"\",VLOOKUP($R1981,TAXONOMY!$A$1:$G$959,5,FALSE))","v":""},{"$f":"IF(ISBLANK($R1981)=TRUE,\"\",VLOOKUP($R1981,TAXONOMY!$A$1:$G$959,4,FALSE))","v":""},{"$f":"IF(ISBLANK($R1981)=TRUE,\"\",VLOOKUP($R1981,TAXONOMY!$A$1:$G$959,3,FALSE))","v":""},{"$f":"IF(ISBLANK($R1981)=TRUE,\"\",VLOOKUP($R1981,TAXONOMY!$A$1:$H$959,2,FALSE))","v":""}]
[null,null,null,null,null,null,null,null,null,null,null,{"$f":"IF(ISBLANK($R1982)=TRUE,\"\",VLOOKUP($R1982,TAXONOMY!$A$1:$G$959,7,FALSE))","v":""},{"$f":"IF(ISBLANK($R1982)=TRUE,\"\",VLOOKUP($R1982,TAXONOMY!$A$1:$G$959,6,FALSE))","v":""},{"$f":"IF(ISBLANK($R1982)=TRUE,\"\",VLOOKUP($R1982,TAXONOMY!$A$1:$G$959,5,FALSE))","v":""},{"$f":"IF(ISBLANK($R1982)=TRUE,\"\",VLOOKUP($R1982,TAXONOMY!$A$1:$G$959,4,FALSE))","v":""},{"$f":"IF(ISBLANK($R1982)=TRUE,\"\",VLOOKUP($R1982,TAXONOMY!$A$1:$G$959,3,FALSE))","v":""},{"$f":"IF(ISBLANK($R1982)=TRUE,\"\",VLOOKUP($R1982,TAXONOMY!$A$1:$H$959,2,FALSE))","v":""}]
[null,null,null,null,null,null,null,null,null,null,null,{"$f":"IF(ISBLANK($R1983)=TRUE,\"\",VLOOKUP($R1983,TAXONOMY!$A$1:$G$959,7,FALSE))","v":""},{"$f":"IF(ISBLANK($R1983)=TRUE,\"\",VLOOKUP($R1983,TAXONOMY!$A$1:$G$959,6,FALSE))","v":""},{"$f":"IF(ISBLANK($R1983)=TRUE,\"\",VLOOKUP($R1983,TAXONOMY!$A$1:$G$959,5,FALSE))","v":""},{"$f":"IF(ISBLANK($R1983)=TRUE,\"\",VLOOKUP($R1983,TAXONOMY!$A$1:$G$959,4,FALSE))","v":""},{"$f":"IF(ISBLANK($R1983)=TRUE,\"\",VLOOKUP($R1983,TAXONOMY!$A$1:$G$959,3,FALSE))","v":""},{"$f":"IF(ISBLANK($R1983)=TRUE,\"\",VLOOKUP($R1983,TAXONOMY!$A$1:$H$959,2,FALSE))","v":""}]
[null,null,null,null,null,null,null,null,null,null,null,{"$f":"IF(ISBLANK($R1984)=TRUE,\"\",VLOOKUP($R1984,TAXONOMY!$A$1:$G$959,7,FALSE))","v":""},{"$f":"IF(ISBLANK($R1984)=TRUE,\"\",VLOOKUP($R1984,TAXONOMY!$A$1:$G$959,6,FALSE))","v":""},{"$f":"IF(ISBLANK($R1984)=TRUE,\"\",VLOOKUP($R1984,TAXONOMY!$A$1:$G$959,5,FALSE))","v":""},{"$f":"IF(ISBLANK($R1984)=TRUE,\"\",VLOOKUP($R1984,TAXONOMY!$A$1:$G$959,4,FALSE))","v":""},{"$f":"IF(ISBLANK($R1984)=TRUE,\"\",VLOOKUP($R1984,TAXONOMY!$A$1:$G$959,3,FALSE))","v":""},{"$f":"IF(ISBLANK($R1984)=TRUE,\"\",VLOOKUP($R1984,TAXONOMY!$A$1:$H$959,2,FALSE))","v":""}]
[null,null,null,null,null,null,null,null,null,null,null,{"$f":"IF(ISBLANK($R1985)=TRUE,\"\",VLOOKUP($R1985,TAXONOMY!$A$1:$G$959,7,FALSE))","v":""},{"$f":"IF(ISBLANK($R1985)=TRUE,\"\",VLOOKUP($R1985,TAXONOMY!$A$1:$G$959,6,FALSE))","v":""},{"$f":"IF(ISBLANK($R1985)=TRUE,\"\",VLOOKUP($R1985,TAXONOMY!$A$1:$G$959,5,FALSE))","v":""},{"$f":"IF(ISBLANK($R1985)=TRUE,\"\",VLOOKUP($R1985,TAXONOMY!$A$1:$G$959,4,FALSE))","v":""},{"$f":"IF(ISBLANK($R1985)=TRUE,\"\",VLOOKUP($R1985,TAXONOMY!$A$1:$G$959,3,FALSE))","v":""},{"$f":"IF(ISBLANK($R1985)=TRUE,\"\",VLOOKUP($R1985,TAXONOMY!$A$1:$H$959,2,FALSE))","v":""}]
[null,null,null,null,null,null,null,null,null,null,null,{"$f":"IF(ISBLANK($R1986)=TRUE,\"\",VLOOKUP($R1986,TAXONOMY!$A$1:$G$959,7,FALSE))","v":""},{"$f":"IF(ISBLANK($R1986)=TRUE,\"\",VLOOKUP($R1986,TAXONOMY!$A$1:$G$959,6,FALSE))","v":""},{"$f":"IF(ISBLANK($R1986)=TRUE,\"\",VLOOKUP($R1986,TAXONOMY!$A$1:$G$959,5,FALSE))","v":""},{"$f":"IF(ISBLANK($R1986)=TRUE,\"\",VLOOKUP($R1986,TAXONOMY!$A$1:$G$959,4,FALSE))","v":""},{"$f":"IF(ISBLANK($R1986)=TRUE,\"\",VLOOKUP($R1986,TAXONOMY!$A$1:$G$959,3,FALSE))","v":""},{"$f":"IF(ISBLANK($R1986)=TRUE,\"\",VLOOKUP($R1986,TAXONOMY!$A$1:$H$959,2,FALSE))","v":""}]
[null,null,null,null,null,null,null,null,null,null,null,{"$f":"IF(ISBLANK($R1987)=TRUE,\"\",VLOOKUP($R1987,TAXONOMY!$A$1:$G$959,7,FALSE))","v":""},{"$f":"IF(ISBLANK($R1987)=TRUE,\"\",VLOOKUP($R1987,TAXONOMY!$A$1:$G$959,6,FALSE))","v":""},{"$f":"IF(ISBLANK($R1987)=TRUE,\"\",VLOOKUP($R1987,TAXONOMY!$A$1:$G$959,5,FALSE))","v":""},{"$f":"IF(ISBLANK($R1987)=TRUE,\"\",VLOOKUP($R1987,TAXONOMY!$A$1:$G$959,4,FALSE))","v":""},{"$f":"IF(ISBLANK($R1987)=TRUE,\"\",VLOOKUP($R1987,TAXONOMY!$A$1:$G$959,3,FALSE))","v":""},{"$f":"IF(ISBLANK($R1987)=TRUE,\"\",VLOOKUP($R1987,TAXONOMY!$A$1:$H$959,2,FALSE))","v":""}]
[null,null,null,null,null,null,null,null,null,null,null,{"$f":"IF(ISBLANK($R1988)=TRUE,\"\",VLOOKUP($R1988,TAXONOMY!$A$1:$G$959,7,FALSE))","v":""},{"$f":"IF(ISBLANK($R1988)=TRUE,\"\",VLOOKUP($R1988,TAXONOMY!$A$1:$G$959,6,FALSE))","v":""},{"$f":"IF(ISBLANK($R1988)=TRUE,\"\",VLOOKUP($R1988,TAXONOMY!$A$1:$G$959,5,FALSE))","v":""},{"$f":"IF(ISBLANK($R1988)=TRUE,\"\",VLOOKUP($R1988,TAXONOMY!$A$1:$G$959,4,FALSE))","v":""},{"$f":"IF(ISBLANK($R1988)=TRUE,\"\",VLOOKUP($R1988,TAXONOMY!$A$1:$G$959,3,FALSE))","v":""},{"$f":"IF(ISBLANK($R1988)=TRUE,\"\",VLOOKUP($R1988,TAXONOMY!$A$1:$H$959,2,FALSE))","v":""}]
[null,null,null,null,null,null,null,null,null,null,null,{"$f":"IF(ISBLANK($R1989)=TRUE,\"\",VLOOKUP($R1989,TAXONOMY!$A$1:$G$959,7,FALSE))","v":""},{"$f":"IF(ISBLANK($R1989)=TRUE,\"\",VLOOKUP($R1989,TAXONOMY!$A$1:$G$959,6,FALSE))","v":""},{"$f":"IF(ISBLANK($R1989)=TRUE,\"\",VLOOKUP($R1989,TAXONOMY!$A$1:$G$959,5,FALSE))","v":""},{"$f":"IF(ISBLANK($R1989)=TRUE,\"\",VLOOKUP($R1989,TAXONOMY!$A$1:$G$959,4,FALSE))","v":""},{"$f":"IF(ISBLANK($R1989)=TRUE,\"\",VLOOKUP($R1989,TAXONOMY!$A$1:$G$959,3,FALSE))","v":""},{"$f":"IF(ISBLANK($R1989)=TRUE,\"\",VLOOKUP($R1989,TAXONOMY!$A$1:$H$959,2,FALSE))","v":""}]
[null,null,null,null,null,null,null,null,null,null,null,{"$f":"IF(ISBLANK($R1990)=TRUE,\"\",VLOOKUP($R1990,TAXONOMY!$A$1:$G$959,7,FALSE))","v":""},{"$f":"IF(ISBLANK($R1990)=TRUE,\"\",VLOOKUP($R1990,TAXONOMY!$A$1:$G$959,6,FALSE))","v":""},{"$f":"IF(ISBLANK($R1990)=TRUE,\"\",VLOOKUP($R1990,TAXONOMY!$A$1:$G$959,5,FALSE))","v":""},{"$f":"IF(ISBLANK($R1990)=TRUE,\"\",VLOOKUP($R1990,TAXONOMY!$A$1:$G$959,4,FALSE))","v":""},{"$f":"IF(ISBLANK($R1990)=TRUE,\"\",VLOOKUP($R1990,TAXONOMY!$A$1:$G$959,3,FALSE))","v":""},{"$f":"IF(ISBLANK($R1990)=TRUE,\"\",VLOOKUP($R1990,TAXONOMY!$A$1:$H$959,2,FALSE))","v":""}]
[null,null,null,null,null,null,null,null,null,null,null,{"$f":"IF(ISBLANK($R1991)=TRUE,\"\",VLOOKUP($R1991,TAXONOMY!$A$1:$G$959,7,FALSE))","v":""},{"$f":"IF(ISBLANK($R1991)=TRUE,\"\",VLOOKUP($R1991,TAXONOMY!$A$1:$G$959,6,FALSE))","v":""},{"$f":"IF(ISBLANK($R1991)=TRUE,\"\",VLOOKUP($R1991,TAXONOMY!$A$1:$G$959,5,FALSE))","v":""},{"$f":"IF(ISBLANK($R1991)=TRUE,\"\",VLOOKUP($R1991,TAXONOMY!$A$1:$G$959,4,FALSE))","v":""},{"$f":"IF(ISBLANK($R1991)=TRUE,\"\",VLOOKUP($R1991,TAXONOMY!$A$1:$G$959,3,FALSE))","v":""},{"$f":"IF(ISBLANK($R1991)=TRUE,\"\",VLOOKUP($R1991,TAXONOMY!$A$1:$H$959,2,FALSE))","v":""}]
[null,null,null,null,null,null,null,null,null,null,null,{"$f":"IF(ISBLANK($R1992)=TRUE,\"\",VLOOKUP($R1992,TAXONOMY!$A$1:$G$959,7,FALSE))","v":""},{"$f":"IF(ISBLANK($R1992)=TRUE,\"\",VLOOKUP($R1992,TAXONOMY!$A$1:$G$959,6,FALSE))","v":""},{"$f":"IF(ISBLANK($R1992)=TRUE,\"\",VLOOKUP($R1992,TAXONOMY!$A$1:$G$959,5,FALSE))","v":""},{"$f":"IF(ISBLANK($R1992)=TRUE,\"\",VLOOKUP($R1992,TAXONOMY!$A$1:$G$959,4,FALSE))","v":""},{"$f":"IF(ISBLANK($R1992)=TRUE,\"\",VLOOKUP($R1992,TAXONOMY!$A$1:$G$959,3,FALSE))","v":""},{"$f":"IF(ISBLANK($R1992)=TRUE,\"\",VLOOKUP($R1992,TAXONOMY!$A$1:$H$959,2,FALSE))","v":""}]
[null,null,null,null,null,null,null,null,null,null,null,{"$f":"IF(ISBLANK($R1993)=TRUE,\"\",VLOOKUP($R1993,TAXONOMY!$A$1:$G$959,7,FALSE))","v":""},{"$f":"IF(ISBLANK($R1993)=TRUE,\"\",VLOOKUP($R1993,TAXONOMY!$A$1:$G$959,6,FALSE))","v":""},{"$f":"IF(ISBLANK($R1993)=TRUE,\"\",VLOOKUP($R1993,TAXONOMY!$A$1:$G$959,5,FALSE))","v":""},{"$f":"IF(ISBLANK($R1993)=TRUE,\"\",VLOOKUP($R1993,TAXONOMY!$A$1:$G$959,4,FALSE))","v":""},{"$f":"IF(ISBLANK($R1993)=TRUE,\"\",VLOOKUP($R1993,TAXONOMY!$A$1:$G$959,3,FALSE))","v":""},{"$f":"IF(ISBLANK($R1993)=TRUE,\"\",VLOOKUP($R1993,TAXONOMY!$A$1:$H$959,2,FALSE))","v":""}]
[null,null,null,null,null,null,null,null,null,null,null,{"$f":"IF(ISBLANK($R1994)=TRUE,\"\",VLOOKUP($R1994,TAXONOMY!$A$1:$G$959,7,FALSE))","v":""},{"$f":"IF(ISBLANK($R1994)=TRUE,\"\",VLOOKUP($R1994,TAXONOMY!$A$1:$G$959,6,FALSE))","v":""},{"$f":"IF(ISBLANK($R1994)=TRUE,\"\",VLOOKUP($R1994,TAXONOMY!$A$1:$G$959,5,FALSE))","v":""},{"$f":"IF(ISBLANK($R1994)=TRUE,\"\",VLOOKUP($R1994,TAXONOMY!$A$1:$G$959,4,FALSE))","v":""},{"$f":"IF(ISBLANK($R1994)=TRUE,\"\",VLOOKUP($R1994,TAXONOMY!$A$1:$G$959,3,FALSE))","v":""},{"$f":"IF(ISBLANK($R1994)=TRUE,\"\",VLOOKUP($R1994,TAXONOMY!$A$1:$H$959,2,FALSE))","v":""}]
[null,null,null,null,null,null,null,null,null,null,null,{"$f":"IF(ISBLANK($R1995)=TRUE,\"\",VLOOKUP($R1995,TAXONOMY!$A$1:$G$959,7,FALSE))","v":""},{"$f":"IF(ISBLANK($R1995)=TRUE,\"\",VLOOKUP($R1995,TAXONOMY!$A$1:$G$959,6,FALSE))","v":""},{"$f":"IF(ISBLANK($R1995)=TRUE,\"\",VLOOKUP($R1995,TAXONOMY!$A$1:$G$959,5,FALSE))","v":""},{"$f":"IF(ISBLANK($R1995)=TRUE,\"\",VLOOKUP($R1995,TAXONOMY!$A$1:$G$959,4,FALSE))","v":""},{"$f":"IF(ISBLANK($R1995)=TRUE,\"\",VLOOKUP($R1995,TAXONOMY!$A$1:$G$959,3,FALSE))","v":""},{"$f":"IF(ISBLANK($R1995)=TRUE,\"\",VLOOKUP($R1995,TAXONOMY!$A$1:$H$959,2,FALSE))","v":""}]
[null,null,null,null,null,null,null,null,null,null,null,{"$f":"IF(ISBLANK($R1996)=TRUE,\"\",VLOOKUP($R1996,TAXONOMY!$A$1:$G$959,7,FALSE))","v":""},{"$f":"IF(ISBLANK($R1996)=TRUE,\"\",VLOOKUP($R1996,TAXONOMY!$A$1:$G$959,6,FALSE))","v":""},{"$f":"IF(ISBLANK($R1996)=TRUE,\"\",VLOOKUP($R1996,TAXONOMY!$A$1:$G$959,5,FALSE))","v":""},{"$f":"IF(ISBLANK($R1996)=TRUE,\"\",VLOOKUP($R1996,TAXONOMY!$A$1:$G$959,4,FALSE))","v":""},{"$f":"IF(ISBLANK($R1996)=TRUE,\"\",VLOOKUP($R1996,TAXONOMY!$A$1:$G$959,3,FALSE))","v":""},{"$f":"IF(ISBLANK($R1996)=TRUE,\"\",VLOOKUP($R1996,TAXONOMY!$A$1:$H$959,2,FALSE))","v":""}]
[null,null,null,null,null,null,null,null,null,null,null,{"$f":"IF(ISBLANK($R1997)=TRUE,\"\",VLOOKUP($R1997,TAXONOMY!$A$1:$G$959,7,FALSE))","v":""},{"$f":"IF(ISBLANK($R1997)=TRUE,\"\",VLOOKUP($R1997,TAXONOMY!$A$1:$G$959,6,FALSE))","v":""},{"$f":"IF(ISBLANK($R1997)=TRUE,\"\",VLOOKUP($R1997,TAXONOMY!$A$1:$G$959,5,FALSE))","v":""},{"$f":"IF(ISBLANK($R1997)=TRUE,\"\",VLOOKUP($R1997,TAXONOMY!$A$1:$G$959,4,FALSE))","v":""},{"$f":"IF(ISBLANK($R1997)=TRUE,\"\",VLOOKUP($R1997,TAXONOMY!$A$1:$G$959,3,FALSE))","v":""},{"$f":"IF(ISBLANK($R1997)=TRUE,\"\",VLOOKUP($R1997,TAXONOMY!$A$1:$H$959,2,FALSE))","v":""}]
[null,null,null,null,null,null,null,null,null,null,null,{"$f":"IF(ISBLANK($R1998)=TRUE,\"\",VLOOKUP($R1998,TAXONOMY!$A$1:$G$959,7,FALSE))","v":""},{"$f":"IF(ISBLANK($R1998)=TRUE,\"\",VLOOKUP($R1998,TAXONOMY!$A$1:$G$959,6,FALSE))","v":""},{"$f":"IF(ISBLANK($R1998)=TRUE,\"\",VLOOKUP($R1998,TAXONOMY!$A$1:$G$959,5,FALSE))","v":""},{"$f":"IF(ISBLANK($R1998)=TRUE,\"\",VLOOKUP($R1998,TAXONOMY!$A$1:$G$959,4,FALSE))","v":""},{"$f":"IF(ISBLANK($R1998)=TRUE,\"\",VLOOKUP($R1998,TAXONOMY!$A$1:$G$959,3,FALSE))","v":""},{"$f":"IF(ISBLANK($R1998)=TRUE,\"\",VLOOKUP($R1998,TAXONOMY!$A$1:$H$959,2,FALSE))","v":""}]
[null,null,null,null,null,null,null,null,null,null,null,{"$f":"IF(ISBLANK($R1999)=TRUE,\"\",VLOOKUP($R1999,TAXONOMY!$A$1:$G$959,7,FALSE))","v":""},{"$f":"IF(ISBLANK($R1999)=TRUE,\"\",VLOOKUP($R1999,TAXONOMY!$A$1:$G$959,6,FALSE))","v":""},{"$f":"IF(ISBLANK($R1999)=TRUE,\"\",VLOOKUP($R1999,TAXONOMY!$A$1:$G$959,5,FALSE))","v":""},{"$f":"IF(ISBLANK($R1999)=TRUE,\"\",VLOOKUP($R1999,TAXONOMY!$A$1:$G$959,4,FALSE))","v":""},{"$f":"IF(ISBLANK($R1999)=TRUE,\"\",VLOOKUP($R1999,TAXONOMY!$A$1:$G$959,3,FALSE))","v":""},{"$f":"IF(ISBLANK($R1999)=TRUE,\"\",VLOOKUP($R1999,TAXONOMY!$A$1:$H$959,2,FALSE))","v":""}]
[null,null,null,null,null,null,null,null,null,null,null,{"$f":"IF(ISBLANK($R2000)=TRUE,\"\",VLOOKUP($R2000,TAXONOMY!$A$1:$G$959,7,FALSE))","v":""},{"$f":"IF(ISBLANK($R2000)=TRUE,\"\",VLOOKUP($R2000,TAXONOMY!$A$1:$G$959,6,FALSE))","v":""},{"$f":"IF(ISBLANK($R2000)=TRUE,\"\",VLOOKUP($R2000,TAXONOMY!$A$1:$G$959,5,FALSE))","v":""},{"$f":"IF(ISBLANK($R2000)=TRUE,\"\",VLOOKUP($R2000,TAXONOMY!$A$1:$G$959,4,FALSE))","v":""},{"$f":"IF(ISBLANK($R2000)=TRUE,\"\",VLOOKUP($R2000,TAXONOMY!$A$1:$G$959,3,FALSE))","v":""},{"$f":"IF(ISBLANK($R2000)=TRUE,\"\",VLOOKUP($R2000,TAXONOMY!$A$1:$H$959,2,FALSE))","v":""},null,null,null,"n","n","n"]

{"sheet":"InformationCategories","index":2,"n_rows":59,"n_cols":68,"rows_kept":59,"cut":false,"hidden":false,"merged":[]}
["Cost_ID","Repository","Reference_ID","Reference_title","Authors","Abstract","Publication_year","Language","Type_of_material","Previous_materials","Availability","Kingdom","Phylum","Class","Order","Family","Genus","Species","Sub-species","Common_name","Environment","Environment_IAS","Habitatverbatim","Habitat","urbanArea","protectedArea","Island","Geographic_region","Official_country","State|Province|Administrative_area","Location","Spatial_scale","Period_of_estimation","Time_range","Probable_starting_year","Probable_ending_year","Occurrence"," Raw_cost_estimate_local_currency "," Min_Raw_cost_estimate_local_currency "," Max_Raw_cost_estimate_local_currency "," Raw_cost_estimate_2017_USD_exchange_rate "," Raw_cost_estimate_2017_USD_PPP ","Cost_estimate_per_year_local_currency"," Cost_estimate_per_year_2017_USD_exchange_rate "," Cost_estimate_per_year_2017_USD_PPP "," Raw_cost_estimate_2020_USD_exchange_rate "," Raw_cost_estimate_2020_USD_PPP "," Cost_estimate_per_year_2020_USD_exchange_rate "," Cost_estimate_per_year_2020_USD_PPP ","Currency","Applicable_year","Type_of_applicable_year","Implementation","Acquisition_method","Impacted_sector","Type_of_cost","Type_of_cost_merged","Management_type","Method_reliability","Method_reliability_refined","Method_reliability_refined_Explanation","Method_reliability_refined_Expert_Name","Overlaps","Benefit_value(s)","Details","Initial_contributors_names","Initial_contributors_emails","Double-checking"]
[null,null,null,null,null,null,null,null,null,null,null,null,null,null,null,null,null,null,null,null,null,null,null,null,"urban","Y","Y"]
["Unique identifier of the cost entry. To be set by the contributors and then completed/homogenized by the database managers",null,"The numerical identifier of the material analysed, for correspondence with bibliographic details",null,null,"copy the text of the abstract for each reference",null,null,"Type_of_material","Previous_materials","Availability","For species (or kindom, phylum, etc) check here the species name: https://www.gbif.org/en/",null,null,null,null,null,null,null,null,"where the cost estimate occurred","where the invasive species lives","copy from the source the explanation of the \"habitat\" or studied site/area/system",null,"non-urban","N","N","Geographic_region",null,"The second level of geographic division (state, province or territory) for the official country. It provide a more precise information about the geographic location of the costs in addition to the \"Location\" column. ","Specific location name where the cost occurred","SPATIAL SCALE (descending order, from big to small)","as stated in the material","Time_range","Probable_starting_year","Probable_ending_year","Occurrence","The cost estimate directly retrieved from the analysed materials","Lower boundary of the Raw cost estimate local currency (if a range of estimates was provided by the authors)","Lower boundary of the Raw cost estimate local currency (if a range of estimates was provided by the authors)","These columns refer to cost standarization and usually is made by the InvaCost team\"",null,null,null,null,null,null,null,null,"Search acronyms here: https://www.countries-ofthe-world.com/world-currencies.html","The year of the ‘Currency’ value (not the year of the cost occurrence) considered for the conversion/standardization of the cost estimate","Type_of_applicable_year","Implementation","Acquisition_Method","Impacted_sector","Type_of_cost","Reasssignement of the type of cost column:",null,"Method_reliability","Method_reliability_refined",null,null,"List of cost estimates (individual Cost ID) that might overlap with other cost entry(s).","Benefit_value","When necessary, narrative elements deemed important either to understand the cost estimate or to support choices made for completing the database","Name of contributor(s) having collated the cost entry"]
[null,"Repository","Please, for Non English add the acronym of your language + number, ex UKR_1",null,null,"(in case there is no abstract -- executive summary, or first page of text) ",null,null,"Book","NA - if no previous material","No","Diverse/Unspecified",null,null,null,null,null,null,null,null,null,null,null,null,"both","NA","NA","Africa",null,null,null,"(some examples for Units are given, it is possible to include others)",null,"Period","Year X","Year Y","One-time","Only  column AK (and if data exists, columns AL and AM) have to be filled",null,null,null,null,null,null,null,null,null,null,null,"Currency of the cost in the original reference",null,"Effective","Observed","Report/Estimation","Agriculture","Categories: it is possible to include others or combination of these ones (consider to add them in alphabetical order)","Categories:","Categories:","High","High",null,null,"Z(V/W) ","No",null,null,"Contact details of contributors (s) having collated the cost entry","Double-checking"]
[null,"Go",null,null,null,null,null,null,"Book chapter","Otherwise, add reference of previous material","Yes","Prefilled when entering the species name",null,null,null,null,null,null,null,null,null,null,null,null,null,null,null,"Africa/Asia/Europa",null,null,null,"Global",null,"Year","unspecified","unspecified","Potentially ongoing",null,null,null,null,null,null,null,null,null,null,null,null,null,null,"Publication year","Potential","Extrapolation","Authorities-Stakeholders","Administration","Damage","Pre-invasion management","Low","Low",null,null,"Z/V/W","Yes",null,null,null,"Yes"]
[null,"GS",null,null,null,null,null,"Refers to the language in which the document was written","Conference communication",null,null,null,null,null,null,null,null,null,null,null,null,null,null,null,null,null,null,"Antartic-Subantartic",null,null,null,"Intercontinental",null,null,null,null,null,null,null,null,null,null,null,null,null,null,null,null,null,null,null,null,null,null,"Environment","Avoided costs","Management","Post-invasion management",null,null,null,null,"or combinations of the above;, each letter is a cost ID",null,null,null,null,"No"]
[null,"TC",null,null,null,null,null,null,"Conference paper",null,"The accessibility of the material as a searchable document (yes/no)",null,null,null,null,null,null,null,null,null,"ENVIRONMENT","Environment_IAS",null,"Habitat",null,null,null,"Asia",null,null,null,"Continental",null,"Period if the estimate is given for a period exceeding a year",null,null,"One-time: if the cost was deemed as unlikely to continue",null,null,null,null,null,null,null,null,null,null,null,null,null,null,null,null,null,"Fishery","Communication","Mixed","Knowledge/funding",null,null,null,null,null,"The mention of if any benefit value was found in the analysed material;"]
[null,"WoS",null,null,null,null,null,"Categories (it is possible to include others):","Conference proceedings",null,null,null,null,null,null,null,null,null,null,null,"Terrestrial","Terrestrial",null,"use the classification provided below: \"Habitat code\"",null,null,null,"Asia/Europa",null,null,null,"Regional",null,"Year if the estimate is given yearly or for a period up to one year",null,null,"potentially ongoing: if the cost can be expected to continue over time",null,null,null,null,null,null,null,null,null,null,null,null,null,null,null,null,null,"Forestry","Control","Unspecified","Mixed",null,null,null,null,null," this might cover different types of benefits (e.g. real benefits provided by direct use or exploitation of invasive species or benefits that are actually avoided costs) "]
[null,null,null,null,null,null,null,"English","Discussion paper",null,null,null,null,null,null,null,null,null,null,null,"Aquatic","Aquatic",null,"NA if not stated or unknown or many habitat types","Description","Description","Description","Central America",null,null,null,"Country",null,null,null,null,null,null,null,null,null,null,null,null,null,null,null,null,null,null,null,null,null,null,"Health","Damage repair",null,"Unspecified",null,"Description:","Description:","Description:",null,"the figure was not recorded or described as being out of the scope of INVACOST"]
[null,"Description:",null,null,null,null,null,"Chinese","Fact sheet",null,null,null,null,null,null,null,null,null,null,null,"Semi-aquatic","Semi-aquatic",null,null,"urban: if the costs occurred in urban areas only","Y if the costs are for a protected area(s)","Y for island","Central America/North America",null,null,null,"Site",null,null,null,null,null,null,null,null,null,null,null,null,null,null,null,null,null,null,null,null,null,null,"Public and social welfare","Damage-Loss",null,"NA",null,"Assessment of the methodological approach used for cost estimation as of high or low reliability based on the evaluation of the estimation methodology by expert contributors","Detailed explanation why a particular methodological approach used for cost estimation was deemed as of high or low reliability based on expert opinion","Complete name and contact details of the expert had deemed the reliability of the cost entry",null,null,null,null,null,"Description"]
[null," 'Google search engine (Go)'",null,null,null,null,null,"Dutch","Journal article",null,null,null,null,null,null,null,null,null,null,null,"Unspecified","Unspecified",null,null,"other: if the cost occurred in a non-urban areas only or on a large area where  urban and non-urban areas ccannot be distinguished","N no protected area","N for mainland","Central America/North America/South America",null,null,null,"Unspecified",null,null,null,null,null,null,null,null,null,null,null,null,null,null,null,null,null,null,null,null,null,null,null,"Detection",null,null,null,null,null,null,null,null,null,null,null,"Assessment of cost information collated (by at least) two contributors which names/contacts are provided in the Contributors column"]
[null," 'Google Scholar (GS)',",null,null,null,null,null,"French","M.Sc. Dissertation",null,null,null,null,null,null,null,null,null,null,null,null,null,null,null,"both: if the study compares the costs between urban and non-urban areas (i.e. urban vs. suburban, or, suburban vs. non-urban, it must be explicit)","NA if not stated or unknown or protected+unprotected areas","NA if not stated or unknown","Central America/Oceania-Pacific islands",null,null,null,"Unit (0.28 Ha)",null,null,null,null,null,null,null,null,null,null,null,null,null,null,null,null,null,null,null,null,null,null,null,"Direct medical cost ",null,null,null,null,null,null,null,null,null,null,null,"Yes: if it has been double checked"]
[null,"‘Targeted collection (TC)'",null,null,null,null,null,"German","Master thesis",null,null,null,null,null,null,null,null,null,null,null,null,null,null,null,null,null,null,"Central America/South America",null,null,null,"Unit (1 paper company)",null,null,"In the case of a cost estimate provided for a one-year period straddling two calendar years, we mentioned the latest year of the cost occurrence in both columns. ",null,null,null,null,null,null,null,null,null,null,null,null,null,null,null,null,"Description:","Description:","Description:","Description impacted_sector categories","Early detection","Description Type_of_cost_merged","Description Management_type","Description:",null,null,null,"Description:",null,null,null,null,"No: if it has not been double checked "]
[null," 'Web of Science (WoS)',",null,null,null,null,null,"Greek","Newsletter",null,null,null,null,null,null,null,null,null,null,null,null,null,null,null,null,null,null,"Diverse/Unspecified",null,null,null,"Unit (1,000 Ha)",null,null,"When vague formulations were used (e.g. early 90’s), we still translated them in probable ending/starting year (e.g. 1990-1995). ",null,null,null,null,null,null,null,null,null,null,null,null,null,null,null,null,"Effective: the assessment of the applicable year as effective if explicitly stated by the authors ","Observed: whether the reported cost was actually observed (i.e. cost actually incurred) at the time of the estimation","Report/Estimation: directly obtained or derived (using inference methods) from field-based information","Agriculture: Considered at its broadest sense, food and other useful products produced by human activities through using natural and/plant resources from their ecosystems (e.g.  crop growing, livestock breeding, beekeeping, land management)","Education","Damage: economic losses due to direct and/or indirect impacts of invaders, such as yield loss, health injury, land alteration, infrastructure damage, or income reduction","Pre-invasion management: monetary investments for preventing successful invasions in an area - including quarantine or border inspection, risk analyses, biosecurity management, etc.","The assessment of the methodological approach used for cost estimation",null,null,null," Z(V/W) when the overlap is known and one or more cost ID (V,W) are included in another cost ID (Z)"]
[null,null,null,null,null,null,null,"Japanese","Newspaper",null,null,null,null,null,null,null,null,null,null,null,null,null,null,null,null,null,null,"Europa",null,null,null,"Unit (1,000 Km)",null,null,null,null,null,null,null,null,null,null,null,null,null,null,null,null,null,null,null,"Publication year: if no explicit information provided","Potential: whether the reported cost was potential (i.e. not incurred but expected cost) at the time of the estimation","Extrapolation: cost predicted beyond the original spatial and/or temporal observation range relying on computational modelling","Authorities-Stakeholders: Governmental services and/or official organisations (e.g. conservation agencies, forest services, associations) that allocate efforts for the management sensu lato of biological invasions (e.g. control programs, eradication campaigns, research funding) ","Eradication","Management: monetary resources allocated to mitigate the spread or impacts of invaders, such as prevention, control, research, long-term management, eradication ","Post-invasion management: money  spent for managing invasions in invaded areas - including control, eradication, containment","high reliability: if either provided by officially pre-assessed materials (peer- reviewed articles and official reports) or the estimation method was documented, repeatable and/or traceable if provided by other grey materials",null,null,null," Z/V/W: when the overlap is not clear"]
[null,null,null,null,null,null,null,"Portuguese","Official report",null,null,null,null,null,null,null,null,null,null,null,null,null,null,null,null,null,null,"Europa/North America",null,null,null,"Unit (1,746 Km²)",null,null,null,null,null,null,null,null,null,null,null,null,null,null,null,null,null,null,null,null,null,null,"Environment: Impacts on natural resources, ecological processes and/or ecosystem services that have been valued by authors such as disruption of native habitats or degradation of local habitats","Evacuation","Mixed: when when costs included both ‘damage’ and ‘management’ components","Knowledge/funding: money allocated to all actions and operations that could be of interest at all steps of management at pre- and post-invasion stages - including administration, communication, education, research, etc.","low reliability if not "]
[null,null,null,null,null,null,null,"Russian","Online press release",null,null,null,null,null,null,null,null,null,null,null,null,null,"Habitat type","Habitat code","Description",null,null,"North America",null,null,null,"Unit (1.2 million ha land area managed)",null,null,null,null,null,null,null,null,null,null,null,null,null,null,null,null,null,null,null,null,null,null,"Fishery: Fish-based activities and services such as fishing and aquaculture","Funding","Unspecified: every cost for which the exact nature of cost was not clearly defined","Mixed: when costs include at least (and without possibility to disentangle the specific proportion of) two of the previous categories"]
[null,null,null,null,null,null,null,"Spanish","Peer-reviewed article",null,null,null,null,null,null,null,null,null,null,null,null,null,"Forests",1,"closed vegetation dominated by deciduous or evergreen trees",null,null,"North America/Oceania",null,null,null,"Unit (10,000 acres of water treated)",null,null,null,null,null,null,null,null,null,null,null,null,null,null,null,null,null,null,null,null,null,null,"Forestry: Forest-based activities and services such as timber production/industries and private forests","Harvesting",null,"Unspecified: every cost for which the exact nature of cost was not clearly defined was assigned to."]
[null,null,null,null,null,null,null,"Ukranian","Poster",null,null,null,null,null,null,null,null,null,null,null,null,null,"Open forests",2,"woodland vegetation with canopy openings created by environmental stress or disturbance",null,null,"Oceania-Pacific islands",null,null,null,"Unit (2 Landholders)",null,null,null,null,null,null,null,null,null,null,null,null,null,null,null,null,null,null,null,null,null,null,"Health: Every item directly or indirectly related to the sanitary state of people such as vector control, medical care and other derived damage on human productivity and well-being","Household use of insecticide",null,"NA: Every entry that has partly or fully associated with damage costs"]
[null,null,null,null,null,null,null,null,"Report",null,null,null,null,null,null,null,null,null,null,null,null,null,"Scrub",3,"shrublands mantained by environmental stress (aridity) or disturbance ",null,null,"Oceania/South America",null,null,null,"Unit (230,000 cottages)",null,null,null,null,null,null,null,null,null,null,null,null,null,null,null,null,null,null,null,null,null,null,"Public and social welfare: Activities, goods or services contributing - directly or indirectly - to the human well-being and safety in our societies, including local infrastructures (e.g. electric system), quality of life (e.g. income, recreational activities), personal goods (e.g. private properties, lands), public services (e.g. transports, water regulation), and market activities (e.g. tourism, trade)","Indirect costs (not detailed)"]
[null,null,null,null,null,null,null,null,"Slideshow presentation",null,null,null,null,null,null,null,null,null,null,null,null,null,"Grasslands",4,"open graminoid-dominated habitats maintained either by climate (steppes, prairies, savannas) or land-use (grazing, mowing) or combination of both. If possible, specify if it corresponds with 4a or 4b",null,null,"South America",null,null,null,"Unit (300,000 ha and 500 km of creek line)",null,null,null,null,null,null,null,null,null,null,null,null,null,null,null,null,null,null,null,null,null,null,null,"Information"]
[null,null,null,null,null,null,null,null,"Thesis",null,null,null,null,null,null,null,null,null,null,null,null,null,"Natural grasslands","4a",null,null,null,null,null,null,null,"Unit (339 facilities)",null,null,null,null,null,null,null,null,null,null,null,null,null,null,null,null,null,null,null,null,null,null,null,"Management (unspecified)"]
[null,null,null,null,null,null,null,null,"Unpublished material",null,null,null,null,null,null,null,null,null,null,null,null,null,"Human-maintained grasslands","4b",null,null,null,null,null,null,null,"Unit (420 water companies)",null,null,null,null,null,null,null,null,null,null,null,null,null,null,null,null,null,null,null,null,null,null,null,"Medical"]
[null,null,null,null,null,null,null,null,"Unspecified",null,null,null,null,null,null,null,null,null,null,null,null,null,"Sandy",5,"dunes and other habitats on unstable sandy substrate, stressed by low nutrients, drought and disturbed by sand movement ",null,null,null,null,null,null,"Unit (437,000 ha plus 25% share of Ningaloo Station)",null,null,null,null,null,null,null,null,null,null,null,null,null,null,null,null,null,null,null,null,null,null,null,"Medical care"]
[null,null,null,null,null,null,null,null,"Web page",null,null,null,null,null,null,null,null,null,null,null,null,null,"Rocky",6,"cliffs and rock outcrops with very shallow or no soil",null,null,null,null,null,null,"Unit (46 plants)",null,null,null,null,null,null,null,null,null,null,null,null,null,null,null,null,null,null,null,null,null,null,null,"Monitoring "]
[null,null,null,null,null,null,null,null,"Workshop proceedings",null,null,null,null,null,null,null,null,null,null,null,null,null,"Dryland",7,"habitats in which drought stress limits vegetation development",null,null,null,null,null,null,"Unit (5 ponds)",null,null,null,null,null,null,null,null,null,null,null,null,null,null,null,null,null,null,null,null,null,null,null,"Out-of-pocket"]
[null,null,null,null,null,null,null,null,null,null,null,null,null,null,null,null,null,null,null,null,null,null,"Saline",8,"habitats stressed by high soil salinity",null,null,null,null,null,null,"Unit (75 km long river stretch)",null,null,null,null,null,null,null,null,null,null,null,null,null,null,null,null,null,null,null,null,null,null,null,"Personal loss"]
[null,null,null,null,null,null,null,null,null,null,null,null,null,null,null,null,null,null,null,null,null,null,"Riparian",9,"a mosaic of wetlands, grasslands, tall-forb stands, scrub and woodlands in stream corridors",null,null,null,null,null,null,"Unit (8 power plants)",null,null,null,null,null,null,null,null,null,null,null,null,null,null,null,null,null,null,null,null,null,null,null,"Prevention"]
[null,null,null,null,null,null,null,null,null,null,null,null,null,null,null,null,null,null,null,null,null,null,"Wetland",10,"sites with permanent or seasonal influence of moisture, ranging from oligotrophic to eutrophic",null,null,null,null,null,null,"Unit (Airport)",null,null,null,null,null,null,null,null,null,null,null,null,null,null,null,null,null,null,null,null,null,null,null,"Research"]
[null,null,null,null,null,null,null,null,null,null,null,null,null,null,null,null,null,null,null,null,null,null,"Aquatic",11,"water bodies and streams with submerged and floating plant species",null,null,null,null,null,null,"Unit (Animal)",null,null,null,null,null,null,null,null,null,null,null,null,null,null,null,null,null,null,null,null,null,null,null,"Risk assessment"]
[null,null,null,null,null,null,null,null,null,null,null,null,null,null,null,null,null,null,null,null,null,null,"Man-made",12,"habitats created by humans or where human factor is the main shaping force. If possible, specify if it corresponds with 12a or 12b",null,null,null,null,null,null,"Unit (Bait)",null,null,null,null,null,null,null,null,null,null,null,null,null,null,null,null,null,null,null,null,null,null,null,"Surveillance"]
[null,null,null,null,null,null,null,null,null,null,null,null,null,null,null,null,null,null,null,null,null,null,"Ruderal habitats (= urban)","12a",null,null,null,null,null,null,null,"Unit (barrier, 80 Km)",null,null,null,null,null,null,null,null,null,null,null,null,null,null,null,null,null,null,null,null,null,null,null,"Unspecified"]
[null,null,null,null,null,null,null,null,null,null,null,null,null,null,null,null,null,null,null,null,null,null,"Agricultural habitats","12b",null,null,null,null,null,null,null,"Unit (Basin)"]
[null,null,null,null,null,null,null,null,null,null,null,null,null,null,null,null,null,null,null,null,null,null,null,null,null,null,null,null,null,null,null,"Unit (beech plantation)"]
[null,null,null,null,null,null,null,null,null,null,null,null,null,null,null,null,null,null,null,null,null,null,null,null,null,null,null,null,null,null,null,"Unit (Bundle)"]
[null,null,null,null,null,null,null,null,null,null,null,null,null,null,null,null,null,null,null,null,null,null,null,null,null,null,null,null,null,null,null,"Unit (Day)"]
[null,null,null,null,null,null,null,null,null,null,null,null,null,null,null,null,null,null,null,null,null,null,null,null,null,null,null,null,null,null,null,"Unit (Farmer)"]
[null,null,null,null,null,null,null,null,null,null,null,null,null,null,null,null,null,null,null,null,null,null,null,null,null,null,null,null,null,null,null,"Unit (Forest)"]
[null,null,null,null,null,null,null,null,null,null,null,null,null,null,null,null,null,null,null,null,null,null,null,null,null,null,null,null,null,null,null,"Unit (Gardens/golf courses)"]
[null,null,null,null,null,null,null,null,null,null,null,null,null,null,null,null,null,null,null,null,null,null,null,null,null,null,null,null,null,null,null,"Unit (Hole)"]
[null,null,null,null,null,null,null,null,null,null,null,null,null,null,null,null,null,null,null,null,null,null,null,null,null,null,null,null,null,null,null,"Unit (Hour)"]
[null,null,null,null,null,null,null,null,null,null,null,null,null,null,null,null,null,null,null,null,null,null,null,null,null,null,null,null,null,null,null,"Unit (Household)"]
[null,null,null,null,null,null,null,null,null,null,null,null,null,null,null,null,null,null,null,null,null,null,null,null,null,null,null,null,null,null,null,"Unit (Lake)"]
[null,null,null,null,null,null,null,null,null,null,null,null,null,null,null,null,null,null,null,null,null,null,null,null,null,null,null,null,null,null,null,"Unit (material)"]
[null,null,null,null,null,null,null,null,null,null,null,null,null,null,null,null,null,null,null,null,null,null,null,null,null,null,null,null,null,null,null,"Unit (Meter)"]
[null,null,null,null,null,null,null,null,null,null,null,null,null,null,null,null,null,null,null,null,null,null,null,null,null,null,null,null,null,null,null,"Unit (National park)"]
[null,null,null,null,null,null,null,null,null,null,null,null,null,null,null,null,null,null,null,null,null,null,null,null,null,null,null,null,null,null,null,"Unit (Park)"]
[null,null,null,null,null,null,null,null,null,null,null,null,null,null,null,null,null,null,null,null,null,null,null,null,null,null,null,null,null,null,null,"Unit (Patient)"]
[null,null,null,null,null,null,null,null,null,null,null,null,null,null,null,null,null,null,null,null,null,null,null,null,null,null,null,null,null,null,null,"Unit (People)"]
[null,null,null,null,null,null,null,null,null,null,null,null,null,null,null,null,null,null,null,null,null,null,null,null,null,null,null,null,null,null,null,"Unit (plant)"]
[null,null,null,null,null,null,null,null,null,null,null,null,null,null,null,null,null,null,null,null,null,null,null,null,null,null,null,null,null,null,null,"Unit (Property)"]
[null,null,null,null,null,null,null,null,null,null,null,null,null,null,null,null,null,null,null,null,null,null,null,null,null,null,null,null,null,null,null,"Unit (Railway)"]
[null,null,null,null,null,null,null,null,null,null,null,null,null,null,null,null,null,null,null,null,null,null,null,null,null,null,null,null,null,null,null,"Unit (Reserve)"]
[null,null,null,null,null,null,null,null,null,null,null,null,null,null,null,null,null,null,null,null,null,null,null,null,null,null,null,null,null,null,null,"Unit (River)"]
[null,null,null,null,null,null,null,null,null,null,null,null,null,null,null,null,null,null,null,null,null,null,null,null,null,null,null,null,null,null,null,"Unit (River/140,000 Km²)"]
[null,null,null,null,null,null,null,null,null,null,null,null,null,null,null,null,null,null,null,null,null,null,null,null,null,null,null,null,null,null,null,"Unit (several ships)"]
[null,null,null,null,null,null,null,null,null,null,null,null,null,null,null,null,null,null,null,null,null,null,null,null,null,null,null,null,null,null,null,"Unit (Species)"]
[null,null,null,null,null,null,null,null,null,null,null,null,null,null,null,null,null,null,null,null,null,null,null,null,null,null,null,null,null,null,null,"Unit (Trap)"]
[null,null,null,null,null,null,null,null,null,null,null,null,null,null,null,null,null,null,null,null,null,null,null,null,null,null,null,null,null,null,null,"Unit (water user)"]

{"sheet":"TAXONOMY","index":3,"n_rows":959,"n_cols":8,"rows_kept":959,"cut":false,"hidden":true,"merged":[]}
["Accepted_species_name","genus","family","order","class","phylum","kingdom","status"]
["Abutilon theophrasti","Abutilon","Malvaceae","Malvales","Magnoliopsida","Tracheophyta","Plantae","ACCEPTED"]
["Acacia cyclops","Acacia","Fabaceae","Fabales","Magnoliopsida","Tracheophyta","Plantae","ACCEPTED"]
["Acacia dealbata","Acacia","Fabaceae","Fabales","Magnoliopsida","Tracheophyta","Plantae","ACCEPTED"]
["Acacia implexa","Acacia","Fabaceae","Fabales","Magnoliopsida","Tracheophyta","Plantae","ACCEPTED"]
["Acacia longifolia","Acacia","Fabaceae","Fabales","Magnoliopsida","Tracheophyta","Plantae","ACCEPTED"]
["Acacia mangium","Acacia","Fabaceae","Fabales","Magnoliopsida","Tracheophyta","Plantae","ACCEPTED"]
["Acacia mearnsii","Acacia","Fabaceae","Fabales","Magnoliopsida","Tracheophyta","Plantae","ACCEPTED"]
["Acacia melanoxylon","Acacia","Fabaceae","Fabales","Magnoliopsida","Tracheophyta","Plantae","ACCEPTED"]
["Acacia nilotica","Acacia","Fabaceae","Fabales","Magnoliopsida","Tracheophyta","Plantae","ACCEPTED"]
["Acacia paradoxa","Acacia","Fabaceae","Fabales","Magnoliopsida","Tracheophyta","Plantae","ACCEPTED"]
["Acacia pycnantha","Acacia","Fabaceae","Fabales","Magnoliopsida","Tracheophyta","Plantae","ACCEPTED"]
["Acacia saligna","Acacia","Fabaceae","Fabales","Magnoliopsida","Tracheophyta","Plantae","ACCEPTED"]
["Acaciella angustissima","Acaciella","Fabaceae","Fabales","Magnoliopsida","Tracheophyta","Plantae","ACCEPTED"]
["Acanthotomicus sp.","Acanthotomicus","Curculionidae","Insecta","Coleoptera","Arthropoda","Animalia"]
["Acanthus mollis","Acanthus","Acanthaceae","Lamiales","Magnoliopsida","Tracheophyta","Plantae","ACCEPTED"]
["Acarapis woodi","Acarapis","Tarsonemidae","Prostigmata","Arachnida","Arthropoda","Animalia","ACCEPTED"]
["Acer negundo","Acer","Sapindaceae","Sapindales","Magnoliopsida","Tracheophyta","Plantae","ACCEPTED"]
["Achatina fulica","Achatina","Achatinidae","Stylommatophora","Gastropoda","Mollusca","Animalia","ACCEPTED"]
["Acridotheres tristis","Acridotheres","Sturnidae","Passeriformes","Aves","Chordata","Animalia","ACCEPTED"]
["Acromyrmex octospinosus","Acromyrmex","Formicidae","Hymenoptera","Insecta","Arthropoda","Animalia","ACCEPTED"]
["Adelges piceae","Adelges","Adelgidae","Hemiptera","Insecta","Arthropoda","Animalia","ACCEPTED"]
["Adelges tsugae","Adelges","Adelgidae","Hemiptera","Insecta","Arthropoda","Animalia","ACCEPTED"]
["Aedes aegypti","Aedes","Culicidae","Diptera","Insecta","Arthropoda","Animalia","ACCEPTED"]
["Aedes albopictus","Aedes","Culicidae","Diptera","Insecta","Arthropoda","Animalia","ACCEPTED"]
["Aedes camptorhynchus","Aedes","Culicidae","Diptera","Insecta","Arthropoda","Animalia","ACCEPTED"]
["Aedes japonicus","Aedes","Culicidae","Diptera","Insecta","Arthropoda","Animalia","ACCEPTED"]
["Aeromonas salmonicida","Aeromonas","Aeromonadaceae","Aeromonadales","Gammaproteobacteria","Proteobacteria","Bacteria","ACCEPTED"]
["Aeschynomene brasiliana","Aeschynomene","Fabaceae","Fabales","Magnoliopsida","Tracheophyta","Plantae","ACCEPTED"]
["Aeschynomene paniculata","Aeschynomene","Fabaceae","Fabales","Magnoliopsida","Tracheophyta","Plantae","ACCEPTED"]
["Agave americana","Agave","Asparagaceae","Asparagales","Liliopsida","Tracheophyta","Plantae","ACCEPTED"]
["Agave sisalana","Agave","Asparagaceae","Asparagales","Liliopsida","Tracheophyta","Plantae","ACCEPTED"]
["Agave tequilana","Agave","Asparagaceae","Asparagales","Liliopsida","Tracheophyta","Plantae","ACCEPTED"]
["Ageratina adenophora","Ageratina","Asteraceae","Asterales","Magnoliopsida","Tracheophyta","Plantae","ACCEPTED"]
["Agrilus planipennis","Agrilus","Buprestidae","Coleoptera","Insecta","Arthropoda","Animalia","ACCEPTED"]
["Ailanthus altissima","Ailanthus","Simaroubaceae","Sapindales","Magnoliopsida","Tracheophyta","Plantae","ACCEPTED"]
["Alburnus alburnus","Alburnus","Cyprinidae","Cypriniformes","Actinopterygii","Chordata","Animalia","ACCEPTED"]
["Aleurocanthus woglumi","Aleurocanthus","Aleyrodidae","Hemiptera","Insecta","Arthropoda","Animalia","ACCEPTED"]
["Aleurodicus rugioperculatus","Aleurodicus","Aleyrodidae","Hemiptera","Insecta","Arthropoda","Animalia","ACCEPTED"]
["Alliaria petiolata","Alliaria","Brassicaceae","Brassicales","Magnoliopsida","Tracheophyta","Plantae","ACCEPTED"]
["Aloe arborescens","Aloe","Asphodelaceae","Asparagales","Liliopsida","Tracheophyta","Plantae","ACCEPTED"]
["Aloe maculata","Aloe","Asphodelaceae","Asparagales","Liliopsida","Tracheophyta","Plantae","ACCEPTED"]
["Aloe microstigma","Aloe","Asphodelaceae","Asparagales","Liliopsida","Tracheophyta","Plantae","ACCEPTED"]
["Aloe vera","Aloe","Asphodelaceae","Asparagales","Liliopsida","Tracheophyta","Plantae","ACCEPTED"]
["Alopochen aegyptiaca","Alopochen","Anatidae","Anseriformes","Aves","Chordata","Animalia","ACCEPTED"]
["Alternanthera philoxeroides","Alternanthera","Amaranthaceae","Caryophyllales","Magnoliopsida","Tracheophyta","Plantae","ACCEPTED"]
["Amandava amandava","Amandava","Estrildidae","Passeriformes","Aves","Chordata","Animalia","ACCEPTED"]
["Amaranthus mitchellii","Amaranthus","Amaranthaceae","Caryophyllales","Magnoliopsida","Tracheophyta","Plantae"]
["Amauromyza maculosa","Amauromyza","Agromyzidae","Diptera","Insecta","Arthropoda","Animalia","ACCEPTED"]
["Ambrosia artemisiifolia","Ambrosia","Asteraceae","Asterales","Magnoliopsida","Tracheophyta","Plantae","ACCEPTED"]
["Ambrosia polystachya","Ambrosia","Asteraceae","Asterales","Magnoliopsida","Tracheophyta","Plantae","ACCEPTED"]
["Ambrosia trifida","Ambrosia","Asteraceae","Asterales","Magnoliopsida","Tracheophyta","Plantae","ACCEPTED"]
["Ameiurus nebulosus","Ameiurus","Ictaluridae","Siluriformes","Actinopterygii","Chordata","Animalia","ACCEPTED"]
["Ammotragus lervia","Ammotragus ","Bovidae","Artiodactyla","Mammalia","Chordata","Animalia","ACCEPTED"]
["Anastrepha fraterculus","Anastrepha","Tephritidae","Diptera","Insecta","Arthropoda","Animalia","ACCEPTED"]
["Anastrepha ludens","Anastrepha","Tephritidae","Diptera","Insecta","Arthropoda","Animalia","ACCEPTED"]
["Andropogon gayanus","Andropogon","Poaceae","Poales","Liliopsida","Tracheophyta","Plantae","ACCEPTED"]
["Anguillicoloides crassus","Anguillicoloides","Anguillicolidae","Spirurida","Secernentea","Nematoda","Animalia","ACCEPTED"]
["Anguina tritici","Anguina","Tylenchidae","Tylenchida","Secernentea","Nematoda","Animalia","ACCEPTED"]
["Anolis carolinensis","Anolis","Dactyloidae","Squamata","Reptilia","Chordata","Animalia","ACCEPTED"]
["Anolis sagrei","Anolis","Dactyloidae","Squamata","Reptilia","Chordata","Animalia","ACCEPTED"]
["Anopheles darlingi","Anopheles","Culicidae","Diptera","Insecta","Arthropoda","Animalia","ACCEPTED"]
["Anoplolepis gracilipes","Anoplolepis","Formicidae","Hymenoptera","Insecta","Arthropoda","Animalia","ACCEPTED"]
["Anoplophora chinensis","Anoplophora","Cerambycidae","Coleoptera","Insecta","Arthropoda","Animalia","ACCEPTED"]
["Anoplophora glabripennis","Anoplophora","Cerambycidae","Coleoptera","Insecta","Arthropoda","Animalia","ACCEPTED"]
["Anredera cordifolia","Anredera","Basellaceae","Caryophyllales","Magnoliopsida","Tracheophyta","Plantae","ACCEPTED"]
["Anthemis cotula","Anthemis","Asteraceae","Asterales","Magnoliopsida","Tracheophyta","Plantae","ACCEPTED"]
["Anthonomus grandis","Anthonomus","Curculionidae","Coleoptera","Insecta","Arthropoda","Animalia","DOUBTFUL"]
["Aphanomyces astaci","Aphanomyces","Leptolegniaceae","Saprolegniales","Peronosporea","Oomycota","Chromista","ACCEPTED"]
["Aphelenchoides ritzemabosi","Aphelenchoides","Aphelenchoididae","Aphelenchida","Secernentea","Nematoda","Animalia","ACCEPTED"]
["Aphis glycines","Aphis","Aphididae","Hemiptera","Insecta","Arthropoda","Animalia","ACCEPTED"]
["Apis mellifera","Apis","Apidae","Hymenoptera","Insecta","Arthropoda","Animalia","ACCEPTED"]
["Aquila chrysaetos","Aquila","Accipitridae","Accipitriformes","Aves","Chordata","Animalia","ACCEPTED"]
["Araujia sericifera","Araujia","Apocynaceae","Gentianales","Magnoliopsida","Tracheophyta","Plantae","ACCEPTED"]
["Arctotheca calendula","Arctotheca","Asteraceae","Asterales","Magnoliopsida","Tracheophyta","Plantae","ACCEPTED"]
["Argemone mexicana","Argemone","Papaveraceae","Ranunculales","Magnoliopsida","Tracheophyta","Plantae","ACCEPTED"]
["Arion lusitanicus","Arion","Arionidae","Stylommatophora","Gastropoda","Mollusca","Animalia","ACCEPTED"]
["Arion vulgaris","Arion","Arionidae","Stylommatophora","Gastropoda","Mollusca","Animalia","ACCEPTED"]
["Aristolochia elegans","Aristolochia","Aristolochiaceae","Piperales","Magnoliopsida","Tracheophyta","Plantae","ACCEPTED"]
["Aristolochia odoratissima","Aristolochia","Aristolochiaceae","Piperales","Magnoliopsida","Tracheophyta","Plantae","ACCEPTED"]
["Artemia franciscana","Artemia","Artemiidae","Anostraca","Branchiopoda","Arthropoda","Animalia","ACCEPTED"]
["Artemisia annua","Artemisia","Asteraceae","Asterales","Magnoliopsida","Tracheophyta","Plantae","ACCEPTED"]
["Artemisia vulgaris","Artemisia","Asteraceae","Asterales","Magnoliopsida","Tracheophyta","Plantae","ACCEPTED"]
["Arthurdendyus triangulatus","Arthurdendyus","Geoplanidae","Rhabditophora","Tricladida","Platyhelminthes","Animalia"]
["Artocarpus heterophyllus","Artocarpus","Moraceae","Rosales","Magnoliopsida","Tracheophyta","Plantae","ACCEPTED"]
["Arundo donax","Arundo","Poaceae","Poales","Liliopsida","Tracheophyta","Plantae","ACCEPTED"]
["Ascophyllum nodosum","Ascophyllum","Fucaceae","Fucales","Phaeophyceae","Ochrophyta","Chromista","ACCEPTED"]
["Asparagus asparagoides","Asparagus","Asparagaceae","Asparagales","Liliopsida","Tracheophyta","Plantae","ACCEPTED"]
["Aster squamatus","Aster","Asteraceae","Asterales","Magnoliopsida","Tracheophyta","Plantae","ACCEPTED"]
["Atelerix albiventris","Atelerix","Erinaceidae","Erinaceomorpha","Mammalia","Chordata","Animalia","ACCEPTED"]
["Atlantoxerus getulus","Atlantoxerus","Sciuridae","Rodentia","Mammalia","Chordata","Animalia","ACCEPTED"]
["Atriplex semibaccata","Atriplex","Amaranthaceae","Caryophyllales","Magnoliopsida","Tracheophyta","Plantae","ACCEPTED"]
["Austrocylindropuntia cylindrica","Austrocylindropuntia","Cactaceae","Caryophyllales","Magnoliopsida","Tracheophyta","Plantae","ACCEPTED"]
["Austrocylindropuntia subulata","Austrocylindropuntia","Cactaceae","Caryophyllales","Magnoliopsida","Tracheophyta","Plantae","ACCEPTED"]
["Austropuccinia psidii","Austropuccinia","Sphaerophragmiaceae","Pucciniales","Pucciniomycetes","Basidiomycota","Fungi","ACCEPTED"]
["Avena fatua","Avena","Poaceae","Poales","Liliopsida","Tracheophyta","Plantae","ACCEPTED"]
["Avian orthoavulavirus 1","Orthoavulavirus","Paramyxoviridae","Mononegavirales","Monjiviricetes","Negarnaviricota","Viruses","ACCEPTED"]
["Azolla filiculoides","Azolla","Salviniaceae","Salviniales","Polypodiopsida","Tracheophyta","Plantae","ACCEPTED"]
["Baccharis halimifolia","Baccharis","Asteraceae","Asterales","Magnoliopsida","Tracheophyta","Plantae","ACCEPTED"]
["Bactericera cockerelli","Bactericera","Triozidae","Hemiptera","Insecta","Arthropoda","Animalia","ACCEPTED"]
["Bactrocera cucurbitae","Bactrocera","Tephritidae","Diptera","Insecta","Arthropoda","Animalia","ACCEPTED"]
["Bactrocera dorsalis","Bactrocera","Tephritidae","Diptera","Insecta","Arthropoda","Animalia","ACCEPTED"]
["Bactrocera oleae","Bactrocera","Tephritidae","Diptera","Insecta","Arthropoda","Animalia","ACCEPTED"]
["Bactrocera papayae","Bactrocera","Tephritidae","Diptera","Insecta","Arthropoda","Animalia","ACCEPTED"]
["Bactrocera philippinensis","Bactrocera","Tephritidae","Diptera","Insecta","Arthropoda","Animalia","ACCEPTED"]
["Bactrocera tryoni","Bactrocera","Tephritidae","Diptera","Insecta","Arthropoda","Animalia","ACCEPTED"]
["Balanus improvisus","Balanus","Balanidae","Sessilia","Maxillopoda","Arthropoda","Animalia","ACCEPTED"]
["Balclutha rubrostriatus","Balclutha","Cicadellidae","Hemiptera","Insecta","Arthropoda","Animalia","ACCEPTED"]
["Banana bunchy top virus","Babuvirus","Nanoviridae","Mulpavirales","Arfiviricetes","Cressdnaviricota","Viruses","ACCEPTED"]
["Bassia scoparia","Bassia","Amaranthaceae","Caryophyllales","Magnoliopsida","Tracheophyta","Plantae","ACCEPTED"]
["Batrachochytrium dendrobatidis","Batrachochytrium",null,"Chytridiomycetes","Rhizophydiales","Chytridiomycota","Fungi"]
["Bemisia tabaci","Bemisia","Aleyrodidae","Hemiptera","Insecta","Arthropoda","Animalia","ACCEPTED"]
["Bidens pilosa","Bidens","Asteraceae","Asterales","Magnoliopsida","Tracheophyta","Plantae","ACCEPTED"]
["Bipolaris sorokiniana","Bipolaris","Pleosporaceae","Pleosporales","Dothideomycetes","Ascomycota","Fungi","SYNONYM"]
["Blatta orientalis","Blatta","Blattidae","Blattodea","Insecta","Arthropoda","Animalia","ACCEPTED"]
["Blattella germanica","Blattella","Ectobiidae","Blattodea","Insecta","Arthropoda","Animalia","ACCEPTED"]
["Blissus leucopterus","Blissus","Blissidae","Hemiptera","Insecta","Arthropoda","Animalia","ACCEPTED"]
["Blumeria graminis","Blumeria","Erysiphaceae","Erysiphales","Leotiomycetes","Ascomycota","Fungi","ACCEPTED"]
["Boiga irregularis","Boiga","Colubridae","Squamata","Reptilia","Chordata","Animalia","ACCEPTED"]
["Bombus terrestris","Bombus","Apidae","Hymenoptera","Insecta","Arthropoda","Animalia","ACCEPTED"]
["Bos taurus","Bos","Bovidae","Artiodactyla","Mammalia","Chordata","Animalia","ACCEPTED"]
["Bostrichus concinnus","Bostrichus","Curculionidae","Coleoptera","Insecta","Arthropoda","Animalia","DOUBTFUL"]
["Botrylloides violaceus","Botrylloides","Styelidae","Stolidobranchia","Ascidiacea","Chordata","Animalia","ACCEPTED"]
["Botryllus schlosseri","Botryllus","Styelidae","Stolidobranchia","Ascidiacea","Chordata","Animalia","ACCEPTED"]
["Bovine alphaherpesvirus 1","Varicellovirus","Herpesviridae","Herpesvirales","Herviviricetes","Peploviricota","Viruses","ACCEPTED"]
["Brachiaria eminii","Brachiaria","Poaceae","Poales","Liliopsida","Tracheophyta","Plantae","ACCEPTED"]
["Brachiaria eruciformis","Brachiaria","Poaceae","Poales","Liliopsida","Tracheophyta","Plantae","ACCEPTED"]
["Brachiaria mutica","Brachiaria","Poaceae","Poales","Liliopsida","Tracheophyta","Plantae","ACCEPTED"]
["Brachychiton populneus","Brachychiton","Malvaceae","Malvales","Magnoliopsida","Tracheophyta","Plantae","ACCEPTED"]
["Branchiomma bairdi","Branchiomma","Sabellidae","Sabellida","Polychaeta","Annelida","Animalia","ACCEPTED"]
["Branta canadensis","Branta","Anatidae","Anseriformes","Aves","Chordata","Animalia","ACCEPTED"]
["Brassica tournefortii","Brassica","Brassicaceae","Brassicales","Magnoliopsida","Tracheophyta","Plantae","ACCEPTED"]
["Bromus tectorum","Bromus","Poaceae","Poales","Liliopsida","Tracheophyta","Plantae","ACCEPTED"]
["Brontispa longissima","Brontispa","Chrysomelidae","Coleoptera","Insecta","Arthropoda","Animalia","ACCEPTED"]
["Bruchus pisorum","Bruchus","Chrysomelidae","Coleoptera","Insecta","Arthropoda","Animalia","ACCEPTED"]
["Bryophyllum houghtonii","Kalanchoe","Crassulaceae","Saxifragales","Magnoliopsida","Tracheophyta","Plantae","DOUBTFUL"]
["Bubalus bubalis","Bubalus","Bovidae","Artiodactyla","Mammalia","Chordata","Animalia","ACCEPTED"]
["Buddleja davidii","Buddleja","Scrophulariaceae","Lamiales","Magnoliopsida","Tracheophyta","Plantae","ACCEPTED"]
["Bursaphelenchus mucronatus","Bursaphelenchus","Aphelenchidae","Aphelenchida","Secernentea","Nematoda","Animalia","ACCEPTED"]
["Bythotrephes cederstroemi","Bythotrephes","Cercopagidae","Diplostraca","Branchiopoda","Arthropoda","Animalia","ACCEPTED"]
["Bythotrephes longimanus","Bythotrephes","Cercopagidae","Diplostraca","Branchiopoda","Arthropoda","Animalia","ACCEPTED"]
["Cabomba caroliniana","Cabomba","Cabombaceae","Nymphaeales","Magnoliopsida","Tracheophyta","Plantae","ACCEPTED"]
["Cactoblastis cactorum","Cactoblastis","Pyralidae","Lepidoptera","Insecta","Arthropoda","Animalia","ACCEPTED"]
["Caesalpinia decapetala","Caesalpinia","Fabaceae","Fabales","Magnoliopsida","Tracheophyta","Plantae","ACCEPTED"]
["Calandra obscura","Calandra","Dryophthoridae","Coleoptera","Insecta","Arthropoda","Animalia","DOUBTFUL"]
["Calandra palmarum","Calandra","Dryophthoridae","Coleoptera","Insecta","Arthropoda","Animalia","ACCEPTED"]
["Callinectes sapidus","Callinectes","Portunidae","Decapoda","Malacostraca","Arthropoda","Animalia","ACCEPTED"]
["Callistemon sp.","Callistemon","Myrtaceae","Magnoliopsida","Myrtales","Tracheophyta","Plantae"]
["Callosciurus erythraeus","Callosciurus","Sciuridae","Rodentia","Mammalia","Chordata","Animalia","ACCEPTED"]
["Callosobruchus sp.","Callosobruchus","Chrysomelidae","Insecta","Coleoptera","Arthropoda","Animalia"]
["Calotropis procera","Calotropis","Apocynaceae","Gentianales","Magnoliopsida","Tracheophyta","Plantae","ACCEPTED"]
["Camelus dromedarius","Camelus","Camelidae","Artiodactyla","Mammalia","Chordata","Animalia","ACCEPTED"]
["Cameraria ohridella","Cameraria","Gracillariidae","Lepidoptera","Insecta","Arthropoda","Animalia","ACCEPTED"]
["Canis lupus","Canis","Canidae","Carnivora","Mammalia","Chordata","Animalia","ACCEPTED"]
["Capra hircus","Capra","Bovidae","Artiodactyla","Mammalia","Chordata","Animalia","ACCEPTED"]
["Carassius auratus","Carassius","Cyprinidae","Cypriniformes","Actinopterygii","Chordata","Animalia","ACCEPTED"]
["Carcinus maenas","Carcinus","Carcinidae","Decapoda","Malacostraca","Arthropoda","Animalia","ACCEPTED"]
["Carduus platypus","Carduus","Asteraceae","Asterales","Magnoliopsida","Tracheophyta","Plantae","ACCEPTED"]
["Carduus pycnocephalus","Carduus","Asteraceae","Asterales","Magnoliopsida","Tracheophyta","Plantae","ACCEPTED"]
["Carduus tenuiflorus","Carduus","Asteraceae","Asterales","Magnoliopsida","Tracheophyta","Plantae","ACCEPTED"]
["Carex strigosa","Carex","Cyperaceae","Poales","Liliopsida","Tracheophyta","Plantae","ACCEPTED"]
["Carpobrotus acinaciformis","Carpobrotus","Aizoaceae","Caryophyllales","Magnoliopsida","Tracheophyta","Plantae","ACCEPTED"]
["Carpobrotus edulis","Carpobrotus","Aizoaceae","Caryophyllales","Magnoliopsida","Tracheophyta","Plantae","ACCEPTED"]
["Carthamus lanatus","Carthamus","Asteraceae","Asterales","Magnoliopsida","Tracheophyta","Plantae","ACCEPTED"]
["Castor canadensis","Castor","Castoridae","Rodentia","Mammalia","Chordata","Animalia","ACCEPTED"]
["Casuarina cunninghamiana","Casuarina","Casuarinaceae","Fagales","Magnoliopsida","Tracheophyta","Plantae","ACCEPTED"]
["Casuarina equisetifolia","Casuarina","Casuarinaceae","Fagales","Magnoliopsida","Tracheophyta","Plantae","ACCEPTED"]
["Caulerpa racemosa","Caulerpa","Caulerpaceae","Bryopsidales","Ulvophyceae","Chlorophyta","Plantae","ACCEPTED"]
["Caulerpa taxifolia","Caulerpa","Caulerpaceae","Bryopsidales","Ulvophyceae","Chlorophyta","Plantae","ACCEPTED"]
["Cenchrus ciliaris","Cenchrus","Poaceae","Poales","Liliopsida","Tracheophyta","Plantae","ACCEPTED"]
["Cenchrus clandestinus","Cenchrus","Poaceae","Poales","Liliopsida","Tracheophyta","Plantae","ACCEPTED"]
["Cenchrus echinatus","Cenchrus","Poaceae","Poales","Liliopsida","Tracheophyta","Plantae","ACCEPTED"]
["Cenchrus longisetus","Cenchrus","Poaceae","Poales","Liliopsida","Tracheophyta","Plantae","ACCEPTED"]
["Cenchrus pilosus","Cenchrus","Poaceae","Poales","Liliopsida","Tracheophyta","Plantae","ACCEPTED"]
["Cenchrus polystachios","Cenchrus","Poaceae","Poales","Liliopsida","Tracheophyta","Plantae","ACCEPTED"]
["Cenchrus purpureus","Cenchrus","Poaceae","Poales","Liliopsida","Tracheophyta","Plantae","ACCEPTED"]
["Cenchrus setaceus","Cenchrus","Poaceae","Poales","Liliopsida","Tracheophyta","Plantae","ACCEPTED"]
["Cenchrus spinifex","Cenchrus","Poaceae","Poales","Liliopsida","Tracheophyta","Plantae","ACCEPTED"]
["Centaurea affinis","Centaurea","Asteraceae","Asterales","Magnoliopsida","Tracheophyta","Plantae","ACCEPTED"]
["Centaurea calcitrapa","Centaurea","Asteraceae","Asterales","Magnoliopsida","Tracheophyta","Plantae","ACCEPTED"]
["Centaurea diffusa","Centaurea","Asteraceae","Asterales","Magnoliopsida","Tracheophyta","Plantae","ACCEPTED"]
["Centaurea moncktonii","Centaurea","Asteraceae","Asterales","Magnoliopsida","Tracheophyta","Plantae","ACCEPTED"]
["Centaurea solstitialis","Centaurea","Asteraceae","Asterales","Magnoliopsida","Tracheophyta","Plantae","ACCEPTED"]
["Centaurea stoebe","Centaurea","Asteraceae","Asterales","Magnoliopsida","Tracheophyta","Plantae","ACCEPTED"]
["Centaurea trichocephala","Centaurea","Asteraceae","Asterales","Magnoliopsida","Tracheophyta","Plantae","ACCEPTED"]
["Centaurea virgata","Centaurea","Asteraceae","Asterales","Magnoliopsida","Tracheophyta","Plantae","ACCEPTED"]
["Ceratitis capitata","Ceratitis","Tephritidae","Diptera","Insecta","Arthropoda","Animalia","ACCEPTED"]
["Ceratocystis platani","Ceratocystis","Ceratocystidaceae","Microascales","Sordariomycetes","Ascomycota","Fungi","ACCEPTED"]
["Cercis siliquastrum","Cercis","Fabaceae","Fabales","Magnoliopsida","Tracheophyta","Plantae","ACCEPTED"]
["Cercopagis pengoi","Cercopagis","Cercopagidae","Diplostraca","Branchiopoda","Arthropoda","Animalia","ACCEPTED"]
["Cereus jamacaru","Cereus","Cactaceae","Caryophyllales","Magnoliopsida","Tracheophyta","Plantae","ACCEPTED"]
["Cervus elaphus","Cervus","Cervidae","Artiodactyla","Mammalia","Chordata","Animalia","ACCEPTED"]
["Cervus nippon","Cervus","Cervidae","Artiodactyla","Mammalia","Chordata","Animalia","ACCEPTED"]
["Ceutorhynchus obstrictus","Ceutorhynchus","Curculionidae","Coleoptera","Insecta","Arthropoda","Animalia","ACCEPTED"]
["Channa argus","Channa","Channidae","Perciformes","Actinopterygii","Chordata","Animalia","ACCEPTED"]
["Chasmanthe bicolor","Chasmanthe","Iridaceae","Asparagales","Liliopsida","Tracheophyta","Plantae","ACCEPTED"]
["Chelydra serpentina","Chelydra","Chelydridae","Testudines","Reptilia","Chordata","Animalia","ACCEPTED"]
["Chilo partellus","Chilo","Crambidae","Lepidoptera","Insecta","Arthropoda","Animalia","ACCEPTED"]
["Chilo suppressalis","Chilo","Crambidae","Lepidoptera","Insecta","Arthropoda","Animalia","ACCEPTED"]
["Chironomus crassicaudatus","Chironomus","Chironomidae","Diptera","Insecta","Arthropoda","Animalia","ACCEPTED"]
["Chloris truncata","Chloris","Poaceae","Poales","Liliopsida","Tracheophyta","Plantae","ACCEPTED"]
["Chloris virgata","Chloris","Poaceae","Poales","Liliopsida","Tracheophyta","Plantae","ACCEPTED"]
["Chlorophytum comosum","Chlorophytum","Asparagaceae","Asparagales","Liliopsida","Tracheophyta","Plantae","ACCEPTED"]
["Chondrilla juncea","Chondrilla","Asteraceae","Asterales","Magnoliopsida","Tracheophyta","Plantae","ACCEPTED"]
["Choristoneura fumiferana","Choristoneura","Tortricidae","Lepidoptera","Insecta","Arthropoda","Animalia","ACCEPTED"]
["Chromolaena odorata","Chromolaena","Asteraceae","Asterales","Magnoliopsida","Tracheophyta","Plantae","ACCEPTED"]
["Chrysemys picta","Chrysemys","Emydidae","Testudines","Reptilia","Chordata","Animalia","ACCEPTED"]
["Chrysomya bezziana","Chrysomya","Calliphoridae","Diptera","Insecta","Arthropoda","Animalia","ACCEPTED"]
["Cinara cupressi","Cinara","Aphididae","Hemiptera","Insecta","Arthropoda","Animalia","SYNONYM"]
["Cinara spp.","Cinara","Lachnidae","Insecta","Hemiptera","Arthropoda","Animalia"]
["Cinchona pubescens","Cinchona","Rubiaceae","Gentianales","Magnoliopsida","Tracheophyta","Plantae","ACCEPTED"]
["Ciona intestinalis","Ciona","Cionidae","Phlebobranchia","Ascidiacea","Chordata","Animalia","ACCEPTED"]
["Cirsium arvense","Cirsium","Asteraceae","Asterales","Magnoliopsida","Tracheophyta","Plantae","ACCEPTED"]
["Cirsium sp.","Cirsium","Asteraceae","Magnoliopsida","Asterales","Tracheophyta","Plantae"]
["Cirsium vulgare","Cirsium","Asteraceae","Asterales","Magnoliopsida","Tracheophyta","Plantae","ACCEPTED"]
["Cissus verticillata","Cissus","Vitaceae","Vitales","Magnoliopsida","Tracheophyta","Plantae","ACCEPTED"]
["Citharexylum gentryi","Citharexylum","Verbenaceae","Lamiales","Magnoliopsida","Tracheophyta","Plantae","ACCEPTED"]
["Citrus aurantium","Citrus","Rutaceae","Sapindales","Magnoliopsida","Tracheophyta","Plantae","ACCEPTED"]
["Citrus limon","Citrus","Rutaceae","Sapindales","Magnoliopsida","Tracheophyta","Plantae","ACCEPTED"]
["Citrus medica","Citrus","Rutaceae","Sapindales","Magnoliopsida","Tracheophyta","Plantae","ACCEPTED"]
["Citrus taitensis","Citrus","Rutaceae","Sapindales","Magnoliopsida","Tracheophyta","Plantae","ACCEPTED"]
["Clarias gariepinus","Clarias","Clariidae","Siluriformes","Actinopterygii","Chordata","Animalia","ACCEPTED"]
["Clavibacter michiganensis","Clavibacter","Microbacteriaceae","Actinomycetales","Actinomycetia","Actinobacteriota","Bacteria","ACCEPTED"]
["Claviceps purpurea","Claviceps","Clavicipitaceae","Hypocreales","Sordariomycetes","Ascomycota","Fungi","ACCEPTED"]
["Clematis vitalba","Clematis","Ranunculaceae","Ranunculales","Magnoliopsida","Tracheophyta","Plantae","ACCEPTED"]
["Clidemia hirta","Clidemia","Melastomataceae","Myrtales","Magnoliopsida","Tracheophyta","Plantae","ACCEPTED"]
["Cochlicella acuta","Cochlicella","Geomitridae","Stylommatophora","Gastropoda","Mollusca","Animalia","ACCEPTED"]
["Cochliomyia hominivorax","Cochliomyia","Calliphoridae","Diptera","Insecta","Arthropoda","Animalia","ACCEPTED"]
["Cocos nucifera","Cocos","Arecaceae","Arecales","Liliopsida","Tracheophyta","Plantae","ACCEPTED"]
["Codium fragile","Codium","Codiaceae","Bryopsidales","Ulvophyceae","Chlorophyta","Plantae","ACCEPTED"]
["Colocasia esculenta","Colocasia","Araceae","Alismatales","Liliopsida","Tracheophyta","Plantae","ACCEPTED"]
["Colubrina asiatica","Colubrina","Rhamnaceae","Rosales","Magnoliopsida","Tracheophyta","Plantae","ACCEPTED"]
["Columba livia","Columba","Columbidae","Columbiformes","Aves","Chordata","Animalia","ACCEPTED"]
["Conyza sp.","Conyza","Asteraceae","Magnoliopsida","Asterales","Tracheophyta","Plantae"]
["Coptodon zillii","Coptodon","Cichlidae","Perciformes","Actinopterygii","Chordata","Animalia","ACCEPTED"]
["Coptotermes formosanus","Coptotermes","Rhinotermitidae","Blattodea","Insecta","Arthropoda","Animalia","ACCEPTED"]
["Corbicula fluminea","Corbicula","Cyrenidae","Venerida","Bivalvia","Mollusca","Animalia","ACCEPTED"]
["Coreopsis lanceolata","Coreopsis","Asteraceae","Asterales","Magnoliopsida","Tracheophyta","Plantae","ACCEPTED"]
["Cortaderia selloana","Cortaderia","Poaceae","Poales","Liliopsida","Tracheophyta","Plantae","ACCEPTED"]
["Corvus splendens","Corvus","Corvidae","Passeriformes","Aves","Chordata","Animalia","ACCEPTED"]
["Corythucha ciliata","Corythucha","Tingidae","Hemiptera","Insecta","Arthropoda","Animalia","ACCEPTED"]
["Cosmopolites sordidus","Cosmopolites","Dryophthoridae","Coleoptera","Insecta","Arthropoda","Animalia","ACCEPTED"]
["Crassula helmsii","Crassula","Crassulaceae","Saxifragales","Magnoliopsida","Tracheophyta","Plantae","ACCEPTED"]
["Crematogaster sp.","Crematogaster","Formicidae","Insecta","Hymenoptera","Arthropoda","Animalia"]
["Crepidula porcellana","Crepidula","Calyptraeidae","Littorinimorpha","Gastropoda","Mollusca","Animalia","ACCEPTED"]
["Crocosmia crocosmiiflora","Crocosmia","Iridaceae","Asparagales","Liliopsida","Tracheophyta","Plantae","ACCEPTED"]
["Cronartium ribicola","Cronartium","Cronartiaceae","Pucciniales","Pucciniomycetes","Basidiomycota","Fungi","ACCEPTED"]
["Cryphonectria parasitica","Cryphonectria","Cryphonectriaceae","Diaporthales","Sordariomycetes","Ascomycota","Fungi","ACCEPTED"]
["Cryptostegia grandiflora","Cryptostegia","Apocynaceae","Gentianales","Magnoliopsida","Tracheophyta","Plantae","ACCEPTED"]
["Cryptotermes brevis","Cryptotermes","Kalotermitidae","Blattodea","Insecta","Arthropoda","Animalia","ACCEPTED"]
["Culex sp.","Culex","Culicidae","Insecta","Diptera","Arthropoda","Animalia"]
["Culicoides imicola","Culicoides","Ceratopogonidae","Diptera","Insecta","Arthropoda","Animalia","ACCEPTED"]
["Cupressus sempervirens","Cupressus","Cupressaceae","Pinales","Pinopsida","Tracheophyta","Plantae","ACCEPTED"]
["Cyclachaena xanthiifolia","Cyclachaena","Asteraceae","Asterales","Magnoliopsida","Tracheophyta","Plantae","ACCEPTED"]
["Cydalima perspectalis","Cydalima","Crambidae","Lepidoptera","Insecta","Arthropoda","Animalia","ACCEPTED"]
["Cydia pomonella","Cydia","Tortricidae","Lepidoptera","Insecta","Arthropoda","Animalia","ACCEPTED"]
["Cygnus atratus","Cygnus","Anatidae","Anseriformes","Aves","Chordata","Animalia","ACCEPTED"]
["Cygnus olor","Cygnus","Anatidae","Anseriformes","Aves","Chordata","Animalia","ACCEPTED"]
["Cylas formicarius","Cylas","Brentidae","Coleoptera","Insecta","Arthropoda","Animalia","ACCEPTED"]
["Cylindropuntia imbricata","Cylindropuntia","Cactaceae","Caryophyllales","Magnoliopsida","Tracheophyta","Plantae","ACCEPTED"]
["Cylindropuntia leptocaulis","Cylindropuntia","Cactaceae","Caryophyllales","Magnoliopsida","Tracheophyta","Plantae","ACCEPTED"]
["Cylindropuntia pallida","Cylindropuntia","Cactaceae","Caryophyllales","Magnoliopsida","Tracheophyta","Plantae","ACCEPTED"]
["Cylindropuntia rosea","Cylindropuntia","Cactaceae","Caryophyllales","Magnoliopsida","Tracheophyta","Plantae","ACCEPTED"]
["Cymbopogon citratus","Cymbopogon","Poaceae","Poales","Liliopsida","Tracheophyta","Plantae","ACCEPTED"]
["Cyperus alterniflorus","Cyperus","Cyperaceae","Poales","Liliopsida","Tracheophyta","Plantae","ACCEPTED"]
["Cyperus rotundus","Cyperus","Cyperaceae","Poales","Liliopsida","Tracheophyta","Plantae","ACCEPTED"]
["Cyprinus carpio","Cyprinus","Cyprinidae","Cypriniformes","Actinopterygii","Chordata","Animalia","ACCEPTED"]
["Cytisus scoparius","Cytisus","Fabaceae","Fabales","Magnoliopsida","Tracheophyta","Plantae","ACCEPTED"]
["Dactylopius opuntiae","Dactylopius","Dactylopiidae","Hemiptera","Insecta","Arthropoda","Animalia","ACCEPTED"]
["Daktulosphaira vitifoliae","Daktulosphaira","Phylloxeridae","Hemiptera","Insecta","Arthropoda","Animalia","ACCEPTED"]
["Dama dama","Dama","Cervidae","Artiodactyla","Mammalia","Chordata","Animalia","ACCEPTED"]
["Danio rerio","Danio","Cyprinidae","Cypriniformes","Actinopterygii","Chordata","Animalia","ACCEPTED"]
["Delia spp.","Delia","Anthomyiidae","Insecta","Diptera","Arthropoda","Animalia"]
["Dendroctonus micans","Dendroctonus","Curculionidae","Coleoptera","Insecta","Arthropoda","Animalia","DOUBTFUL"]
["Dendroctonus valens","Dendroctonus","Curculionidae","Coleoptera","Insecta","Arthropoda","Animalia","DOUBTFUL"]
["Diabrotica barberi","Diabrotica","Chrysomelidae","Coleoptera","Insecta","Arthropoda","Animalia","ACCEPTED"]
["Diabrotica undecimpunctata","Diabrotica","Chrysomelidae","Coleoptera","Insecta","Arthropoda","Animalia","ACCEPTED"]
["Diabrotica virgifera","Diabrotica","Chrysomelidae","Coleoptera","Insecta","Arthropoda","Animalia","ACCEPTED"]
["Diaprepes sp.","Diaprepes","Curculionidae","Insecta","Coleoptera","Arthropoda","Animalia"]
["Diaspidiotus perniciosus","Diaspidiotus","Diaspididae","Hemiptera","Insecta","Arthropoda","Animalia","ACCEPTED"]
["Dicentra peregrina","Dicentra","Papaveraceae","Ranunculales","Magnoliopsida","Tracheophyta","Plantae","ACCEPTED"]
["Dichrostachys cinerea","Dichrostachys","Fabaceae","Fabales","Magnoliopsida","Tracheophyta","Plantae","ACCEPTED"]
["Dicyrtomina ornata","Dicyrtomina","Dicyrtomidae","Symphypleona","Collembola","Arthropoda","Animalia","ACCEPTED"]
["Didemnum vexillum","Didemnum","Didemnidae","Aplousobranchia","Ascidiacea","Chordata","Animalia","ACCEPTED"]
["Didymosphenia geminata","Didymosphenia","Gomphonemataceae","Cymbellales","Bacillariophyceae","Ochrophyta","Chromista","ACCEPTED"]
["Dikerogammarus villosus","Dikerogammarus","Gammaridae","Amphipoda","Malacostraca","Arthropoda","Animalia","ACCEPTED"]
["Dioscorea bulbifera","Dioscorea","Dioscoreaceae","Dioscoreales","Liliopsida","Tracheophyta","Plantae","ACCEPTED"]
["Diospyros kaki","Diospyros","Ebenaceae","Ericales","Magnoliopsida","Tracheophyta","Plantae","ACCEPTED"]
["Diploderma swinhonis","Diploderma","Agamidae","Lepidosauria","Squamata","Chordata","Animalia"]
["Diplotaxis tenuifolia","Diplotaxis","Brassicaceae","Brassicales","Magnoliopsida","Tracheophyta","Plantae","ACCEPTED"]
["Disphyma sp.","Disphyma","Aizoaceae","Magnoliopsida","Caryophyllales","Tracheophyta","Plantae"]
["Dittrichia viscosa","Dittrichia","Asteraceae","Asterales","Magnoliopsida","Tracheophyta","Plantae","ACCEPTED"]
["Ditylenchus dipsaci","Ditylenchus","Anguinidae","Tylenchida","Secernentea","Nematoda","Animalia","ACCEPTED"]
["Diuraphis noxia","Diuraphis","Aphididae","Hemiptera","Insecta","Arthropoda","Animalia","ACCEPTED"]
["Diverse/Unspecified","Diverse/Unspecified","Diverse/Unspecified","Diverse/Unspecified","Diverse/Unspecified","Diverse/Unspecified","Diverse/Unspecified","Diverse/Unspecified"]
["Dolichandra unguis-cati","Dolichandra","Bignoniaceae","Lamiales","Magnoliopsida","Tracheophyta","Plantae","ACCEPTED"]
["Dothistroma septosporum","Dothistroma","Mycosphaerellaceae","Capnodiales","Dothideomycetes","Ascomycota","Fungi","ACCEPTED"]
["Dreissena bugensis","Dreissena","Dreissenidae","Myida","Bivalvia","Mollusca","Animalia","ACCEPTED"]
["Dreissena polymorpha","Dreissena","Dreissenidae","Myida","Bivalvia","Mollusca","Animalia","ACCEPTED"]
["Drosanthemum floribundum","Drosanthemum","Aizoaceae","Caryophyllales","Magnoliopsida","Tracheophyta","Plantae","ACCEPTED"]
["Drosophila suzukii","Drosophila","Drosophilidae","Diptera","Insecta","Arthropoda","Animalia","ACCEPTED"]
["Drosophyllum sp.","Drosophyllum","Drosophyllaceae","Magnoliopsida","Caryophyllales","Tracheophyta","Plantae"]
["Dryocosmus kuriphilus","Dryocosmus","Cynipidae","Hymenoptera","Insecta","Arthropoda","Animalia","ACCEPTED"]
["Echinochloa glabrescens","Echinochloa","Poaceae","Poales","Liliopsida","Tracheophyta","Plantae","ACCEPTED"]
["Echium italicum","Echium","Boraginaceae","Boraginales","Magnoliopsida","Tracheophyta","Plantae","ACCEPTED"]
["Echium plantagineum","Echium","Boraginaceae","Boraginales","Magnoliopsida","Tracheophyta","Plantae","ACCEPTED"]
["Echium simplex","Echium","Boraginaceae","Boraginales","Magnoliopsida","Tracheophyta","Plantae","ACCEPTED"]
["Echium vulgare","Echium","Boraginaceae","Boraginales","Magnoliopsida","Tracheophyta","Plantae","ACCEPTED"]
["Egeria densa","Egeria","Hydrocharitaceae","Alismatales","Liliopsida","Tracheophyta","Plantae","ACCEPTED"]
["Eichhornia crassipes","Eichhornia","Pontederiaceae","Commelinales","Liliopsida","Tracheophyta","Plantae","ACCEPTED"]
["Elaeagnus angustifolia","Elaeagnus","Elaeagnaceae","Rosales","Magnoliopsida","Tracheophyta","Plantae","ACCEPTED"]
["Elaeis guineensis","Elaeis","Arecaceae","Arecales","Liliopsida","Tracheophyta","Plantae","ACCEPTED"]
["Elasmopalpus lignosella","Elasmopalpus","Pyralidae","Lepidoptera","Insecta","Arthropoda","Animalia","ACCEPTED"]
["Elatobium abietinum","Elatobium","Aphididae","Hemiptera","Insecta","Arthropoda","Animalia","ACCEPTED"]
["Eleutherodactylus coqui","Eleutherodactylus","Eleutherodactylidae","Anura","Amphibia","Chordata","Animalia","ACCEPTED"]
["Eleutherodactylus planirostris","Eleutherodactylus","Eleutherodactylidae","Anura","Amphibia","Chordata","Animalia","ACCEPTED"]
["Elodea canadensis","Elodea","Hydrocharitaceae","Alismatales","Liliopsida","Tracheophyta","Plantae","ACCEPTED"]
["Elodea nuttallii","Elodea","Hydrocharitaceae","Alismatales","Liliopsida","Tracheophyta","Plantae","ACCEPTED"]
["Emex spinosa","Emex","Polygonaceae","Caryophyllales","Magnoliopsida","Tracheophyta","Plantae","ACCEPTED"]
["Eoreuma loftini","Eoreuma","Crambidae","Lepidoptera","Insecta","Arthropoda","Animalia","ACCEPTED"]
["Ephestia kuehniella","Ephestia","Pyralidae","Lepidoptera","Insecta","Arthropoda","Animalia","ACCEPTED"]
["Epiphyas postvittana","Epiphyas","Tortricidae","Lepidoptera","Insecta","Arthropoda","Animalia","ACCEPTED"]
["Epitrix tuberis","Epitrix","Chrysomelidae","Coleoptera","Insecta","Arthropoda","Animalia","ACCEPTED"]
["Equus asinus","Equus","Equidae","Perissodactyla","Mammalia","Chordata","Animalia","ACCEPTED"]
["Equus caballus","Equus","Equidae","Perissodactyla","Mammalia","Chordata","Animalia","ACCEPTED"]
["Equus ferus","Equus","Equidae","Perissodactyla","Mammalia","Chordata","Animalia","ACCEPTED"]
["Eragrostis plana","Eragrostis","Poaceae","Poales","Liliopsida","Tracheophyta","Plantae","ACCEPTED"]
["Erigeron canadensis","Erigeron","Asteraceae","Asterales","Magnoliopsida","Tracheophyta","Plantae","ACCEPTED"]
["Erinaceus europaeus","Erinaceus","Erinaceidae","Erinaceomorpha","Mammalia","Chordata","Animalia","ACCEPTED"]
["Eriocheir sinensis","Eriocheir","Varunidae","Decapoda","Malacostraca","Arthropoda","Animalia","ACCEPTED"]
["Erionota thrax","Erionota","Hesperiidae","Lepidoptera","Insecta","Arthropoda","Animalia","ACCEPTED"]
["Eriosoma lanigerum","Eriosoma","Aphididae","Hemiptera","Insecta","Arthropoda","Animalia","ACCEPTED"]
["Erodium cicutarium","Erodium","Geraniaceae","Geraniales","Magnoliopsida","Tracheophyta","Plantae","ACCEPTED"]
["Erwinia amylovora","Erwinia","Enterobacteriaceae","Enterobacteriales","Gammaproteobacteria","Proteobacteria","Bacteria","ACCEPTED"]
["Erythrocebus patas","Erythrocebus","Cercopithecidae","Primates","Mammalia","Chordata","Animalia","ACCEPTED"]
["Esox lucius","Esox","Esocidae","Esociformes","Actinopterygii","Chordata","Animalia","ACCEPTED"]
["Estrilda astrild","Estrilda","Estrildidae","Passeriformes","Aves","Chordata","Animalia","ACCEPTED"]
["Eucalyptus camaldulensis","Eucalyptus","Myrtaceae","Myrtales","Magnoliopsida","Tracheophyta","Plantae","ACCEPTED"]
["Eucalyptus globulus","Eucalyptus","Myrtaceae","Myrtales","Magnoliopsida","Tracheophyta","Plantae","ACCEPTED"]
["Eucalyptus pulverulenta","Eucalyptus","Myrtaceae","Myrtales","Magnoliopsida","Tracheophyta","Plantae","ACCEPTED"]
["Eucalyptus spp.","Eucalyptus","Myrtaceae","Myrtales","Magnoliopsida","Tracheophyta","Plantae","ACCEPTED"]
["Eupatorium adenophorum","Eupatorium","Asteraceae","Asterales","Magnoliopsida","Tracheophyta","Plantae","ACCEPTED"]
["Eupatorium serotinum","Eupatorium","Asteraceae","Asterales","Magnoliopsida","Tracheophyta","Plantae","ACCEPTED"]
["Euphorbia esula","Euphorbia","Euphorbiaceae","Malpighiales","Magnoliopsida","Tracheophyta","Plantae","ACCEPTED"]
["Euphorbia stenoclada","Euphorbia","Euphorbiaceae","Malpighiales","Magnoliopsida","Tracheophyta","Plantae","ACCEPTED"]
["Eutetranychus orientalis","Eutetranychus","Tetranychidae","Prostigmata","Arachnida","Arthropoda","Animalia","ACCEPTED"]
["Euwallacea sp.","Euwallacea","Curculionidae","Insecta","Coleoptera","Arthropoda","Animalia"]
["Fallopia baldschuanica","Fallopia","Polygonaceae","Caryophyllales","Magnoliopsida","Tracheophyta","Plantae","ACCEPTED"]
["Fallopia convolvulus","Fallopia","Polygonaceae","Caryophyllales","Magnoliopsida","Tracheophyta","Plantae","ACCEPTED"]
["Felis catus","Felis","Felidae","Carnivora","Mammalia","Chordata","Animalia","ACCEPTED"]
["Felis domesticus","Felis","Felidae","Carnivora","Mammalia","Chordata","Animalia","ACCEPTED"]
["Ficopomatus enigmaticus","Ficopomatus","Serpulidae","Sabellida","Polychaeta","Annelida","Animalia","ACCEPTED"]
["Flemingia strobilifera","Flemingia","Fabaceae","Fabales","Magnoliopsida","Tracheophyta","Plantae","ACCEPTED"]
["Frangula alnus","Frangula","Rhamnaceae","Rosales","Magnoliopsida","Tracheophyta","Plantae","SYNONYM"]
["Frankliniella occidentalis","Frankliniella","Thripidae","Thysanoptera","Insecta","Arthropoda","Animalia","ACCEPTED"]
["Frankliniella schultzei","Frankliniella","Thripidae","Thysanoptera","Insecta","Arthropoda","Animalia","ACCEPTED"]
["Fraxinus floribunda","Fraxinus","Oleaceae","Lamiales","Magnoliopsida","Tracheophyta","Plantae","ACCEPTED"]
["Freesia alba","Freesia","Iridaceae","Magnoliopsida","Asparagales","Tracheophyta","Plantae"]
["Freesia refracta","Freesia","Iridaceae","Asparagales","Liliopsida","Tracheophyta","Plantae","ACCEPTED"]
["Fundulus heteroclitus","Fundulus","Fundulidae","Cyprinodontiformes","Actinopterygii","Chordata","Animalia","ACCEPTED"]
["Furcraea foetida","Furcraea","Asparagaceae","Asparagales","Liliopsida","Tracheophyta","Plantae","ACCEPTED"]
["Furcraea hexapetala","Furcraea","Asparagaceae","Asparagales","Liliopsida","Tracheophyta","Plantae","ACCEPTED"]
["Fusarium graminearum","Fusarium","Nectriaceae","Hypocreales","Sordariomycetes","Ascomycota","Fungi","SYNONYM"]
["Fusarium oxysporum","Fusarium","Nectriaceae","Hypocreales","Sordariomycetes","Ascomycota","Fungi","ACCEPTED"]
["Fusarium pseudograminearum","Fusarium","Nectriaceae","Hypocreales","Sordariomycetes","Ascomycota","Fungi","ACCEPTED"]
["Gallirallus australis","Gallirallus","Rallidae","Gruiformes","Aves","Chordata","Animalia","ACCEPTED"]
["Gambusia holbrooki","Gambusia","Poeciliidae","Cyprinodontiformes","Actinopterygii","Chordata","Animalia","ACCEPTED"]
["Gazania sp.","Gazania","Asteraceae","Magnoliopsida","Asterales","Tracheophyta","Plantae"]
["Genetta genetta","Genetta","Viverridae","Carnivora","Mammalia","Chordata","Animalia","ACCEPTED"]
["Gleditsia triacanthos","Gleditsia","Fabaceae","Fabales","Magnoliopsida","Tracheophyta","Plantae","ACCEPTED"]
["Glis glis","Glis","Gliridae","Rodentia","Mammalia","Chordata","Animalia","ACCEPTED"]
["Globodera pallida","Globodera","Heteroderidae","Tylenchida","Secernentea","Nematoda","Animalia","ACCEPTED"]
["Globodera rostochiensis","Globodera","Heteroderidae","Tylenchida","Secernentea","Nematoda","Animalia","ACCEPTED"]
["Glyptotendipes paripes","Glyptotendipes","Chironomidae","Diptera","Insecta","Arthropoda","Animalia","ACCEPTED"]
["Gomphocarpus sp.","Gomphocarpus","Apocynaceae","Magnoliopsida","Gentianales","Tracheophyta","Plantae"]
["Gonipterus platensis","Gonipterus","Curculionidae","Coleoptera","Insecta","Arthropoda","Animalia","ACCEPTED"]
["Gonipterus scutellatus","Gonipterus","Curculionidae","Coleoptera","Insecta","Arthropoda","Animalia","ACCEPTED"]
["Grapholita molesta","Grapholita","Tortricidae","Lepidoptera","Insecta","Arthropoda","Animalia","ACCEPTED"]
["Grapholita prunivora","Grapholita","Tortricidae","Lepidoptera","Insecta","Arthropoda","Animalia","ACCEPTED"]
["Graptemys ouachitensis","Graptemys","Emydidae","Testudines","Reptilia","Chordata","Animalia","ACCEPTED"]
["Graptemys pseudogeographica","Graptemys","Emydidae","Testudines","Reptilia","Chordata","Animalia","ACCEPTED"]
["Gremmeniella abietina","Gremmeniella","Godroniaceae","Helotiales","Leotiomycetes","Ascomycota","Fungi","ACCEPTED"]
["Gymnocephalus cernua","Gymnocephalus","Percidae","Perciformes","Actinopterygii","Chordata","Animalia","ACCEPTED"]
["Gymnocoronis spilanthoides","Gymnocoronis","Asteraceae","Asterales","Magnoliopsida","Tracheophyta","Plantae","ACCEPTED"]
["Gyrodactylus salaris","Gyrodactylus","Gyrodactylidae","Gyrodactylidea","Monogenea","Platyhelminthes","Animalia","ACCEPTED"]
["Haematobia irritans","Haematobia","Muscidae","Diptera","Insecta","Arthropoda","Animalia","ACCEPTED"]
["Hakea sericea","Hakea","Proteaceae","Proteales","Magnoliopsida","Tracheophyta","Plantae","ACCEPTED"]
["Halotydeus destructor","Halotydeus","Penthaleidae","Prostigmata","Arachnida","Arthropoda","Animalia","ACCEPTED"]
["Halyomorpha halys","Halyomorpha","Pentatomidae","Hemiptera","Insecta","Arthropoda","Animalia","ACCEPTED"]
["Harmonia axyridis","Harmonia","Coccinellidae","Coleoptera","Insecta","Arthropoda","Animalia","ACCEPTED"]
["Haworthiopsis attenuata","Haworthiopsis","Asphodelaceae","Asparagales","Liliopsida","Tracheophyta","Plantae","ACCEPTED"]
["Hedychium gardnerianum","Hedychium","Zingiberaceae","Zingiberales","Liliopsida","Tracheophyta","Plantae","ACCEPTED"]
["Helianthus ciliaris","Helianthus","Asteraceae","Asterales","Magnoliopsida","Tracheophyta","Plantae","ACCEPTED"]
["Helianthus tuberosus","Helianthus","Asteraceae","Asterales","Magnoliopsida","Tracheophyta","Plantae","ACCEPTED"]
["Helichrysum petiolare","Helichrysum","Asteraceae","Asterales","Magnoliopsida","Tracheophyta","Plantae","ACCEPTED"]
["Helicoverpa armigera","Helicoverpa","Noctuidae","Lepidoptera","Insecta","Arthropoda","Animalia","ACCEPTED"]
["Helicoverpa zea","Helicoverpa","Noctuidae","Lepidoptera","Insecta","Arthropoda","Animalia","ACCEPTED"]
["Heliotropium europaeum","Heliotropium","Heliotropiaceae","Boraginales","Magnoliopsida","Tracheophyta","Plantae","ACCEPTED"]
["Helix lucorum","Helix","Helicidae","Stylommatophora","Gastropoda","Mollusca","Animalia","ACCEPTED"]
["Hemiberlesia pitysophila","Hemiberlesia","Diaspididae","Hemiptera","Insecta","Arthropoda","Animalia","ACCEPTED"]
["Hemitragus jemlahicus","Hemitragus","Bovidae","Artiodactyla","Mammalia","Chordata","Animalia","ACCEPTED"]
["Hemorrhois hippocrepis","Hemorrhois","Colubridae","Squamata","Reptilia","Chordata","Animalia","ACCEPTED"]
["Henosepilachna vigintioctomaculata","Henosepilachna","Coccinellidae","Coleoptera","Insecta","Arthropoda","Animalia","ACCEPTED"]
["Heracleum mantegazzianum","Heracleum","Apiaceae","Apiales","Magnoliopsida","Tracheophyta","Plantae","ACCEPTED"]
["Heracleum persicum","Heracleum","Apiaceae","Apiales","Magnoliopsida","Tracheophyta","Plantae","ACCEPTED"]
["Heracleum sosnowskyi","Heracleum","Apiaceae","Apiales","Magnoliopsida","Tracheophyta","Plantae","ACCEPTED"]
["Herpestes edwardsi","Herpestes","Herpestidae","Carnivora","Mammalia","Chordata","Animalia","ACCEPTED"]
["Herpestes javanicus","Herpestes","Herpestidae","Carnivora","Mammalia","Chordata","Animalia","ACCEPTED"]
["Heterobasidion annosum","Heterobasidion","Bondarzewiaceae","Russulales","Agaricomycetes","Basidiomycota","Fungi","ACCEPTED"]
["Heterodera avenae","Heterodera","Heteroderidae","Tylenchida","Secernentea","Nematoda","Animalia","ACCEPTED"]
["Hieracium sp.","Hieracium","Asteraceae","Magnoliopsida","Asterales","Tracheophyta","Plantae"]
["Homalodisca vitripennis","Homalodisca","Cicadellidae","Hemiptera","Insecta","Arthropoda","Animalia","ACCEPTED"]
["Humulopsis scandens","Humulopsis","Cannabaceae","Rosales","Magnoliopsida","Tracheophyta","Plantae","ACCEPTED"]
["Hyacinthoides hispanica","Hyacinthoides","Asparagaceae","Asparagales","Liliopsida","Tracheophyta","Plantae","ACCEPTED"]
["Hyblaea puera","Hyblaea","Hyblaeidae","Lepidoptera","Insecta","Arthropoda","Animalia","ACCEPTED"]
["Hydrangea sp.","Hydrangea","Hydrangeaceae","Magnoliopsida","Cornales","Tracheophyta","Plantae"]
["Hydrilla verticillata","Hydrilla","Hydrocharitaceae","Alismatales","Liliopsida","Tracheophyta","Plantae","ACCEPTED"]
["Hydrocotyle ranunculoides","Hydrocotyle","Apiaceae","Apiales","Magnoliopsida","Tracheophyta","Plantae","ACCEPTED"]
["Hydropotes inermis","Hydropotes","Cervidae","Artiodactyla","Mammalia","Chordata","Animalia","ACCEPTED"]
["Hymenachne amplexicaulis","Hymenachne","Poaceae","Poales","Liliopsida","Tracheophyta","Plantae","ACCEPTED"]
["Hymenachne spp.","Hymenachne","Poaceae","Magnoliopsida","Poales","Tracheophyta","Plantae"]
["Hymenoscyphus fraxineus","Hymenoscyphus","Helotiaceae","Helotiales","Leotiomycetes","Ascomycota","Fungi","ACCEPTED"]
["Hyparrhenia rufa","Hyparrhenia","Poaceae","Poales","Liliopsida","Tracheophyta","Plantae","ACCEPTED"]
["Hypera postica","Hypera","Curculionidae","Coleoptera","Insecta","Arthropoda","Animalia","ACCEPTED"]
["Hypericum perforatum","Hypericum","Hypericaceae","Malpighiales","Magnoliopsida","Tracheophyta","Plantae","ACCEPTED"]
["Hyphantria cunea","Hyphantria","Erebidae","Lepidoptera","Insecta","Arthropoda","Animalia","ACCEPTED"]
["Hypothenemus hampei","Hypothenemus","Curculionidae","Coleoptera","Insecta","Arthropoda","Animalia","ACCEPTED"]
["Hystrix brachyura","Hystrix","Hystricidae","Rodentia","Mammalia","Chordata","Animalia","ACCEPTED"]
["Iguana iguana","Iguana","Iguanidae","Squamata","Reptilia","Chordata","Animalia","ACCEPTED"]
["Impatiens balfourii","Impatiens","Balsaminaceae","Ericales","Magnoliopsida","Tracheophyta","Plantae","ACCEPTED"]
["Impatiens glandulifera","Impatiens","Balsaminaceae","Ericales","Magnoliopsida","Tracheophyta","Plantae","ACCEPTED"]
["Imperata cylindrica","Imperata","Poaceae","Poales","Liliopsida","Tracheophyta","Plantae","ACCEPTED"]
["Indigofera schimperi","Indigofera","Fabaceae","Fabales","Magnoliopsida","Tracheophyta","Plantae","ACCEPTED"]
["Ipomoea biflora","Ipomoea","Convolvulaceae","Solanales","Magnoliopsida","Tracheophyta","Plantae","SYNONYM"]
["Ipomoea hederacea","Ipomoea","Convolvulaceae","Solanales","Magnoliopsida","Tracheophyta","Plantae","ACCEPTED"]
["Ipomoea lacunosa","Ipomoea","Convolvulaceae","Solanales","Magnoliopsida","Tracheophyta","Plantae","ACCEPTED"]
["Ips calligraphus","Ips","Curculionidae","Coleoptera","Insecta","Arthropoda","Animalia","DOUBTFUL"]
["Ips pini","Ips","Curculionidae","Coleoptera","Insecta","Arthropoda","Animalia","ACCEPTED"]
["Ips typographus","Ips","Curculionidae","Coleoptera","Insecta","Arthropoda","Animalia","ACCEPTED"]
["Iris pseudacorus","Iris","Iridaceae","Asparagales","Liliopsida","Tracheophyta","Plantae","ACCEPTED"]
["Iva axillaris","Iva","Asteraceae","Asterales","Magnoliopsida","Tracheophyta","Plantae","ACCEPTED"]
["Jacobaea maritima","Jacobaea","Asteraceae","Asterales","Magnoliopsida","Tracheophyta","Plantae","ACCEPTED"]
["Jatropha curcas","Jatropha","Euphorbiaceae","Malpighiales","Magnoliopsida","Tracheophyta","Plantae","ACCEPTED"]
["Jatropha gossypiifolia","Jatropha","Euphorbiaceae","Malpighiales","Magnoliopsida","Tracheophyta","Plantae","ACCEPTED"]
["Juncus bufonius","Juncus","Juncaceae","Poales","Liliopsida","Tracheophyta","Plantae","ACCEPTED"]
["Juniperus osteosperma","Juniperus","Cupressaceae","Pinales","Pinopsida","Tracheophyta","Plantae","ACCEPTED"]
["Kalanchoe daigremontiana","Kalanchoe","Crassulaceae","Saxifragales","Magnoliopsida","Tracheophyta","Plantae","ACCEPTED"]
["Kalanchoe delagoensis","Kalanchoe","Crassulaceae","Saxifragales","Magnoliopsida","Tracheophyta","Plantae","ACCEPTED"]
["Kalanchoe pinnata","Kalanchoe","Crassulaceae","Saxifragales","Magnoliopsida","Tracheophyta","Plantae","SYNONYM"]
["Keiferia lycopersicella","Keiferia","Gelechiidae","Lepidoptera","Insecta","Arthropoda","Animalia","ACCEPTED"]
["Koenigia polystachya","Koenigia","Polygonaceae","Caryophyllales","Magnoliopsida","Tracheophyta","Plantae","ACCEPTED"]
["Lacerta bilineata","Lacerta","Lacertidae","Squamata","Reptilia","Chordata","Animalia","ACCEPTED"]
["Lachnellula chrysophthalma","Lachnellula","Hyaloscyphaceae","Helotiales","Leotiomycetes","Ascomycota","Fungi","ACCEPTED"]
["Lactuca serriola","Lactuca","Asteraceae","Asterales","Magnoliopsida","Tracheophyta","Plantae","ACCEPTED"]
["Lagarosiphon major","Lagarosiphon","Hydrocharitaceae","Alismatales","Liliopsida","Tracheophyta","Plantae","ACCEPTED"]
["Lagocephalus sceleratus","Lagocephalus","Tetraodontidae","Tetraodontiformes","Actinopterygii","Chordata","Animalia","ACCEPTED"]
["Lamium maculatum","Lamium","Lamiaceae","Lamiales","Magnoliopsida","Tracheophyta","Plantae","ACCEPTED"]
["Lampropeltis californiae","Lampropeltis","Colubridae","Squamata","Reptilia","Chordata","Animalia","ACCEPTED"]
["Lantana camara","Lantana","Verbenaceae","Lamiales","Magnoliopsida","Tracheophyta","Plantae","ACCEPTED"]
["Lantana montevidensis","Lantana","Verbenaceae","Lamiales","Magnoliopsida","Tracheophyta","Plantae","ACCEPTED"]
["Larix decidua","Larix","Pinaceae","Pinales","Pinopsida","Tracheophyta","Plantae","ACCEPTED"]
["Larix spp.","Larix","Pinaceae","Pinopsida","Pinales","Tracheophyta","Plantae"]
["Lasius neglectus","Lasius","Formicidae","Hymenoptera","Insecta","Arthropoda","Animalia","ACCEPTED"]
["Lepidium draba","Lepidium","Brassicaceae","Brassicales","Magnoliopsida","Tracheophyta","Plantae","ACCEPTED"]
["Lepidium latifolium","Lepidium","Brassicaceae","Brassicales","Magnoliopsida","Tracheophyta","Plantae","ACCEPTED"]
["Lepisiota frauenfeldi","Lepisiota","Formicidae","Hymenoptera","Insecta","Arthropoda","Animalia","ACCEPTED"]
["Lepomis gibbosus","Lepomis","Centrarchidae","Perciformes","Actinopterygii","Chordata","Animalia","ACCEPTED"]
["Lepomis macrochirus","Lepomis","Centrarchidae","Perciformes","Actinopterygii","Chordata","Animalia","ACCEPTED"]
["Leptinotarsa decemlineata","Leptinotarsa","Chrysomelidae","Coleoptera","Insecta","Arthropoda","Animalia","ACCEPTED"]
["Leptoglossus occidentalis","Leptoglossus","Coreidae","Hemiptera","Insecta","Arthropoda","Animalia","ACCEPTED"]
["Lespedeza cuneata","Lespedeza","Fabaceae","Fabales","Magnoliopsida","Tracheophyta","Plantae","ACCEPTED"]
["Leucaena leucocephala","Leucaena","Fabaceae","Fabales","Magnoliopsida","Tracheophyta","Plantae","ACCEPTED"]
["Ligustrum japonicum","Ligustrum","Oleaceae","Lamiales","Magnoliopsida","Tracheophyta","Plantae","ACCEPTED"]
["Ligustrum lucidum","Ligustrum","Oleaceae","Lamiales","Magnoliopsida","Tracheophyta","Plantae","ACCEPTED"]
["Ligustrum robustum","Ligustrum","Oleaceae","Lamiales","Magnoliopsida","Tracheophyta","Plantae","ACCEPTED"]
["Ligustrum sinense","Ligustrum","Oleaceae","Lamiales","Magnoliopsida","Tracheophyta","Plantae","ACCEPTED"]
["Limnocharis flava","Limnocharis","Alismataceae","Alismatales","Liliopsida","Tracheophyta","Plantae","ACCEPTED"]
["Limnoperna fortunei","Limnoperna","Mytilidae","Mytilida","Bivalvia","Mollusca","Animalia","ACCEPTED"]
["Linaria dalmatica","Linaria","Plantaginaceae","Lamiales","Magnoliopsida","Tracheophyta","Plantae","ACCEPTED"]
["Linepithema humile","Linepithema","Formicidae","Hymenoptera","Insecta","Arthropoda","Animalia","ACCEPTED"]
["Liriomyza huidobrensis","Liriomyza","Agromyzidae","Diptera","Insecta","Arthropoda","Animalia","ACCEPTED"]
["Liriomyza sativae","Liriomyza","Agromyzidae","Diptera","Insecta","Arthropoda","Animalia","ACCEPTED"]
["Liriomyza trifolii","Liriomyza","Agromyzidae","Diptera","Insecta","Arthropoda","Animalia","ACCEPTED"]
["Lissachatina fulica","Lissachatina","Achatinidae","Stylommatophora","Gastropoda","Mollusca","Animalia","ACCEPTED"]
["Lissorhoptrus brevirostris","Lissorhoptrus","Brachyceridae","Coleoptera","Insecta","Arthropoda","Animalia","DOUBTFUL"]
["Lissorhoptrus oryzophilus","Lissorhoptrus","Brachyceridae","Coleoptera","Insecta","Arthropoda","Animalia","DOUBTFUL"]
["Listronotus bonariensis","Listronotus","Curculionidae","Coleoptera","Insecta","Arthropoda","Animalia","ACCEPTED"]
["Lithobates catesbeianus","Lithobates","Ranidae","Anura","Amphibia","Chordata","Animalia","ACCEPTED"]
["Lobesia botrana","Lobesia","Tortricidae","Lepidoptera","Insecta","Arthropoda","Animalia","ACCEPTED"]
["Lolium rigidum","Lolium","Poaceae","Poales","Liliopsida","Tracheophyta","Plantae","ACCEPTED"]
["Lonicera japonica","Lonicera","Caprifoliaceae","Dipsacales","Magnoliopsida","Tracheophyta","Plantae","ACCEPTED"]
["Ludwigia grandiflora","Ludwigia","Onagraceae","Myrtales","Magnoliopsida","Tracheophyta","Plantae","ACCEPTED"]
["Ludwigia peploides","Ludwigia","Onagraceae","Myrtales","Magnoliopsida","Tracheophyta","Plantae","ACCEPTED"]
["Ludwigia repens","Ludwigia","Onagraceae","Myrtales","Magnoliopsida","Tracheophyta","Plantae","ACCEPTED"]
["Lupinus perennis","Lupinus","Fabaceae","Fabales","Magnoliopsida","Tracheophyta","Plantae","ACCEPTED"]
["Lupinus polyphyllus","Lupinus","Fabaceae","Fabales","Magnoliopsida","Tracheophyta","Plantae","ACCEPTED"]
["Lycium barbarum","Lycium","Solanaceae","Solanales","Magnoliopsida","Tracheophyta","Plantae","ACCEPTED"]
["Lycorma delicatula","Lycorma","Fulgoridae","Hemiptera","Insecta","Arthropoda","Animalia","ACCEPTED"]
["Lymantria dispar","Lymantria","Erebidae","Lepidoptera","Insecta","Arthropoda","Animalia","ACCEPTED"]
["Lymantria monacha","Lymantria","Erebidae","Lepidoptera","Insecta","Arthropoda","Animalia","ACCEPTED"]
["Lysichiton americanus","Lysichiton","Araceae","Alismatales","Liliopsida","Tracheophyta","Plantae","ACCEPTED"]
["Lythrum salicaria","Lythrum","Lythraceae","Myrtales","Magnoliopsida","Tracheophyta","Plantae","ACCEPTED"]
["Macaca mulatta","Macaca","Cercopithecidae","Primates","Mammalia","Chordata","Animalia","ACCEPTED"]
["Maconellicoccus hirsutus","Maconellicoccus","Pseudococcidae","Hemiptera","Insecta","Arthropoda","Animalia","ACCEPTED"]
["Magallana gigas","Magallana","Ostreidae","Ostreida","Bivalvia","Mollusca","Animalia","ACCEPTED"]
["Maize chlorotic mottle virus","Machlomovirus","Tombusviridae","Tolivirales","Tolucaviricetes","Kitrinoviricota","Viruses","ACCEPTED"]
["Malephora crocea","Malephora","Aizoaceae","Caryophyllales","Magnoliopsida","Tracheophyta","Plantae","ACCEPTED"]
["Malpolon monspessulanus","Malpolon","Lamprophiidae","Squamata","Reptilia","Chordata","Animalia","ACCEPTED"]
["Malva parviflora","Malva","Malvaceae","Malvales","Magnoliopsida","Tracheophyta","Plantae","ACCEPTED"]
["Marchalina hellenica","Marchalina","Margarodidae","Hemiptera","Insecta","Arthropoda","Animalia","ACCEPTED"]
["Marrubium vulgare","Marrubium","Lamiaceae","Lamiales","Magnoliopsida","Tracheophyta","Plantae","ACCEPTED"]
["Matsucoccus matsumurae","Matsucoccus","Margarodidae","Hemiptera","Insecta","Arthropoda","Animalia","ACCEPTED"]
["Mauremys reevesii","Mauremys","Geoemydidae","Testudines","Reptilia","Chordata","Animalia","ACCEPTED"]
["Mauremys sinensis","Mauremys","Geoemydidae","Testudines","Reptilia","Chordata","Animalia","ACCEPTED"]
["Mayetiola destructor","Mayetiola","Cecidomyiidae","Diptera","Insecta","Arthropoda","Animalia","ACCEPTED"]
["Melaleuca quinquenervia","Melaleuca","Myrtaceae","Myrtales","Magnoliopsida","Tracheophyta","Plantae","ACCEPTED"]
["Melanotus communis","Melanotus","Strophariaceae","Agaricomycetes","Agaricales","Basidiomycota","Fungi"]
["Meleagris gallopavo","Meleagris","Phasianidae","Galliformes","Aves","Chordata","Animalia","ACCEPTED"]
["Melia azedarach","Melia","Meliaceae","Sapindales","Magnoliopsida","Tracheophyta","Plantae","ACCEPTED"]
["Melinis repens","Melinis","Poaceae","Poales","Liliopsida","Tracheophyta","Plantae","ACCEPTED"]
["Meloidogyne chitwoodi","Meloidogyne","Meloidogynidae","Rhabditida","Secernentea","Nematoda","Animalia","ACCEPTED"]
["Mesembryanthemum cordifolium","Mesembryanthemum","Aizoaceae","Caryophyllales","Magnoliopsida","Tracheophyta","Plantae","ACCEPTED"]
["Mesembryanthemum crystallinum","Mesembryanthemum","Aizoaceae","Caryophyllales","Magnoliopsida","Tracheophyta","Plantae","ACCEPTED"]
["Metopolophium dirhodum","Metopolophium","Aphididae","Hemiptera","Insecta","Arthropoda","Animalia","ACCEPTED"]
["Miconia calvescens","Miconia","Melastomataceae","Myrtales","Magnoliopsida","Tracheophyta","Plantae","ACCEPTED"]
["Miconia nervosa","Miconia","Melastomataceae","Myrtales","Magnoliopsida","Tracheophyta","Plantae","ACCEPTED"]
["Miconia racemosa","Miconia","Melastomataceae","Myrtales","Magnoliopsida","Tracheophyta","Plantae","ACCEPTED"]
["Micropterus dolomieu","Micropterus","Centrarchidae","Perciformes","Actinopterygii","Chordata","Animalia","ACCEPTED"]
["Micropterus salmoides","Micropterus","Centrarchidae","Perciformes","Actinopterygii","Chordata","Animalia","ACCEPTED"]
["Mikania micrantha","Mikania","Asteraceae","Asterales","Magnoliopsida","Tracheophyta","Plantae","ACCEPTED"]
["Mimosa diplotricha","Mimosa","Fabaceae","Fabales","Magnoliopsida","Tracheophyta","Plantae","ACCEPTED"]
["Mimosa pigra","Mimosa","Fabaceae","Fabales","Magnoliopsida","Tracheophyta","Plantae","ACCEPTED"]
["Mirabilis jalapa","Mirabilis","Nyctaginaceae","Caryophyllales","Magnoliopsida","Tracheophyta","Plantae","ACCEPTED"]
["Misgurnus anguillicaudatus","Misgurnus","Cobitidae","Cypriniformes","Actinopterygii","Chordata","Animalia","ACCEPTED"]
["Mnemiopsis leidyi","Mnemiopsis","Bolinopsidae","Lobata","Tentaculata","Ctenophora","Animalia","ACCEPTED"]
["Monochamus galloprovincialis","Monochamus","Cerambycidae","Coleoptera","Insecta","Arthropoda","Animalia","ACCEPTED"]
["Monochamus impluviatus","Monochamus","Cerambycidae","Coleoptera","Insecta","Arthropoda","Animalia","ACCEPTED"]
["Monochamus nitens","Monochamus","Cerambycidae","Coleoptera","Insecta","Arthropoda","Animalia","ACCEPTED"]
["Monochamus saltuarius","Monochamus","Cerambycidae","Coleoptera","Insecta","Arthropoda","Animalia","ACCEPTED"]
["Monochamus scutellatus","Monochamus","Cerambycidae","Coleoptera","Insecta","Arthropoda","Animalia","ACCEPTED"]
["Monochamus sutor","Monochamus","Cerambycidae","Coleoptera","Insecta","Arthropoda","Animalia","ACCEPTED"]
["Monochamus urussovii","Monochamus","Cerambycidae","Coleoptera","Insecta","Arthropoda","Animalia","SYNONYM"]
["Monomorium destructor","Monomorium","Formicidae","Hymenoptera","Insecta","Arthropoda","Animalia","SYNONYM"]
["Monomorium pharaonis","Monomorium","Formicidae","Hymenoptera","Insecta","Arthropoda","Animalia","ACCEPTED"]
["Morone chrysops","Morone","Moronidae","Perciformes","Actinopterygii","Chordata","Animalia","ACCEPTED"]
["Morus alba","Morus","Moraceae","Rosales","Magnoliopsida","Tracheophyta","Plantae","ACCEPTED"]
["Morus nigra","Morus","Moraceae","Rosales","Magnoliopsida","Tracheophyta","Plantae","ACCEPTED"]
["Muntiacus reevesi","Muntiacus","Cervidae","Artiodactyla","Mammalia","Chordata","Animalia","ACCEPTED"]
["Mus musculus","Mus","Muridae","Rodentia","Mammalia","Chordata","Animalia","ACCEPTED"]
["Mustela erminea","Mustela","Mustelidae","Carnivora","Mammalia","Chordata","Animalia","ACCEPTED"]
["Mustela furo","Mustela","Mustelidae","Carnivora","Mammalia","Chordata","Animalia","ACCEPTED"]
["Myiopsitta monachus","Myiopsitta","Psittacidae","Psittaciformes","Aves","Chordata","Animalia","ACCEPTED"]
["Mylopharyngodon piceus","Mylopharyngodon","Cyprinidae","Cypriniformes","Actinopterygii","Chordata","Animalia","ACCEPTED"]
["Myocastor coypus","Myocastor","Myocastoridae","Rodentia","Mammalia","Chordata","Animalia","ACCEPTED"]
["Myoporum laetum","Myoporum","Scrophulariaceae","Lamiales","Magnoliopsida","Tracheophyta","Plantae","ACCEPTED"]
["Myoporum tenuifolium","Myoporum","Scrophulariaceae","Lamiales","Magnoliopsida","Tracheophyta","Plantae","ACCEPTED"]
["Myriophyllum aquaticum","Myriophyllum","Haloragaceae","Saxifragales","Magnoliopsida","Tracheophyta","Plantae","ACCEPTED"]
["Myriophyllum heterophyllum","Myriophyllum","Haloragaceae","Saxifragales","Magnoliopsida","Tracheophyta","Plantae","ACCEPTED"]
["Myriophyllum spicatum","Myriophyllum","Haloragaceae","Saxifragales","Magnoliopsida","Tracheophyta","Plantae","ACCEPTED"]
["Mysis relicta","Mysis","Mysidae","Mysida","Malacostraca","Arthropoda","Animalia","ACCEPTED"]
["Mytilopsis sallei","Mytilopsis","Dreissenidae","Myida","Bivalvia","Mollusca","Animalia","ACCEPTED"]
["Mytilopsis trautwineana","Mytilopsis","Dreissenidae","Myida","Bivalvia","Mollusca","Animalia","ACCEPTED"]
["Nasonovia ribisnigri","Nasonovia","Aphididae","Hemiptera","Insecta","Arthropoda","Animalia","ACCEPTED"]
["Nassella neesiana","Nassella","Poaceae","Poales","Liliopsida","Tracheophyta","Plantae","ACCEPTED"]
["Nassella tenuissima","Nassella","Poaceae","Poales","Liliopsida","Tracheophyta","Plantae","ACCEPTED"]
["Nassella trichotoma","Nassella","Poaceae","Poales","Liliopsida","Tracheophyta","Plantae","ACCEPTED"]
["Nasua nasua","Nasua","Procyonidae","Carnivora","Mammalia","Chordata","Animalia","ACCEPTED"]
["Nasutitermes corniger","Nasutitermes","Termitidae","Blattodea","Insecta","Arthropoda","Animalia","ACCEPTED"]
["Neodiprion abietis","Neodiprion","Diprionidae","Hymenoptera","Insecta","Arthropoda","Animalia","ACCEPTED"]
["Neoscapteriscus vicinus","Neoscapteriscus","Gryllotalpidae","Orthoptera","Insecta","Arthropoda","Animalia","ACCEPTED"]
["Neovison vison","Neovison","Mustelidae","Carnivora","Mammalia","Chordata","Animalia","ACCEPTED"]
["Nerium oleander","Nerium","Apocynaceae","Gentianales","Magnoliopsida","Tracheophyta","Plantae","ACCEPTED"]
["Nicotiana glauca","Nicotiana","Solanaceae","Solanales","Magnoliopsida","Tracheophyta","Plantae","ACCEPTED"]
["Nilaparvata lugens","Nilaparvata","Delphacidae","Hemiptera","Insecta","Arthropoda","Animalia","ACCEPTED"]
["Nyctereutes procyonoides","Nyctereutes","Canidae","Carnivora","Mammalia","Chordata","Animalia","ACCEPTED"]
["Nymphaea mexicana","Nymphaea","Nymphaeaceae","Nymphaeales","Magnoliopsida","Tracheophyta","Plantae","ACCEPTED"]
["Nymphoides peltata","Nymphoides","Menyanthaceae","Asterales","Magnoliopsida","Tracheophyta","Plantae","ACCEPTED"]
["Oecophylla longinoda","Oecophylla","Formicidae","Hymenoptera","Insecta","Arthropoda","Animalia","ACCEPTED"]
["Oenothera biennis","Oenothera","Onagraceae","Myrtales","Magnoliopsida","Tracheophyta","Plantae","ACCEPTED"]
["Oenothera glazioviana","Oenothera","Onagraceae","Myrtales","Magnoliopsida","Tracheophyta","Plantae","ACCEPTED"]
["Oligonychus metasequoia","Oligonychus","Tetranychidae","Arachnida","Trombidiformes","Arthropoda","Animalia"]
["Oncorhynchus mykiss","Oncorhynchus","Salmonidae","Salmoniformes","Actinopterygii","Chordata","Animalia","ACCEPTED"]
["Ondatra zibethicus","Ondatra","Cricetidae","Rodentia","Mammalia","Chordata","Animalia","ACCEPTED"]
["Onopordum acanthium","Onopordum","Asteraceae","Asterales","Magnoliopsida","Tracheophyta","Plantae","ACCEPTED"]
["Ophiostoma novo-ulmi","Ophiostoma","Ophiostomataceae","Ophiostomatales","Sordariomycetes","Ascomycota","Fungi","ACCEPTED"]
["Ophiostoma ulmi","Ophiostoma","Ophiostomataceae","Ophiostomatales","Sordariomycetes","Ascomycota","Fungi","ACCEPTED"]
["Ophraella communa","Ophraella","Chrysomelidae","Coleoptera","Insecta","Arthropoda","Animalia","ACCEPTED"]
["Opisina arenosella","Opisina","Oecophoridae","Lepidoptera","Insecta","Arthropoda","Animalia","ACCEPTED"]
["Opuntia aurantiaca","Opuntia","Cactaceae","Caryophyllales","Magnoliopsida","Tracheophyta","Plantae","ACCEPTED"]
["Opuntia ficus-indica","Opuntia","Cactaceae","Caryophyllales","Magnoliopsida","Tracheophyta","Plantae","ACCEPTED"]
["Opuntia humifusa","Opuntia","Cactaceae","Caryophyllales","Magnoliopsida","Tracheophyta","Plantae","ACCEPTED"]
["Opuntia microdasys","Opuntia","Cactaceae","Caryophyllales","Magnoliopsida","Tracheophyta","Plantae","ACCEPTED"]
["Opuntia stricta","Opuntia","Cactaceae","Caryophyllales","Magnoliopsida","Tracheophyta","Plantae","ACCEPTED"]
["Orconectes limosus","Orconectes","Cambaridae","Decapoda","Malacostraca","Arthropoda","Animalia","ACCEPTED"]
["Orconectes rusticus","Orconectes","Cambaridae","Decapoda","Malacostraca","Arthropoda","Animalia","ACCEPTED"]
["Orgyia leucostigma","Orgyia","Erebidae","Lepidoptera","Insecta","Arthropoda","Animalia","ACCEPTED"]
["Orgyia pseudotsugata","Orgyia","Erebidae","Lepidoptera","Insecta","Arthropoda","Animalia","ACCEPTED"]
["Orgyia thyellina","Orgyia","Erebidae","Lepidoptera","Insecta","Arthropoda","Animalia","ACCEPTED"]
["Orobanche spp.","Orobanche","Orobanchaceae","Magnoliopsida","Lamiales","Tracheophyta","Plantae"]
["Orthriophis taeniurus","Orthriophis","Colubridae","Squamata","Reptilia","Chordata","Animalia","ACCEPTED"]
["Oryctes rhinoceros","Oryctes","Dynastidae","Coleoptera","Insecta","Arthropoda","Animalia","ACCEPTED"]
["Oryctolagus cuniculus","Oryctolagus","Leporidae","Lagomorpha","Mammalia","Chordata","Animalia","ACCEPTED"]
["Oryzaephilus surinamensis","Oryzaephilus","Silvanidae","Coleoptera","Insecta","Arthropoda","Animalia","ACCEPTED"]
["Osteospermum moniliferum","Osteospermum","Asteraceae","Asterales","Magnoliopsida","Tracheophyta","Plantae","SYNONYM"]
["Ostrinia nubilalis","Ostrinia","Crambidae","Lepidoptera","Insecta","Arthropoda","Animalia","ACCEPTED"]
["Otala punctata","Otala","Helicidae","Stylommatophora","Gastropoda","Mollusca","Animalia","ACCEPTED"]
["Oulema melanopus","Oulema","Chrysomelidae","Coleoptera","Insecta","Arthropoda","Animalia","ACCEPTED"]
["Ovis ammon","Ovis","Bovidae","Artiodactyla","Mammalia","Chordata","Animalia","ACCEPTED"]
["Ovis aries","Ovis","Bovidae","Artiodactyla","Mammalia","Chordata","Animalia","ACCEPTED"]
["Oxalis pes-caprae","Oxalis","Oxalidaceae","Oxalidales","Magnoliopsida","Tracheophyta","Plantae","ACCEPTED"]
["Oxyura jamaicensis","Oxyura","Anatidae","Anseriformes","Aves","Chordata","Animalia","ACCEPTED"]
["Pacifastacus leniusculus","Pacifastacus","Astacidae","Decapoda","Malacostraca","Arthropoda","Animalia","ACCEPTED"]
["Paguma larvata","Paguma","Viverridae","Carnivora","Mammalia","Chordata","Animalia","ACCEPTED"]
["Panicum maximum","Panicum","Poaceae","Poales","Liliopsida","Tracheophyta","Plantae","ACCEPTED"]
["Panicum repens","Panicum","Poaceae","Poales","Liliopsida","Tracheophyta","Plantae","ACCEPTED"]
["Pantoea stewartii","Pantoea","Enterobacteriaceae","Enterobacteriales","Gammaproteobacteria","Proteobacteria","Bacteria","ACCEPTED"]
["Papuana uninodis","Papuana","Dynastidae","Coleoptera","Insecta","Arthropoda","Animalia","ACCEPTED"]
["Paracoccus marginatus","Paracoccus","Pseudococcidae","Hemiptera","Insecta","Arthropoda","Animalia","ACCEPTED"]
["Paralithodes camtschaticus","Paralithodes","Lithodidae","Decapoda","Malacostraca","Arthropoda","Animalia","ACCEPTED"]
["Paraserianthes lophantha","Paraserianthes","Fabaceae","Fabales","Magnoliopsida","Tracheophyta","Plantae","ACCEPTED"]
["Parastagonospora nodorum","Parastagonospora","Phaeosphaeriaceae","Pleosporales","Dothideomycetes","Ascomycota","Fungi","SYNONYM"]
["Parkinsonia aculeata","Parkinsonia","Fabaceae","Fabales","Magnoliopsida","Tracheophyta","Plantae","ACCEPTED"]
["Parlatoria sp.","Parlatoria","Brassicaceae","Magnoliopsida","Brassicales","Tracheophyta","Plantae"]
["Parthenium hysterophorus","Parthenium","Asteraceae","Asterales","Magnoliopsida","Tracheophyta","Plantae","ACCEPTED"]
["Paspalum dilatatum","Paspalum","Poaceae","Poales","Liliopsida","Tracheophyta","Plantae","ACCEPTED"]
["Paspalum distichum","Paspalum","Poaceae","Poales","Liliopsida","Tracheophyta","Plantae","ACCEPTED"]
["Passer domesticus","Passer","Passeridae","Passeriformes","Aves","Chordata","Animalia","ACCEPTED"]
["Passiflora tarminiana","Passiflora","Passifloraceae","Malpighiales","Magnoliopsida","Tracheophyta","Plantae","ACCEPTED"]
["Pastinaca sativa","Pastinaca","Apiaceae","Apiales","Magnoliopsida","Tracheophyta","Plantae","ACCEPTED"]
["Paulownia tomentosa","Paulownia","Paulowniaceae","Lamiales","Magnoliopsida","Tracheophyta","Plantae","ACCEPTED"]
["Pectinophora gossypiella","Pectinophora","Gelechiidae","Lepidoptera","Insecta","Arthropoda","Animalia","ACCEPTED"]
["Pelargonium alchemilloides","Pelargonium","Geraniaceae","Geraniales","Magnoliopsida","Tracheophyta","Plantae"]
["Pelargonium capitatum","Pelargonium","Geraniaceae","Geraniales","Magnoliopsida","Tracheophyta","Plantae","ACCEPTED"]
["Pelodiscus sinensis","Pelodiscus","Trionychidae","Testudines","Reptilia","Chordata","Animalia","ACCEPTED"]
["Perca fluviatilis","Perca","Percidae","Perciformes","Actinopterygii","Chordata","Animalia","ACCEPTED"]
["Perccottus glenii","Perccottus","Odontobutidae","Perciformes","Actinopterygii","Chordata","Animalia","ACCEPTED"]
["Periploca graeca","Periploca","Apocynaceae","Gentianales","Magnoliopsida","Tracheophyta","Plantae","ACCEPTED"]
["Perkinsiella saccharicida","Perkinsiella","Delphacidae","Hemiptera","Insecta","Arthropoda","Animalia","ACCEPTED"]
["Peromyscus eremicus","Peromyscus","Cricetidae","Rodentia","Mammalia","Chordata","Animalia","ACCEPTED"]
["Persea americana","Persea","Lauraceae","Laurales","Magnoliopsida","Tracheophyta","Plantae","ACCEPTED"]
["Persicaria acuminata","Persicaria","Polygonaceae","Caryophyllales","Magnoliopsida","Tracheophyta","Plantae","ACCEPTED"]
["Persicaria perfoliata","Persicaria","Polygonaceae","Caryophyllales","Magnoliopsida","Tracheophyta","Plantae","ACCEPTED"]
["Petromyzon marinus","Petromyzon","Petromyzontidae","Petromyzontiformes","Cephalaspidomorphi","Chordata","Animalia","ACCEPTED"]
["Phakopsora spp.","Phakopsora","Phakopsoraceae","Pucciniomycetes","Pucciniales","Basidiomycota","Fungi"]
["Phalaris aquatica","Phalaris","Poaceae","Poales","Liliopsida","Tracheophyta","Plantae","ACCEPTED"]
["Phalaris minor","Phalaris","Poaceae","Poales","Liliopsida","Tracheophyta","Plantae","ACCEPTED"]
["Phascolarctos cinereus","Phascolarctos","Phascolarctidae","Diprotodontia","Mammalia","Chordata","Animalia","ACCEPTED"]
["Phasianus colchicus","Phasianus","Phasianidae","Galliformes","Aves","Chordata","Animalia","ACCEPTED"]
["Pheidole megacephala","Pheidole","Formicidae","Hymenoptera","Insecta","Arthropoda","Animalia","ACCEPTED"]
["Phelipanche ramosa","Phelipanche","Orobanchaceae","Lamiales","Magnoliopsida","Tracheophyta","Plantae","ACCEPTED"]
["Phenacoccus manihoti","Phenacoccus","Pseudococcidae","Hemiptera","Insecta","Arthropoda","Animalia","ACCEPTED"]
["Phenacoccus solenopsis","Phenacoccus","Pseudococcidae","Hemiptera","Insecta","Arthropoda","Animalia","ACCEPTED"]
["Philornis downsi","Philornis","Muscidae","Diptera","Insecta","Arthropoda","Animalia","ACCEPTED"]
["Phoenix canariensis","Phoenix","Arecaceae","Arecales","Liliopsida","Tracheophyta","Plantae","ACCEPTED"]
["Phomopsis helianthi","Phomopsis","Diaporthaceae","Diaporthales","Sordariomycetes","Ascomycota","Fungi","ACCEPTED"]
["Phoxinus phoxinus","Phoxinus","Cyprinidae","Cypriniformes","Actinopterygii","Chordata","Animalia","ACCEPTED"]
["Phragmites australis","Phragmites","Poaceae","Poales","Liliopsida","Tracheophyta","Plantae","ACCEPTED"]
["Phthorimaea operculella","Phthorimaea","Gelechiidae","Lepidoptera","Insecta","Arthropoda","Animalia","ACCEPTED"]
["Phyla nodiflora","Phyla","Verbenaceae","Lamiales","Magnoliopsida","Tracheophyta","Plantae","ACCEPTED"]
["Phyllonorycter issikii","Phyllonorycter","Gracillariidae","Lepidoptera","Insecta","Arthropoda","Animalia","ACCEPTED"]
["Phyllostachys spp.","Phyllostachys","Poaceae","Magnoliopsida","Poales","Tracheophyta","Plantae"]
["Phyllosticta cavendishii","Phyllosticta","Phyllostictaceae","Botryosphaeriales","Dothideomycetes","Ascomycota","Fungi","ACCEPTED"]
["Phyllotreta cruciferae","Phyllotreta","Chrysomelidae","Coleoptera","Insecta","Arthropoda","Animalia","ACCEPTED"]
["Phytolacca americana","Phytolacca","Phytolaccaceae","Caryophyllales","Magnoliopsida","Tracheophyta","Plantae","ACCEPTED"]
["Phytophthora fragariae","Phytophthora","Peronosporaceae","Peronosporales","Peronosporea","Oomycota","Chromista","ACCEPTED"]
["Phytophthora infestans","Phytophthora","Peronosporaceae","Peronosporales","Peronosporea","Oomycota","Chromista","ACCEPTED"]
["Phytophthora kernoviae","Phytophthora","Peronosporaceae","Peronosporales","Peronosporea","Oomycota","Chromista","ACCEPTED"]
["Phytophthora megasperma","Phytophthora","Peronosporaceae","Peronosporales","Peronosporea","Oomycota","Chromista","ACCEPTED"]
["Phytophthora ramorum","Phytophthora","Peronosporaceae","Peronosporales","Peronosporea","Oomycota","Chromista","ACCEPTED"]
["Pieris brassicae","Pieris","Pieridae","Lepidoptera","Insecta","Arthropoda","Animalia","ACCEPTED"]
["Pilosella officinarum","Pilosella","Asteraceae","Asterales","Magnoliopsida","Tracheophyta","Plantae","ACCEPTED"]
["Pinus caribaea","Pinus","Pinaceae","Pinales","Pinopsida","Tracheophyta","Plantae","ACCEPTED"]
["Pinus elliottii","Pinus","Pinaceae","Pinales","Pinopsida","Tracheophyta","Plantae","ACCEPTED"]
["Pinus halepensis","Pinus","Pinaceae","Pinales","Pinopsida","Tracheophyta","Plantae","ACCEPTED"]
["Pinus monophylla","Pinus","Pinaceae","Pinales","Pinopsida","Tracheophyta","Plantae","ACCEPTED"]
["Pinus pinaster","Pinus","Pinaceae","Pinales","Pinopsida","Tracheophyta","Plantae","ACCEPTED"]
["Pinus radiata","Pinus","Pinaceae","Pinales","Pinopsida","Tracheophyta","Plantae","ACCEPTED"]
["Pinus sp.","Pinus","Pinaceae","Pinales","Pinopsida","Tracheophyta","Plantae","ACCEPTED"]
["Pinus spp.","Pinus","Pinaceae","Pinales","Pinopsida","Tracheophyta","Plantae","ACCEPTED"]
["Pinus strobus","Pinus","Pinaceae","Pinales","Pinopsida","Tracheophyta","Plantae","ACCEPTED"]
["Pinus taeda","Pinus","Pinaceae","Pinales","Pinopsida","Tracheophyta","Plantae","ACCEPTED"]
["Pistia stratiotes","Pistia","Araceae","Alismatales","Liliopsida","Tracheophyta","Plantae","ACCEPTED"]
["Pittosporum tobira","Pittosporum","Pittosporaceae","Apiales","Magnoliopsida","Tracheophyta","Plantae","ACCEPTED"]
["Platanus hispanica","Platanus","Platanaceae","Proteales","Magnoliopsida","Tracheophyta","Plantae","DOUBTFUL"]
["Plectranthus parviflorus","Plectranthus","Lamiaceae","Lamiales","Magnoliopsida","Tracheophyta","Plantae","ACCEPTED"]
["Ploceus melanocephalus","Ploceus","Ploceidae","Passeriformes","Aves","Chordata","Animalia","ACCEPTED"]
["Plutella xylostella","Plutella","Plutellidae","Lepidoptera","Insecta","Arthropoda","Animalia","ACCEPTED"]
["Poecilia reticulata","Poecilia","Poeciliidae","Cyprinodontiformes","Actinopterygii","Chordata","Animalia","ACCEPTED"]
["Poecilia sphenops","Poecilia","Poeciliidae","Cyprinodontiformes","Actinopterygii","Chordata","Animalia","ACCEPTED"]
["Polistes olivaceus","Polistes","Eumenidae","Hymenoptera","Insecta","Arthropoda","Animalia","ACCEPTED"]
["Polygonum aviculare","Polygonum","Polygonaceae","Caryophyllales","Magnoliopsida","Tracheophyta","Plantae","ACCEPTED"]
["Polypedates leucomystax","Polypedates","Rhacophoridae","Anura","Amphibia","Chordata","Animalia","ACCEPTED"]
["Pomacea canaliculata","Pomacea","Ampullariidae","Architaenioglossa","Gastropoda","Mollusca","Animalia","ACCEPTED"]
["Pomacea diffusa","Pomacea","Ampullariidae","Architaenioglossa","Gastropoda","Mollusca","Animalia","ACCEPTED"]
["Pomacea maculata","Pomacea","Ampullariidae","Architaenioglossa","Gastropoda","Mollusca","Animalia","ACCEPTED"]
["Popillia japonica","Popillia","Rutelidae","Coleoptera","Insecta","Arthropoda","Animalia","ACCEPTED"]
["Populus spp.","Populus","Salicaceae","Magnoliopsida","Malpighiales","Tracheophyta","Plantae"]
["Portulacaria afra","Portulacaria","Didiereaceae","Caryophyllales","Magnoliopsida","Tracheophyta","Plantae","ACCEPTED"]
["Portunus pelagicus","Portunus","Portunidae","Decapoda","Malacostraca","Arthropoda","Animalia","ACCEPTED"]
["Potato virus T","Tepovirus","Betaflexiviridae","Tymovirales","Alsuviricetes","Kitrinoviricota","Viruses","ACCEPTED"]
["Pratylenchus neglectus","Pratylenchus","Hoplolaimidae","Tylenchida","Secernentea","Nematoda","Animalia","ACCEPTED"]
["Pratylenchus penetrans","Pratylenchus","Hoplolaimidae","Tylenchida","Secernentea","Nematoda","Animalia","ACCEPTED"]
["Pratylenchus sp.","Pratylenchus","Pratylenchidae","Chromadorea","Rhabditida","Nematoda","Animalia"]
["Pratylenchus teres","Pratylenchus","Hoplolaimidae","Tylenchida","Secernentea","Nematoda","Animalia","ACCEPTED"]
["Pratylenchus thornei","Pratylenchus","Hoplolaimidae","Tylenchida","Secernentea","Nematoda","Animalia","ACCEPTED"]
["Premnotrypes sp","Premnotrypes","Curculionidae","Insecta","Coleoptera","Arthropoda","Animalia"]
["Procambarus acutus","Procambarus","Cambaridae","Decapoda","Malacostraca","Arthropoda","Animalia","ACCEPTED"]
["Procambarus clarkii","Procambarus","Cambaridae","Decapoda","Malacostraca","Arthropoda","Animalia","ACCEPTED"]
["Procambarus zonangulus","Procambarus","Cambaridae","Decapoda","Malacostraca","Arthropoda","Animalia","ACCEPTED"]
["Procyon lotor","Procyon","Procyonidae","Carnivora","Mammalia","Chordata","Animalia","ACCEPTED"]
["Prosopis juliflora","Prosopis","Fabaceae","Fabales","Magnoliopsida","Tracheophyta","Plantae","ACCEPTED"]
["Prosopis sp.","Prosopis","Fabaceae","Magnoliopsida","Fabales","Tracheophyta","Plantae"]
["Prostephanus truncatus","Prostephanus","Bostrichidae","Coleoptera","Insecta","Arthropoda","Animalia","ACCEPTED"]
["Protobothrops mucrosquamatus","Protobothrops","Viperidae","Squamata","Reptilia","Chordata","Animalia","ACCEPTED"]
["Prunus serotina","Prunus","Rosaceae","Rosales","Magnoliopsida","Tracheophyta","Plantae","ACCEPTED"]
["Prymnesium polylepis","Prymnesium","Prymnesiaceae","Prymnesiales","Prymnesiophyceae","Haptophyta","Chromista","SYNONYM"]
["Pseudaulacaspis pentagona","Pseudaulacaspis","Diaspididae","Hemiptera","Insecta","Arthropoda","Animalia","ACCEPTED"]
["Pseudemys concinna","Pseudemys","Emydidae","Testudines","Reptilia","Chordata","Animalia","ACCEPTED"]
["Pseudemys nelsoni","Pseudemys","Emydidae","Testudines","Reptilia","Chordata","Animalia","ACCEPTED"]
["Pseudocercospora fijiensis","Pseudocercospora","Mycosphaerellaceae","Capnodiales","Dothideomycetes","Ascomycota","Fungi","SYNONYM"]
["Pseudochattonella verruculosa","Pseudochattonella","Florenciellaceae","Florenciellales","Dictyochophyceae","Ochrophyta","Chromista","ACCEPTED"]
["Pseudorasbora parva","Pseudorasbora","Cyprinidae","Cypriniformes","Actinopterygii","Chordata","Animalia","ACCEPTED"]
["Pseudosesarma moeschii","Pseudosesarma","Sesarmidae","Decapoda","Malacostraca","Arthropoda","Animalia","ACCEPTED"]
["Pseudotsuga menziesii","Pseudotsuga","Pinaceae","Pinales","Pinopsida","Tracheophyta","Plantae","ACCEPTED"]
["Psidium guajava","Psidium","Myrtaceae","Myrtales","Magnoliopsida","Tracheophyta","Plantae","ACCEPTED"]
["Psittacula krameri","Psittacula","Psittacidae","Psittaciformes","Aves","Chordata","Animalia","ACCEPTED"]
["Pteridium aquilinum","Pteridium","Dennstaedtiaceae","Polypodiales","Polypodiopsida","Tracheophyta","Plantae","ACCEPTED"]
["Pterois volitans","Pterois","Scorpaenidae","Scorpaeniformes","Actinopterygii","Chordata","Animalia","ACCEPTED"]
["Pterygoplichthys gibbiceps","Pterygoplichthys","Loricariidae","Siluriformes","Actinopterygii","Chordata","Animalia","ACCEPTED"]
["Pterygoplichthys sp.","Pterygoplichthys","Loricariidae","Actinopteri","Siluriformes","Chordata","Animalia"]
["Puccinia graminis","Puccinia","Pucciniaceae","Pucciniales","Pucciniomycetes","Basidiomycota","Fungi","ACCEPTED"]
["Puccinia horiana","Puccinia","Pucciniaceae","Pucciniales","Pucciniomycetes","Basidiomycota","Fungi","ACCEPTED"]
["Puccinia recondita","Puccinia","Pucciniaceae","Pucciniales","Pucciniomycetes","Basidiomycota","Fungi","ACCEPTED"]
["Puccinia striiformis","Puccinia","Pucciniaceae","Pucciniales","Pucciniomycetes","Basidiomycota","Fungi","ACCEPTED"]
["Pueraria lobata","Pueraria","Fabaceae","Fabales","Magnoliopsida","Tracheophyta","Plantae","ACCEPTED"]
["Pueraria montana","Pueraria","Fabaceae","Fabales","Magnoliopsida","Tracheophyta","Plantae","ACCEPTED"]
["Pueraria phaseoloides","Pueraria","Fabaceae","Fabales","Magnoliopsida","Tracheophyta","Plantae","ACCEPTED"]
["Pycnonotus cafer","Pycnonotus","Pycnonotidae","Passeriformes","Aves","Chordata","Animalia","ACCEPTED"]
["Pycnonotus jocosus","Pycnonotus","Pycnonotidae","Passeriformes","Aves","Chordata","Animalia","ACCEPTED"]
["Pycnonotus sinensis","Pycnonotus","Pycnonotidae","Passeriformes","Aves","Chordata","Animalia","ACCEPTED"]
["Pyrenophora tritici-repentis","Pyrenophora","Pleosporaceae","Pleosporales","Dothideomycetes","Ascomycota","Fungi","ACCEPTED"]
["Python bivittatus","Python","Pythonidae","Squamata","Reptilia","Chordata","Animalia","ACCEPTED"]
["Quercus rubra","Quercus","Fagaceae","Fagales","Magnoliopsida","Tracheophyta","Plantae","ACCEPTED"]
["Radopholus nativus","Radopholus","Hoplolaimidae","Tylenchida","Secernentea","Nematoda","Animalia","ACCEPTED"]
["Radopholus similis","Radopholus","Hoplolaimidae","Tylenchida","Secernentea","Nematoda","Animalia","ACCEPTED"]
["Radopholus vangundyi","Radopholus","Hoplolaimidae","Tylenchida","Secernentea","Nematoda","Animalia","ACCEPTED"]
["Ralstonia solanacearum","Ralstonia","Burkholderiaceae","Burkholderiales","Betaproteobacteria","Proteobacteria","Bacteria","ACCEPTED"]
["Rangifer tarandus","Rangifer","Cervidae","Artiodactyla","Mammalia","Chordata","Animalia","ACCEPTED"]
["Ranunculus acris","Ranunculus","Ranunculaceae","Ranunculales","Magnoliopsida","Tracheophyta","Plantae","ACCEPTED"]
["Raoiella indica","Raoiella","Tenuipalpidae","Prostigmata","Arachnida","Arthropoda","Animalia","ACCEPTED"]
["Raphanus raphanistrum","Raphanus","Brassicaceae","Brassicales","Magnoliopsida","Tracheophyta","Plantae","ACCEPTED"]
["Rastrococcus invadens","Rastrococcus","Pseudococcidae","Hemiptera","Insecta","Arthropoda","Animalia","ACCEPTED"]
["Rattus exulans","Rattus","Muridae","Rodentia","Mammalia","Chordata","Animalia","ACCEPTED"]
["Rattus norvegicus","Rattus","Muridae","Rodentia","Mammalia","Chordata","Animalia","ACCEPTED"]
["Rattus rattus","Rattus","Muridae","Rodentia","Mammalia","Chordata","Animalia","ACCEPTED"]
["Rattus tanezumi","Rattus","Muridae","Rodentia","Mammalia","Chordata","Animalia","ACCEPTED"]
["Reseda lutea","Reseda","Resedaceae","Brassicales","Magnoliopsida","Tracheophyta","Plantae","ACCEPTED"]
["Reticulitermes flavipes","Reticulitermes","Rhinotermitidae","Blattodea","Insecta","Arthropoda","Animalia","ACCEPTED"]
["Reynoutria bohemica","Reynoutria","Polygonaceae","Caryophyllales","Magnoliopsida","Tracheophyta","Plantae","ACCEPTED"]
["Reynoutria japonica","Reynoutria","Polygonaceae","Caryophyllales","Magnoliopsida","Tracheophyta","Plantae","ACCEPTED"]
["Reynoutria sachalinensis","Reynoutria","Polygonaceae","Caryophyllales","Magnoliopsida","Tracheophyta","Plantae","ACCEPTED"]
["Rhagoletis completa","Rhagoletis","Tephritidae","Diptera","Insecta","Arthropoda","Animalia","ACCEPTED"]
["Rhagoletis indifferens","Rhagoletis","Tephritidae","Diptera","Insecta","Arthropoda","Animalia","ACCEPTED"]
["Rhagoletis pomonella","Rhagoletis","Tephritidae","Diptera","Insecta","Arthropoda","Animalia","ACCEPTED"]
["Rhamnus cathartica","Rhamnus","Rhamnaceae","Rosales","Magnoliopsida","Tracheophyta","Plantae","ACCEPTED"]
["Rhaponticum repens","Rhaponticum","Asteraceae","Asterales","Magnoliopsida","Tracheophyta","Plantae","ACCEPTED"]
["Rhinella marina","Rhinella","Bufonidae","Anura","Amphibia","Chordata","Animalia","ACCEPTED"]
["Rhipicephalus microplus","Rhipicephalus","Ixodidae","Ixodida","Arachnida","Arthropoda","Animalia","DOUBTFUL"]
["Rhizoctonia solani","Rhizoctonia","Ceratobasidiaceae","Cantharellales","Agaricomycetes","Basidiomycota","Fungi","ACCEPTED"]
["Rhododendron ponticum","Rhododendron","Ericaceae","Ericales","Magnoliopsida","Tracheophyta","Plantae","ACCEPTED"]
["Rhopalosiphum padi","Rhopalosiphum","Aphididae","Hemiptera","Insecta","Arthropoda","Animalia","ACCEPTED"]
["Rhopilema nomadica","Rhopilema","Rhizostomatidae","Rhizostomeae","Scyphozoa","Cnidaria","Animalia","ACCEPTED"]
["Rhynchophorus ferrugineus","Rhynchophorus","Dryophthoridae","Coleoptera","Insecta","Arthropoda","Animalia","ACCEPTED"]
["Rhynchophorus palmarum","Rhynchophorus","Dryophthoridae","Coleoptera","Insecta","Arthropoda","Animalia","ACCEPTED"]
["Rhyzopertha dominica","Rhyzopertha","Bostrichidae","Coleoptera","Insecta","Arthropoda","Animalia","ACCEPTED"]
["Ricinus communis","Ricinus","Euphorbiaceae","Malpighiales","Magnoliopsida","Tracheophyta","Plantae","ACCEPTED"]
["Robinia pseudoacacia","Robinia","Fabaceae","Fabales","Magnoliopsida","Tracheophyta","Plantae","ACCEPTED"]
["Rosa rubiginosa","Rosa","Rosaceae","Rosales","Magnoliopsida","Tracheophyta","Plantae","ACCEPTED"]
["Rosa rugosa","Rosa","Rosaceae","Rosales","Magnoliopsida","Tracheophyta","Plantae","ACCEPTED"]
["Rousettus aegyptiacus","Rousettus","Pteropodidae","Chiroptera","Mammalia","Chordata","Animalia","ACCEPTED"]
["Rubus adenotrichos","Rubus","Rosaceae","Rosales","Magnoliopsida","Tracheophyta","Plantae","ACCEPTED"]
["Rubus alceifolius","Rubus","Rosaceae","Rosales","Magnoliopsida","Tracheophyta","Plantae","ACCEPTED"]
["Rubus armeniacus","Rubus","Rosaceae","Rosales","Magnoliopsida","Tracheophyta","Plantae","ACCEPTED"]
["Rubus constrictus","Rubus","Rosaceae","Rosales","Magnoliopsida","Tracheophyta","Plantae","ACCEPTED"]
["Rubus fruticosus","Rubus","Rosaceae","Rosales","Magnoliopsida","Tracheophyta","Plantae","ACCEPTED"]
["Rubus glaucus","Rubus","Rosaceae","Rosales","Magnoliopsida","Tracheophyta","Plantae","ACCEPTED"]
["Rubus megalococcus","Rubus","Rosaceae","Rosales","Magnoliopsida","Tracheophyta","Plantae","ACCEPTED"]
["Rubus niveus","Rubus","Rosaceae","Rosales","Magnoliopsida","Tracheophyta","Plantae","ACCEPTED"]
["Rubus spp.","Rubus","Rosaceae","Rosales","Magnoliopsida","Tracheophyta","Plantae"]
["Rubus ulmifolius","Rubus","Rosaceae","Rosales","Magnoliopsida","Tracheophyta","Plantae","ACCEPTED"]
["Rudbeckia laciniata","Rudbeckia","Asteraceae","Asterales","Magnoliopsida","Tracheophyta","Plantae","ACCEPTED"]
["Rumex lunaria","Rumex","Polygonaceae","Caryophyllales","Magnoliopsida","Tracheophyta","Plantae","ACCEPTED"]
["Rupicapra rupicapra","Rupicapra","Bovidae","Artiodactyla","Mammalia","Chordata","Animalia","ACCEPTED"]
["Rusa timorensis","Rusa","Cervidae","Artiodactyla","Mammalia","Chordata","Animalia","ACCEPTED"]
["Sabella spallanzanii","Sabella","Sabellidae","Sabellida","Polychaeta","Annelida","Animalia","ACCEPTED"]
["Salix babylonica","Salix","Salicaceae","Malpighiales","Magnoliopsida","Tracheophyta","Plantae","ACCEPTED"]
["Salmo trutta","Salmo","Salmonidae","Salmoniformes","Actinopterygii","Chordata","Animalia","ACCEPTED"]
["Salvator merianae","Salvator","Teiidae","Squamata","Reptilia","Chordata","Animalia","ACCEPTED"]
["Salvia aethiopis","Salvia","Lamiaceae","Lamiales","Magnoliopsida","Tracheophyta","Plantae","ACCEPTED"]
["Salvia reflexa","Salvia","Lamiaceae","Lamiales","Magnoliopsida","Tracheophyta","Plantae","ACCEPTED"]
["Salvinia molesta","Salvinia","Salviniaceae","Salviniales","Polypodiopsida","Tracheophyta","Plantae","ACCEPTED"]
["Salvinia natans","Salvinia","Salviniaceae","Salviniales","Polypodiopsida","Tracheophyta","Plantae","ACCEPTED"]
["Salvinia spp.","Salvinia","Salviniaceae","Salviniales","Polypodiopsida","Tracheophyta","Plantae"]
["Sander lucioperca","Sander","Percidae","Perciformes","Actinopterygii","Chordata","Animalia","ACCEPTED"]
["Sapindus saponaria","Sapindus","Sapindaceae","Sapindales","Magnoliopsida","Tracheophyta","Plantae","ACCEPTED"]
["Sargassum muticum","Sargassum","Sargassaceae","Fucales","Phaeophyceae","Ochrophyta","Chromista","ACCEPTED"]
["Saururus cernuus","Saururus","Saururaceae","Piperales","Magnoliopsida","Tracheophyta","Plantae","ACCEPTED"]
["Scapteriscus sp.","Scapteriscus","Gryllotalpidae","Insecta","Orthoptera","Arthropoda","Animalia"]
["Schinus molle","Schinus","Anacardiaceae","Sapindales","Magnoliopsida","Tracheophyta","Plantae","ACCEPTED"]
["Schinus terebinthifolia","Schinus","Anacardiaceae","Sapindales","Magnoliopsida","Tracheophyta","Plantae","ACCEPTED"]
["Schistocerca gregaria","Schistocerca","Acrididae","Orthoptera","Insecta","Arthropoda","Animalia","ACCEPTED"]
["Scirtothrips perseae","Scirtothrips","Thripidae","Thysanoptera","Insecta","Arthropoda","Animalia","ACCEPTED"]
["Sciurus aureogaster","Sciurus","Sciuridae","Rodentia","Mammalia","Chordata","Animalia","ACCEPTED"]
["Sciurus carolinensis","Sciurus","Sciuridae","Rodentia","Mammalia","Chordata","Animalia","ACCEPTED"]
["Sciurus niger","Sciurus","Sciuridae","Rodentia","Mammalia","Chordata","Animalia","ACCEPTED"]
["Sciurus vulgaris","Sciurus","Sciuridae","Rodentia","Mammalia","Chordata","Animalia","ACCEPTED"]
["Scolytus sp.","Scolytus","Curculionidae","Insecta","Coleoptera","Arthropoda","Animalia"]
["Scyphophorus acupunctatus","Scyphophorus","Dryophthoridae","Coleoptera","Insecta","Arthropoda","Animalia","DOUBTFUL"]
["Senecio angulatus","Senecio","Asteraceae","Asterales","Magnoliopsida","Tracheophyta","Plantae","ACCEPTED"]
["Senecio inaequidens","Senecio","Asteraceae","Asterales","Magnoliopsida","Tracheophyta","Plantae","ACCEPTED"]
["Senecio jacobaea","Senecio","Asteraceae","Asterales","Magnoliopsida","Tracheophyta","Plantae","ACCEPTED"]
["Senecio madagascariensis","Senecio","Asteraceae","Asterales","Magnoliopsida","Tracheophyta","Plantae","ACCEPTED"]
["Senecio mikanioides","Senecio","Asteraceae","Asterales","Magnoliopsida","Tracheophyta","Plantae","ACCEPTED"]
["Senna obtusifolia","Senna","Fabaceae","Fabales","Magnoliopsida","Tracheophyta","Plantae","ACCEPTED"]
["Septoria tritici","Septoria","Mycosphaerellaceae","Capnodiales","Dothideomycetes","Ascomycota","Fungi","ACCEPTED"]
["Sesbania punicea","Sesbania","Fabaceae","Fabales","Magnoliopsida","Tracheophyta","Plantae","ACCEPTED"]
["Setaria helvola","Setaria","Poaceae","Poales","Liliopsida","Tracheophyta","Plantae","ACCEPTED"]
["Sida acuta","Sida","Malvaceae","Malvales","Magnoliopsida","Tracheophyta","Plantae","ACCEPTED"]
["Silurus glanis","Silurus","Siluridae","Siluriformes","Actinopterygii","Chordata","Animalia","ACCEPTED"]
["Silybum marianum","Silybum","Asteraceae","Asterales","Magnoliopsida","Tracheophyta","Plantae","ACCEPTED"]
["Sinanodonta woodiana","Sinanodonta","Unionidae","Unionida","Bivalvia","Mollusca","Animalia","ACCEPTED"]
["Sipha flava","Sipha","Aphididae","Hemiptera","Insecta","Arthropoda","Animalia","ACCEPTED"]
["Sirex noctilio","Sirex","Siricidae","Hymenoptera","Insecta","Arthropoda","Animalia","ACCEPTED"]
["Sisymbrium officinale","Sisymbrium","Brassicaceae","Brassicales","Magnoliopsida","Tracheophyta","Plantae","ACCEPTED"]
["Sitodiplosis mosellana","Sitodiplosis","Cecidomyiidae","Diptera","Insecta","Arthropoda","Animalia","ACCEPTED"]
["Solanum carolinense","Solanum","Solanaceae","Solanales","Magnoliopsida","Tracheophyta","Plantae","ACCEPTED"]
["Solanum elaeagnifolium","Solanum","Solanaceae","Solanales","Magnoliopsida","Tracheophyta","Plantae","ACCEPTED"]
["Solanum linnaeanum","Solanum","Solanaceae","Solanales","Magnoliopsida","Tracheophyta","Plantae","ACCEPTED"]
["Solanum mauritianum","Solanum","Solanaceae","Solanales","Magnoliopsida","Tracheophyta","Plantae","ACCEPTED"]
["Solanum quitoense","Solanum","Solanaceae","Solanales","Magnoliopsida","Tracheophyta","Plantae","ACCEPTED"]
["Solanum seaforthianum","Solanum","Solanaceae","Solanales","Magnoliopsida","Tracheophyta","Plantae","ACCEPTED"]
["Solanum tampicense","Solanum","Solanaceae","Solanales","Magnoliopsida","Tracheophyta","Plantae","ACCEPTED"]
["Solanum viarum","Solanum","Solanaceae","Solanales","Magnoliopsida","Tracheophyta","Plantae","ACCEPTED"]
["Solenopsis geminata","Solenopsis","Formicidae","Hymenoptera","Insecta","Arthropoda","Animalia","ACCEPTED"]
["Solenopsis invicta","Solenopsis","Formicidae","Hymenoptera","Insecta","Arthropoda","Animalia","ACCEPTED"]
["Solenopsis richteri","Solenopsis","Formicidae","Hymenoptera","Insecta","Arthropoda","Animalia","ACCEPTED"]
["Solidago canadensis","Solidago","Asteraceae","Asterales","Magnoliopsida","Tracheophyta","Plantae","ACCEPTED"]
["Solidago gigantea","Solidago","Asteraceae","Asterales","Magnoliopsida","Tracheophyta","Plantae","ACCEPTED"]
["Sonchus oleraceus","Sonchus","Asteraceae","Asterales","Magnoliopsida","Tracheophyta","Plantae","ACCEPTED"]
["Sorghum halepense","Sorghum","Poaceae","Poales","Liliopsida","Tracheophyta","Plantae","ACCEPTED"]
["Spartina sp.","Spartina","Poaceae","Magnoliopsida","Poales","Tracheophyta","Plantae"]
["Spartium junceum","Spartium","Fabaceae","Fabales","Magnoliopsida","Tracheophyta","Plantae","ACCEPTED"]
["Spathodea campanulata","Spathodea","Bignoniaceae","Lamiales","Magnoliopsida","Tracheophyta","Plantae","ACCEPTED"]
["Sphagneticola trilobata","Sphagneticola","Asteraceae","Asterales","Magnoliopsida","Tracheophyta","Plantae","ACCEPTED"]
["Spodoptera frugiperda","Spodoptera","Noctuidae","Lepidoptera","Insecta","Arthropoda","Animalia","ACCEPTED"]
["Sporobolus alterniflorus","Sporobolus","Poaceae","Poales","Liliopsida","Tracheophyta","Plantae","ACCEPTED"]
["Sporobolus anglicus","Sporobolus","Poaceae","Poales","Liliopsida","Tracheophyta","Plantae","ACCEPTED"]
["Sporobolus cynosuroides","Sporobolus","Poaceae","Poales","Liliopsida","Tracheophyta","Plantae","ACCEPTED"]
["Sporobolus fertilis","Sporobolus","Poaceae","Poales","Liliopsida","Tracheophyta","Plantae","ACCEPTED"]
["Sporobolus pumilus","Sporobolus","Poaceae","Poales","Liliopsida","Tracheophyta","Plantae","ACCEPTED"]
["Sporobolus pyramidalis","Sporobolus","Poaceae","Poales","Liliopsida","Tracheophyta","Plantae","ACCEPTED"]
["Squirrelpox virus","Sciuripoxvirus","Poxviridae","Chitovirales","Pokkesviricetes","Nucleocytoviricota","Viruses","ACCEPTED"]
["Stagonosporopsis ligulicola","Stagonosporopsis","Didymellaceae","Pleosporales","Dothideomycetes","Ascomycota","Fungi","ACCEPTED"]
["Stellaria media","Stellaria","Caryophyllaceae","Caryophyllales","Magnoliopsida","Tracheophyta","Plantae","ACCEPTED"]
["Stenocarpella macrospora","Stenocarpella","Diaporthaceae","Diaporthales","Sordariomycetes","Ascomycota","Fungi","ACCEPTED"]
["Stenocarpella maydis","Stenocarpella","Diaporthaceae","Diaporthales","Sordariomycetes","Ascomycota","Fungi","ACCEPTED"]
["Stenotaphrum secundatum","Stenotaphrum","Poaceae","Poales","Liliopsida","Tracheophyta","Plantae","ACCEPTED"]
["Sternochetus frigidus","Sternochetus","Curculionidae","Insecta","Coleoptera","Arthropoda","Animalia"]
["Stipa caudata","Stipa","Poaceae","Poales","Liliopsida","Tracheophyta","Plantae","ACCEPTED"]
["Stomoxys calcitrans","Stomoxys","Muscidae","Diptera","Insecta","Arthropoda","Animalia","ACCEPTED"]
["Striga asiatica","Striga","Orobanchaceae","Lamiales","Magnoliopsida","Tracheophyta","Plantae","ACCEPTED"]
["Striga sp.","Striga","Orobanchaceae","Magnoliopsida","Lamiales","Tracheophyta","Plantae"]
["Sturnus vulgaris","Sturnus","Sturnidae","Passeriformes","Aves","Chordata","Animalia","ACCEPTED"]
["Styela clava","Styela","Styelidae","Stolidobranchia","Ascidiacea","Chordata","Animalia","ACCEPTED"]
["Sus scrofa","Sus","Suidae","Artiodactyla","Mammalia","Chordata","Animalia","ACCEPTED"]
["Symmetrischema tangolias","Symmetrischema","Gelechiidae","Lepidoptera","Insecta","Arthropoda","Animalia","ACCEPTED"]
["Synchytrium endobioticum","Synchytrium","Synchytriaceae","Chytridiales","Chytridiomycetes","Chytridiomycota","Fungi","ACCEPTED"]
["Syzygium jambos","Syzygium","Myrtaceae","Myrtales","Magnoliopsida","Tracheophyta","Plantae","ACCEPTED"]
["Taeniothrips inconsequens","Taeniothrips","Thripidae","Thysanoptera","Insecta","Arthropoda","Animalia","ACCEPTED"]
["Tamarix aphylla","Tamarix","Tamaricaceae","Caryophyllales","Magnoliopsida","Tracheophyta","Plantae","ACCEPTED"]
["Tamarix chinensis","Tamarix","Tamaricaceae","Caryophyllales","Magnoliopsida","Tracheophyta","Plantae","ACCEPTED"]
["Tamarix sp.","Tamarix","Tamaricaceae","Magnoliopsida","Caryophyllales","Tracheophyta","Plantae"]
["Tamarix spp.","Tamarix","Tamaricaceae","Magnoliopsida","Caryophyllales","Tracheophyta","Plantae"]
["Tamias sibiricus","Tamias","Sciuridae","Rodentia","Mammalia","Chordata","Animalia","ACCEPTED"]
["Tanacetum vulgare","Tanacetum","Asteraceae","Asterales","Magnoliopsida","Tracheophyta","Plantae","ACCEPTED"]
["Tecia solanivora","Tecia","Gelechiidae","Lepidoptera","Insecta","Arthropoda","Animalia","ACCEPTED"]
["Tecoma stans","Tecoma","Bignoniaceae","Lamiales","Magnoliopsida","Tracheophyta","Plantae","ACCEPTED"]
["Teia anartoides","Teia","Lymantriidae","Lepidoptera","Insecta","Arthropoda","Animalia","DOUBTFUL"]
["Teredo navalis","Teredo","Teredinidae","Myida","Bivalvia","Mollusca","Animalia","ACCEPTED"]
["Tetropium fuscum","Tetropium","Cerambycidae","Coleoptera","Insecta","Arthropoda","Animalia","ACCEPTED"]
["Thaumetopoea pityocampa","Thaumetopoea","Notodontidae","Lepidoptera","Insecta","Arthropoda","Animalia","ACCEPTED"]
["Thaumetopoea processionea","Thaumetopoea","Notodontidae","Lepidoptera","Insecta","Arthropoda","Animalia","ACCEPTED"]
["Thecaphora solani","Thecaphora","Glomosporiaceae","Urocystidales","Ustilaginomycetes","Basidiomycota","Fungi","ACCEPTED"]
["Thevetia peruviana","Thevetia","Apocynaceae","Gentianales","Magnoliopsida","Tracheophyta","Plantae","ACCEPTED"]
["Threskiornis aethiopicus","Threskiornis","Threskiornithidae","Pelecaniformes","Aves","Chordata","Animalia","ACCEPTED"]
["Thrips palmi","Thrips","Thripidae","Thysanoptera","Insecta","Arthropoda","Animalia","ACCEPTED"]
["Tilletia controversa","Tilletia","Tilletiaceae","Tilletiales","Exobasidiomycetes","Basidiomycota","Fungi","ACCEPTED"]
["Tilletia indica","Tilletia","Tilletiaceae","Tilletiales","Exobasidiomycetes","Basidiomycota","Fungi","ACCEPTED"]
["Tithonia diversifolia","Tithonia","Asteraceae","Asterales","Magnoliopsida","Tracheophyta","Plantae","ACCEPTED"]
["Tobacco ringspot virus","Nepovirus","Secoviridae","Picornavirales","Pisoniviricetes","Pisuviricota","Viruses","ACCEPTED"]
["Trachemys emolli","Trachemys","Emydidae","Testudines","Reptilia","Chordata","Animalia","ACCEPTED"]
["Trachemys gaigeae","Trachemys","Emydidae","Testudines","Reptilia","Chordata","Animalia","ACCEPTED"]
["Trachemys scripta","Trachemys","Emydidae","Testudines","Reptilia","Chordata","Animalia","ACCEPTED"]
["Tradescantia fluminensis","Tradescantia","Commelinaceae","Commelinales","Liliopsida","Tracheophyta","Plantae","ACCEPTED"]
["Triadica sebifera","Triadica","Euphorbiaceae","Malpighiales","Magnoliopsida","Tracheophyta","Plantae","ACCEPTED"]
["Trialeurodes vaporariorum","Trialeurodes","Aleyrodidae","Hemiptera","Insecta","Arthropoda","Animalia","ACCEPTED"]
["Tribulus terrestris","Tribulus","Zygophyllaceae","Zygophyllales","Magnoliopsida","Tracheophyta","Plantae","ACCEPTED"]
["Trichopodus trichopterus","Trichopodus","Osphronemidae","Perciformes","Actinopterygii","Chordata","Animalia","ACCEPTED"]
["Trichosurus vulpecula","Trichosurus","Phalangeridae","Diprotodontia","Mammalia","Chordata","Animalia","ACCEPTED"]
["Triphasia trifolia","Triphasia","Rutaceae","Sapindales","Magnoliopsida","Tracheophyta","Plantae","ACCEPTED"]
["Trogoderma granarium","Trogoderma","Dermestidae","Coleoptera","Insecta","Arthropoda","Animalia","ACCEPTED"]
["Tuta absoluta","Tuta","Gelechiidae","Lepidoptera","Insecta","Arthropoda","Animalia","ACCEPTED"]
["Tylenchulus semipenetrans","Tylenchulus","Tylenchulidae","Tylenchida","Secernentea","Nematoda","Animalia","ACCEPTED"]
["Typha angustifolia","Typha","Typhaceae","Poales","Liliopsida","Tracheophyta","Plantae","ACCEPTED"]
["Typha domingensis","Typha","Typhaceae","Poales","Liliopsida","Tracheophyta","Plantae","ACCEPTED"]
["Ulex europaeus","Ulex","Fabaceae","Fabales","Magnoliopsida","Tracheophyta","Plantae","ACCEPTED"]
["Ulex parviflorus","Ulex","Fabaceae","Fabales","Magnoliopsida","Tracheophyta","Plantae","ACCEPTED"]
["Ulmus parvifolia","Ulmus","Ulmaceae","Rosales","Magnoliopsida","Tracheophyta","Plantae","ACCEPTED"]
["Undaria pinnatfida","Undaria","Alariaceae","Laminariales","Phaeophyceae","Ochrophyta","Chromista","ACCEPTED"]
["Uraba lugens","Uraba","Noctuidae","Lepidoptera","Insecta","Arthropoda","Animalia","ACCEPTED"]
["Urocystis tritici","Urocystis","Urocystidaceae","Urocystidales","Ustilaginomycetes","Basidiomycota","Fungi","ACCEPTED"]
["Urosalpinx cinerea","Urosalpinx","Muricidae","Neogastropoda","Gastropoda","Mollusca","Animalia","ACCEPTED"]
["Ustilago tritici","Ustilago","Ustilaginaceae","Ustilaginales","Ustilaginomycetes","Basidiomycota","Fungi","ACCEPTED"]
["Vachellia farnesiana","Vachellia","Fabaceae","Fabales","Magnoliopsida","Tracheophyta","Plantae","ACCEPTED"]
["Vachellia karroo","Vachellia","Fabaceae","Fabales","Magnoliopsida","Tracheophyta","Plantae","ACCEPTED"]
["Vachellia nilotica","Vachellia","Fabaceae","Fabales","Magnoliopsida","Tracheophyta","Plantae","ACCEPTED"]
["Varroa destructor","Varroa","Varroidae","Mesostigmata","Arachnida","Arthropoda","Animalia","ACCEPTED"]
["Verticillium dahliae","Verticillium","Plectosphaerellaceae","Glomerellales","Sordariomycetes","Ascomycota","Fungi","ACCEPTED"]
["Vespa velutina","Vespa","Vespidae","Hymenoptera","Insecta","Arthropoda","Animalia","ACCEPTED"]
["Vespula germanica","Vespula","Vespidae","Hymenoptera","Insecta","Arthropoda","Animalia","ACCEPTED"]
["Vulpes vulpes","Vulpes","Canidae","Carnivora","Mammalia","Chordata","Animalia","ACCEPTED"]
["Washingtonia filifera","Washingtonia","Arecaceae","Arecales","Liliopsida","Tracheophyta","Plantae","ACCEPTED"]
["Washingtonia robusta","Washingtonia","Arecaceae","Arecales","Liliopsida","Tracheophyta","Plantae","ACCEPTED"]
["Wasmannia auropunctata","Wasmannia","Formicidae","Hymenoptera","Insecta","Arthropoda","Animalia","ACCEPTED"]
["Wheat streak mosaic virus","Tritimovirus","Potyviridae","Patatavirales","Stelpaviricetes","Pisuviricota","Viruses","ACCEPTED"]
["Xanthium chinense","Xanthium","Asteraceae","Asterales","Magnoliopsida","Tracheophyta","Plantae","SYNONYM"]
["Xanthium echinatum","Xanthium","Asteraceae","Asterales","Magnoliopsida","Tracheophyta","Plantae","ACCEPTED"]
["Xanthium orientale","Xanthium","Asteraceae","Asterales","Magnoliopsida","Tracheophyta","Plantae","ACCEPTED"]
["Xanthium spinosum","Xanthium","Asteraceae","Asterales","Magnoliopsida","Tracheophyta","Plantae","ACCEPTED"]
["Xanthium strumarium","Xanthium","Asteraceae","Asterales","Magnoliopsida","Tracheophyta","Plantae","ACCEPTED"]
["Xanthomonas axonopodis","Xanthomonas","Xanthomonadaceae","Xanthomonadales","Gammaproteobacteria","Proteobacteria","Bacteria","ACCEPTED"]
["Xanthomonas campestris","Xanthomonas","Xanthomonadaceae","Xanthomonadales","Gammaproteobacteria","Proteobacteria","Bacteria","ACCEPTED"]
["Xanthomonas oryzae","Xanthomonas","Xanthomonadaceae","Xanthomonadales","Gammaproteobacteria","Proteobacteria","Bacteria","ACCEPTED"]
["Xenopus laevis","Xenopus","Pipidae","Anura","Amphibia","Chordata","Animalia","ACCEPTED"]
["Xyleborus glabratus","Xyleborus","Curculionidae","Coleoptera","Insecta","Arthropoda","Animalia","DOUBTFUL"]
["Xylella fastidiosa","Xylella","Xanthomonadaceae","Xanthomonadales","Gammaproteobacteria","Proteobacteria","Bacteria","ACCEPTED"]
["Xylophilus ampelinus","Xylophilus",null,"Betaproteobacteria","Burkholderiales","Proteobacteria","Bacteria"]
["Yucca aloifolia","Yucca","Asparagaceae","Asparagales","Liliopsida","Tracheophyta","Plantae","ACCEPTED"]
["Yucca filamentosa","Yucca","Asparagaceae","Asparagales","Liliopsida","Tracheophyta","Plantae","ACCEPTED"]
["Yucca gigantea","Yucca","Asparagaceae","Asparagales","Liliopsida","Tracheophyta","Plantae","ACCEPTED"]
["Zabrotes subfasciatus","Zabrotes","Chrysomelidae","Coleoptera","Insecta","Arthropoda","Animalia","ACCEPTED"]
["Zamenis scalaris","Zamenis","Colubridae","Squamata","Reptilia","Chordata","Animalia","ACCEPTED"]
["Zantedeschia aethiopica","Zantedeschia","Araceae","Alismatales","Liliopsida","Tracheophyta","Plantae","ACCEPTED"]
["Zea mays","Zea","Poaceae","Poales","Liliopsida","Tracheophyta","Plantae","ACCEPTED"]
["Zeuzera pyrina","Zeuzera","Cossidae","Lepidoptera","Insecta","Arthropoda","Animalia","ACCEPTED"]
["Ziziphus mauritiana","Ziziphus","Rhamnaceae","Rosales","Magnoliopsida","Tracheophyta","Plantae","ACCEPTED"]
["Zostera japonica","Zostera","Zosteraceae","Alismatales","Liliopsida","Tracheophyta","Plantae","ACCEPTED"]
["Zygogramma exclamationis","Zygogramma","Chrysomelidae","Coleoptera","Insecta","Arthropoda","Animalia","ACCEPTED"]
["Zygophyllum fabago","Zygophyllum","Zygophyllaceae","Zygophyllales","Magnoliopsida","Tracheophyta","Plantae","ACCEPTED"]

{"sheet":"Terminology","index":4,"n_rows":179,"n_cols":8,"rows_kept":179,"cut":false,"hidden":true,"merged":[]}
["Type_of_material","Geographic_region","Spatial Scale","Impacted_sector","Country","Type of cost","Habitat code","Habitat type"]
["Book","Africa","Global","Agriculture","Albania","Administration",1,"Forests"]
["Book chapter","Antarctic-Subantarctic","Intercontinental","Authorities-Stakeholders","Algeria","Communication/Control/Research",2,"Open forests"]
["Conference communication","Asia","Continental","Environment","Angola","Control",3,"Scrub"]
["Conference paper","Central America","Regional","Fishery","Antigua and Barbuda","Control/Damage repair",4,"Grasslands"]
["Conference proceedings","Diverse/Unspecified","Country","Forestry","Argentina","Control/Damage repair/Medical care","4a","Natural grasslands"]
["Discussion paper","Europe","Site","Health","Armenia","Control/Damage-Loss","4b","Human-maintained grasslands"]
["Fact sheet","North America","Unit ( )","Public and social welfare","Australia","Control/Damage-Loss/Damage repair",5,"Sandy"]
["Journal article","Oceania","Unspecified",null,"Austria","Control/Damage-Loss/Eradication/Prevention",6,"Rocky"]
["M.Sc. Dissertation","Pacific Islands",null,null,"Azerbaijan","Control/Damage-Loss/Eradication/Research",7,"Dryland"]
["Master thesis","South America",null,null,"Bahamas","Control/Damage-Loss/Monitoring",8,"Saline"]
["Newsletter",null,null,null,"Bahrain","Control/Damage-Loss/Prevention",9,"Riparian"]
["Newspaper",null,null,null,"Bangladesh","Control/Damage-Loss/Research",10,"Wetland"]
["Official report",null,null,null,"Barbados","Control/Detection",11,"Aquatic"]
["Online press release",null,null,null,"Belarus","Control/Detection/Eradication",12,"Man-made"]
["Peer-reviewed article",null,null,null,"Belgium","Control/Education","12a","Ruderal habitats (= urban)"]
["Poster",null,null,null,"Belize","Control/Education/Monitoring/Prevention/Research","12b","Agricultural habitats"]
["Report",null,null,null,"Benin","Control/Eradication"]
["Slideshow presentation",null,null,null,"Bhutan","Control/Eradication/Information/Prevention"]
["Thesis",null,null,null,"Bolivia","Control/Eradication/Prevention"]
["Unpublished material",null,null,null,"Bosnia and Herzegovina","Control/Eradication/Research"]
["Unspecified",null,null,null,"Brazil","Control/Maintenance"]
["Web page",null,null,null,"Brunei","Control/Medical care"]
["Workshop proceedings",null,null,null,"Bulgaria","Control/Monitoring"]
[null,null,null,null,"Burkina Faso","Control/Prevention"]
[null,null,null,null,"Burundi","Control/Research"]
[null,null,null,null,"Cabo Verde","Control/Research/Surveillance"]
[null,null,null,null,"Cambodia","Control/surveillance"]
[null,null,null,null,"Cameroon","Damage repair"]
[null,null,null,null,"Canada","Damage-Loss"]
[null,null,null,null,"Central African Republic","Damage-Loss/Eradication"]
[null,null,null,null,"Chile","Damage-Loss/Management"]
[null,null,null,null,"China","Damage-Loss/Prevention"]
[null,null,null,null,"Colombia","Damage-Loss/Prevention/Research"]
[null,null,null,null,"Comoros","Direct medical cost "]
[null,null,null,null,"Cook Islands","Early detection/Eradication"]
[null,null,null,null,"Costa Rica","Early detection/Information"]
[null,null,null,null,"Croatia","Early detection/Prevention"]
[null,null,null,null,"Cuba","Education"]
[null,null,null,null,"Cyprus","Eradication"]
[null,null,null,null,"Czechia","Eradication/Monitoring"]
[null,null,null,null,"Democratic Republic of the Congo","Evacuation"]
[null,null,null,null,"Denmark","Funding"]
[null,null,null,null,"Diverse/Unspecified","Harvesting"]
[null,null,null,null,"Dominican Republic","Household use of insecticide"]
[null,null,null,null,"East Timor","Indirect costs (not detailed)"]
[null,null,null,null,"Ecuador","Information"]
[null,null,null,null,"Egypt","Management (unspecified)"]
[null,null,null,null,"El Salvador","Management/Prevention"]
[null,null,null,null,"Equatorial Guinea","Medical"]
[null,null,null,null,"Estonia","Medical care"]
[null,null,null,null,"eSwatini","Medical care/Indirect cost (not detailed)"]
[null,null,null,null,"Ethiopia","Monitoring "]
[null,null,null,null,"Federal States of Micronesia","Monitoring/Research"]
[null,null,null,null,"Fiji","Out-of-pocket"]
[null,null,null,null,"Finland","Personal loss"]
[null,null,null,null,"France","Prevention"]
[null,null,null,null,"Gambia","Prevention/Research"]
[null,null,null,null,"Georgia","Prevention/Surveillance"]
[null,null,null,null,"Germany","Research"]
[null,null,null,null,"Ghana","Risk assessment"]
[null,null,null,null,"Greece","Surveillance"]
[null,null,null,null,"Grenada","Unspecified"]
[null,null,null,null,"Guatemala"]
[null,null,null,null,"Guinea"]
[null,null,null,null,"Guinea-Bissau"]
[null,null,null,null,"Honduras"]
[null,null,null,null,"Hungary"]
[null,null,null,null,"Iceland"]
[null,null,null,null,"India"]
[null,null,null,null,"Indonesia"]
[null,null,null,null,"Iran"]
[null,null,null,null,"Iraq"]
[null,null,null,null,"Ireland"]
[null,null,null,null,"Israel"]
[null,null,null,null,"Italy"]
[null,null,null,null,"Ivory Coast"]
[null,null,null,null,"Jamaica"]
[null,null,null,null,"Japan"]
[null,null,null,null,"Jordan"]
[null,null,null,null,"Kanya"]
[null,null,null,null,"Kazakhstan"]
[null,null,null,null,"Kenya"]
[null,null,null,null,"Kiribati"]
[null,null,null,null,"Kosovo"]
[null,null,null,null,"Kuwait"]
[null,null,null,null,"Kyrgyzstan"]
[null,null,null,null,"Laos"]
[null,null,null,null,"Latvia"]
[null,null,null,null,"Lebanon"]
[null,null,null,null,"Lesotho"]
[null,null,null,null,"Libya"]
[null,null,null,null,"Lithuania"]
[null,null,null,null,"Luxembourg"]
[null,null,null,null,"Macedonia"]
[null,null,null,null,"Madagascar"]
[null,null,null,null,"Malawi"]
[null,null,null,null,"Malaysia"]
[null,null,null,null,"Maldives"]
[null,null,null,null,"Mali"]
[null,null,null,null,"Malta"]
[null,null,null,null,"Marshall Islands"]
[null,null,null,null,"Mauritania"]
[null,null,null,null,"Mauritius"]
[null,null,null,null,"Mexico"]
[null,null,null,null,"Moldova"]
[null,null,null,null,"Mongolia"]
[null,null,null,null,"Montenegro"]
[null,null,null,null,"Morocco"]
[null,null,null,null,"Mozambique"]
[null,null,null,null,"Myanmar"]
[null,null,null,null,"Namibia"]
[null,null,null,null,"Nauru"]
[null,null,null,null,"Nepal"]
[null,null,null,null,"Netherlands"]
[null,null,null,null,"New Zealand"]
[null,null,null,null,"Nicaragua"]
[null,null,null,null,"Niger"]
[null,null,null,null,"Nigeria"]
[null,null,null,null,"Niue"]
[null,null,null,null,"Norway"]
[null,null,null,null,"Oman"]
[null,null,null,null,"Pakistan"]
[null,null,null,null,"Palau"]
[null,null,null,null,"Panama"]
[null,null,null,null,"Papua New Guinea"]
[null,null,null,null,"Paraguay"]
[null,null,null,null,"Peru"]
[null,null,null,null,"Philippines"]
[null,null,null,null,"Poland"]
[null,null,null,null,"Portugal"]
[null,null,null,null,"Qatar"]
[null,null,null,null,"Republic of Congo"]
[null,null,null,null,"Republic of Serbia"]
[null,null,null,null,"Romania"]
[null,null,null,null,"Russia"]
[null,null,null,null,"Rwanda"]
[null,null,null,null,"Samoa"]
[null,null,null,null,"Saudi Arabia"]
[null,null,null,null,"Senegal"]
[null,null,null,null,"Seychelles"]
[null,null,null,null,"Singapore"]
[null,null,null,null,"Slovakia"]
[null,null,null,null,"Slovenia"]
[null,null,null,null,"Solomon Islands"]
[null,null,null,null,"South Africa"]
[null,null,null,null,"South Korea"]
[null,null,null,null,"Spain"]
[null,null,null,null,"Sri Lanka"]
[null,null,null,null,"St. Kitts and Nevis"]
[null,null,null,null,"St. Lucia"]
[null,null,null,null,"St. Vincent and the Grenadines"]
[null,null,null,null,"Sudan"]
[null,null,null,null,"Suriname"]
[null,null,null,null,"Sweden"]
[null,null,null,null,"Switzerland"]
[null,null,null,null,"Taiwan"]
[null,null,null,null,"Tajikistan"]
[null,null,null,null,"Tanzania"]
[null,null,null,null,"Thailand"]
[null,null,null,null,"Togo"]
[null,null,null,null,"Tonga"]
[null,null,null,null,"Trinidad and Tobago"]
[null,null,null,null,"Tunisia"]
[null,null,null,null,"Turkey"]
[null,null,null,null,"Tuvalu"]
[null,null,null,null,"Uganda"]
[null,null,null,null,"Ukraine"]
[null,null,null,null,"United Arab Emirates"]
[null,null,null,null,"United Kingdom"]
[null,null,null,null,"United Republic of Tanzania"]
[null,null,null,null,"United States of America"]
[null,null,null,null,"Uruguay"]
[null,null,null,null,"Vanuatu"]
[null,null,null,null,"Venezuela"]
[null,null,null,null,"Vietnam"]
[null,null,null,null,"Yemen"]
[null,null,null,null,"Zambia"]
[null,null,null,null,"Zimbabwe"]

{"sheet":"Lists_Taxonomy","index":5,"n_rows":412,"n_cols":7,"rows_kept":412,"cut":false,"hidden":true,"merged":[]}
["Kingdom","Animalia","Bacteria","Chromista","Fungi","Plantae","Diverse\\Unspecified"]
["Animalia","Annelida","Proteobacteria","Haptophyta","Ascomycota","Chlorophyta","Diverse\\Unspecified"]
["Bacteria","Arthropoda",null,"Ochrophyta","Basidiomycota","Tracheophyta"]
["Chromista","Chordata",null,"Oomycota","Chytridiomycota"]
["Fungi","Ctenophora"]
["Plantae","Mollusca"]
["Diverse\\Unspecified","Nematoda"]
[null,"Platyhelminthes"]
[null,"Diverse\\Unspecified"]
[null,"Annelida","Proteobacteria","Haptophyta","Ascomycota","Chlorophyta","Divers\\Unspecified"]
[null,"Polychaeta","Betaproteobacteria","Prymnesiophyceae","Dothideomycetes","Ulvophyceae","Diverse\\Unspecified"]
[null,null,"Gammaproteobacteria",null,"Leotiomycetes"]
[null,null,null,null,"Sordariomycetes"]
[]
[null,"Arthropoda",null,"Ochrophyta","Basidiomycota","Tracheophyta"]
[null,"Arachnida",null,"Bacillariophyceae","Agaricomycetes","Liliopsida"]
[null,"Branchiopoda",null,"Phaeophyceae","Exobasidiomycetes","Magnoliopsida"]
[null,"Insecta",null,null,"Pucciniomycetes","Pinopsida"]
[null,"Malacostraca",null,null,"Ustilaginomycetes","Polypodiopsida"]
[null,"Maxillopoda"]
[]
[null,"Chrodata",null,"Oomycota","Chytridiomycota"]
[null,"Actinopterygii",null,"Peronosporea","Chytridiomycetes"]
[null,"Amphibia"]
[null,"Aves"]
[null,"Cephalaspidomorphi"]
[null,"Mammalia"]
[null,"Reptilia"]
[]
[null,"Ctenophora"]
[null,"Tentaculata"]
[]
[null,"Mollusca"]
[null,"Bivalvia"]
[null,"Gastropoda"]
[]
[null,"Nematoda"]
[null,"Secernentea"]
[]
[null,"Platyhelminthes"]
[null,"Monogenea"]
["ORDERS"]
[null,"Polychaeta","Betaproteobacteria","Prymnesiophyceae","Dothideomycetes","Ulvophyceae","Divers\\Unspecified"]
[null,"Sabellida","Burkholderiales","Prymnesiales","Pleosporales","Bryopsidales","Diverse\\Unspecified"]
[]
[null,"Arachnida","Gammaproteobacteria","Bacillariophyceae","Leotiomycetes","Liliopsida"]
[null,"Ixodida","Aeromonadales","Cymbellales","Helotiales","Alismatales"]
[null,"Mesostigmata","Enterobacteriales",null,null,"Arecales"]
[null,"Prostigmata","Xanthomonadales",null,null,"Asparagales"]
[null,null,null,null,null,"Commelinales"]
[null,"Branchiopoda",null,"Phaeophyceae","Sordariomycetes","Dioscoreales"]
[null,"Diplostraca",null,"Laminariales","Diaporthales","Poales"]
[null,null,null,null,"Glomerellales","Zingiberales"]
[null,"Insecta",null,"Peronosporea","Hypocreales"]
[null,"Blattodea",null,"Peronosporales","Microascales"]
[null,"Coleoptera",null,"Saprolegniales","Ophiostomatales"]
[null,"Diptera",null,null,null,"Magnoliopsida"]
[null,"Hemiptera",null,null,null,"Apiales"]
[null,"Hymenoptera",null,null,null,"Asterales"]
[null,"Lepidoptera",null,null,null,"Boraginales"]
[null,"Orthoptera",null,null,null,"Caryophyllales"]
[null,"Thysanoptera",null,null,null,"Dipsacales"]
[null,null,null,null,"Agaricomycetes","Ericales"]
[null,"Malacostraca",null,null,"Russulales","Fabales"]
[null,"Decapoda",null,null,null,"Fagales"]
[null,null,null,null,null,"Gentianales"]
[null,"Maxillopoda",null,null,"Exobasidiomycetes","Geraniales"]
[null,"Sessilia",null,null,"Tilletiales","Lamiales"]
[null,null,null,null,null,"Laurales"]
[null,null,null,null,null,"Malpighiales"]
[null,"Actinopterygii",null,null,"Pucciniomycetes","Malvales"]
[null,"Cypriniformes",null,null,"Pucciniales","Myrtales"]
[null,"Cyprinodontiformes",null,null,null,"Nymphaeales"]
[null,"Esociformes",null,null,"Ustilaginomycetes","Oxalidales"]
[null,"Perciformes",null,null,"Urocystidales","Piperales"]
[null,"Salmoniformes",null,null,null,"Proteales"]
[null,"Scorpaeniformes",null,null,"Chytridiomycetes","Ranunculales"]
[null,"Siluriformes",null,null,"Chytridiales","Rosales"]
[null,"Tetraodontiformes",null,null,null,"Sapindales"]
[null,null,null,null,null,"Saxifragales"]
[null,"Amphibia",null,null,null,"Solanales"]
[null,"Anura",null,null,null,"Zygophyllales"]
[]
[null,"Aves",null,null,null,"Pinopsida"]
[null,"Accipitriformes",null,null,null,"Pinales"]
[null,"Anseriformes"]
[null,"Columbiformes",null,null,null,"Polypodiopsida"]
[null,"Galliformes",null,null,null,"Polypodiales"]
[null,"Gruiformes",null,null,null,"Salviniales"]
[null,"Passeriformes"]
[null,"Pelecaniformes"]
[null,"Psittaciformes"]
[]
[null,"Cephalaspidomorphi"]
[null,"Petromyzontiformes"]
[]
[null,"Mammalia"]
[null,"Artiodactyla"]
[null,"Carnivora"]
[null,"Diprotodontia"]
[null,"Erinaceomorpha"]
[null,"Lagomorpha"]
[null,"Perissodactyla"]
[null,"Primates"]
[null,"Rodentia"]
[]
[null,"Reptilia"]
[null,"Squamata"]
[null,"Testudines"]
[]
[null,"Tentaculata"]
[null,"Lobata"]
[]
[]
[null,"Bivalvia"]
[null,"Myida"]
[null,"Mytilida"]
[null,"Ostreida"]
[null,"Unionida"]
[null,"Venerida"]
[]
[null,"Gastropoda"]
[null,"Architaenioglossa"]
[null,"Stylommatophora"]
[]
[null,"Secernentea"]
[null,"Aphelenchida"]
[null,"Rhabditida"]
[null,"Spirurida"]
[null,"Tylenchida"]
[]
[null,"Monogenea"]
[null,"Gyrodactylidea"]
[]
["FAMILIES","Sabellida","Burkholderiales","Prymnesiales","Pleosporales","Bryopsidales","Divers\\Unspecified"]
[null,"Serpulidae","Burkholderiaceae","Prymnesiaceae","Didymellaceae","Caulerpaceae","Diverse\\Unspecified"]
[]
[null,"Ixodida","Aeromonadales","Cymbellales","Helotiales","Alismatales"]
[null,"Ixodidae","Aeromonadaceae","Gomphonemataceae","Hyaloscyphaceae","Araceae"]
[null,null,null,null,null,"Hydrocharitaceae"]
[null,"Mesostigmata","Enterobacteriales","Laminariales","Diaporthales"]
[null,"Varroidae","Enterobacteriaceae","Alariaceae","Diaporthaceae","Arecales"]
[null,null,null,null,null,"Arecaceae"]
[null,"Prostigmata","Xanthomonadales","Peronosporales","Glomerellales"]
[null,"Penthaleidae","Xanthomonadaceae","Peronosporaceae","Plectosphaerellaceae","Asparagales"]
[null,"Tarsonemidae",null,null,null,"Asparagaceae"]
[null,"Tenuipalpidae",null,"Saprolegniales","Hypocreales","Asphodelaceae"]
[null,"Tetranychidae",null,"Leptolegniaceae","Nectriaceae","Iridaceae"]
[]
[null,"Diplostraca",null,null,"Microascales","Commelinales"]
[null,"Cercopagidae",null,null,"Ceratocystidaceae","Commelinaceae"]
[null,null,null,null,null,"Pontederiaceae"]
[null,"Blattodea",null,null,"Ophiostomatales"]
[null,"Kalotermitidae",null,null,"Ophiostomataceae","Dioscoreales"]
[null,"Rhinotermitidae",null,null,null,"Dioscoreaceae"]
[null,"Termitidae",null,null,"Russulales"]
[null,null,null,null,"Bondarzewiaceae","Poales"]
[null,"Coleoptera",null,null,null,"Cyperaceae"]
[null,"Bostrichidae",null,null,"Tilletiales","Poaceae"]
[null,"Brachyceridae",null,null,"Tilletiaceae","Typhaceae"]
[null,"Brentidae"]
[null,"Buprestidae",null,null,"Pucciniales","Zingiberales"]
[null,"Cerambycidae",null,null,"Pucciniaceae","Zingiberaceae"]
[null,"Chrysomelidae",null,null,"Sphaerophragmiaceae"]
[null,"Coccinellidae"]
[null,"Curculionidae",null,null,"Urocystidales","Apiales"]
[null,"Dermestidae",null,null,"Glomosporiaceae","Apiaceae"]
[null,"Dryophthoridae",null,null,null,"Pittosporaceae"]
[null,"Dynastidae",null,null,"Chytridiales"]
[null,"Rutelidae",null,null,"Synchytriaceae","Asterales"]
[null,"Silvanidae",null,null,null,"Asteraceae"]
[null,null,null,null,null,"Menyanthaceae"]
[null,"Diptera"]
[null,"Agromyzidae",null,null,null,"Boraginales"]
[null,"Calliphoridae",null,null,null,"Boraginaceae"]
[null,"Cecidomyiidae"]
[null,"Ceratopogonidae",null,null,null,"Caryophyllales"]
[null,"Culicidae",null,null,null,"Aizoaceae"]
[null,"Drosophilidae",null,null,null,"Amaranthaceae"]
[null,"Muscidae",null,null,null,"Basellaceae"]
[null,"Tephritidae",null,null,null,"Cactaceae"]
[null,null,null,null,null,"Nyctaginaceae"]
[null,"Hemiptera",null,null,null,"Phytolaccaceae"]
[null,"Adelgidae",null,null,null,"Polygonaceae"]
[null,"Aleyrodidae",null,null,null,"Tamaricaceae"]
[null,"Aphididae"]
[null,"Blissidae",null,null,null,"Dipsacales"]
[null,"Cicadellidae",null,null,null,"Caprifoliaceae"]
[null,"Coreidae"]
[null,"Dactylopiidae",null,null,null,"Ericales"]
[null,"Delphacidae",null,null,null,"Balsaminaceae"]
[null,"Diaspididae",null,null,null,"Ebenaceae"]
[null,"Margarodidae",null,null,null,"Ericaceae"]
[null,"Pentatomidae"]
[null,"Phylloxeridae",null,null,null,"Fabales"]
[null,"Pseudococcidae",null,null,null,"Fabaceae"]
[null,"Tingidae"]
[null,null,null,null,null,"Fagales"]
[null,"Hymenoptera",null,null,null,"Casuarinaceae"]
[null,"Apidae",null,null,null,"Fagaceae"]
[null,"Cynipidae"]
[null,"Diprionidae",null,null,null,"Gentianales"]
[null,"Formicidae",null,null,null,"Apocynaceae"]
[null,"Siricidae"]
[null,"Vespidae",null,null,null,"Geraniales"]
[null,null,null,null,null,"Geraniaceae"]
[null,"Lepidoptera"]
[null,"Cossidae",null,null,null,"Lamiales"]
[null,"Crambidae",null,null,null,"Acanthaceae"]
[null,"Erebidae",null,null,null,"Bignoniaceae"]
[null,"Gelechiidae",null,null,null,"Oleaceae"]
[null,"Gracillariidae",null,null,null,"Paulowniaceae"]
[null,"Hesperiidae",null,null,null,"Scrophulariaceae"]
[null,"Hyblaeidae",null,null,null,"Verbenaceae"]
[null,"Lymantriidae"]
[null,"Noctuidae",null,null,null,"Laurales"]
[null,"Notodontidae",null,null,null,"Lauraceae"]
[null,"Oecophoridae"]
[null,"Plutellidae",null,null,null,"Malpighiales"]
[null,"Pyralidae",null,null,null,"Euphorbiaceae"]
[null,"Tortricidae",null,null,null,"Passifloraceae"]
[null,null,null,null,null,"Salicaceae"]
[null,"Orthoptera"]
[null,"Gryllotalpidae",null,null,null,"Malvales"]
[null,null,null,null,null,"Malvaceae"]
[null,"Thysanoptera"]
[null,"Thripidae",null,null,null,"Myrtales"]
[null,null,null,null,null,"Lythraceae"]
[null,"Decapoda",null,null,null,"Melastomataceae"]
[null,"Astacidae",null,null,null,"Myrtaceae"]
[null,"Cambaridae",null,null,null,"Onagraceae"]
[null,"Portunidae"]
[null,"Sesarmidae",null,null,null,"Nymphaeales"]
[null,"Varunidae",null,null,null,"Cabombaceae"]
[null,null,null,null,null,"Nymphaeaceae"]
[null,"Sessilia"]
[null,"Balanidae",null,null,null,"Oxalidales"]
[null,null,null,null,null,"Oxalidaceae"]
[null,"Cypriniformes"]
[null,"Cobitidae",null,null,null,"Piperales"]
[null,"Cyprinidae",null,null,null,"Aristolochiaceae"]
[null,null,null,null,null,"Saururaceae"]
[null,"Cyprinodontiformes"]
[null,"Fundulidae",null,null,null,"Proteales"]
[null,"Poeciliidae",null,null,null,"Platanaceae"]
[null,null,null,null,null,"Proteaceae"]
[null,"Esociformes"]
[null,"Esocidae",null,null,null,"Ranunculales"]
[null,null,null,null,null,"Ranunculaceae"]
[null,"Perciformes"]
[null,"Centrarchidae",null,null,null,"Rosales"]
[null,"Channidae",null,null,null,"Cannabaceae"]
[null,"Cichlidae",null,null,null,"Elaeagnaceae"]
[null,"Moronidae",null,null,null,"Moraceae"]
[null,"Odontobutidae",null,null,null,"Rhamnaceae"]
[null,"Osphronemidae",null,null,null,"Rosaceae"]
[null,"Percidae"]
[null,null,null,null,null,"Sapindales"]
[null,"Salmoniformes",null,null,null,"Anacardiaceae"]
[null,"Salmonidae",null,null,null,"Meliaceae"]
[null,null,null,null,null,"Rutaceae"]
[null,"Scorpaeniformes",null,null,null,"Sapindaceae"]
[null,"Scorpaenidae",null,null,null,"Simaroubaceae"]
[]
[null,"Siluriformes",null,null,null,"Saxifragales"]
[null,"Clariidae",null,null,null,"Crassulaceae"]
[null,"Ictaluridae",null,null,null,"Haloragaceae"]
[null,"Siluridae"]
[null,null,null,null,null,"Solanales"]
[null,"Tetraodontiformes",null,null,null,"Convolvulaceae"]
[null,"Tetraodontidae",null,null,null,"Solanaceae"]
[]
[null,"Anura",null,null,null,"Zygophyllales"]
[null,"Bufonidae",null,null,null,"Zygophyllaceae"]
[null,"Eleutherodactylidae"]
[null,"Pipidae",null,null,null,"Pinales"]
[null,"Ranidae",null,null,null,"Cupressaceae"]
[null,"Rhacophoridae",null,null,null,"Pinaceae"]
[]
[null,"Accipitriformes",null,null,null,"Polypodiales"]
[null,"Accipitridae",null,null,null,"Dennstaedtiaceae"]
[]
[null,"Anseriformes",null,null,null,"Salviniales"]
[null,"Anatidae",null,null,null,"Salviniaceae"]
[]
[null,"Columbiformes"]
[null,"Columbidae"]
[]
[null,"Galliformes"]
[null,"Phasianidae"]
[]
[null,"Gruiformes"]
[null,"Rallidae"]
[]
[null,"Passeriformes"]
[null,"Corvidae"]
[null,"Estrildidae"]
[null,"Passeridae"]
[null,"Ploceidae"]
[null,"Pycnonotidae"]
[null,"Sturnidae"]
[]
[null,"Pelecaniformes"]
[null,"Threskiornithidae"]
[]
[null,"Psittaciformes"]
[null,"Psittacidae"]
[]
[null,"Petromyzontiformes"]
[null,"Petromyzontidae"]
[]
[null,"Artiodactyla"]
[null,"Bovidae"]
[null,"Camelidae"]
[null,"Cervidae"]
[null,"Suidae"]
[]
[null,"Carnivora"]
[null,"Canidae"]
[null,"Felidae"]
[null,"Herpestidae"]
[null,"Mustelidae"]
[null,"Procyonidae"]
[null,"Viverridae"]
[]
[null,"Diprotodontia"]
[null,"Phalangeridae"]
[null,"Phascolarctidae"]
[]
[null,"Erinaceomorpha"]
[null,"Erinaceidae"]
[]
[null,"Lagomorpha"]
[null,"Leporidae"]
[]
[null,"Perissodactyla"]
[null,"Equidae"]
[]
[null,"Primates"]
[null,"Cercopithecidae"]
[]
[null,"Rodentia"]
[null,"Castoridae"]
[null,"Cricetidae"]
[null,"Gliridae"]
[null,"Hystricidae"]
[null,"Muridae"]
[null,"Myocastoridae"]
[null,"Sciuridae"]
[]
[null,"Squamata"]
[null,"Colubridae"]
[null,"Dactyloidae"]
[null,"Iguanidae"]
[null,"Lacertidae"]
[null,"Lamprophiidae"]
[null,"Pythonidae"]
[null,"Teiidae"]
[]
[null,"Testudines"]
[null,"Chelydridae"]
[null,"Emydidae"]
[null,"Geoemydidae"]
[null,"Trionychidae"]
[]
[]
[null,"Lobata"]
[null,"Bolinopsidae"]
[]
[]
[null,"Myida"]
[null,"Dreissenidae"]
[null,"Teredinidae"]
[]
[null,"Mytilida"]
[null,"Mytilidae"]
[]
[null,"Ostreida"]
[null,"Ostreidae"]
[]
[null,"Unionida"]
[null,"Unionidae"]
[]
[null,"Venerida"]
[null,"Cyrenidae"]
[]
[null,"Architaenioglossa"]
[null,"Ampullariidae"]
[]
[null,"Stylommatophora"]
[null,"Achatinidae"]
[null,"Arionidae"]
[null,"Helicidae"]
[]
[null,"Aphelenchida"]
[null,"Aphelenchidae"]
[null,"Aphelenchoididae"]
[]
[null,"Rhabditida"]
[null,"Meloidogynidae"]
[]
[null,"Spirurida"]
[null,"Anguillicolidae"]
[]
[null,"Tylenchida"]
[null,"Anguinidae"]
[null,"Heteroderidae"]
[null,"Hoplolaimidae"]
[null,"Tylenchulidae"]
[]
[null,"Gyrodactylidea"]
[null,"Gyrodactylidae"]

{"sheet":"PivotTableTax","index":6,"n_rows":450,"n_cols":4,"rows_kept":450,"cut":false,"hidden":true,"merged":[]}
[]
[]
[null,"Values"]
["Row Labels","Count of kingdom","Count of class","Count of order"]
["Animalia",360,360,360]
["Annelida",1,1,1]
["Polychaeta",1,1,1]
["Sabellida",1,1,1]
["Serpulidae",1,1,1]
["Arthropoda",192,192,192]
["Arachnida",7,7,7]
["Ixodida",1,1,1]
["Ixodidae",1,1,1]
["Mesostigmata",2,2,2]
["Varroidae",2,2,2]
["Prostigmata",4,4,4]
["Penthaleidae",1,1,1]
["Tarsonemidae",1,1,1]
["Tenuipalpidae",1,1,1]
["Tetranychidae",1,1,1]
["Branchiopoda",3,3,3]
["Diplostraca",3,3,3]
["Cercopagidae",3,3,3]
["Insecta",172,172,172]
["Blattodea",3,3,3]
["Kalotermitidae",1,1,1]
["Rhinotermitidae",1,1,1]
["Termitidae",1,1,1]
["Coleoptera",48,48,48]
["Bostrichidae",2,2,2]
["Brachyceridae",2,2,2]
["Brentidae",1,1,1]
["Buprestidae",1,1,1]
["Cerambycidae",10,10,10]
["Chrysomelidae",10,10,10]
["Coccinellidae",2,2,2]
["Curculionidae",12,12,12]
["Dermestidae",1,1,1]
["Dryophthoridae",4,4,4]
["Dynastidae",1,1,1]
["Rutelidae",1,1,1]
["Silvanidae",1,1,1]
["Diptera",27,27,27]
["Agromyzidae",4,4,4]
["Calliphoridae",2,2,2]
["Cecidomyiidae",1,1,1]
["Ceratopogonidae",1,1,1]
["Culicidae",4,4,4]
["Drosophilidae",1,1,1]
["Muscidae",3,3,3]
["Tephritidae",11,11,11]
["Hemiptera",32,32,32]
["Adelgidae",2,2,2]
["Aleyrodidae",3,3,3]
["Aphididae",9,9,9]
["Blissidae",1,1,1]
["Cicadellidae",2,2,2]
["Coreidae",1,1,1]
["Dactylopiidae",1,1,1]
["Delphacidae",2,2,2]
["Diaspididae",3,3,3]
["Margarodidae",1,1,1]
["Pentatomidae",1,1,1]
["Phylloxeridae",1,1,1]
["Pseudococcidae",4,4,4]
["Tingidae",1,1,1]
["Hymenoptera",16,16,16]
["Apidae",3,3,3]
["Cynipidae",1,1,1]
["Diprionidae",1,1,1]
["Formicidae",8,8,8]
["Siricidae",1,1,1]
["Vespidae",2,2,2]
["Lepidoptera",40,40,40]
["Cossidae",1,1,1]
["Crambidae",5,5,5]
["Erebidae",6,6,6]
["Gelechiidae",6,6,6]
["Gracillariidae",2,2,2]
["Hesperiidae",1,1,1]
["Hyblaeidae",1,1,1]
["Lymantriidae",1,1,1]
["Noctuidae",4,4,4]
["Notodontidae",2,2,2]
["Oecophoridae",1,1,1]
["Plutellidae",1,1,1]
["Pyralidae",3,3,3]
["Tortricidae",6,6,6]
["Orthoptera",1,1,1]
["Gryllotalpidae",1,1,1]
["Thysanoptera",5,5,5]
["Thripidae",5,5,5]
["Malacostraca",9,9,9]
["Decapoda",9,9,9]
["Astacidae",1,1,1]
["Cambaridae",5,5,5]
["Portunidae",1,1,1]
["Sesarmidae",1,1,1]
["Varunidae",1,1,1]
["Maxillopoda",1,1,1]
["Sessilia",1,1,1]
["Balanidae",1,1,1]
["Chordata",140,140,140]
["Actinopterygii",30,30,30]
["Cypriniformes",6,6,6]
["Cobitidae",1,1,1]
["Cyprinidae",5,5,5]
["Cyprinodontiformes",4,4,4]
["Fundulidae",1,1,1]
["Poeciliidae",3,3,3]
["Esociformes",1,1,1]
["Esocidae",1,1,1]
["Perciformes",12,12,12]
["Centrarchidae",4,4,4]
["Channidae",1,1,1]
["Cichlidae",1,1,1]
["Moronidae",1,1,1]
["Odontobutidae",1,1,1]
["Osphronemidae",1,1,1]
["Percidae",3,3,3]
["Salmoniformes",2,2,2]
["Salmonidae",2,2,2]
["Scorpaeniformes",1,1,1]
["Scorpaenidae",1,1,1]
["Siluriformes",3,3,3]
["Clariidae",1,1,1]
["Ictaluridae",1,1,1]
["Siluridae",1,1,1]
["Tetraodontiformes",1,1,1]
["Tetraodontidae",1,1,1]
["Amphibia",5,5,5]
["Anura",5,5,5]
["Bufonidae",1,1,1]
["Eleutherodactylidae",1,1,1]
["Pipidae",1,1,1]
["Ranidae",1,1,1]
["Rhacophoridae",1,1,1]
["Aves",23,23,23]
["Accipitriformes",1,1,1]
["Accipitridae",1,1,1]
["Anseriformes",5,5,5]
["Anatidae",5,5,5]
["Columbiformes",1,1,1]
["Columbidae",1,1,1]
["Galliformes",2,2,2]
["Phasianidae",2,2,2]
["Gruiformes",1,1,1]
["Rallidae",1,1,1]
["Passeriformes",10,10,10]
["Corvidae",1,1,1]
["Estrildidae",2,2,2]
["Passeridae",1,1,1]
["Ploceidae",1,1,1]
["Pycnonotidae",3,3,3]
["Sturnidae",2,2,2]
["Pelecaniformes",1,1,1]
["Threskiornithidae",1,1,1]
["Psittaciformes",2,2,2]
["Psittacidae",2,2,2]
["Cephalaspidomorphi",1,1,1]
["Petromyzontiformes",1,1,1]
["Petromyzontidae",1,1,1]
["Mammalia",57,57,57]
["Artiodactyla",16,16,16]
["Bovidae",7,7,7]
["Camelidae",1,1,1]
["Cervidae",7,7,7]
["Suidae",1,1,1]
["Carnivora",15,15,15]
["Canidae",5,5,5]
["Felidae",1,1,1]
["Herpestidae",2,2,2]
["Mustelidae",3,3,3]
["Procyonidae",2,2,2]
["Viverridae",2,2,2]
["Diprotodontia",2,2,2]
["Phalangeridae",1,1,1]
["Phascolarctidae",1,1,1]
["Erinaceomorpha",2,2,2]
["Erinaceidae",2,2,2]
["Lagomorpha",1,1,1]
["Leporidae",1,1,1]
["Perissodactyla",2,2,2]
["Equidae",2,2,2]
["Primates",2,2,2]
["Cercopithecidae",2,2,2]
["Rodentia",17,17,17]
["Castoridae",1,1,1]
["Cricetidae",2,2,2]
["Gliridae",1,1,1]
["Hystricidae",1,1,1]
["Muridae",5,5,5]
["Myocastoridae",1,1,1]
["Sciuridae",6,6,6]
["Reptilia",24,24,24]
["Squamata",12,12,12]
["Colubridae",5,5,5]
["Dactyloidae",2,2,2]
["Iguanidae",1,1,1]
["Lacertidae",1,1,1]
["Lamprophiidae",1,1,1]
["Pythonidae",1,1,1]
["Teiidae",1,1,1]
["Testudines",12,12,12]
["Chelydridae",1,1,1]
["Emydidae",8,8,8]
["Geoemydidae",2,2,2]
["Trionychidae",1,1,1]
["Ctenophora",1,1,1]
["Tentaculata",1,1,1]
["Lobata",1,1,1]
["Bolinopsidae",1,1,1]
["Mollusca",16,16,16]
["Bivalvia",9,9,9]
["Myida",5,5,5]
["Dreissenidae",4,4,4]
["Teredinidae",1,1,1]
["Mytilida",1,1,1]
["Mytilidae",1,1,1]
["Ostreida",1,1,1]
["Ostreidae",1,1,1]
["Unionida",1,1,1]
["Unionidae",1,1,1]
["Venerida",1,1,1]
["Cyrenidae",1,1,1]
["Gastropoda",7,7,7]
["Architaenioglossa",3,3,3]
["Ampullariidae",3,3,3]
["Stylommatophora",4,4,4]
["Achatinidae",2,2,2]
["Arionidae",1,1,1]
["Helicidae",1,1,1]
["Nematoda",9,9,9]
["Secernentea",9,9,9]
["Aphelenchida",3,3,3]
["Aphelenchidae",2,2,2]
["Aphelenchoididae",1,1,1]
["Rhabditida",1,1,1]
["Meloidogynidae",1,1,1]
["Spirurida",1,1,1]
["Anguillicolidae",1,1,1]
["Tylenchida",4,4,4]
["Anguinidae",1,1,1]
["Heteroderidae",1,1,1]
["Hoplolaimidae",1,1,1]
["Tylenchulidae",1,1,1]
["Platyhelminthes",1,1,1]
["Monogenea",1,1,1]
["Gyrodactylidea",1,1,1]
["Gyrodactylidae",1,1,1]
["Bacteria",7,7,7]
["Proteobacteria",7,7,7]
["Betaproteobacteria",1,1,1]
["Burkholderiales",1,1,1]
["Burkholderiaceae",1,1,1]
["Gammaproteobacteria",6,6,6]
["Aeromonadales",1,1,1]
["Aeromonadaceae",1,1,1]
["Enterobacteriales",2,2,2]
["Enterobacteriaceae",2,2,2]
["Xanthomonadales",3,3,3]
["Xanthomonadaceae",3,3,3]
["Chromista",6,6,6]
["Haptophyta",1,1,1]
["Prymnesiophyceae",1,1,1]
["Prymnesiales",1,1,1]
["Prymnesiaceae",1,1,1]
["Ochrophyta",2,2,2]
["Bacillariophyceae",1,1,1]
["Cymbellales",1,1,1]
["Gomphonemataceae",1,1,1]
["Phaeophyceae",1,1,1]
["Laminariales",1,1,1]
["Alariaceae",1,1,1]
["Oomycota",3,3,3]
["Peronosporea",3,3,3]
["Peronosporales",2,2,2]
["Peronosporaceae",2,2,2]
["Saprolegniales",1,1,1]
["Leptolegniaceae",1,1,1]
["Fungi",17,17,17]
["Ascomycota",9,9,9]
["Dothideomycetes",1,1,1]
["Pleosporales",1,1,1]
["Didymellaceae",1,1,1]
["Leotiomycetes",1,1,1]
["Helotiales",1,1,1]
["Hyaloscyphaceae",1,1,1]
["Sordariomycetes",7,7,7]
["Diaporthales",3,3,3]
["Diaporthaceae",3,3,3]
["Glomerellales",1,1,1]
["Plectosphaerellaceae",1,1,1]
["Hypocreales",1,1,1]
["Nectriaceae",1,1,1]
["Microascales",1,1,1]
["Ceratocystidaceae",1,1,1]
["Ophiostomatales",1,1,1]
["Ophiostomataceae",1,1,1]
["Basidiomycota",7,7,7]
["Agaricomycetes",1,1,1]
["Russulales",1,1,1]
["Bondarzewiaceae",1,1,1]
["Exobasidiomycetes",2,2,2]
["Tilletiales",2,2,2]
["Tilletiaceae",2,2,2]
["Pucciniomycetes",3,3,3]
["Pucciniales",3,3,3]
["Pucciniaceae",2,2,2]
["Sphaerophragmiaceae",1,1,1]
["Ustilaginomycetes",1,1,1]
["Urocystidales",1,1,1]
["Glomosporiaceae",1,1,1]
["Chytridiomycota",1,1,1]
["Chytridiomycetes",1,1,1]
["Chytridiales",1,1,1]
["Synchytriaceae",1,1,1]
["Plantae",267,267,267]
["Chlorophyta",2,2,2]
["Ulvophyceae",2,2,2]
["Bryopsidales",2,2,2]
["Caulerpaceae",2,2,2]
["Tracheophyta",265,265,265]
["Liliopsida",66,66,66]
["Alismatales",9,9,9]
["Araceae",4,4,4]
["Hydrocharitaceae",5,5,5]
["Arecales",4,4,4]
["Arecaceae",4,4,4]
["Asparagales",17,17,17]
["Asparagaceae",8,8,8]
["Asphodelaceae",5,5,5]
["Iridaceae",4,4,4]
["Commelinales",2,2,2]
["Commelinaceae",1,1,1]
["Pontederiaceae",1,1,1]
["Dioscoreales",1,1,1]
["Dioscoreaceae",1,1,1]
["Poales",32,32,32]
["Cyperaceae",1,1,1]
["Poaceae",29,29,29]
["Typhaceae",2,2,2]
["Zingiberales",1,1,1]
["Zingiberaceae",1,1,1]
["Magnoliopsida",190,190,190]
["Apiales",5,5,5]
["Apiaceae",4,4,4]
["Pittosporaceae",1,1,1]
["Asterales",34,34,34]
["Asteraceae",33,33,33]
["Menyanthaceae",1,1,1]
["Boraginales",1,1,1]
["Boraginaceae",1,1,1]
["Caryophyllales",25,25,25]
["Aizoaceae",6,6,6]
["Amaranthaceae",2,2,2]
["Basellaceae",1,1,1]
["Cactaceae",11,11,11]
["Nyctaginaceae",1,1,1]
["Phytolaccaceae",1,1,1]
["Polygonaceae",2,2,2]
["Tamaricaceae",1,1,1]
["Dipsacales",1,1,1]
["Caprifoliaceae",1,1,1]
["Ericales",4,4,4]
["Balsaminaceae",2,2,2]
["Ebenaceae",1,1,1]
["Ericaceae",1,1,1]
["Fabales",29,29,29]
["Fabaceae",29,29,29]
["Fagales",3,3,3]
["Casuarinaceae",2,2,2]
["Fagaceae",1,1,1]
["Gentianales",4,4,4]
["Apocynaceae",4,4,4]
["Geraniales",1,1,1]
["Geraniaceae",1,1,1]
["Lamiales",12,12,12]
["Acanthaceae",1,1,1]
["Bignoniaceae",1,1,1]
["Oleaceae",4,4,4]
["Paulowniaceae",1,1,1]
["Scrophulariaceae",2,2,2]
["Verbenaceae",3,3,3]
["Laurales",1,1,1]
["Lauraceae",1,1,1]
["Malpighiales",6,6,6]
["Euphorbiaceae",4,4,4]
["Passifloraceae",1,1,1]
["Salicaceae",1,1,1]
["Malvales",2,2,2]
["Malvaceae",2,2,2]
["Myrtales",13,13,13]
["Lythraceae",1,1,1]
["Melastomataceae",2,2,2]
["Myrtaceae",5,5,5]
["Onagraceae",5,5,5]
["Nymphaeales",2,2,2]
["Cabombaceae",1,1,1]
["Nymphaeaceae",1,1,1]
["Oxalidales",1,1,1]
["Oxalidaceae",1,1,1]
["Piperales",3,3,3]
["Aristolochiaceae",2,2,2]
["Saururaceae",1,1,1]
["Proteales",2,2,2]
["Platanaceae",1,1,1]
["Proteaceae",1,1,1]
["Ranunculales",1,1,1]
["Ranunculaceae",1,1,1]
["Rosales",15,15,15]
["Cannabaceae",1,1,1]
["Elaeagnaceae",1,1,1]
["Moraceae",3,3,3]
["Rhamnaceae",2,2,2]
["Rosaceae",8,8,8]
["Sapindales",10,10,10]
["Anacardiaceae",2,2,2]
["Meliaceae",1,1,1]
["Rutaceae",4,4,4]
["Sapindaceae",2,2,2]
["Simaroubaceae",1,1,1]
["Saxifragales",5,5,5]
["Crassulaceae",3,3,3]
["Haloragaceae",2,2,2]
["Solanales",9,9,9]
["Convolvulaceae",2,2,2]
["Solanaceae",7,7,7]
["Zygophyllales",1,1,1]
["Zygophyllaceae",1,1,1]
["Pinopsida",5,5,5]
["Pinales",5,5,5]
["Cupressaceae",1,1,1]
["Pinaceae",4,4,4]
["Polypodiopsida",4,4,4]
["Polypodiales",1,1,1]
["Dennstaedtiaceae",1,1,1]
["Salviniales",3,3,3]
["Salviniaceae",3,3,3]
["Unmatch",47,47,47]
["Unmatch",47,47,47]
["Unmatch",47,47,47]
["Unmatch",47,47,47]
["Unmatch",47,47,47]
["(blank)"]
["(blank)"]
["(blank)"]
["(blank)"]
["(blank)"]
["Grand Total",704,704,704]